{"text_format":"1","workbook":"xlsx","n_sheets":26,"sheets":["หน้าปก","คำรับรองของบริษัท","รายงานผู้สอบบัญชี","รายงานการสอบทาน","คำรับรองของนักคณิตศาสตร์ฯ","รายชื่อแบบฟอร์ม","แบบฟอร์มที่ 1","แบบฟอร์มที่ 2","แบบฟอร์มที่ 3 - 3.1","แบบฟอร์มที่ 3 - 3.2, 3.3","แบบฟอร์มที่ 4 - 4.1, 4.2","แบบฟอร์มที่ 4 - 4.3","แบบฟอร์มที่ 4 - 4.4, 4.5","แบบฟอร์มที่ 5 - 5.1, 5.7","แบบฟอร์มที่ 5 - 5.2-5.5","แบบฟอร์มที่ 5 - 5.2.1-5.2.4","แบบฟอร์มที่ 5 - 5.6.1-5.6.3","แบบฟอร์มที่ 6","แบบฟอร์มที่ 7 - 7.1","แบบฟอร์มที่ 7 - 7.2-7.7","แบบฟอร์มที่ 8","แบบฟอร์มที่ 9","แบบฟอร์มที่ 10","แบบฟอร์มที่ 11","แบบฟอร์มที่ 12","แบบฟอร์มที่ 13"],"not_rendered":{"charts":0,"images":0,"macros":1,"external_links":0,"defined_names":51,"comments":0,"pivot_tables":0},"unopened":[],"bounds":{"document_bytes":16777216,"sheet_cells":100000,"rows_first":2000,"rows_last":500,"rows_between":2000,"halvings":0,"cell_chars":16384,"cell_head_chars":4096},"cells_cut":0,"cells_raw":0,"read":"whole","date_system":"1900"}

{"sheet":"หน้าปก","index":0,"n_rows":26,"n_cols":1,"rows_kept":26,"cut":false,"hidden":false,"merged":[[9,0,9,10],[16,0,16,10],[25,0,25,10]]}
[]
[]
[]
[]
[]
[]
[]
[]
[]
["รายงานการดำรงเงินกองทุน ประจำปี/ไตรมาส __________"]
[]
[]
[]
[]
[]
[]
["…(ชื่อบริษัท/สาขา)…"]
[]
[]
[]
[]
[]
[]
[]
[]
["ณ วันที่ __________"]

{"sheet":"คำรับรองของบริษัท","index":1,"n_rows":35,"n_cols":6,"rows_kept":35,"cut":false,"hidden":false,"merged":[[1,0,1,7],[3,0,3,7],[8,4,8,5],[24,4,24,5],[25,4,25,5],[34,0,34,7],[6,4,6,5],[11,4,11,5],[14,4,14,5],[19,4,19,5],[22,4,22,5],[27,4,27,5],[17,4,17,5],[9,4,9,5],[9,6,9,7],[16,4,16,5]]}
[]
["คำรับรองของบริษัท"]
[]
[{"$f":"CONCATENATE(\"                       บริษัท \",หน้าปก!A17,\" ขอส่งรายงานการดำรงเงินกองทุน\",\"ที่จัดทำขึ้นตามกรอบการดำรงเงินกองทุนตามระดับความเสี่ยงภายใต้พระราชบัญญัติประกันชีวิต\",\" พ.ศ. 2535 ซึ่งแก้ไขเพิ่มเติมโดยพระราชบัญญัติประกันชีวิต (ฉบับที่ 2) พ.ศ. 2551\",\" และขอรับรองว่าข้อมูลที่ให้แก่ผู้สอบบัญชีรับอนุญาตและนักคณิตศาสตร์ประกันภัยเพื่อใช้ในการคำนวณเงินกองทุนมีความถูกต้องและสมบูรณ์\")","v":"                       บริษัท …(ชื่อบริษัท/สาขา)… ขอส่งรายงานการดำรงเงินกองทุนที่จัดทำขึ้นตามกรอบการดำรงเงินกองทุนตามระดับความเสี่ยงภายใต้พระราชบัญญัติประกันชีวิต พ.ศ. 2535 ซึ่งแก้ไขเพิ่มเติมโดยพระราชบัญญัติประกันชีวิต (ฉบับที่ 2) พ.ศ. 2551 และขอรับรองว่าข้อมูลที่ให้แก่ผู้สอบบัญชีรับอนุญาตและนักคณิตศาสตร์ประกันภัยเพื่อใช้ในการคำนวณเงินกองทุนมีความถูกต้องและสมบูรณ์"}]
[]
[]
[null,"ลายมือชื่อ (signature)  :                                                                                                         "]
[]
[null,"ชื่อ (name)  :                                                                                                          "]
[null,null,null,null,"ประธานเจ้าหน้าที่บริหาร/กรรมการผู้จัดการ*"]
[]
[null,"วันที่ (date)  :                                                                                                                          "]
[]
[]
[null,"ลายมือชื่อ (signature)  :                                                                                                         "]
[]
[null,"ชื่อ (name)  :                                                                                                          "]
[null,null,null,null,"กรรมการ** หรือผู้รับมอบอำนาจจากกรรมการ***"]
[]
[null,"วันที่ (date)  :                                                                                                                          "]
[]
[]
[null,"ลายมือชื่อ (signature)  :                                                                                                         "]
[]
[null,"ชื่อ (name)  :                                                                                                          "]
[null,null,null,null,"กรรมการ** หรือผู้รับมอบอำนาจจากกรรมการ***"]
[]
[null,"วันที่ (date)  :                                                                                                                          "]
[null,null,null,null,null,"ประทับตราสำคัญ (ถ้ามี)"]
[]
[]
[]
["    * กรณีบริษัทที่เป็นสาขาต่างประเทศ หมายถึง ผู้จัดการสาขา"]
["    ** ต้องเป็นกรรมการผู้มีอำนาจลงนามผูกพันบริษัท"]
["  *** กรณีที่ผู้รับมอบอำนาจจากกรรมการผู้มีอำนาจลงนามผูกพันบริษัทเป็นประธานเจ้าหน้าที่บริหาร/กรรมการผู้จัดการ ให้ประธานเจ้าหน้าที่บริหาร/กรรมการผู้จัดการลงนามในช่องแรกเพียงช่องเดียว"]

{"sheet":"รายงานผู้สอบบัญชี","index":2,"n_rows":16,"n_cols":8,"rows_kept":16,"cut":false,"hidden":false,"merged":[[2,0,2,7],[2,8,2,15],[3,0,3,7],[3,8,3,15],[4,1,4,5],[4,9,4,13],[12,1,12,7],[12,9,12,15],[15,1,15,7],[15,9,15,15],[6,1,6,7],[6,9,6,15],[8,1,8,7],[8,9,8,15],[10,1,10,7],[10,9,10,15]]}
[null,null,null,null,null,null,null,"(สำหรับรายงานการดำรงเงินกองทุนที่ต้องผ่านการตรวจสอบ (audit) จากผู้สอบบัญชีรับอนุญาต)"]
[]
["รายงานผู้สอบบัญชี"]
[]
[null,{"$f":"CONCATENATE(\"เสนอ กรรมการ\", หน้าปก!A17)","v":"เสนอ กรรมการ…(ชื่อบริษัท/สาขา)…"}]
[]
[null,{"$f":"CONCATENATE( \"                    ข้าพเจ้าได้ตรวจสอบรายงานการดำรงเงินกองทุนของ\",  หน้าปก!A17,\" สำหรับรายงาน ณ วันที่\", SUBSTITUTE( หน้าปก!A26, \"ณ วันที่\", \" \", 1 ),\" ซึ่งผู้บริหารของกิจการมีหน้าที่รับผิดชอบต่อความถูกต้องและความครบถ้วนของรายงานดังกล่าว \", \"ส่วนข้าพเจ้าเป็นผู้รับผิดชอบในการแสดงความเห็นต่อรายงานการดำรงเงินกองทุนจากผลการตรวจสอบของข้าพเจ้า\")","v":"                    ข้าพเจ้าได้ตรวจสอบรายงานการดำรงเงินกองทุนของ…(ชื่อบริษัท/สาขา)… สำหรับรายงาน ณ วันที่  __________ ซึ่งผู้บริหารของกิจการมีหน้าที่รับผิดชอบต่อความถูกต้องและความครบถ้วนของรายงานดังกล่าว ส่วนข้าพเจ้าเป็นผู้รับผิดชอบในการแสดงความเห็นต่อรายงานการดำรงเงินกองทุนจากผลการตรวจสอบของข้าพเจ้า"}]
[]
[null,"                    ข้าพเจ้าได้ปฏิบัติงานตรวจสอบตามมาตรฐานการสอบบัญชีที่รับรองโดยทั่วไปในประเทศไทย ซึ่งกำหนดให้ข้าพเจ้าต้องวางแผนและปฏิบัติงานเพื่อให้ได้ความเชื่อมั่นอย่างมีเหตุผลว่า รายงานการดำรงเงินกองทุนแสดงข้อมูลที่ขัดต่อข้อเท็จจริงอันเป็นสาระสำคัญหรือไม่ การตรวจสอบรวมถึงการใช้วิธีการทดสอบหลักฐานประกอบรายการทั้งที่เป็นจำนวนเงินและการเปิดเผยข้อมูลในรายงานการดำรงเงินกองทุน การประเมินความเหมาะสมของหลักการทางการบัญชี วิธีการ และสมมติฐานที่กิจการใช้ และการประมาณการที่สำคัญซึ่งผู้บริหารเป็นผู้จัดทำขึ้น ตลอดจนการประเมินถึงความเหมาะสมของการจัดเตรียมรายงานการดำรงเงินกองทุนที่นำเสนอ ข้าพเจ้าเชื่อว่าการตรวจสอบดังกล่าวให้ข้อสรุปที่เป็นเกณฑ์อย่างเหมาะสมในการแสดงความเห็นของข้าพเจ้า"]
[]
[null,{"$f":"CONCATENATE( \"                    ข้าพเจ้าเห็นว่า รายงานการดำรงเงินกองทุนของ\", หน้าปก!A17, \"  สำหรับรายงาน ณ วันที่\", SUBSTITUTE(หน้าปก!A26,\"ณ วันที่\", \" \",1),\" ถูกจัดเตรียมอย่างถูกต้องตามที่ควรในสาระสำคัญทุกประการตามกรอบการดำรงเงินกองทุนตามระดับความเสี่ยงภายใต้พระราชบัญญัติประกันชีวิต\", \" พ.ศ. 2535 ซึ่งแก้ไขเพิ่มเติมโดยพระราชบัญญัติประกันชีวิต (ฉบับที่ 2) พ.ศ. 2551\")","v":"                    ข้าพเจ้าเห็นว่า รายงานการดำรงเงินกองทุนของ…(ชื่อบริษัท/สาขา)…  สำหรับรายงาน ณ วันที่  __________ ถูกจัดเตรียมอย่างถูกต้องตามที่ควรในสาระสำคัญทุกประการตามกรอบการดำรงเงินกองทุนตามระดับความเสี่ยงภายใต้พระราชบัญญัติประกันชีวิต พ.ศ. 2535 ซึ่งแก้ไขเพิ่มเติมโดยพระราชบัญญัติประกันชีวิต (ฉบับที่ 2) พ.ศ. 2551"}]
[]
[null,"                    รายงานการดำรงเงินกองทุนนี้จัดทำขึ้นเพื่อวัตถุประสงค์ในการประเมินความเพียงพอของเงินกองทุนตามกฎหมายกำหนดเท่านั้น จึงอาจไม่เหมาะสมในการนำไปใช้เพื่อวัตถุประสงค์อย่างอื่น"]
[]
[]
[null,"[ลายมือชื่อผู้สอบบัญชี] _______________\n[ชื่อผู้สอบบัญชี] _______________\nผู้สอบบัญชีรับอนุญาต เลขทะเบียน _______________\n \n[ที่อยู่ของบริษัทผู้สอบบัญชี] _______________\n[วันที่ของรายงานผู้สอบบัญชี] _______________"]

{"sheet":"รายงานการสอบทาน","index":3,"n_rows":16,"n_cols":8,"rows_kept":16,"cut":false,"hidden":false,"merged":[[2,0,2,7],[2,8,2,15],[3,0,3,7],[3,8,3,15],[4,1,4,5],[4,9,4,13],[12,1,12,7],[12,9,12,15],[15,1,15,7],[15,9,15,15],[6,1,6,7],[6,9,6,15],[8,1,8,7],[8,9,8,15],[10,1,10,7],[10,9,10,15]]}
[null,null,null,null,null,null,null,"(สำหรับรายงานการดำรงเงินกองทุนที่ต้องผ่านการสอบทาน (review) จากผู้สอบบัญชีรับอนุญาต)"]
[]
["รายงานการสอบทานรายงานการดำรงเงินกองทุนโดยผู้สอบบัญชีรับอนุญาต"]
[]
[null,{"$f":"CONCATENATE(\"เสนอ กรรมการ\", หน้าปก!A17)","v":"เสนอ กรรมการ…(ชื่อบริษัท/สาขา)…"}]
[]
[null,{"$f":"CONCATENATE( \"                    ข้าพเจ้าได้สอบทานรายงานการดำรงเงินกองทุน ณ วันที่\", SUBSTITUTE( หน้าปก!A26, \"ณ วันที่\", \" \", 1 ), \" ของ\", หน้าปก!A17,\" ซึ่งผู้บริหารของกิจการเป็นผู้รับผิดชอบต่อความถูกต้องและความครบถ้วนของรายงานดังกล่าว \", \"ส่วนข้าพเจ้าเป็นผู้รับผิดชอบในการให้ข้อสรุปเกี่ยวกับรายงานดังกล่าวจากผลการสอบทานของข้าพเจ้า\")","v":"                    ข้าพเจ้าได้สอบทานรายงานการดำรงเงินกองทุน ณ วันที่  __________ ของ…(ชื่อบริษัท/สาขา)… ซึ่งผู้บริหารของกิจการเป็นผู้รับผิดชอบต่อความถูกต้องและความครบถ้วนของรายงานดังกล่าว ส่วนข้าพเจ้าเป็นผู้รับผิดชอบในการให้ข้อสรุปเกี่ยวกับรายงานดังกล่าวจากผลการสอบทานของข้าพเจ้า"}]
[]
[null,"                    ข้าพเจ้าได้ปฏิบัติงานสอบทานตามมาตรฐานการสอบบัญชีที่รับรองโดยทั่วไปในประเทศไทย การสอบทานดังกล่าวประกอบด้วย การใช้วิธีการสอบถามบุคลากร การวิเคราะห์เปรียบเทียบและวิธีการสอบทานอื่น การสอบทานนี้มีขอบเขตจำกัดกว่าการตรวจสอบตามมาตรฐานการสอบบัญชี ทำให้ข้าพเจ้าไม่สามารถได้ความเชื่อมั่นว่าจะพบเรื่องที่มีนัยสำคัญทั้งหมดซึ่งอาจพบได้จากการตรวจสอบ ดังนั้น ข้าพเจ้าจึงไม่อาจแสดงความเห็นต่อรายงานการดำรงเงินกองทุนที่สอบทานได้"]
[]
[null,{"$f":"CONCATENATE( \"                    ข้าพเจ้าไม่พบสิ่งที่เป็นเหตุให้เชื่อว่ารายงานการดำรงเงินกองทุนดังกล่าวของ\", หน้าปก!A17, \" ณ วันที่\", SUBSTITUTE(หน้าปก!A26,\"ณ วันที่\", \" \",1),\" ไม่ได้ถูกจัดเตรียมอย่างถูกต้องตามที่ควรในสาระสำคัญตามกรอบการดำรงเงินกองทุนตามระดับความเสี่ยงภายใต้พระราชบัญญัติประกันชีวิต\", \" พ.ศ. 2535 ซึ่งแก้ไขเพิ่มเติมโดยพระราชบัญญัติประกันชีวิต (ฉบับที่ 2) พ.ศ. 2551 \", \"จากการสอบทานของข้าพเจ้า\")","v":"                    ข้าพเจ้าไม่พบสิ่งที่เป็นเหตุให้เชื่อว่ารายงานการดำรงเงินกองทุนดังกล่าวของ…(ชื่อบริษัท/สาขา)… ณ วันที่  __________ ไม่ได้ถูกจัดเตรียมอย่างถูกต้องตามที่ควรในสาระสำคัญตามกรอบการดำรงเงินกองทุนตามระดับความเสี่ยงภายใต้พระราชบัญญัติประกันชีวิต พ.ศ. 2535 ซึ่งแก้ไขเพิ่มเติมโดยพระราชบัญญัติประกันชีวิต (ฉบับที่ 2) พ.ศ. 2551 จากการสอบทานของข้าพเจ้า"}]
[]
[null,"                    รายงานการดำรงเงินกองทุนนี้จัดทำขึ้นเพื่อวัตถุประสงค์ในการประเมินความเพียงพอของเงินกองทุนตามกฎหมายกำหนดเท่านั้น จึงอาจไม่เหมาะสมในการนำไปใช้เพื่อวัตถุประสงค์อย่างอื่น"]
[]
[]
[null,"[ลายมือชื่อผู้สอบบัญชี] _______________\n[ชื่อผู้สอบบัญชี] _______________\nผู้สอบบัญชีรับอนุญาตเลขทะเบียน _______________\n \n[ชื่อและที่ตั้งสำนักงาน] _______________\n[วันที่ของรายงานการสอบทาน] _______________"]

{"sheet":"คำรับรองของนักคณิตศาสตร์ฯ","index":4,"n_rows":21,"n_cols":2,"rows_kept":21,"cut":false,"hidden":false,"merged":[[20,1,22,4],[1,1,1,7],[3,1,5,7],[7,1,7,7],[9,1,10,7],[12,1,14,7],[16,1,18,7]]}
[]
[null,"คำรับรองของนักคณิตศาสตร์ประกันภัย"]
[]
[null,{"$f":"CONCATENATE(\"                    ข้าพเจ้าได้ดำเนินการประเมินภาระผูกพันตามสัญญาประกันภัยสำหรับการคำนวณเงินกองทุนสำหรับความเสี่ยงด้านการประกันภัย ซึ่งเป็นส่วนหนึ่งของรายงานการดำรงเงินกองทุนของบริษัท \", หน้าปก!A17, \" สำหรับรายงาน ณ วันที่ \",SUBSTITUTE(หน้าปก!A26,\"ณ วันที่\", \" \",1),  \" ว่าเป็นไปตามประกาศคณะกรรมการกํากับและส่งเสริมการประกอบธุรกิจประกันภัยว่าด้วย\",\"การประเมินราคาทรัพย์สินและหนี้สินของบริษัทประกันชีวิต และประกาศคณะกรรมการกํากับและส่งเสริมการประกอบธุรกิจประกันภัย\",\"ว่าด้วยการกําหนดประเภทและชนิดของเงินกองทุน รวมทั้งหลักเกณฑ์ วิธีการ และเงื่อนไขในการคํานวณเงินกองทุนของบริษัทประกันชีวิต ตามที่ควรในสาระสำคัญทุกประการ\")","v":"                    ข้าพเจ้าได้ดำเนินการประเมินภาระผูกพันตามสัญญาประกันภัยสำหรับการคำนวณเงินกองทุนสำหรับความเสี่ยงด้านการประกันภัย ซึ่งเป็นส่วนหนึ่งของรายงานการดำรงเงินกองทุนของบริษัท …(ชื่อบริษัท/สาขา)… สำหรับรายงาน ณ วันที่   __________ ว่าเป็นไปตามประกาศคณะกรรมการกํากับและส่งเสริมการประกอบธุรกิจประกันภัยว่าด้วยการประเมินราคาทรัพย์สินและหนี้สินของบริษัทประกันชีวิต และประกาศคณะกรรมการกํากับและส่งเสริมการประกอบธุรกิจประกันภัยว่าด้วยการกําหนดประเภทและชนิดของเงินกองทุน รวมทั้งหลักเกณฑ์ วิธีการ และเงื่อนไขในการคํานวณเงินกองทุนของบริษัทประกันชีวิต ตามที่ควรในสาระสำคัญทุกประการ"}]
[]
[]
[]
[null,"                    ข้าพเจ้าขอรับรองความถูกต้องของข้อมูลที่ปรากฏอยู่ในรายงานการดำรงเงินกองทุน แบบฟอร์มที่ 4 ตารางที่ 4.1 4.2 4.3 4.4 และ 4.5 รวมทั้ง แบบฟอร์มที่ 6 ตารางที่ 6.1 และ 6.2 ในส่วนที่เกี่ยวข้องกับงานของนักคณิตศาสตร์ประกันภัย"]
[]
[null,"                    อนึ่งในการประเมินข้อมูล ข้าพเจ้ามิได้มีการตรวจสอบข้อมูล หรือ ทำการตรวจสอบระบบการควบคุมภายใน หรือ การทดสอบหรือสอบทานอื่นใด นอกเหนือจาก การตรวจสอบข้อมูลตามที่ประกาศคณะกรรมการกำกับและส่งเสริมการประกอบธุรกิจประกันภัยได้ประกาศไว้"]
[]
[]
[null,"                    ทั้งนี้ โดยลักษณะงานของการประเมินมูลค่าไม่มีวิธีการใดตามหลักคณิตศาสตร์ประกันภัยที่จะให้ผลสรุปการประเมินที่ถูกต้องแม่นยำได้ มีหลายกรณีที่จำเป็นต้องใช้วิจารณญาณและการตัดสินใจของแต่ละบุคคล ดังนั้นจึงไม่สามารถให้มูลค่าใดมูลค่าหนึ่งที่ไม่มีข้อโต้แย้งได้ ถึงแม้ว่าผลที่ได้จากการประเมินจะมีข้อสรุปอย่างสมเหตุสมผล ประกอบด้วยเหตุผลและหลักฐานประกอบที่น่าเชื่อถือก็ตาม"]
[]
[]
[]
[null,"                    การประเมินภาระผูกพันตามสัญญาประกันภัยนี้ จัดทำขึ้นเพื่อวัตถุประสงค์ในการประเมินความเพียงพอของเงินกองทุนตามกฎหมายกำหนดเท่านั้น จึงอาจไม่เหมาะสมในการนำไปใช้เพื่อวัตถุประสงค์อย่างอื่น อาจไม่บ่งบอกถึงความพอเพียงของเงินกองทุนตามหลักเศรษฐศาสตร์ หรือ ความสามารถของบริษัทในการทำธุรกิจ"]
[]
[]
[]
[null,"ชื่อของนักคณิตศาสตร์ประกันภัย ________________\nลายมือชื่อ ________________\nวันที่ ________________"]

{"sheet":"รายชื่อแบบฟอร์ม","index":5,"n_rows":20,"n_cols":4,"rows_kept":20,"cut":false,"hidden":false,"merged":[[19,3,19,9],[0,0,0,9],[3,2,3,8],[2,2,2,8],[14,3,14,9],[7,3,7,9],[8,3,8,9],[11,3,11,9],[7,1,8,1],[12,3,12,9],[9,3,9,9],[10,3,10,9],[13,3,13,9],[10,1,18,1],[18,3,18,9],[15,3,15,9],[16,3,16,9],[17,3,17,9]]}
["แบบรายงานการดำรงเงินกองทุน"]
[]
[null,"บริษัท (company)"]
[null,"ณ วันที่ (as at)"]
[]
[null,"รายชื่อแบบฟอร์ม"]
[]
[null,"ความเพียงพอของเงินกองทุน",1,"การคำนวณอัตราส่วนความเพียงพอของเงินกองทุน"]
[null,null,2,"การคำนวณเงินกองทุนที่สามารถนำมาใช้ได้ทั้งหมด"]
[null,"งบแสดงฐานะการเงิน",3,"งบแสดงฐานะการเงิน"]
[null,"ส่วนประกอบของเงินกองทุนที่ต้องดำรงไว้",4,"การคำนวณเงินกองทุนสำหรับความเสี่ยงด้านประกันภัย"]
[null,null,5,"การคำนวณเงินกองทุนสำหรับความเสี่ยงด้านตลาด"]
[null,null,6,"การคำนวณเงินกองทุนสำหรับความเสี่ยงด้านตลาดจากอัตราดอกเบี้ย"]
[null,null,7,"การคำนวณเงินกองทุนสำหรับความเสี่ยงด้านเครดิต"]
[null,null,8,"การคำนวณเงินกองทุนสำหรับความเสี่ยงด้านเครดิตจากการประกันภัยต่อและการคำนวณความเสี่ยงด้านการกระจุกตัวจากการประกันภัยต่อ"]
[null,null,9,"การคำนวณเงินกองทุนสำหรับความเสี่ยงด้านการกระจุกตัว"]
[null,null,10,"การคำนวณเงินกองทุนสำหรับความเสี่ยงด้านปฏิบัติการ"]
[null,null,11,"การกระจายความเสี่ยงระหว่างความเสี่ยงด้านประกันภัยและความเสี่ยงด้านสินทรัพย์"]
[null,null,13,"การคำนวณเงินกองทุนสำหรับความเสี่ยงด้านการเวนคืนกรมธรรม์"]
[null,"ข้อมูลเพิ่มเติม",12,"รายละเอียดของรายการหักจากเงินกองทุน"]

{"sheet":"แบบฟอร์มที่ 1","index":6,"n_rows":30,"n_cols":7,"rows_kept":30,"cut":false,"hidden":false,"merged":[[27,2,27,5],[28,2,28,5],[29,2,29,5],[3,3,3,6],[4,3,4,6],[14,2,14,5],[15,2,15,5],[16,2,16,5],[17,2,17,5],[18,2,18,5],[19,2,19,5],[20,2,20,5],[21,2,21,5],[23,2,23,5],[24,2,24,5],[25,2,25,5],[26,2,26,5],[9,2,9,5],[10,2,10,5],[11,2,11,5],[12,2,12,5],[13,2,13,5]]}
["แบบฟอร์มที่ 1 การคำนวณอัตราส่วนความเพียงพอของเงินกองทุน"]
[]
[]
[null,"บริษัท",null,{"$f":"รายชื่อแบบฟอร์ม!C3","v":0}]
[null,"ณ วันที่",null,{"$f":"รายชื่อแบบฟอร์ม!C4","v":"00:00:00"}]
[]
[]
[]
[null,"ตารางที่ 1.1 เงินกองทุนที่สามารถนำมาใช้ได้ทั้งหมดและเงินกองทุนที่ต้องดำรงตามกฎหมาย"]
[null,"ลำดับที่","รายการ",null,null,null,"บาท"]
[null,1,"เงินกองทุนชั้นที่ 1 ที่เป็นส่วนของเจ้าของ (CET 1)",null,null,null,{"$f":"'แบบฟอร์มที่ 2'!$H$26","v":0}]
[null,2,"ตราสารทางการเงินที่นับเป็นเงินกองทุนชั้นที่ 1 (Additional tier 1)",null,null,null,{"$f":"'แบบฟอร์มที่ 2'!$H$35","v":0}]
[null,3,"เงินกองทุนชั้นที่ 2 (Tier 2)",null,null,null,{"$f":"'แบบฟอร์มที่ 2'!$H$45","v":0}]
[null,4,"เงินกองทุนที่สามารถนำมาใช้ได้ทั้งหมด (total capital available) (TCA)",null,null,null,{"$f":"SUM($G$11:$G$13)","v":0}]
[null,5,"เงินกองทุนสำหรับความเสี่ยงด้านประกันภัย",null,null,null,{"$f":"'แบบฟอร์มที่ 4 - 4.1, 4.2'!$D$25+'แบบฟอร์มที่ 4 - 4.4, 4.5'!$S$22+'แบบฟอร์มที่ 4 - 4.4, 4.5'!$R$42","v":0}]
[null,6,"เงินกองทุนสำหรับความเสี่ยงด้านตลาด",null,null,null,{"$f":"'แบบฟอร์มที่ 5 - 5.1, 5.7'!$G$27","v":0}]
[null,7,"เงินกองทุนสำหรับความเสี่ยงด้านเครดิต",null,null,null,{"$f":"'แบบฟอร์มที่ 7 - 7.1'!$E$39","v":0}]
[null,8,"เงินกองทุนสำหรับความเสี่ยงด้านประกันภัยและความเสี่ยงด้านสินทรัพย์ หลังหักส่วนลดจากการกระจายความเสี่ยง",null,null,null,{"$f":"'แบบฟอร์มที่ 11'!$F$12","v":0}]
[null,9,"เงินกองทุนสำหรับความเสี่ยงด้านการกระจุกตัว",null,null,null,{"$f":"'แบบฟอร์มที่ 9'!$K$12035","v":0}]
[null,10,"เงินกองทุนสำหรับความเสี่ยงจากการเวนคืนกรมธรรม์ประกันภัย",null,null,null,{"$f":"'แบบฟอร์มที่ 13'!$G$26","v":0}]
[null,11,"เงินกองทุนสำหรับความเสี่ยงด้านปฏิบัติการ",null,null,null,{"$f":"'แบบฟอร์มที่ 10'!$I$8","v":0}]
[null,12,"เงินกองทุนที่ต้องดำรงทั้งหมด (total capital required) (TCR)",null,null,null,{"$f":"SUM($G$18:$G$21)","v":0}]
[null,"ตารางที่ 1.2 อัตราส่วนความเพียงพอของเงินกองทุน"]
[null,"ลำดับที่","รายการ",null,null,null,"ร้อยละ (%)"]
[null,1,"อัตราส่วนเงินกองทุนชั้นที่ 1 ที่เป็นส่วนของเจ้าของ ต่อ เงินกองทุนที่ต้องดำรงตามกฎหมาย (CET 1 ratio)",null,null,null,{"$f":"IF(ISERROR($G$11/MAX($G$22,50000000)),\"\",$G$11/MAX($G$22,50000000))","v":0}]
[null,2,"อัตราส่วนเงินกองทุนชั้นที่ 1 ต่อ เงินกองทุนที่ต้องดำรงตามกฎหมาย (Tier 1 ratio)",null,null,null,{"$f":"IF(ISERROR(($G$11+$G$12)/MAX($G$22,50000000)),\"\",($G$11+$G$12)/MAX($G$22,50000000))","v":0}]
[null,3,"อัตราส่วนความเพียงพอของเงินกองทุน (CAR) ไตรมาสปัจจุบัน",null,null,null,{"$f":"IF(ISERROR($G$14/MAX($G$22,50000000)),\"\",$G$14/MAX($G$22,50000000))","v":0}]
[null,4,"CAR ณ สิ้นไตรมาสที่แล้ว  (prior quarter CAR ratio)"]
[null,5,"CAR ณ สิ้น 2 ไตรมาสที่แล้ว (prior 2 quarter CAR ratio)"]
[null,6,"CAR ณ สิ้น 3 ไตรมาสที่แล้ว (prior 3 quarter CAR ratio)"]

{"sheet":"แบบฟอร์มที่ 2","index":7,"n_rows":48,"n_cols":8,"rows_kept":48,"cut":false,"hidden":false,"merged":[[32,3,32,6],[31,3,31,6],[42,3,42,6],[19,3,19,6],[21,3,21,6],[20,3,20,6],[25,3,25,6],[26,3,26,6],[22,3,22,6],[24,3,24,6],[23,3,23,6],[16,3,16,6],[17,3,17,6],[18,3,18,6],[3,3,3,6],[4,3,4,6],[11,3,11,6],[12,3,12,6],[13,3,13,6],[14,3,14,6],[15,3,15,6],[6,2,6,7],[7,3,7,6],[8,3,8,6],[9,3,9,6],[10,3,10,6],[45,3,45,6],[27,3,27,6],[28,3,28,6],[29,3,29,6],[30,3,30,6],[33,3,33,6],[34,3,34,6],[35,3,35,6],[36,3,36,6],[37,3,37,6],[44,3,44,6],[38,3,38,6],[39,3,39,6],[40,3,40,6],[41,3,41,6],[43,3,43,6]]}
["แบบฟอร์มที่ 2 การคำนวณเงินกองทุนที่สามารถนำมาใช้ได้ทั้งหมด"]
[]
[]
[null,"บริษัท",null,{"$f":"+รายชื่อแบบฟอร์ม!C3","v":0}]
[null,"ณ วันที่",null,{"$f":"+รายชื่อแบบฟอร์ม!C4","v":"00:00:00"}]
[]
[null,null,"ตารางที่ 2.1 เงินกองทุนที่สามารถนำมาใช้ได้ทั้งหมด "]
[null,null,"ลำดับที่","รายการ",null,null,null,"บาท"]
[null,null,1,"เงินทุนชำระแล้วจากการออกหุ้นสามัญหรือเงินทุนที่ได้รับจากสำนักงานใหญ่กรณีเป็นสาขาของบริษัทประกันภัยต่างประเทศ",null,null,null,{"$f":"'แบบฟอร์มที่ 3 - 3.2, 3.3'!$H$73+'แบบฟอร์มที่ 3 - 3.2, 3.3'!$H$78","v":0}]
[null,null,2,"ส่วนเกินมูลค่าหุ้น (ส่วนต่ำกว่ามูลค่าหุ้นให้แสดงค่าติดลบ)",null,null,null,{"$f":"'แบบฟอร์มที่ 3 - 3.2, 3.3'!$H$79","v":0}]
[null,null,3,"กำไรสะสม (ขาดทุนสะสมให้แสดงค่าติดลบ)",null,null,null,{"$f":"'แบบฟอร์มที่ 3 - 3.2, 3.3'!$H$88","v":0}]
[null,null,4,"มูลค่าที่เพิ่มขึ้นหรือลดลงเมื่อเทียบราคาทุนของสินทรัพย์ลงทุน แต่ไม่รวมถึงอสังหาริมทรัพย์",null,null,null,{"$f":"'แบบฟอร์มที่ 3 - 3.2, 3.3'!$H$84","v":0}]
[null,null,5,"มูลค่าที่เพิ่มขึ้นหรือลดลงเมื่อเทียบราคาทุน/1ของอสังหาริมทรัพย์ เฉพาะที่ทำการของบริษัท",null,null,null,{"$f":"'แบบฟอร์มที่ 3 - 3.2, 3.3'!$H$85","v":0}]
[null,null,6,"สำรองอื่นในส่วนของผู้ถือหุ้น",null,null,null,{"$f":"'แบบฟอร์มที่ 3 - 3.2, 3.3'!$H$81+'แบบฟอร์มที่ 3 - 3.2, 3.3'!$H$82","v":0}]
[null,null,7,"รวมเงินกองทุนชั้นที่ 1 ที่เป็นส่วนของเจ้าของ ก่อนหักรายการหัก (Common equity tier 1: CET 1 before deduction)",null,null,null,{"$f":"SUM($H$9:$H$14)","v":0}]
[null,null,8,"เงินที่บริษัทได้จ่ายไปเพื่อการซื้อคืนหุ้นตามกฎหมายว่าด้วยบริษัทมหาชนจำกัด",null,null,null,{"$f":"'แบบฟอร์มที่ 3 - 3.2, 3.3'!$H$76","v":0}]
[null,null,9,"ค่าความนิยมที่นับเป็นสินทรัพย์ที่ปรากฏอยู่ในงบการเงิน",null,null,null,{"$f":"'แบบฟอร์มที่ 3 - 3.1'!$H$90","v":0}]
[null,null,10,"สินทรัพย์ไม่มีตัวตน (ยกเว้น โปรแกรมคอมพิวเตอร์ที่บริษัทมีกรรมสิทธิ์)",null,null,null,{"$f":"'แบบฟอร์มที่ 3 - 3.1'!$H$93","v":0}]
[null,null,11,"สินทรัพย์ที่ติดภาระผูกพัน ที่นับเป็น CET 1 ยกเว้นหลักทรัพย์ประกันที่บริษัทนำมาวางไว้กับนายทะเบียน และสินทรัพย์ที่บริษัทจัดสรรไว้สำหรับหนี้สินและภาระผูกพันตามสัญญาประกันภัยตามกฎหมายว่าด้วยการประกันชีวิต"]
[null,null,12,"มูลค่าทรัพย์สินที่ได้มาหรือมีอยู่โดยฝ่าฝืนบทบัญญัติของกฎหมาย ที่นับเป็น CET 1 เว้นแต่อสังหาริมทรัพย์ที่หักค่าเผื่อการด้อยค่าแล้ว"]
[null,null,13,"มูลค่าตราสารทุนที่บริษัทลงทุนในบริษัทอื่น หรือบริษัทที่ได้รับใบอนุญาตให้ประกอบธุรกิจประกันวินาศภัยตามกฎหมายว่าด้วยการประกันวินาศภัย โดยไม่มีวัตถุประสงค์ในการแก้ไขฐานะทางการเงิน หรือปรับโครงสร้างหนี้ ยกเว้น 14"]
[null,null,14,"มูลค่าของตราสารทุนที่ลงทุนในบริษัทย่อย และบริษัทร่วม",null,null,null,{"$f":"'แบบฟอร์มที่ 3 - 3.1'!$H$24","v":0}]
[null,null,15,"มูลค่าของตราสารทุนที่นิติบุคคลอื่นมีการถือตราสารทุนไขว้กันกับบริษัท  โดยนิติบุคคลอื่นนั้นมีวัตถุประสงค์ในการถือตราสารทุนเพื่อเป็นการเพิ่มทุนให้กับบริษัท"]
[null,null,16,"รายการหักจาก Additional tier 1 ในส่วนที่เหลือ ในกรณีที่ Additional tier 1 มีจำนวนไม่เพียงพอให้หักจนครบเต็มจำนวน",null,null,null,{"$f":"SUM($H$30:$H$33)-$H$34","v":0}]
[null,null,17,"รวมรายการหักจาก CET 1",null,null,null,{"$f":"SUM($H$16:$H$24)","v":0}]
[null,null,18,"รวมเงินกองทุนชั้นที่ 1 ที่เป็นส่วนของเจ้าของ หลังหักรายการหัก (Common equity tier 1: CET 1 after deduction)",null,null,null,{"$f":"$H$15-$H$25","v":0}]
[null,null,19,"เงินที่ได้รับจากการออกหุ้นบุริมสิทธิที่ไม่สามารถไถ่ถอนได้ ชนิดไม่สะสมเงินปันผล",null,null,null,{"$f":"'แบบฟอร์มที่ 3 - 3.2, 3.3'!$H$74","v":0}]
[null,null,20,"เงินที่ได้รับจากการออกตราสารแสดงสิทธิในหนี้ที่มีสิทธิด้อยกว่าเจ้าหนี้ซึ่งมีสิทธิได้รับชำระหนี้ที่เกิดจากการเอาประกันภัย เจ้าหนี้สามัญ เจ้าหนี้ด้อยสิทธิทุกประเภท และเจ้าหนี้ผู้ถือตราสารทางการเงินที่นับเป็นเงินกองทุนชั้นที่ 2"]
[null,null,21,"รวมเงินกองทุนชั้นที่ 1 ที่เป็นตราสารทางการเงิน ก่อนหักรายการหัก (Additional tier 1 before deduction)",null,null,null,{"$f":"SUM($H$27:$H$28)","v":0}]
[null,null,22,"เงินที่บริษัทได้จ่ายไปเพื่อการซื้อคืนหุ้นบุริมสิทธิที่ไม่สามารถไถ่ถอนได้ ชนิดไม่สะสมเงินปันผล"]
[null,null,23,"เงินที่บริษัทได้จ่ายไปเพื่อการซื้อคืนตราสารทางการเงินที่นับเป็น Additional Tier 1"]
[null,null,24,"เงินลงทุนในตราสารทางการเงินที่นับเป็น Additional tier 1 ของบริษัทอื่น หรือบริษัทที่ได้รับใบอนุญาตให้ประกอบธุรกิจประกันวินาศภัยตามกฎหมายว่าด้วยการประกันวินาศภัย ทั้งทางตรงและทางอ้อม"]
[null,null,25,"รายการหักจากเงินกองทุนชั้นที่ 2 ในส่วนที่เหลือ ในกรณีที่เงินกองทุนชั้นที่ 2 มีจำนวนไม่เพียงพอให้หักจนครบเต็มจำนวน",null,null,null,{"$f":"SUM($H$40:$H$43)-$H$44","v":0}]
[null,null,26,"รวมรายการหักจาก Additional tier 1",null,null,null,{"$f":"MIN(SUM($H$30:$H$33),$H$29)","v":0}]
[null,null,27,"รวมเงินกองทุนชั้นที่ 1 ที่เป็นตราสารทางการเงิน หลังหักรายการหัก (Additional tier 1 after deduction)",null,null,null,{"$f":"$H$29-$H$34","v":0}]
[null,null,28,"เงินที่ได้รับจากการออกหุ้นบุริมสิทธิที่ไม่สามารถไถ่ถอนได้ ชนิดสะสมเงินปันผล",null,null,null,{"$f":"'แบบฟอร์มที่ 3 - 3.2, 3.3'!$H$75","v":0}]
[null,null,29,"มูลค่าที่เพิ่มขึ้นหรือลดลงเมื่อเทียบราคาทุน/1ของอสังหาริมทรัพย์ และทรัพย์สินดำเนินงาน แต่ไม่รวมถึงที่ทำการของบริษัท",null,null,null,{"$f":"'แบบฟอร์มที่ 3 - 3.2, 3.3'!$H$86","v":0}]
[null,null,30,"เงินที่ได้รับจากการออกตราสารแสดงสิทธิในหนี้ที่มีสิทธิด้อยกว่าเจ้าหนี้ซึ่งมีสิทธิได้รับชำระหนี้ที่เกิดจากการเอาประกันภัย และเจ้าหนี้สามัญ"]
[null,null,31,"รวมเงินกองทุนชั้นที่ 2 ก่อนหักรายการหัก (Tier 2 before deduction)",null,null,null,{"$f":"SUM($H$36:$H$38)","v":0}]
[null,null,32,"เงินที่บริษัทได้จ่ายไปเพื่อการซื้อคืนหุ้นบุริมสิทธิที่ไม่สามารถไถ่ถอนได้ ชนิดสะสมเงินปันผล"]
[null,null,33,"เงินที่บริษัทได้จ่ายไปเพื่อการซื้อคืนตราสารทางการเงินที่นับเป็น เงินกองทุนชั้นที่ 2"]
[null,null,34,"สินทรัพย์ที่นับเป็นเงินกองทุนชั้นที่ 2 ที่ติดภาระผูกพัน ยกเว้นสินทรัพย์ที่บริษันำมาวางไว้กับนายทะเบียนเป็นหลักทรัพย์ประกัน และสินทรัพย์ที่บริษัทจัดสรรไว้สำหรับหนี้สินและภาระผูกพันตามสัญญาประกันภัยตามกฎหมายว่าด้วยการประกันชีวิต"]
[null,null,35,"เงินลงทุนในตราสารทางการเงินที่นับเป็นเงินกองทุนชั้นที่ 2 ของบริษัทอื่น หรือบริษัทที่ได้รับใบอนุญาตให้ประกอบธุรกิจประกันวินาศภัยตามกฎหมายว่าด้วยการประกันวินาศภัย ทั้งทางตรงและทางอ้อม"]
[null,null,36,"รวมรายการหักจากเงินกองทุนชั้นที่ 2 (Tier 2 deduction)",null,null,null,{"$f":"MIN(SUM($H$40:$H$43),$H$39)","v":0}]
[null,null,37,"รวมเงินกองทุนชั้นที่ 2 หลังหักรายการหัก (Tier 2 after deduction)",null,null,null,{"$f":"$H$39-$H$44","v":0}]
[null,null,38,"เงินกองทุนที่สามารถนำมาใช้ได้ทั้งหมด (Total capital available: TCA)",null,null,null,{"$f":"$H$45+$H$35+$H$26","v":0}]
[]
[null,null,"/1 ประเมินโดยวิธีราคาทุนตามมาตรฐานบัญชี"]

{"sheet":"แบบฟอร์มที่ 3 - 3.1","index":8,"n_rows":128,"n_cols":8,"rows_kept":128,"cut":false,"hidden":false,"merged":[[97,3,97,4],[131,2,131,7],[133,4,133,7],[124,2,124,4],[129,2,129,7],[122,2,122,4],[123,2,123,4],[98,3,98,4],[99,3,99,4],[105,3,105,4],[121,3,121,4],[100,3,100,4],[110,3,110,4],[111,3,111,4],[115,3,115,4],[120,3,120,4],[139,2,139,7],[133,2,133,3],[128,2,128,7],[130,2,130,7],[132,2,132,7],[4,5,4,7],[3,5,3,7],[10,3,10,4],[9,2,9,4],[7,1,7,4],[8,2,8,4],[10,2,19,2],[19,3,19,4],[95,1,122,1],[72,3,72,4],[36,2,38,2],[34,1,65,1],[27,3,27,4],[67,1,70,1],[27,2,32,2],[33,2,33,4],[69,3,69,4],[82,1,86,1],[75,2,75,4],[76,3,76,4],[68,3,68,4],[78,3,78,4],[95,2,95,4],[93,2,93,4],[125,2,125,4],[92,3,92,4],[82,2,82,4],[79,3,79,4],[35,3,35,4],[80,2,80,4],[94,2,94,4],[88,2,88,4],[89,2,89,4],[87,2,87,4],[81,2,81,4],[83,3,83,4],[84,3,84,4],[85,3,85,4],[77,3,77,4],[96,3,96,4],[90,1,93,1],[71,1,74,1],[75,1,80,1],[9,1,33,1],[40,2,42,2],[90,2,90,4],[91,3,91,4],[32,3,32,4],[20,3,20,4],[26,3,26,4],[34,2,34,4],[40,3,40,4],[39,3,39,4],[86,2,86,4],[71,2,71,4],[73,3,73,4],[36,3,36,4],[70,2,70,4],[74,2,74,4],[20,2,26,2],[66,2,66,4],[65,2,65,4],[67,2,67,4],[101,3,101,4],[119,3,119,4],[117,3,117,4],[118,3,118,4],[106,3,106,4],[116,3,116,4],[112,3,112,4],[107,3,107,4],[103,3,103,4],[102,3,102,4],[108,3,108,4],[109,3,109,4],[113,3,113,4],[114,3,114,4],[104,3,104,4]]}
["แบบฟอร์มที่ 3 งบแสดงฐานะการเงิน"]
[]
[]
[null,null,null,null,"บริษัท",{"$f":"+รายชื่อแบบฟอร์ม!C3","v":0}]
[null,null,null,null,"ณ วันที่",{"$f":"+รายชื่อแบบฟอร์ม!C4","v":"00:00:00"}]
[]
["  "]
[null,"ตารางที่ 3.1 รายการสินทรัพย์ตามงบแสดงฐานะการเงิน",null,null,null,null,null,"บาท"]
[null,"ลำดับที่","รายการ",null,null,"มูลค่าตามงบการเงินที่รับรองโดยผู้สอบบัญชี (งบการเงินตามมาตรฐานบัญชี)","มูลค่าที่ปรับปรุงเพื่อให้ได้มูลค่าตามประกาศ คปภ. ว่าด้วยการประเมินราคาทรัพย์สินและหนี้สินของบริษัทประกันชีวิต","มูลค่า\nตามประกาศ คปภ. ว่าด้วยการประเมินราคาทรัพย์สินและหนี้สินของบริษัทประกันชีวิต"]
[null,1,"เงินลงทุนในหลักทรัพย์"]
[null,null,"(ก)","พันธบัตร หุ้นกู้ ตั๋วสัญญาใช้เงิน-ตั๋วแลกเงิน ซึ่งออกโดย"]
[null,null,null,"(1)","รัฐบาลหรือธนาคารกลาง (รวมถึงรัฐบาลไทย / ธปท. /รัฐวิสาหกิจไทย / องค์การของรัฐ โดยมีกระทรวงการคลังค้ำประกัน) ในสกุลเงินบาท",null,{"$f":"H12-F12","v":0}]
[null,null,null,"(2)","รัฐบาลหรือธนาคารกลาง (รวมถึงรัฐบาลไทย / ธปท. /รัฐวิสาหกิจไทย / องค์การของรัฐ โดยมีกระทรวงการคลังค้ำประกัน) ในสกุลเงินต่างประเทศ",null,0]
[null,null,null,"(3)","รัฐวิสาหกิจ / องค์การของรัฐ / องค์กรปกครองส่วนท้องถิ่น ของประเทศไทยที่ไม่ค้ำประกันโดยกระทรวงการคลัง ในสกุลเงินบาท",null,0]
[null,null,null,"(4)","รัฐวิสาหกิจ / องค์การของรัฐ / องค์กรปกครองส่วนท้องถิ่น ของประเทศไทยที่ไม่ค้ำประกันโดยกระทรวงการคลัง ในสกุลเงินต่างประเทศ รวมถึงรัฐวิสาหกิจต่างประเทศ ในสกุลเงินตราใดๆ",null,0]
[null,null,null,"(5)","ธนาคารเพื่อการพัฒนาซึ่งร่วมก่อตั้งโดยหลายประเทศ",null,0]
[null,null,null,"(6) ","สถาบันการเงิน / บริษัทหลักทรัพย์ / บริษัทประกันภัย",null,0]
[null,null,null,"(7)","บริษัท",null,{"$f":"H18-F18","v":0}]
[null,null,null,"(8)","อื่นๆ",null,0]
[null,null,null,"รวมพันธบัตร หุ้นกู้ ตั๋วสัญญาใช้เงิน-ตั๋วแลกเงิน",null,{"$f":"SUM(F$12:F$19)","v":0},{"$f":"SUM(G$12:G$19)","v":0},0]
[null,null,"(ข)","ตราสารทุน"]
[null,null,null,"(1)","ตราสารทุนที่จดทะเบียนในตลาดหลักทรัพย์แห่งประเทศไทย ตลาดหลักทรัพย์ เอ็ม เอ ไอ ยกเว้น (4)",null,{"$f":"H22-F22","v":0}]
[null,null,null,"(2)","ตราสารทุนที่จดทะเบียนในตลาดหลักทรัพย์อื่น และอยู่ในดัชนีตลาดหลักทรัพย์ตามที่กำหนด ยกเว้น (4)",null,{"$f":"H23-F23","v":0}]
[null,null,null,"(3)","ตราสารทุนที่ลงทุนในบริษัทย่อยหรือบริษัทร่วม",null,{"$f":"H24-F24","v":0}]
[null,null,null,"(4)","ตราสารทุนที่บริษัทลงทุนในบริษัทที่ได้รับใบอนุญาตประกอบธุรกิจประกันชีวิตตามกฎหมายว่าด้วยการประกันชีวิตอื่น หรือบริษัทที่ได้รับใบอนุญาตให้ประกอบธุรกิจประกันวินาศภัยตามกฎหมายว่าด้วยการประกันวินาศภัย โดยไม่มีวัตถุประสงค์ในการแก้ไขฐานะทางการเงิน หรือปรับโครงสร้างหนี้ ยกเว้น (3)",null,{"$f":"H25-F25","v":0}]
[null,null,null,"(5)","ตราสารทุนอื่นๆ",null,{"$f":"H26-F26","v":0}]
[null,null,null,"รวมหุ้นทุน",null,{"$f":"SUM(F$22:F$26)","v":0},{"$f":"SUM(G$22:G$26)","v":0},0]
[null,null,"(ค)","อื่นๆ"]
[null,null,null,"(1)","หน่วยลงทุน",null,{"$f":"H29-F29","v":0}]
[null,null,null,"(2)","ใบสำคัญแสดงสิทธิการซื้อหุ้นสามัญ-หุ้นกู้-หน่วยลงทุน-อื่นๆ",null,{"$f":"H30-F30","v":0}]
[null,null,null,"(3)","สลากออมทรัพย์",null,{"$f":"H31-F31","v":0}]
[null,null,null,"(4)","อื่นๆ",null,{"$f":"H32-F32","v":0}]
[null,null,null,"รวมอื่นๆ",null,{"$f":"SUM(F$29:F$32)","v":0},{"$f":"SUM(G$29:G$32)","v":0},0]
[null,null,"รวมเงินลงทุนในหลักทรัพย์",null,null,{"$f":"+F$20+F$27+F$33","v":0},{"$f":"+G$20+G$27+G$33","v":0},0]
[null,2,"เงินให้กู้ยืม และ ดอกเบี้ยค้างรับ"]
[null,null,"(ก)","เช่าทรัพย์สินแบบลิสซิ่ง / เงินลงทุนให้เช่าซื้อ",null,null,{"$f":"H36-F36","v":0}]
[null,null,"(ข)","เงินให้กู้ยืมโดยมีอสังหาริมทรัพย์จำนองเป็นประกัน"]
[null,null,null,"(1)","อสังหาริมทรัพย์ที่ใช้เป็นที่อยู่อาศัย",null,{"$f":"H38-F38","v":0}]
[null,null,null,"(2)","อสังหาริมทรัพย์อื่น",null,0]
[null,null,"(ค)","เงินให้กู้ยืมโดยมีกรมธรรม์เป็นประกัน",null,null,{"$f":"H40-F40","v":0}]
[null,null,"(ง)","เงินให้กู้ยืมโดยมีบุคคลค้ำประกัน"]
[null,null,null,"(1)","เงินให้กู้ยืมแก่พนักงานและตัวแทนของบริษัท",null,{"$f":"H42-F42","v":0}]
[null,null,null,"(2)","เงินให้กู้ยืมแก่บุคคลอื่น (ยกเว้น เงินให้กู้ยืมโดยมีกรมธรรม์เป็นประกัน)",null,{"$f":"H43-F43","v":0}]
[null,null,"(จ)","อื่นๆ (ระบุรายละเอียด)",null,null,0]
[null,null,"(ฉ)","อื่นๆ (ระบุรายละเอียด)",null,null,{"$f":"H45-F45","v":0}]
[null,null,"(ช)","อื่นๆ (ระบุรายละเอียด)",null,null,0]
[null,null,"(ซ)","อื่นๆ (ระบุรายละเอียด)",null,null,0]
[null,null,"(ฌ)","อื่นๆ (ระบุรายละเอียด)",null,null,0]
[null,null,"(ญ)","อื่นๆ (ระบุรายละเอียด)",null,null,0]
[null,null,"(ฎ)","อื่นๆ (ระบุรายละเอียด)",null,null,0]
[null,null,"(ฏ)","อื่นๆ (ระบุรายละเอียด)",null,null,0]
[null,null,"(ฐ)","อื่นๆ (ระบุรายละเอียด)",null,null,0]
[null,null,"(ฑ)","อื่นๆ (ระบุรายละเอียด)",null,null,0]
[null,null,"(ฒ)","อื่นๆ (ระบุรายละเอียด)",null,null,0]
[null,null,"(ณ)","อื่นๆ (ระบุรายละเอียด)",null,null,0]
[null,null,"(ด)","อื่นๆ (ระบุรายละเอียด)",null,null,0]
[null,null,"(ต)","อื่นๆ (ระบุรายละเอียด)",null,null,0]
[null,null,"(ถ)","อื่นๆ (ระบุรายละเอียด)",null,null,0]
[null,null,"(ท)","อื่นๆ (ระบุรายละเอียด)",null,null,0]
[null,null,"(ธ)","อื่นๆ (ระบุรายละเอียด)",null,null,0]
[null,null,"(น)","อื่นๆ (ระบุรายละเอียด)",null,null,0]
[null,null,"(บ)","อื่นๆ (ระบุรายละเอียด)",null,null,0]
[null,null,"(ป)","อื่นๆ (ระบุรายละเอียด)",null,null,0]
[null,null,"(ผ)","อื่นๆ (ระบุรายละเอียด)",null,null,0]
[null,null,"(ฝ)","อื่นๆ (ระบุรายละเอียด)",null,null,0]
[null,null,"รวมเงินให้กู้ยืม",null,null,{"$f":"SUM(F$36:F$65)","v":0},{"$f":"SUM(G$36:G$65)","v":0},0]
[null,3,"เงินสดและเงินฝากสถาบันการเงิน/ ใบรับฝากเงิน/ บัตรเงินฝาก",null,null,null,0]
[null,4,"อสังหาริมทรัพย์และทรัพย์สินดำเนินงาน"]
[null,null,"(ก)","ที่ทำการ ได้แก่ ที่ดิน อาคาร และอาคารชุด",null,null,{"$f":"H69-F69","v":0}]
[null,null,"(ข)","ทรัพย์สินดำเนินงาน  ได้แก่ ยานพาหนะ เครื่องใช้สำนักงาน และเครื่องสมองกล",null,null,{"$f":"H70-F70","v":0}]
[null,null,"รวมอสังหาริมทรัพย์และทรัพย์สินดำเนินงาน",null,null,{"$f":"SUM(F$69:F$70)","v":0},{"$f":"SUM(G$69:G$70)","v":0},0]
[null,5,"อสังหาริมทรัพย์อื่น"]
[null,null,"(ก)","อสังหาริมทรัพย์รอการขาย",null,null,{"$f":"H73-F73","v":0}]
[null,null,"(ข)","อสังหาริมทรัพย์เพื่อการลงทุน",null,null,{"$f":"H74-F74","v":0}]
[null,null,"รวมอสังหาริมทรัพย์อื่น",null,null,{"$f":"SUM(F$73:F$74)","v":0},{"$f":"SUM(G$73:G$74)","v":0},0]
[null,6,"สินทรัพย์จากการประกันภัยต่อ (reinsurance Asset)"]
[null,null,"(ก)","เงินวางไว้จากการประกันภัยต่อ (deposits on reinsurance treaties)",null,null,{"$f":"H77-F77","v":0}]
[null,null,"(ข)","เงินค้างรับเกี่ยวกับการประกันภัยต่อ (due from reinsurers)",null,null,{"$f":"H78-F78","v":0}]
[null,null,"(ค)","สำรองประกันภัยส่วนที่เรียกคืนจากการประกันภัยต่อที่รวมค่าเผื่อความผันผวน (reinsurance recoveries on technical reserves with PAD)",null,null,{"$f":"+H79-F79","v":0},{"$f":"IF('แบบฟอร์มที่ 4 - 4.4, 4.5'!$E$42>'แบบฟอร์มที่ 4 - 4.4, 4.5'!$O$42,'แบบฟอร์มที่ 4 - 4.4, 4.5'!$E$42-'แบบฟอร์มที่ 4 - 4.4, 4.5'!$F$42,'แบบฟอร์มที่ 4 - 4.4, 4.5'!$O$42-'แบบฟอร์มที่ 4 - 4.4, 4.5'!$P$42)+('แบบฟอร์มที่ 4 - 4.4, 4.5'!$L$22-'แบบฟอร์มที่ 4 - 4.4, 4.5'!$Q$22)+MAX('แบบฟอร์มที่ 4 - 4.1, 4.2'!$D$22,0)","v":0}]
[null,null,"(ง)","ลูกหนี้ประกันภัยต่ออื่น (other reinsurance receivables)",null,null,{"$f":"+H80-F80","v":0}]
[null,null,"รวมสินทรัพย์จากการประกันภัยต่อ (total reinsurance asset)",null,null,{"$f":"SUM(F$77:F$80)","v":0},{"$f":"SUM(G$77:G$80)","v":0},0]
[null,7,"เบี้ยประกันภัยค้างรับ (outstanding premiums)",null,null,null,{"$f":"+H82-F82","v":0}]
[null,8,"สินทรัพย์ภาษีเงินได้รอตัดบัญชี (gross deferred tax assets)"]
[null,null,"(ก)","ผลแตกต่างชั่วคราวที่ใช้หักภาษี (deductible temporary difference)",null,null,{"$f":"+H84-F84","v":0},0]
[null,null,"(ข)","ขาดทุนภาษีที่ยังไม่ได้ใช้ยกไป (carryforward unused tax losses)",null,null,{"$f":"+H85-F85","v":0},0]
[null,null,"(ค)","อื่นๆ (other)",null,null,{"$f":"+H86-F86","v":0},0]
[null,null,"รวมสินทรัพย์ภาษีเงินได้รอตัดบัญชี (total gross deferred tax assets)",null,null,{"$f":"SUM(F$84:F$86)","v":0},{"$f":"SUM(G$84:G$86)","v":0},0]
[null,9,"ค่าใช้จ่ายจ่ายล่วงหน้า",null,null,null,{"$f":"H88-F88","v":0}]
[null,10,"รายได้จากการลงทุนค้างรับ",null,null,null,{"$f":"H89-F89","v":0}]
[null,11,"ค่าความนิยม",null,null,null,{"$f":"H90-F90","v":0}]
[null,12,"สินทรัพย์ไม่มีตัวตน"]
[null,null,"(ก)","โปรแกรมคอมพิวเตอร์",null,null,{"$f":"H92-F92","v":0}]
[null,null,"(ข)","อื่นๆ",null,null,{"$f":"H93-F93","v":0}]
[null,null,"รวมสินทรัพย์ไม่มีตัวตน",null,null,{"$f":"SUM(F$92:F$93)","v":0},{"$f":"SUM(G$92:G$93)","v":0},0]
[null,13,"ต้นทุนในการได้มารอตัดบัญชี",null,null,null,{"$f":"-F95","v":0},{"$f":"F95+G95","v":0}]
[null,14,"สินทรัพย์อื่น"]
[null,null,"(ก)","สินทรัพย์ที่ติดภาระผูกพัน (assets pledged by an insurer)",null,null,{"$f":"H97-F97","v":0}]
[null,null,"(ข)","สินทรัพย์ลงทุนที่ผู้เอาประกันภัยรับความเสี่ยง",null,null,{"$f":"H98-F98","v":0}]
[null,null,"(ค)","อื่นๆ (ระบุรายละเอียด)",null,null,{"$f":"H99-F99","v":0}]
[null,null,"(ง)","อื่นๆ (ระบุรายละเอียด)",null,null,0]
[null,null,"(จ)","อื่นๆ (ระบุรายละเอียด)",null,null,0]
[null,null,"(ฉ)","อื่นๆ (ระบุรายละเอียด)",null,null,0]
[null,null,"(ช)","อื่นๆ (ระบุรายละเอียด)",null,null,0]
[null,null,"(ซ)","อื่นๆ (ระบุรายละเอียด)",null,null,0]
[null,null,"(ฌ)","อื่นๆ (ระบุรายละเอียด)",null,null,0]
[null,null,"(ญ)","อื่นๆ (ระบุรายละเอียด)",null,null,0]
[null,null,"(ฎ)","อื่นๆ (ระบุรายละเอียด)",null,null,0]
[null,null,"(ฏ)","อื่นๆ (ระบุรายละเอียด)",null,null,0]
[null,null,"(ฐ)","อื่นๆ (ระบุรายละเอียด)",null,null,0]
[null,null,"(ฑ)","อื่นๆ (ระบุรายละเอียด)",null,null,0]
[null,null,"(ฒ)","อื่นๆ (ระบุรายละเอียด)",null,null,0]
[null,null,"(ณ)","อื่นๆ (ระบุรายละเอียด)",null,null,0]
[null,null,"(ด)","อื่นๆ (ระบุรายละเอียด)",null,null,0]
[null,null,"(ต)","อื่นๆ (ระบุรายละเอียด)",null,null,0]
[null,null,"(ถ)","อื่นๆ (ระบุรายละเอียด)",null,null,0]
[null,null,"(ท)","อื่นๆ (ระบุรายละเอียด)",null,null,0]
[null,null,"(ธ)","อื่นๆ (ระบุรายละเอียด)",null,null,0]
[null,null,"(น)","อื่นๆ (ระบุรายละเอียด)",null,null,0]
[null,null,"(บ)","อื่นๆ (ระบุรายละเอียด)",null,null,0]
[null,null,"(ป)","อื่นๆ (ระบุรายละเอียด)",null,null,0]
[null,null,"(ผ)","อื่นๆ (ระบุรายละเอียด)",null,null,0]
[null,null,"(ฝ)","อื่นๆ (ระบุรายละเอียด)",null,null,0]
[null,null,"รวมสินทรัพย์อื่น",null,null,{"$f":"SUM(F$97:F$122)","v":0},{"$f":"SUM(G$97:G$122)","v":0},0]
[null,15,"ตราสารอนุพันธ์",null,null,null,{"$f":"H124-F124","v":0}]
[null,16,"บัญชีเดินสะพัดสำนักงานใหญ่",null,null,null,{"$f":"+H125-F125","v":0}]
[null,17,"รวมสินทรัพย์",null,null,{"$f":"+F$34+F$66+F$67+F$71+F$75+F$81+F$82+F$125+F$87+F$88+F$89+F$90+F$94+F$95+F$123+F$124","v":0},{"$f":"+G$34+G$66+G$67+G$71+G$75+G$81+G$82+G$125+G$87+G$88+G$89+G$90+G$94+G$95+G$123+G$124","v":0},{"$f":"+H$34+H$66+H$67+H$71+H$75+H$81+H$82+H$125+H$87+H$88+H$89+H$90+H$94+H$95+H$123+H$124","v":0}]
[]
[null,"หมายเหตุ: รายการลำดับที่ 1 - 13 คอลัมน์ (3) ให้ใช้มูลค่าส่วนที่ไม่ติดภาระผูกพัน"]

{"sheet":"แบบฟอร์มที่ 3 - 3.2, 3.3","index":9,"n_rows":92,"n_cols":8,"rows_kept":92,"cut":false,"hidden":false,"merged":[[27,1,31,1],[30,3,30,4],[31,2,31,4],[3,5,3,7],[10,3,10,4],[9,2,9,4],[8,2,8,4],[23,3,23,4],[18,3,18,4],[22,3,22,4],[26,2,26,4],[28,3,28,4],[23,2,25,2],[27,2,27,4],[4,5,4,7],[21,1,26,1],[9,1,15,1],[11,2,14,2],[16,1,20,1],[17,3,17,4],[20,2,20,4],[11,3,11,4],[19,3,19,4],[14,3,14,4],[16,2,16,4],[15,2,15,4],[66,2,66,4],[64,2,64,4],[79,2,79,4],[77,2,77,4],[21,2,21,4],[29,3,29,4],[35,2,35,4],[32,2,32,4],[33,2,33,4],[34,2,34,4],[35,1,63,1],[63,2,63,4],[36,3,36,4],[80,2,80,4],[82,2,82,4],[70,2,70,4],[71,1,76,1],[81,2,81,4],[75,3,75,4],[74,3,74,4],[73,3,73,4],[71,2,71,4],[72,3,72,4],[76,2,76,4],[78,2,78,4],[65,2,65,4],[85,3,85,4],[83,3,83,4],[84,3,84,4],[90,1,90,7],[91,1,91,7],[82,1,86,1],[88,2,88,4],[87,2,87,4],[86,2,86,4]]}
["แบบฟอร์มที่ 3 งบแสดงฐานะการเงิน"]
[]
[]
[null,null,null,null,"บริษัท",{"$f":"+รายชื่อแบบฟอร์ม!C3","v":0}]
[null,null,null,null,"ณ วันที่",{"$f":"+รายชื่อแบบฟอร์ม!C4","v":"00:00:00"}]
[]
[]
[null,"ตารางที่ 3.2 รายการหนี้สินตามงบแสดงฐานะการเงิน",null,null,null,null,null,"บาท"]
[null,"ลำดับที่","รายการ",null,null,"มูลค่าตามงบการเงินที่รับรองโดยผู้สอบบัญชี (งบการเงินตามมาตรฐานบัญชี)","มูลค่าที่ปรับปรุงเพื่อให้ได้มูลค่าตามประกาศ คปภ. ว่าด้วยการประเมินราคาทรัพย์สินและหนี้สินของบริษัทประกันชีวิต","มูลค่าตามประกาศ คปภ. ว่าด้วยการประเมินราคาทรัพย์สินและหนี้สินของบริษัทประกันชีวิต "]
[null,1,"สำรองประกันภัย (ก่อนการประกันภัยต่อ) (technical reserves (gross of reinsurance))"]
[null,null,"(ก)","สำรองประกันภัยสำหรับสัญญาประกันภัยระยะยาว (long-term technical reserves)",null,null,{"$f":"+H11-F11","v":0},{"$f":"'แบบฟอร์มที่ 4 - 4.1, 4.2'!$D$19","v":0}]
[null,null,"(ข)","สำรองประกันภัยสำหรับสัญญาประกันภัยระยะสั้น (short-term technical reserves)"]
[null,null,null,"(1)","สำรองค่าสินไหมทดแทน (claim reserves)/1",null,{"$f":"+H13-F13","v":0},{"$f":"'แบบฟอร์มที่ 4 - 4.4, 4.5'!$L$22","v":0}]
[null,null,null,"(2)","สำรองเบี้ยประกันภัย (premium reserves)/2",null,{"$f":"+H14-F14","v":0},{"$f":"MAX('แบบฟอร์มที่ 4 - 4.4, 4.5'!$E$42,'แบบฟอร์มที่ 4 - 4.4, 4.5'!$O$42)","v":0}]
[null,null,null,"รวมสำรองประกันภัยสำหรับสัญญาประกันภัยระยะสั้น (total short-term technical reserves)",null,{"$f":"SUM(F$13:F$14)","v":0},{"$f":"SUM(G$13:G$14)","v":0},0]
[null,null,"รวมสำรองประกันภัย (total technical reserves)",null,null,{"$f":"+F$11+F$15","v":0},{"$f":"+G$11+G$15","v":0},0]
[null,2,"หนี้สินอื่นตามกรมธรรม์ประกันภัยค้างจ่าย (due to insured)"]
[null,null,"(ก)","เงินปันผล/เงินโบนัสค้างจ่าย (dividends/bonuses payable)",null,null,{"$f":"H18-F18","v":0}]
[null,null,"(ข)","อื่นๆ (โปรดระบุ)",null,null,{"$f":"H19-F19","v":0}]
[null,null,"(ค)","อื่นๆ (โปรดระบุ)",null,null,{"$f":"H20-F20","v":0}]
[null,null,"รวมหนี้สินอื่นตามกรมธรรม์ประกันภัยค้างจ่าย (total due to insured)",null,null,{"$f":"SUM(F$18:F$20)","v":0},{"$f":"SUM(G$18:G$20)","v":0},0]
[null,3,"หนี้สิน/เงินกู้ยืม"]
[null,null,"(ก)","เงินเบิกเกินบัญชี",null,null,{"$f":"H23-F23","v":0}]
[null,null,"(ข)","หนี้สิน/เงินกู้ยืมอื่นๆ"]
[null,null,null,"(1)","ระบุรายละเอียด",null,{"$f":"H25-F25","v":0}]
[null,null,null,"(2)","ระบุรายละเอียด",null,{"$f":"H26-F26","v":0}]
[null,null,"รวมหนี้สิน/เงินกู้ยืม",null,null,{"$f":"+F$23+F$25+F$26","v":0},{"$f":"+G$23+G$25+G$26","v":0},0]
[null,4,"หนี้สินจากการประกันภัยต่อ (reinsurance liabilities)"]
[null,null,"(ก)","เงินถือไว้จากการประกันภัยต่อ (amounts withheld on reinsurance treaties)",null,null,{"$f":"H29-F29","v":0}]
[null,null,"(ข)","เงินค้างจ่ายเกี่ยวกับการประกันภัยต่อ (due to reinsurers)",null,null,{"$f":"H30-F30","v":0}]
[null,null,"(ค)","เจ้าหนี้ประกันภัยต่ออื่น (other reinsurance payables)",null,null,0]
[null,null,"รวมหนี้สินจากการประกันภัยต่อ (total reinsurance liabilities)",null,null,{"$f":"SUM(F$29:F$31)","v":0},{"$f":"SUM(G$29:G$31)","v":0},0]
[null,5,"หนี้สินภาษีเงินได้รอตัดบัญชี (gross deferred tax liabilities)",null,null,null,0,0]
[null,6,"ภาษีเงินได้ค้างจ่าย",null,null,null,0]
[null,7,"ผลประโยชน์พนักงาน (employee benefits)",null,null,null,0]
[null,8,"หนี้สินอื่นๆ"]
[null,null,"(ก)","หนี้สินจากสัญญาลงทุน",null,null,{"$f":"H37-F37","v":0}]
[null,null,"(ข)","อื่นๆ (โปรดระบุ)",null,null,{"$f":"H38-F38","v":0}]
[null,null,"(ค)","อื่นๆ (โปรดระบุ)",null,null,0]
[null,null,"(ง)","อื่นๆ (โปรดระบุ)",null,null,{"$f":"H40-F40","v":0}]
[null,null,"(จ)","อื่นๆ (โปรดระบุ)",null,null,0]
[null,null,"(ฉ)","อื่นๆ (โปรดระบุ)",null,null,0]
[null,null,"(ช)","อื่นๆ (โปรดระบุ)",null,null,0]
[null,null,"(ซ)","อื่นๆ (โปรดระบุ)",null,null,0]
[null,null,"(ฌ)","อื่นๆ (โปรดระบุ)",null,null,0]
[null,null,"(ญ)","อื่นๆ (โปรดระบุ)",null,null,0]
[null,null,"(ฎ)","อื่นๆ (โปรดระบุ)",null,null,0]
[null,null,"(ฏ)","อื่นๆ (โปรดระบุ)",null,null,0]
[null,null,"(ฐ)","อื่นๆ (โปรดระบุ)",null,null,0]
[null,null,"(ฑ)","อื่นๆ (โปรดระบุ)",null,null,0]
[null,null,"(ฒ)","อื่นๆ (โปรดระบุ)",null,null,0]
[null,null,"(ณ)","อื่นๆ (โปรดระบุ)",null,null,0]
[null,null,"(ด)","อื่นๆ (โปรดระบุ)",null,null,0]
[null,null,"(ต)","อื่นๆ (โปรดระบุ)",null,null,0]
[null,null,"(ถ)","อื่นๆ (โปรดระบุ)",null,null,0]
[null,null,"(ท)","อื่นๆ (โปรดระบุ)",null,null,0]
[null,null,"(ธ)","อื่นๆ (โปรดระบุ)",null,null,0]
[null,null,"(น)","อื่นๆ (โปรดระบุ)",null,null,0]
[null,null,"(บ)","อื่นๆ (โปรดระบุ)",null,null,0]
[null,null,"(ป)","อื่นๆ (โปรดระบุ)",null,null,0]
[null,null,"(ผ)","อื่นๆ (โปรดระบุ)",null,null,0]
[null,null,"(ฝ)","อื่นๆ (โปรดระบุ)",null,null,0]
[null,null,"(ฟ)","อื่นๆ (โปรดระบุ)",null,null,0]
[null,null,"รวมหนี้สินอื่นๆ",null,null,{"$f":"SUM(F$37:F$63)","v":0},{"$f":"SUM(G$37:G$63)","v":0},0]
[null,9,"ตราสารอนุพันธ์",null,null,null,{"$f":"H65-F65","v":0}]
[null,10,"บัญชีเดินสะพัดสำนักงานใหญ่",null,null,null,{"$f":"H66-F66","v":0}]
[null,11,"รวมหนี้สิน",null,null,{"$f":"+F$16+F$21+F$27+F$32+F$66+F$33+F$34+F$35+F$64+F$65","v":0},{"$f":"+G$16+G$21+G$27+G$32+G$66+G$33+G$34+G$35+G$64+G$65","v":0},0]
[]
[]
[null,"ตารางที่ 3.3 รายการส่วนของเจ้าของตามงบแสดงฐานะการเงิน",null,null,null,null,null,"บาท"]
[null,"ลำดับที่","รายการ",null,null,"มูลค่าตามงบการเงินที่รับรองโดยผู้สอบบัญชี (งบการเงินตามมาตรฐานบัญชี)","มูลค่าที่ปรับปรุงเพื่อให้ได้มูลค่าตามประกาศ คปภ. ว่าด้วยการประเมินราคาทรัพย์สินและหนี้สินของบริษัทประกันชีวิต","มูลค่าตามประกาศ คปภ. ว่าด้วยการประเมินราคาทรัพย์สินและหนี้สินของบริษัทประกันชีวิต"]
[null,1,"ทุนชำระแล้ว"]
[null,null,"(ก)","หุ้นสามัญที่ออกและชำระแล้ว",null,null,{"$f":"H73-F73","v":0}]
[null,null,"(ข)","หุ้นบุริมสิทธิที่ไม่สามารถไถ่ถอนได้ ชนิดไม่สะสมเงินปันผล",null,null,0]
[null,null,"(ค)","หุ้นบุริมสิทธิที่ไม่สามารถไถ่ถอนได้ ชนิดสะสมเงินปันผล",null,null,0]
[null,null,"(ง)","หุ้นทุนซื้อคืน",null,0,0]
[null,null,"รวมทุนชำระแล้ว",null,null,{"$f":"F$73+F$74+F$75-F$76","v":0},{"$f":"G$73+G$74+G$75-G$76","v":0},0]
[null,2,"เงินลงทุนจากสำนักงานใหญ่",null,null,null,0]
[null,3,"ส่วนเกิน (ต่ำกว่า) มูลค่าหุ้น",null,null,null,0]
[null,4,"หุ้นกู้ด้อยสิทธิ/ตราสารอื่นที่มีลักษณะคล้ายทุน ",null,null,null,{"$f":"H80-F80","v":0}]
[null,5,"สำรองตามกฎหมาย",null,null,null,0]
[null,6,"รายการอื่นในส่วนของเจ้าของ",null,null,null,0]
[null,7,"ส่วนเกินทุนจากการเปลี่ยนแปลงมูลค่าสินทรัพย์"]
[null,null,"(ก)","เงินลงทุน (รวมถึงตราสารอนุพันธ์ทางการเงิน)",null,null,{"$f":"H84-F84","v":0}]
[null,null,"(ข)","อสังหาริมทรัพย์ เฉพาะที่ทำการของบริษัท",null,null,{"$f":"H85-F85","v":0}]
[null,null,"(ค)","อสังหาริมทรัพย์ และทรัพย์สินดำเนินงาน แต่ไม่รวมถึงที่ทำการของบริษัท",null,null,{"$f":"H86-F86","v":0}]
[null,null,"ส่วนเกินทุนจากการเปลี่ยนแปลงมูลค่าสินทรัพย์",null,null,{"$f":"+SUM(F$84:F$86)","v":0},{"$f":"+SUM(G$84:G$86)","v":0},0]
[null,8,"กำไร (ขาดทุน) สะสม",null,null,null,{"$f":"+'แบบฟอร์มที่ 3 - 3.1'!$G$126-$G$67-($G$77+$G$78+$G$79+$G$80+$G$81+$G$82+$G$87)","v":0},{"$f":"+$F$88+$G$88","v":0}]
[null,9,"รวมส่วนของเจ้าของ",null,null,{"$f":"F$77+F$78+F$79+F$80+F$81+F$82+F$87+F$88","v":0},{"$f":"G$77+G$78+G$79+G$80+G$81+G$82+G$87+G$88","v":0},{"$f":"H$77+H$78+H$79+H$80+H$81+H$82+H$87+H$88","v":0}]
[]
[null,"/1 สำรองค่าสินไหมทดแทนค้างจ่ายที่ได้รับรายงานแล้วและการจ่ายค่าสินไหมทดแทนยังไม่สิ้นสุดและค่าสินไหมทดแทนที่เกิดขึ้นแล้วแต่ยังไม่ได้รับรายงาน(รวมทั้งค่าใช้จ่ายในการจัดการค่าสินไหมทดแทนที่สามารถจัดสรรได้ และค่าใช้จ่ายในการจัดการค่าสินไหมทดแทนที่ไม่สามารถจัดสรรได้)"]
[null,"/2 ค่าที่มากกว่าระหว่าง สำรองความเสี่ยงที่ยังไม่สิ้นสุดสำหรับกรมธรรม์ที่ยังมีผลบังคับอยู่ก่อนการประกันภัยต่อ กับ สำรองเบี้ยประกันภัยที่ยังไม่ถือเป็นรายได้ก่อนการประกันภัยต่อ"]

{"sheet":"แบบฟอร์มที่ 4 - 4.1, 4.2","index":10,"n_rows":25,"n_cols":16,"rows_kept":25,"cut":false,"hidden":false,"merged":[[20,3,20,4],[21,3,21,4],[22,3,22,4],[23,3,23,4],[24,3,24,4],[19,3,19,4],[6,1,7,1],[6,2,7,2],[14,1,14,8],[6,7,6,14],[6,3,6,6],[6,15,7,15],[2,7,2,10],[3,7,3,10],[17,3,17,4],[18,3,18,4]]}
["แบบฟอร์มที่ 4 การคำนวณเงินกองทุนสำหรับความเสี่ยงด้านประกันภัย"]
[]
[null,null,null,"บริษัท",null,null,null,{"$f":"+รายชื่อแบบฟอร์ม!C3","v":0}]
[null,null,null,"ณ วันที่",null,null,null,{"$f":"รายชื่อแบบฟอร์ม!C4","v":"00:00:00"}]
[]
[null,"ตารางที่ 4.1 ภาระผูกพันตามสัญญาประกันภัยระยะยาว"]
[null,"ลำดับที่","ประเภทของผลิตภัณฑ์\n(product type)","รายละเอียดกรมธรรม์ (particulars of policies)",null,null,null,"มูลค่าปัจจุบันของ (present value of)",null,null,null,null,null,null,null,"ภาระผูกพันตามสัญญาประกันภัยก่อนการประกันภัยต่อ ณ ระดับความเชื่อมั่นเปอร์เซ็นต์ไทล์ที่ 95 \n(gross GPV@95%)"]
[null,null,null,"จำนวนกรมธรรม์\n(number of policies)","จำนวนเงินเอาประกันภัย\n(sum insured amount)","เบี้ยประกันภัยรวม\n(office premium)","มูลค่าเวนคืนเงินสด\n(cash surrender value)","ผลประโยชน์ที่การันตี\n(guaranteed benefit)","ค่าใช้จ่ายและค่าบำเหน็จรวม\n(expenses and commission)","เบี้ยประกันภัยรวม\n(premiums)","ผลประโยชน์ที่ไม่ได้การันตี\n(non-guaranteed benefit)","ค่าเผื่อความผันผวน ณ ระดับความเชื่อมั่นเปอร์เซ็นต์ไทล์ที่ 75 \n(PAD @75%)","ภาระผูกพันตามสัญญาประกันภัยก่อนการประกันภัยต่อ ณ ระดับความเชื่อมั่นเปอร์เซ็นต์ไทล์ที่ 75 ที่ติดลบ \n(negative gross GPV@75%)","ภาระผูกพันตามสัญญาประกันภัยก่อนการประกันภัยต่อ ณ ระดับความเชื่อมั่นเปอร์เซ็นต์ไทล์ที่ 75 ที่มีค่าเป็นบวก \n(positive gross GPV@75%)","สำรองประกันภัยแบบเบี้ยประกันภัยรวมก่อนการเอาประกันภัยต่อ ที่คำนวณตามประกาศประเมินราคาฯ \n(gross GPV reserve)"]
[null,1,"แบบทั่วไป - ไม่มีส่วนร่วมในเงินปันผล \n(conventional life - non-participating products)",{"$f":"'แบบฟอร์มที่ 4 - 4.3'!G42","v":0},{"$f":"'แบบฟอร์มที่ 4 - 4.3'!H42","v":0},{"$f":"'แบบฟอร์มที่ 4 - 4.3'!I42","v":0},{"$f":"'แบบฟอร์มที่ 4 - 4.3'!J42","v":0},{"$f":"'แบบฟอร์มที่ 4 - 4.3'!K42","v":0},{"$f":"'แบบฟอร์มที่ 4 - 4.3'!L42","v":0},{"$f":"'แบบฟอร์มที่ 4 - 4.3'!M42","v":0},{"$f":"'แบบฟอร์มที่ 4 - 4.3'!N42","v":0},{"$f":"'แบบฟอร์มที่ 4 - 4.3'!O42","v":0},{"$f":"'แบบฟอร์มที่ 4 - 4.3'!P42","v":0},{"$f":"'แบบฟอร์มที่ 4 - 4.3'!Q42","v":0},{"$f":"MAX(M9+N9,0)","v":0},{"$f":"'แบบฟอร์มที่ 4 - 4.3'!R42","v":0}]
[null,2,"แบบทั่วไป - มีส่วนร่วมในเงินปันผล\n(conventional life - participating products)",{"$f":"'แบบฟอร์มที่ 4 - 4.3'!G76","v":0},{"$f":"'แบบฟอร์มที่ 4 - 4.3'!H76","v":0},{"$f":"'แบบฟอร์มที่ 4 - 4.3'!I76","v":0},{"$f":"'แบบฟอร์มที่ 4 - 4.3'!J76","v":0},{"$f":"'แบบฟอร์มที่ 4 - 4.3'!K76","v":0},{"$f":"'แบบฟอร์มที่ 4 - 4.3'!L76","v":0},{"$f":"'แบบฟอร์มที่ 4 - 4.3'!M76","v":0},{"$f":"'แบบฟอร์มที่ 4 - 4.3'!N76","v":0},{"$f":"'แบบฟอร์มที่ 4 - 4.3'!O76","v":0},{"$f":"'แบบฟอร์มที่ 4 - 4.3'!P76","v":0},{"$f":"'แบบฟอร์มที่ 4 - 4.3'!Q76","v":0},{"$f":"MAX(M10+N10,0)","v":0},{"$f":"'แบบฟอร์มที่ 4 - 4.3'!R76","v":0}]
[null,3,"แบบบำนาญ - ไม่มีส่วนร่วมในเงินปันผล \n(annuity in payment - non-participating products)",{"$f":"'แบบฟอร์มที่ 4 - 4.3'!G87","v":0},{"$f":"'แบบฟอร์มที่ 4 - 4.3'!H87","v":0},{"$f":"'แบบฟอร์มที่ 4 - 4.3'!I87","v":0},{"$f":"'แบบฟอร์มที่ 4 - 4.3'!J87","v":0},{"$f":"'แบบฟอร์มที่ 4 - 4.3'!K87","v":0},{"$f":"'แบบฟอร์มที่ 4 - 4.3'!L87","v":0},{"$f":"'แบบฟอร์มที่ 4 - 4.3'!M87","v":0},{"$f":"'แบบฟอร์มที่ 4 - 4.3'!N87","v":0},{"$f":"'แบบฟอร์มที่ 4 - 4.3'!O87","v":0},{"$f":"'แบบฟอร์มที่ 4 - 4.3'!P87","v":0},{"$f":"'แบบฟอร์มที่ 4 - 4.3'!Q87","v":0},{"$f":"MAX(M11+N11,0)","v":0},{"$f":"'แบบฟอร์มที่ 4 - 4.3'!R87","v":0}]
[null,4,"แบบยูนิเวอร์แซลไลฟ์/ยูนิตลิงค์\n(universal life/unit-linked)",{"$f":"'แบบฟอร์มที่ 4 - 4.3'!G358","v":0},{"$f":"'แบบฟอร์มที่ 4 - 4.3'!H358","v":0},{"$f":"'แบบฟอร์มที่ 4 - 4.3'!I358","v":0},{"$f":"'แบบฟอร์มที่ 4 - 4.3'!J358","v":0},{"$f":"'แบบฟอร์มที่ 4 - 4.3'!K358","v":0},{"$f":"'แบบฟอร์มที่ 4 - 4.3'!L358","v":0},{"$f":"'แบบฟอร์มที่ 4 - 4.3'!M358","v":0},{"$f":"'แบบฟอร์มที่ 4 - 4.3'!N358","v":0},{"$f":"'แบบฟอร์มที่ 4 - 4.3'!O358","v":0},{"$f":"'แบบฟอร์มที่ 4 - 4.3'!P358","v":0},{"$f":"'แบบฟอร์มที่ 4 - 4.3'!Q358","v":0},{"$f":"MAX(M12+N12,0)","v":0},{"$f":"'แบบฟอร์มที่ 4 - 4.3'!R358","v":0}]
[null,5,"การประกันอุบัติเหตุส่วนบุคคล/สัญญาแนบท้าย \n(personal accident/riders)",{"$f":"'แบบฟอร์มที่ 4 - 4.3'!G452","v":0},{"$f":"'แบบฟอร์มที่ 4 - 4.3'!H452","v":0},{"$f":"'แบบฟอร์มที่ 4 - 4.3'!I452","v":0},{"$f":"'แบบฟอร์มที่ 4 - 4.3'!J452","v":0},{"$f":"'แบบฟอร์มที่ 4 - 4.3'!K452","v":0},{"$f":"'แบบฟอร์มที่ 4 - 4.3'!L452","v":0},{"$f":"'แบบฟอร์มที่ 4 - 4.3'!M452","v":0},{"$f":"'แบบฟอร์มที่ 4 - 4.3'!N452","v":0},{"$f":"'แบบฟอร์มที่ 4 - 4.3'!O452","v":0},{"$f":"'แบบฟอร์มที่ 4 - 4.3'!P452","v":0},{"$f":"'แบบฟอร์มที่ 4 - 4.3'!Q452","v":0},{"$f":"MAX(M13+N13,0)","v":0},{"$f":"'แบบฟอร์มที่ 4 - 4.3'!R452","v":0}]
[null,6,"รวม (total)",{"$f":"SUM(D$9:D$13)","v":0},{"$f":"SUM(E$9:E$13)","v":0},0,0,0,0,0,0,0,0,0,0,0]
[null,"หมายเหตุ\n1) กรมธรรม์ประกันชีวิตกลุ่มระยะยาว ให้รวมอยู่ในรายการลำดับที่ 1 ในตารางที่ 4.1\n2) กรมธรรม์ประกันกลุ่มอื่นๆ และสัญญาแนบท้ายกรมธรรม์ระยะยาวทั้งประเภทส่วนบุคคลและกลุ่ม ให้รวมอยู่ในรายการลำดับที่ 5 ในตารางที่ 4.1"]
[]
[null,"ตารางที่ 4.2 เงินกองทุนสำหรับความเสี่ยงจากภาระผูกพันสำหรับสัญญาประกันภัยระยะยาว"]
[null,"ลำดับที่","รายการ","บาท"]
[null,1,"สำรองประกันภัยแบบเบี้ยประกันภัยรวม ก่อนการเอาประกันภัยต่อ ที่คำนวณตามประกาศประเมินราคาฯ \n(gross GPV reserve)",{"$f":"$O$14","v":0}]
[null,2,"ภาระผูกพันตามสัญญาประกันภัยก่อนการประกันภัยต่อ \nณ ระดับความเชื่อมั่นเปอร์เซ็นต์ไทล์ที่ 75 \n(gross GPV@75%)",{"$f":"$M$14+$N$14","v":0}]
[null,3,"ภาระผูกพันตามสัญญาประกันภัยสุทธิหลังการประกันภัยต่อ ณ ระดับความเชื่อมั่นเปอร์เซ็นต์ไทล์ที่ 75 \n(net GPV@75%)"]
[null,4,"ผลต่างระหว่างรายการลำดับที่ 2 กับรายการลำดับที่ 3 (difference between 2 and 3)",{"$f":"$D$20-$D$21","v":0}]
[null,5,"ภาระผูกพันตามสัญญาประกันภัยก่อนการประกันภัยต่อ ณ ระดับความเชื่อมั่นเปอร์เซ็นต์ไทล์ที่ 95 \n(gross GPV@95%)",{"$f":"$P$14","v":0}]
[null,6,"ภาระผูกพันตามสัญญาประกันภัยสุทธิหลังการประกันภัยต่อ ณ ระดับความเชื่อมั่นเปอร์เซ็นต์ไทล์ที่ 95 \n(net GPV@95%)"]
[null,7,"เงินกองทุนสำหรับความเสี่ยงจากภาระผูกพันตามสัญญาประกันภัยระยะยาว ณ ระดับความเชื่อมั่นเปอร์เซ็นต์ไทล์ที่ 95 (long term insurance risk capital charge @95%)",{"$f":"$D$24-$D$21","v":0}]

{"sheet":"แบบฟอร์มที่ 4 - 4.3","index":11,"n_rows":452,"n_cols":18,"rows_kept":452,"cut":false,"hidden":false,"merged":[[447,3,447,5],[448,3,448,5],[449,3,449,5],[3,7,3,11],[2,7,2,11],[438,3,438,5],[439,3,439,5],[440,3,440,5],[441,3,441,5],[442,3,442,5],[443,3,443,5],[444,3,444,5],[445,3,445,5],[446,3,446,5],[429,3,429,5],[430,3,430,5],[431,3,431,5],[432,3,432,5],[433,3,433,5],[434,3,434,5],[435,3,435,5],[436,3,436,5],[437,3,437,5],[420,3,420,5],[421,3,421,5],[422,3,422,5],[423,3,423,5],[424,3,424,5],[425,3,425,5],[426,3,426,5],[427,3,427,5],[428,3,428,5],[411,3,411,5],[412,3,412,5],[413,3,413,5],[414,3,414,5],[415,3,415,5],[416,3,416,5],[417,3,417,5],[418,3,418,5],[419,3,419,5],[367,3,367,5],[366,3,366,5],[365,3,365,5],[364,3,364,5],[363,3,363,5],[362,3,362,5],[408,3,408,5],[409,3,409,5],[410,3,410,5],[376,3,376,5],[375,3,375,5],[374,3,374,5],[373,3,373,5],[372,3,372,5],[371,3,371,5],[370,3,370,5],[369,3,369,5],[368,3,368,5],[385,3,385,5],[384,3,384,5],[383,3,383,5],[382,3,382,5],[381,3,381,5],[380,3,380,5],[379,3,379,5],[378,3,378,5],[377,3,377,5],[394,3,394,5],[393,3,393,5],[392,3,392,5],[391,3,391,5],[390,3,390,5],[389,3,389,5],[388,3,388,5],[387,3,387,5],[386,3,386,5],[403,3,403,5],[402,3,402,5],[401,3,401,5],[400,3,400,5],[399,3,399,5],[398,3,398,5],[397,3,397,5],[396,3,396,5],[395,3,395,5],[346,2,348,2],[346,3,346,5],[347,4,347,5],[348,4,348,5],[349,2,351,2],[349,3,349,5],[350,4,350,5],[351,4,351,5],[352,2,354,2],[352,3,352,5],[353,4,353,5],[354,4,354,5],[337,2,339,2],[337,3,337,5],[338,4,338,5],[339,4,339,5],[340,2,342,2],[340,3,340,5],[341,4,341,5],[342,4,342,5],[343,2,345,2],[343,3,343,5],[344,4,344,5],[345,4,345,5],[328,2,330,2],[328,3,328,5],[329,4,329,5],[330,4,330,5],[331,2,333,2],[331,3,331,5],[332,4,332,5],[333,4,333,5],[334,2,336,2],[334,3,334,5],[335,4,335,5],[336,4,336,5],[319,2,321,2],[319,3,319,5],[320,4,320,5],[321,4,321,5],[322,2,324,2],[322,3,322,5],[323,4,323,5],[324,4,324,5],[325,2,327,2],[325,3,325,5],[326,4,326,5],[327,4,327,5],[310,2,312,2],[310,3,310,5],[311,4,311,5],[312,4,312,5],[313,2,315,2],[313,3,313,5],[314,4,314,5],[315,4,315,5],[316,2,318,2],[316,3,316,5],[317,4,317,5],[318,4,318,5],[301,2,303,2],[301,3,301,5],[302,4,302,5],[303,4,303,5],[304,2,306,2],[304,3,304,5],[305,4,305,5],[306,4,306,5],[307,2,309,2],[307,3,307,5],[308,4,308,5],[309,4,309,5],[292,2,294,2],[292,3,292,5],[293,4,293,5],[294,4,294,5],[295,2,297,2],[295,3,295,5],[296,4,296,5],[297,4,297,5],[298,2,300,2],[298,3,298,5],[299,4,299,5],[300,4,300,5],[283,2,285,2],[283,3,283,5],[284,4,284,5],[285,4,285,5],[286,2,288,2],[286,3,286,5],[287,4,287,5],[288,4,288,5],[289,2,291,2],[289,3,289,5],[290,4,290,5],[291,4,291,5],[274,2,276,2],[274,3,274,5],[275,4,275,5],[276,4,276,5],[277,2,279,2],[277,3,277,5],[278,4,278,5],[279,4,279,5],[280,2,282,2],[280,3,280,5],[281,4,281,5],[282,4,282,5],[265,2,267,2],[265,3,265,5],[266,4,266,5],[267,4,267,5],[268,2,270,2],[268,3,268,5],[269,4,269,5],[270,4,270,5],[271,2,273,2],[271,3,271,5],[272,4,272,5],[273,4,273,5],[256,2,258,2],[256,3,256,5],[257,4,257,5],[258,4,258,5],[259,2,261,2],[259,3,259,5],[260,4,260,5],[261,4,261,5],[262,2,264,2],[262,3,262,5],[263,4,263,5],[264,4,264,5],[247,2,249,2],[247,3,247,5],[248,4,248,5],[249,4,249,5],[250,2,252,2],[250,3,250,5],[251,4,251,5],[252,4,252,5],[253,2,255,2],[253,3,253,5],[254,4,254,5],[255,4,255,5],[238,2,240,2],[238,3,238,5],[239,4,239,5],[240,4,240,5],[241,2,243,2],[241,3,241,5],[242,4,242,5],[243,4,243,5],[244,2,246,2],[244,3,244,5],[245,4,245,5],[246,4,246,5],[229,2,231,2],[229,3,229,5],[230,4,230,5],[231,4,231,5],[232,2,234,2],[232,3,232,5],[233,4,233,5],[234,4,234,5],[235,2,237,2],[235,3,235,5],[236,4,236,5],[237,4,237,5],[214,4,214,5],[215,3,215,5],[216,4,216,5],[217,4,217,5],[218,3,218,5],[219,4,219,5],[220,4,220,5],[101,2,103,2],[104,2,106,2],[200,2,202,2],[203,2,205,2],[206,2,208,2],[209,2,211,2],[212,2,214,2],[215,2,217,2],[218,2,220,2],[205,4,205,5],[206,3,206,5],[207,4,207,5],[208,4,208,5],[209,3,209,5],[210,4,210,5],[211,4,211,5],[212,3,212,5],[194,2,196,2],[194,3,194,5],[195,4,195,5],[196,4,196,5],[213,4,213,5],[197,2,199,2],[197,3,197,5],[198,4,198,5],[199,4,199,5],[200,3,200,5],[201,4,201,5],[202,4,202,5],[203,3,203,5],[204,4,204,5],[185,2,187,2],[185,3,185,5],[186,4,186,5],[187,4,187,5],[188,2,190,2],[188,3,188,5],[189,4,189,5],[190,4,190,5],[191,2,193,2],[191,3,191,5],[192,4,192,5],[193,4,193,5],[176,2,178,2],[176,3,176,5],[177,4,177,5],[178,4,178,5],[179,2,181,2],[179,3,179,5],[180,4,180,5],[181,4,181,5],[182,2,184,2],[182,3,182,5],[183,4,183,5],[184,4,184,5],[167,2,169,2],[167,3,167,5],[168,4,168,5],[169,4,169,5],[170,2,172,2],[170,3,170,5],[171,4,171,5],[172,4,172,5],[173,2,175,2],[173,3,173,5],[174,4,174,5],[175,4,175,5],[158,2,160,2],[158,3,158,5],[159,4,159,5],[160,4,160,5],[161,2,163,2],[161,3,161,5],[162,4,162,5],[163,4,163,5],[164,2,166,2],[164,3,164,5],[165,4,165,5],[166,4,166,5],[149,2,151,2],[149,3,149,5],[150,4,150,5],[151,4,151,5],[152,2,154,2],[152,3,152,5],[153,4,153,5],[154,4,154,5],[155,2,157,2],[155,3,155,5],[156,4,156,5],[157,4,157,5],[140,2,142,2],[140,3,140,5],[141,4,141,5],[142,4,142,5],[143,2,145,2],[143,3,143,5],[144,4,144,5],[145,4,145,5],[146,2,148,2],[146,3,146,5],[147,4,147,5],[148,4,148,5],[131,3,131,5],[132,4,132,5],[133,4,133,5],[134,2,136,2],[134,3,134,5],[135,4,135,5],[136,4,136,5],[137,2,139,2],[137,3,137,5],[138,4,138,5],[139,4,139,5],[34,2,36,2],[21,3,21,5],[36,4,36,5],[22,4,22,5],[23,4,23,5],[27,3,27,5],[37,3,37,5],[38,3,38,5],[88,2,88,5],[83,3,83,5],[81,2,81,5],[82,3,82,5],[70,4,70,5],[71,3,71,5],[72,3,72,5],[73,2,73,5],[74,2,74,5],[75,2,75,5],[79,3,79,5],[34,3,34,5],[45,4,45,5],[46,4,46,5],[43,2,43,5],[44,3,44,5],[6,1,7,1],[9,1,19,1],[13,3,15,3],[18,3,18,5],[19,2,19,5],[16,3,16,5],[6,2,7,5],[6,10,6,16],[10,2,15,2],[9,2,9,5],[10,3,10,5],[11,4,11,5],[12,4,12,5],[13,4,13,5],[6,6,6,9],[31,1,39,1],[21,2,26,2],[24,3,26,3],[39,2,39,5],[55,3,55,5],[56,4,56,5],[43,1,53,1],[6,17,7,17],[20,1,30,1],[17,3,17,5],[28,3,28,5],[29,3,29,5],[30,2,30,5],[31,2,31,5],[32,3,32,5],[50,3,50,5],[44,2,49,2],[47,3,49,3],[40,2,40,5],[33,3,33,5],[41,2,41,5],[35,4,35,5],[20,2,20,5],[24,4,24,5],[65,1,73,1],[80,2,80,5],[54,1,64,1],[55,2,60,2],[58,3,60,3],[68,2,70,2],[65,2,65,5],[66,3,66,5],[57,4,57,5],[58,4,58,5],[61,3,61,5],[62,3,62,5],[63,3,63,5],[64,2,64,5],[51,3,51,5],[52,3,52,5],[53,2,53,5],[54,2,54,5],[78,3,78,5],[47,4,47,5],[405,1,450,1],[227,4,227,5],[450,2,450,5],[95,2,97,2],[95,3,95,5],[96,4,96,5],[98,2,100,2],[77,1,80,1],[81,1,84,1],[91,4,91,5],[86,2,86,5],[107,2,109,2],[107,3,107,5],[108,4,108,5],[109,4,109,5],[110,2,112,2],[110,3,110,5],[111,4,111,5],[112,4,112,5],[113,2,115,2],[113,3,113,5],[114,4,114,5],[115,4,115,5],[116,2,118,2],[90,4,90,5],[221,2,221,5],[222,1,355,1],[89,2,91,2],[92,2,94,2],[223,2,225,2],[226,2,228,2],[88,1,221,1],[103,4,103,5],[104,3,104,5],[105,4,105,5],[106,4,106,5],[93,4,93,5],[97,4,97,5],[94,4,94,5],[92,3,92,5],[98,3,98,5],[101,3,101,5],[359,2,359,5],[226,3,226,5],[355,2,355,5],[359,1,404,1],[116,3,116,5],[117,4,117,5],[118,4,118,5],[119,2,121,2],[119,3,119,5],[120,4,120,5],[121,4,121,5],[122,2,124,2],[122,3,122,5],[123,4,123,5],[124,4,124,5],[125,2,127,2],[125,3,125,5],[126,4,126,5],[127,4,127,5],[128,2,130,2],[128,3,128,5],[129,4,129,5],[130,4,130,5],[131,2,133,2],[451,2,451,5],[360,3,360,5],[361,3,361,5],[404,2,404,5],[405,2,405,5],[406,3,406,5],[407,3,407,5],[67,3,67,5],[68,3,68,5],[69,4,69,5],[85,2,85,5],[356,2,356,5],[357,2,357,5],[222,2,222,5],[223,3,223,5],[224,4,224,5],[225,4,225,5],[77,2,77,5],[89,3,89,5],[84,2,84,5],[228,4,228,5],[99,4,99,5],[100,4,100,5],[102,4,102,5]]}
["แบบฟอร์มที่ 4 การคำนวณเงินกองทุนสำหรับความเสี่ยงด้านประกันภัย"]
[]
[null,null,null,"บริษัท",null,null,null,{"$f":"+รายชื่อแบบฟอร์ม!C3","v":0}]
[null,null,null,"ณ วันที่",null,null,null,{"$f":"รายชื่อแบบฟอร์ม!C4","v":"00:00:00"}]
[]
[null,"ตารางที่ 4.3 ภาระผูกพันตามสัญญาประกันภัยระยะยาวจำแนกตามกลุ่มผลิตภัณฑ์"]
[null,"ลำดับที่","ประเภทของผลิตภัณฑ์\n(product type)",null,null,null,"รายละเอียดกรมธรรม์ (particulars of policies)",null,null,null,"มูลค่าปัจจุบันของ (present value of)",null,null,null,null,null,null,"ภาระผูกพันตามสัญญาประกันภัยก่อนการประกันภัยต่อ ณ ระดับความเชื่อมั่นเปอร์เซ็นต์ไทล์ที่ 95 ตาม base scenario\n(gross GPV@95%)"]
[null,null,null,null,null,null,"จำนวนกรมธรรม์\n(number of policies)","จำนวนเงิน\nเอาประกันภัย\n(sum insured amount)","เบี้ยประกันภัยรวม\n(office premium)","มูลค่าเวนคืนเงินสด\n(cash surrender value)","ผลประโยชน์ที่การันตี\n(guaranteed benefit)","ค่าใช้จ่ายและค่าบำเหน็จรวม\n(expenses and commission)","เบี้ยประกันภัยรวม\n(premiums)","ผลประโยชน์ที่ไม่ได้การันตี\n(non-guaranteed benefit)","ค่าเผื่อความผันผวน ณ ระดับความเชื่อมั่นเปอร์เซ็นต์ไทล์ที่ 75 \n(PAD @75%)","ภาระผูกพันตามสัญญาประกันภัยก่อนการประกันภัยต่อ ณ ระดับความเชื่อมั่นเปอร์เซ็นต์ไทล์ที่ 75 ที่ติดลบ \n(negative gross GPV@75%)","ภาระผูกพันตามสัญญาประกันภัยก่อนการประกันภัยต่อ ณ ระดับความเชื่อมั่นเปอร์เซ็นต์ไทล์ที่ 75 ที่มีค่าเป็นบวก \n(positive gross GPV@75%)"]
[null,"ผลิตภัณฑ์ประกันชีวิตแบบทั่วไป - ไม่มีส่วนร่วมในเงินปันผล (conventional life - non-participating products)"]
[null,1,"รายบุคคลประเภทสามัญ (ordinary individual life)"]
[null,null,"(ก)","กำลังชำระเบี้ยประกันภัย + ชำระเบี้ยประกันภัยครบแล้ว"]
[null,null,null,"(1)","ตลอดชีพ (whole life)"]
[null,null,null,"(2)","สะสมทรัพย์ (endowment)"]
[null,null,null,"(3)","ชั่วระยะเวลา (term)"]
[null,null,null,null,"(3.1)","คุ้มครองสินเชื่อ (mortgage)"]
[null,null,null,null,"(3.2)","ชั่วระยะเวลาอื่นๆ (other)"]
[null,null,"(ข)","กรมธรรม์ปิดบัญชีเงินสำเร็จ (paid-up)"]
[null,null,"(ค)","กรมธรรม์ปิดบัญชีขยายเวลา (extended term)"]
[null,null,"(ง)","อื่นๆ (other)"]
[null,null,"รวม (total)",null,null,null,{"$f":"SUM(G$12:G$19)","v":0},{"$f":"SUM(H$12:H$19)","v":0},0,0,0,0,0,0,0,0,0,0]
[null,2,"รายบุคคลประเภทอุตสาหกรรม (industry individual life)"]
[null,null,"(ก)","กำลังชำระเบี้ยประกันภัย + ชำระเบี้ยประกันภัยครบแล้ว"]
[null,null,null,"(1)","ตลอดชีพ (whole life)"]
[null,null,null,"(2)","สะสมทรัพย์ (endowment)"]
[null,null,null,"(3)","ชั่วระยะเวลา (term)"]
[null,null,null,null,"(3.1)","คุ้มครองสินเชื่อ (mortgage)"]
[null,null,null,null,"(3.2)","ชั่วระยะเวลาอื่นๆ (other)"]
[null,null,"(ข)","กรมธรรม์ปิดบัญชีเงินสำเร็จ (paid-up)"]
[null,null,"(ค)","กรมธรรม์ปิดบัญชีขยายเวลา (extended term)"]
[null,null,"(ง)","อื่นๆ (other)"]
[null,null,"รวม (total)",null,null,null,{"$f":"SUM(G$23:G$30)","v":0},{"$f":"SUM(H$23:H$30)","v":0},0,0,0,0,0,0,0,0,0,0]
[null,3,"การประกันกลุ่ม (group)"]
[null,null,"(ก)","ตลอดชีพ (whole life)"]
[null,null,"(ข)","สะสมทรัพย์ (endowment)"]
[null,null,"(ค)","ชั่วระยะเวลา (term)"]
[null,null,null,"(1)","คุ้มครองสินเชื่อ (mortgage)"]
[null,null,null,"(2)","ชั่วระยะเวลาอื่นๆ (other)"]
[null,null,"(ง)","กรมธรรม์ปิดบัญชีเงินสำเร็จ (paid-up)"]
[null,null,"(จ)","กรมธรรม์ปิดบัญชีขยายเวลา (extended term)"]
[null,null,"รวม (total)",null,null,null,{"$f":"SUM(G$33:G$39)","v":0},{"$f":"SUM(H$33:H$39)","v":0},0,0,0,0,0,0,0,0,0,0]
[null,4,"อื่นๆ (other)"]
[null,5,"รวม (total)",null,null,null,{"$f":"G$20+G$31+G$40+G$41","v":0},{"$f":"H$20+H$31+H$40+H$41","v":0},0,0,0,0,0,0,0,0,0,0]
[null,"ผลิตภัณฑ์ประกันชีวิตแบบทั่วไป - มีส่วนร่วมในเงินปันผล (conventional life - participating products)"]
[null,1,"รายบุคคลประเภทสามัญ (ordinary individual life)"]
[null,null,"(ก)","กำลังชำระเบี้ยประกันภัย + ชำระเบี้ยประกันภัยครบแล้ว"]
[null,null,null,"(1)","ตลอดชีพ (whole life)"]
[null,null,null,"(2)","สะสมทรัพย์ (endowment)"]
[null,null,null,"(3)","ชั่วระยะเวลา (term)"]
[null,null,null,null,"(3.1)","คุ้มครองสินเชื่อ (mortgage)"]
[null,null,null,null,"(3.2)","ชั่วระยะเวลาอื่นๆ (other)"]
[null,null,"(ข)","กรมธรรม์ปิดบัญชีเงินสำเร็จ (paid-up)"]
[null,null,"(ค)","กรมธรรม์ปิดบัญชีขยายเวลา (extended term)"]
[null,null,"(ง)","อื่นๆ (Other)"]
[null,null,"รวม (total)",null,null,null,{"$f":"SUM(G$46:G$53)","v":0},{"$f":"SUM(H$46:H$53)","v":0},0,0,0,0,0,0,0,0,0,0]
[null,2,"รายบุคคลประเภทอุตสาหกรรม (industry individual life)"]
[null,null,"(ก)","กำลังชำระเบี้ยประกันภัย + ชำระเบี้ยประกันภัยครบแล้ว"]
[null,null,null,"(1)","ตลอดชีพ (whole life)"]
[null,null,null,"(2)","สะสมทรัพย์ (endowment)"]
[null,null,null,"(3)","ชั่วระยะเวลา (term)"]
[null,null,null,null,"(3.1)","คุ้มครองสินเชื่อ (mortgage)"]
[null,null,null,null,"(3.2)","ชั่วระยะเวลาอื่นๆ (other)"]
[null,null,"(ข)","กรมธรรม์ปิดบัญชีเงินสำเร็จ (paid-up)"]
[null,null,"(ค)","กรมธรรม์ปิดบัญชีขยายเวลา (extended term)"]
[null,null,"(ง)","อื่นๆ (Other)"]
[null,null,"รวม (total)",null,null,null,{"$f":"SUM(G$57:G$64)","v":0},{"$f":"SUM(H$57:H$64)","v":0},0,0,0,0,0,0,0,0,0,0]
[null,3,"การประกันกลุ่ม (Group)"]
[null,null,"(ก)","ตลอดชีพ (whole life)"]
[null,null,"(ข)","สะสมทรัพย์ (endowment)"]
[null,null,"(ค)","ชั่วระยะเวลา (term)"]
[null,null,null,"(1)","คุ้มครองสินเชื่อ (mortgage)"]
[null,null,null,"(2)","ชั่วระยะเวลาอื่นๆ (other)"]
[null,null,"(ง)","กรมธรรม์ปิดบัญชีเงินสำเร็จ (paid-up)"]
[null,null,"(จ)","กรมธรรม์ปิดบัญชีขยายเวลา (extended term)"]
[null,null,"รวม (total)",null,null,null,{"$f":"SUM(G$67:G$73)","v":0},{"$f":"SUM(H$67:H$73)","v":0},0,0,0,0,0,0,0,0,0,{"$f":"SUM(R$67:R$73)","v":0}]
[null,4,"อื่นๆ (other)"]
[null,5,"รวม (total)",null,null,null,{"$f":"G$54+G$65+G$74+G$75","v":0},{"$f":"H$54+H$65+H$74+H$75","v":0},0,0,0,0,0,0,0,0,0,{"$f":"R$54+R$65+R$74+R$75","v":0}]
[null,"ผลิตภัณฑ์ประกันชีวิตแบบบำนาญ (annuity in payment - non-participating products)"]
[null,1,"รายบุคคลชำระเบี้ยประกันภัยรายปี"]
[null,null,"(ก)","เงินรายปีจ่ายเงินทันที (immediate annuities)"]
[null,null,"(ข)","เงินรายปีที่เลื่อนการรับ (deferred annuities)"]
[null,null,"รวม (total)",null,null,null,{"$f":"G$79+G$80","v":0},{"$f":"H$79+H$80","v":0},0,0,0,0,0,0,0,0,0,0]
[null,2,"รายบุคคลชำระเบี้ยประกันภัยครั้งเดียว"]
[null,null,"(ก)","เงินรายปีจ่ายเงินทันที (immediate annuities)"]
[null,null,"(ข)","เงินรายปีที่เลื่อนการรับ (deferred annuities)"]
[null,null,"รวม (total)",null,null,null,{"$f":"G$83+G$84","v":0},{"$f":"H$83+H$84","v":0},0,0,0,0,0,0,0,0,0,0]
[null,3,"อื่นๆ (other)"]
[null,4,"รวม (total)",null,null,null,{"$f":"G$81+G$85+G$86","v":0},{"$f":"H$81+H$85+H$86","v":0},0,0,0,0,0,0,0,0,0,0]
[null,"ผลิตภัณฑ์ประกันชีวิตแบบยูนิตลิงค์/ยูนิเวอร์แซลไลฟ์ (universal life/unit-linked)"]
[null,1,"รายบุคคลแบบยูนิเวอร์แซลไลฟ์ (Individual universal life)"]
[null,null,"(ก)"]
[null,null,null,"(1)","ส่วนความคุ้มครอง (non-unit portion)"]
[null,null,null,"(2)","ส่วนลงทุน (investment portion)"]
[null,null,"(ข)"]
[null,null,null,"(1)","ส่วนความคุ้มครอง (non-unit portion)"]
[null,null,null,"(2)","ส่วนลงทุน (investment portion)"]
[null,null,"(ฃ)"]
[null,null,null,"(1)","ส่วนความคุ้มครอง (non-unit portion)"]
[null,null,null,"(2)","ส่วนลงทุน (investment portion)"]
[null,null,"(ค)"]
[null,null,null,"(1)","ส่วนความคุ้มครอง (non-unit portion)"]
[null,null,null,"(2)","ส่วนลงทุน (investment portion)"]
[null,null,"(ฅ)"]
[null,null,null,"(1)","ส่วนความคุ้มครอง (non-unit portion)"]
[null,null,null,"(2)","ส่วนลงทุน (investment portion)"]
[null,null,"(ฆ)"]
[null,null,null,"(1)","ส่วนความคุ้มครอง (non-unit portion)"]
[null,null,null,"(2)","ส่วนลงทุน (investment portion)"]
[null,null,"(ง)"]
[null,null,null,"(1)","ส่วนความคุ้มครอง (non-unit portion)"]
[null,null,null,"(2)","ส่วนลงทุน (investment portion)"]
[null,null,"(จ)"]
[null,null,null,"(1)","ส่วนความคุ้มครอง (non-unit portion)"]
[null,null,null,"(2)","ส่วนลงทุน (investment portion)"]
[null,null,"(ฉ)"]
[null,null,null,"(1)","ส่วนความคุ้มครอง (non-unit portion)"]
[null,null,null,"(2)","ส่วนลงทุน (investment portion)"]
[null,null,"(ช)"]
[null,null,null,"(1)","ส่วนความคุ้มครอง (non-unit portion)"]
[null,null,null,"(2)","ส่วนลงทุน (investment portion)"]
[null,null,"(ซ)"]
[null,null,null,"(1)","ส่วนความคุ้มครอง (non-unit portion)"]
[null,null,null,"(2)","ส่วนลงทุน (investment portion)"]
[null,null,"(ฌ)"]
[null,null,null,"(1)","ส่วนความคุ้มครอง (non-unit portion)"]
[null,null,null,"(2)","ส่วนลงทุน (investment portion)"]
[null,null,"(ญ)"]
[null,null,null,"(1)","ส่วนความคุ้มครอง (non-unit portion)"]
[null,null,null,"(2)","ส่วนลงทุน (investment portion)"]
[null,null,"(ฎ)"]
[null,null,null,"(1)","ส่วนความคุ้มครอง (non-unit portion)"]
[null,null,null,"(2)","ส่วนลงทุน (investment portion)"]
[null,null,"(ฏ)"]
[null,null,null,"(1)","ส่วนความคุ้มครอง (non-unit portion)"]
[null,null,null,"(2)","ส่วนลงทุน (investment portion)"]
[null,null,"(ฐ)"]
[null,null,null,"(1)","ส่วนความคุ้มครอง (non-unit portion)"]
[null,null,null,"(2)","ส่วนลงทุน (investment portion)"]
[null,null,"(ฑ)"]
[null,null,null,"(1)","ส่วนความคุ้มครอง (non-unit portion)"]
[null,null,null,"(2)","ส่วนลงทุน (investment portion)"]
[null,null,"(ฒ)"]
[null,null,null,"(1)","ส่วนความคุ้มครอง (non-unit portion)"]
[null,null,null,"(2)","ส่วนลงทุน (investment portion)"]
[null,null,"(ณ)"]
[null,null,null,"(1)","ส่วนความคุ้มครอง (non-unit portion)"]
[null,null,null,"(2)","ส่วนลงทุน (investment portion)"]
[null,null,"(ด)"]
[null,null,null,"(1)","ส่วนความคุ้มครอง (non-unit portion)"]
[null,null,null,"(2)","ส่วนลงทุน (investment portion)"]
[null,null,"(ต)"]
[null,null,null,"(1)","ส่วนความคุ้มครอง (non-unit portion)"]
[null,null,null,"(2)","ส่วนลงทุน (investment portion)"]
[null,null,"(ถ)"]
[null,null,null,"(1)","ส่วนความคุ้มครอง (non-unit portion)"]
[null,null,null,"(2)","ส่วนลงทุน (investment portion)"]
[null,null,"(ท)"]
[null,null,null,"(1)","ส่วนความคุ้มครอง (non-unit portion)"]
[null,null,null,"(2)","ส่วนลงทุน (investment portion)"]
[null,null,"(ธ)"]
[null,null,null,"(1)","ส่วนความคุ้มครอง (non-unit portion)"]
[null,null,null,"(2)","ส่วนลงทุน (investment portion)"]
[null,null,"(น)"]
[null,null,null,"(1)","ส่วนความคุ้มครอง (non-unit portion)"]
[null,null,null,"(2)","ส่วนลงทุน (investment portion)"]
[null,null,"(บ)"]
[null,null,null,"(1)","ส่วนความคุ้มครอง (non-unit portion)"]
[null,null,null,"(2)","ส่วนลงทุน (investment portion)"]
[null,null,"(ป)"]
[null,null,null,"(1)","ส่วนความคุ้มครอง (non-unit portion)"]
[null,null,null,"(2)","ส่วนลงทุน (investment portion)"]
[null,null,"(ผ)"]
[null,null,null,"(1)","ส่วนความคุ้มครอง (non-unit portion)"]
[null,null,null,"(2)","ส่วนลงทุน (investment portion)"]
[null,null,"(ฝ)"]
[null,null,null,"(1)","ส่วนความคุ้มครอง (non-unit portion)"]
[null,null,null,"(2)","ส่วนลงทุน (investment portion)"]
[null,null,"(พ)"]
[null,null,null,"(1)","ส่วนความคุ้มครอง (non-unit portion)"]
[null,null,null,"(2)","ส่วนลงทุน (investment portion)"]
[null,null,"(ฟ)"]
[null,null,null,"(1)","ส่วนความคุ้มครอง (non-unit portion)"]
[null,null,null,"(2)","ส่วนลงทุน (investment portion)"]
[null,null,"(ภ)"]
[null,null,null,"(1)","ส่วนความคุ้มครอง (non-unit portion)"]
[null,null,null,"(2)","ส่วนลงทุน (investment portion)"]
[null,null,"(ม)"]
[null,null,null,"(1)","ส่วนความคุ้มครอง (non-unit portion)"]
[null,null,null,"(2)","ส่วนลงทุน (investment portion)"]
[null,null,"(ย)"]
[null,null,null,"(1)","ส่วนความคุ้มครอง (non-unit portion)"]
[null,null,null,"(2)","ส่วนลงทุน (investment portion)"]
[null,null,"(ร)"]
[null,null,null,"(1)","ส่วนความคุ้มครอง (non-unit portion)"]
[null,null,null,"(2)","ส่วนลงทุน (investment portion)"]
[null,null,"(ล)"]
[null,null,null,"(1)","ส่วนความคุ้มครอง (non-unit portion)"]
[null,null,null,"(2)","ส่วนลงทุน (investment portion)"]
[null,null,"(ว)"]
[null,null,null,"(1)","ส่วนความคุ้มครอง (non-unit portion)"]
[null,null,null,"(2)","ส่วนลงทุน (investment portion)"]
[null,null,"(ศ)"]
[null,null,null,"(1)","ส่วนความคุ้มครอง (non-unit portion)"]
[null,null,null,"(2)","ส่วนลงทุน (investment portion)"]
[null,null,"(ษ)"]
[null,null,null,"(1)","ส่วนความคุ้มครอง (non-unit portion)"]
[null,null,null,"(2)","ส่วนลงทุน (investment portion)"]
[null,null,"(ส)"]
[null,null,null,"(1)","ส่วนความคุ้มครอง (non-unit portion)"]
[null,null,null,"(2)","ส่วนลงทุน (investment portion)"]
[null,null,"(ห)"]
[null,null,null,"(1)","ส่วนความคุ้มครอง (non-unit portion)"]
[null,null,null,"(2)","ส่วนลงทุน (investment portion)"]
[null,null,"(ฬ)"]
[null,null,null,"(1)","ส่วนความคุ้มครอง (non-unit portion)"]
[null,null,null,"(2)","ส่วนลงทุน (investment portion)"]
[null,null,"(อ)"]
[null,null,null,"(1)","ส่วนความคุ้มครอง (non-unit portion)"]
[null,null,null,"(2)","ส่วนลงทุน (investment portion)"]
[null,null,"(ฮ)"]
[null,null,null,"(1)","ส่วนความคุ้มครอง (non-unit portion)"]
[null,null,null,"(2)","ส่วนลงทุน (investment portion)"]
[null,null,"รวม (total)",null,null,null,{"$f":"SUM(G$91:G$221)","v":0},{"$f":"SUM(H$91:H$221)","v":0},0,0,0,0,0,0,0,0,0,0]
[null,2,"รายบุคคลแบบยูนิตลิงค์ (individual unit-link)"]
[null,null,"(ก)"]
[null,null,null,"(1)","ส่วนความคุ้มครอง (non-unit portion)"]
[null,null,null,"(2)","ส่วนลงทุน (investment portion)"]
[null,null,"(ข)"]
[null,null,null,"(1)","ส่วนความคุ้มครอง (non-unit portion)"]
[null,null,null,"(2)","ส่วนลงทุน (investment portion)"]
[null,null,"(ฃ)"]
[null,null,null,"(1)","ส่วนความคุ้มครอง (non-unit portion)"]
[null,null,null,"(2)","ส่วนลงทุน (investment portion)"]
[null,null,"(ค)"]
[null,null,null,"(1)","ส่วนความคุ้มครอง (non-unit portion)"]
[null,null,null,"(2)","ส่วนลงทุน (investment portion)"]
[null,null,"(ฅ)"]
[null,null,null,"(1)","ส่วนความคุ้มครอง (non-unit portion)"]
[null,null,null,"(2)","ส่วนลงทุน (investment portion)"]
[null,null,"(ฆ)"]
[null,null,null,"(1)","ส่วนความคุ้มครอง (non-unit portion)"]
[null,null,null,"(2)","ส่วนลงทุน (investment portion)"]
[null,null,"(ง)"]
[null,null,null,"(1)","ส่วนความคุ้มครอง (non-unit portion)"]
[null,null,null,"(2)","ส่วนลงทุน (investment portion)"]
[null,null,"(จ)"]
[null,null,null,"(1)","ส่วนความคุ้มครอง (non-unit portion)"]
[null,null,null,"(2)","ส่วนลงทุน (investment portion)"]
[null,null,"(ฉ)"]
[null,null,null,"(1)","ส่วนความคุ้มครอง (non-unit portion)"]
[null,null,null,"(2)","ส่วนลงทุน (investment portion)"]
[null,null,"(ช)"]
[null,null,null,"(1)","ส่วนความคุ้มครอง (non-unit portion)"]
[null,null,null,"(2)","ส่วนลงทุน (investment portion)"]
[null,null,"(ซ)"]
[null,null,null,"(1)","ส่วนความคุ้มครอง (non-unit portion)"]
[null,null,null,"(2)","ส่วนลงทุน (investment portion)"]
[null,null,"(ฌ)"]
[null,null,null,"(1)","ส่วนความคุ้มครอง (non-unit portion)"]
[null,null,null,"(2)","ส่วนลงทุน (investment portion)"]
[null,null,"(ญ)"]
[null,null,null,"(1)","ส่วนความคุ้มครอง (non-unit portion)"]
[null,null,null,"(2)","ส่วนลงทุน (investment portion)"]
[null,null,"(ฎ)"]
[null,null,null,"(1)","ส่วนความคุ้มครอง (non-unit portion)"]
[null,null,null,"(2)","ส่วนลงทุน (investment portion)"]
[null,null,"(ฏ)"]
[null,null,null,"(1)","ส่วนความคุ้มครอง (non-unit portion)"]
[null,null,null,"(2)","ส่วนลงทุน (investment portion)"]
[null,null,"(ฐ)"]
[null,null,null,"(1)","ส่วนความคุ้มครอง (non-unit portion)"]
[null,null,null,"(2)","ส่วนลงทุน (investment portion)"]
[null,null,"(ฑ)"]
[null,null,null,"(1)","ส่วนความคุ้มครอง (non-unit portion)"]
[null,null,null,"(2)","ส่วนลงทุน (investment portion)"]
[null,null,"(ฒ)"]
[null,null,null,"(1)","ส่วนความคุ้มครอง (non-unit portion)"]
[null,null,null,"(2)","ส่วนลงทุน (investment portion)"]
[null,null,"(ณ)"]
[null,null,null,"(1)","ส่วนความคุ้มครอง (non-unit portion)"]
[null,null,null,"(2)","ส่วนลงทุน (investment portion)"]
[null,null,"(ด)"]
[null,null,null,"(1)","ส่วนความคุ้มครอง (non-unit portion)"]
[null,null,null,"(2)","ส่วนลงทุน (investment portion)"]
[null,null,"(ต)"]
[null,null,null,"(1)","ส่วนความคุ้มครอง (non-unit portion)"]
[null,null,null,"(2)","ส่วนลงทุน (investment portion)"]
[null,null,"(ถ)"]
[null,null,null,"(1)","ส่วนความคุ้มครอง (non-unit portion)"]
[null,null,null,"(2)","ส่วนลงทุน (investment portion)"]
[null,null,"(ท)"]
[null,null,null,"(1)","ส่วนความคุ้มครอง (non-unit portion)"]
[null,null,null,"(2)","ส่วนลงทุน (investment portion)"]
[null,null,"(ธ)"]
[null,null,null,"(1)","ส่วนความคุ้มครอง (non-unit portion)"]
[null,null,null,"(2)","ส่วนลงทุน (investment portion)"]
[null,null,"(น)"]
[null,null,null,"(1)","ส่วนความคุ้มครอง (non-unit portion)"]
[null,null,null,"(2)","ส่วนลงทุน (investment portion)"]
[null,null,"(บ)"]
[null,null,null,"(1)","ส่วนความคุ้มครอง (non-unit portion)"]
[null,null,null,"(2)","ส่วนลงทุน (investment portion)"]
[null,null,"(ป)"]
[null,null,null,"(1)","ส่วนความคุ้มครอง (non-unit portion)"]
[null,null,null,"(2)","ส่วนลงทุน (investment portion)"]
[null,null,"(ผ)"]
[null,null,null,"(1)","ส่วนความคุ้มครอง (non-unit portion)"]
[null,null,null,"(2)","ส่วนลงทุน (investment portion)"]
[null,null,"(ฝ)"]
[null,null,null,"(1)","ส่วนความคุ้มครอง (non-unit portion)"]
[null,null,null,"(2)","ส่วนลงทุน (investment portion)"]
[null,null,"(พ)"]
[null,null,null,"(1)","ส่วนความคุ้มครอง (non-unit portion)"]
[null,null,null,"(2)","ส่วนลงทุน (investment portion)"]
[null,null,"(ฟ)"]
[null,null,null,"(1)","ส่วนความคุ้มครอง (non-unit portion)"]
[null,null,null,"(2)","ส่วนลงทุน (investment portion)"]
[null,null,"(ภ)"]
[null,null,null,"(1)","ส่วนความคุ้มครอง (non-unit portion)"]
[null,null,null,"(2)","ส่วนลงทุน (investment portion)"]
[null,null,"(ม)"]
[null,null,null,"(1)","ส่วนความคุ้มครอง (non-unit portion)"]
[null,null,null,"(2)","ส่วนลงทุน (investment portion)"]
[null,null,"(ย)"]
[null,null,null,"(1)","ส่วนความคุ้มครอง (non-unit portion)"]
[null,null,null,"(2)","ส่วนลงทุน (investment portion)"]
[null,null,"(ร)"]
[null,null,null,"(1)","ส่วนความคุ้มครอง (non-unit portion)"]
[null,null,null,"(2)","ส่วนลงทุน (investment portion)"]
[null,null,"(ล)"]
[null,null,null,"(1)","ส่วนความคุ้มครอง (non-unit portion)"]
[null,null,null,"(2)","ส่วนลงทุน (investment portion)"]
[null,null,"(ว)"]
[null,null,null,"(1)","ส่วนความคุ้มครอง (non-unit portion)"]
[null,null,null,"(2)","ส่วนลงทุน (investment portion)"]
[null,null,"(ศ)"]
[null,null,null,"(1)","ส่วนความคุ้มครอง (non-unit portion)"]
[null,null,null,"(2)","ส่วนลงทุน (investment portion)"]
[null,null,"(ษ)"]
[null,null,null,"(1)","ส่วนความคุ้มครอง (non-unit portion)"]
[null,null,null,"(2)","ส่วนลงทุน (investment portion)"]
[null,null,"(ส)"]
[null,null,null,"(1)","ส่วนความคุ้มครอง (non-unit portion)"]
[null,null,null,"(2)","ส่วนลงทุน (investment portion)"]
[null,null,"(ห)"]
[null,null,null,"(1)","ส่วนความคุ้มครอง (non-unit portion)"]
[null,null,null,"(2)","ส่วนลงทุน (investment portion)"]
[null,null,"(ฬ)"]
[null,null,null,"(1)","ส่วนความคุ้มครอง (non-unit portion)"]
[null,null,null,"(2)","ส่วนลงทุน (investment portion)"]
[null,null,"(อ)"]
[null,null,null,"(1)","ส่วนความคุ้มครอง (non-unit portion)"]
[null,null,null,"(2)","ส่วนลงทุน (investment portion)"]
[null,null,"(ฮ)"]
[null,null,null,"(1)","ส่วนความคุ้มครอง (non-unit portion)"]
[null,null,null,"(2)","ส่วนลงทุน (investment portion)"]
[null,null,"รวม (total)",null,null,null,{"$f":"SUM(G$225:G$355)","v":0},{"$f":"SUM(H$225:H$355)","v":0},0,0,0,0,0,0,0,0,0,0]
[null,3,"อื่นๆ โปรดระบุ"]
[null,4,"รวม (total)",null,null,null,{"$f":"G$222+G$356+G$357","v":0},{"$f":"H$222+H$356+H$357","v":0},0,0,0,0,0,0,0,0,0,0]
[null,"การประกันอุบัติเหตุส่วนบุคคล/สัญญาแนบท้าย (กรณีสัญญาระยะยาว) (personal accident/riders)"]
[null,1,"การประกันอุบัติเหตุส่วนบุคคลระยะยาว (long term personal accident)"]
[null,null,"(ก)"]
[null,null,"(ข)"]
[null,null,"(ฃ)"]
[null,null,"(ค)"]
[null,null,"(ฅ)"]
[null,null,"(ฆ)"]
[null,null,"(ง)"]
[null,null,"(จ)"]
[null,null,"(ฉ)"]
[null,null,"(ช)"]
[null,null,"(ซ)"]
[null,null,"(ฌ)"]
[null,null,"(ญ)"]
[null,null,"(ฎ)"]
[null,null,"(ฏ)"]
[null,null,"(ฐ)"]
[null,null,"(ฑ)"]
[null,null,"(ฒ)"]
[null,null,"(ณ)"]
[null,null,"(ด)"]
[null,null,"(ต)"]
[null,null,"(ถ)"]
[null,null,"(ท)"]
[null,null,"(ธ)"]
[null,null,"(น)"]
[null,null,"(บ)"]
[null,null,"(ป)"]
[null,null,"(ผ)"]
[null,null,"(ฝ)"]
[null,null,"(พ)"]
[null,null,"(ฟ)"]
[null,null,"(ภ)"]
[null,null,"(ม)"]
[null,null,"(ย)"]
[null,null,"(ร)"]
[null,null,"(ล)"]
[null,null,"(ว)"]
[null,null,"(ศ)"]
[null,null,"(ษ)"]
[null,null,"(ส)"]
[null,null,"(ห)"]
[null,null,"(ฬ)"]
[null,null,"(อ)"]
[null,null,"(ฮ)"]
[null,null,"รวม (total)",null,null,null,{"$f":"SUM(G$361:G$404)","v":0},{"$f":"SUM(H$361:H$404)","v":0},0,0,0,0,0,0,0,0,0,0]
[null,2,"สัญญาแนบท้ายระยะยาว (long term rider)"]
[null,null,"(ก)"]
[null,null,"(ข)"]
[null,null,"(ฃ)"]
[null,null,"(ค)"]
[null,null,"(ฅ)"]
[null,null,"(ฆ)"]
[null,null,"(ง)"]
[null,null,"(จ)"]
[null,null,"(ฉ)"]
[null,null,"(ช)"]
[null,null,"(ซ)"]
[null,null,"(ฌ)"]
[null,null,"(ญ)"]
[null,null,"(ฎ)"]
[null,null,"(ฏ)"]
[null,null,"(ฐ)"]
[null,null,"(ฑ)"]
[null,null,"(ฒ)"]
[null,null,"(ณ)"]
[null,null,"(ด)"]
[null,null,"(ต)"]
[null,null,"(ถ)"]
[null,null,"(ท)"]
[null,null,"(ธ)"]
[null,null,"(น)"]
[null,null,"(บ)"]
[null,null,"(ป)"]
[null,null,"(ผ)"]
[null,null,"(ฝ)"]
[null,null,"(พ)"]
[null,null,"(ฟ)"]
[null,null,"(ภ)"]
[null,null,"(ม)"]
[null,null,"(ย)"]
[null,null,"(ร)"]
[null,null,"(ล)"]
[null,null,"(ว)"]
[null,null,"(ศ)"]
[null,null,"(ษ)"]
[null,null,"(ส)"]
[null,null,"(ห)"]
[null,null,"(ฬ)"]
[null,null,"(อ)"]
[null,null,"(ฮ)"]
[null,null,"รวม (total)",null,null,null,{"$f":"SUM(G$407:G$450)","v":0},{"$f":"SUM(H$407:H$450)","v":0},0,0,0,0,0,0,0,0,0,0]
[null,3,"รวม (total)",null,null,null,{"$f":"G$405+G$451","v":0},{"$f":"H$405+H$451","v":0},0,0,0,0,0,0,0,0,0,0]

{"sheet":"แบบฟอร์มที่ 4 - 4.4, 4.5","index":12,"n_rows":44,"n_cols":19,"rows_kept":44,"cut":false,"hidden":false,"merged":[[26,17,28,17],[2,7,2,10],[3,7,3,10],[6,6,8,6],[6,7,6,11],[7,11,8,11],[26,6,26,15],[27,8,27,10],[6,17,8,17],[10,2,10,3],[9,2,9,3],[21,2,21,3],[6,1,8,1],[17,1,20,1],[41,2,41,3],[27,11,27,12],[30,1,36,1],[26,4,27,5],[29,2,29,3],[30,2,30,3],[27,6,27,7],[26,1,28,1],[6,18,8,18],[6,12,6,16],[37,1,40,1],[7,16,8,16],[37,2,37,3],[26,16,28,16],[17,2,17,3],[6,4,8,4],[6,2,8,3],[6,5,8,5],[7,12,7,15],[26,2,28,3],[7,7,7,10],[27,13,28,13],[27,14,27,15],[10,1,16,1]]}
["แบบฟอร์มที่ 4 การคำนวณเงินกองทุนสำหรับความเสี่ยงด้านประกันภัย"]
[]
[null,null,null,"บริษัท",null,null,null,{"$f":"รายชื่อแบบฟอร์ม!C3","v":0}]
[null,null,null,"ณ วันที่",null,null,null,{"$f":"รายชื่อแบบฟอร์ม!C4","v":"00:00:00"}]
[]
[null,"ตารางที่ 4.4 เงินกองทุนสำหรับความเสี่ยงจากภาระผูกพันสำหรับสัญญาประกันภัยระยะสั้น - เงินกองทุนสำหรับความเสี่ยงจากสำรองค่าสินไหมทดแทน"]
[null,"ลำดับที่","ประเภทการรับประกันภัย\n(class of business)",null,"เบี้ยประกันภัยที่ถือเป็นรายได้สุทธิ\n(earned premium)","ค่าสินไหมทดแทนจ่ายสุทธิ\n(net claim paid)","ค่าเผื่อความผันผวนมาตรฐาน ณ ระดับความเชื่อมั่นเปอร์เซ็นต์ไทล์ที่ 75\n(PAD @75%)","สำรองค่าสินไหมทดแทนก่อนการประกันภัยต่อ (gross claim liability)",null,null,null,null,"สำรองค่าสินไหมทดแทนสุทธิหลังการประกันภัยต่อ (net claim liability)",null,null,null,null,"ค่าเผื่อความผันผวนมาตรฐาน ณ ระดับความเชื่อมั่นเปอร์เซ็นต์ไทล์ที่ 95 \n(PAD @95%)","เงินกองทุนตามระดับความเสี่ยง\n(risk capital charge)"]
[null,null,null,null,null,null,null,"ค่าประมาณการที่ดีที่สุด (best estimate of)",null,null,null,"มูลค่ายุติธรรมของสำรองค่าสินไหมทดแทนรวม \n(fair value of gross claim liability)","ค่าประมาณการที่ดีที่สุด",null,null,null,"มูลค่ายุติธรรมของสำรองค่าสินไหมทดแทนสุทธิ (fair value of net claim liability)"]
[null,null,null,null,null,null,null,"ค่าสินไหมทดแทนที่ได้รับรายงานแล้วและการจ่ายค่าสินไหมทดแทนที่ยังไม่สิ้นสุด\n(case reserve)","ค่าสินไหมทดแทนที่เกิดขึ้นแล้วแต่ยังไม่ได้รับรายงาน\n(IBNR)","ค่าใช้จ่ายในการจัดการค่าสินไหมทดแทนที่ไม่สามารถจัดสรรได้\n(ULAE)","รวมค่าประมาณการที่ดีที่สุดสำหรับค่าสินไหมทดแทนค้างจ่าย\n(total)",null,"ค่าสินไหมทดแทนที่ได้รับรายงานแล้วและการจ่ายค่าสินไหมทดแทนที่ยังไม่สิ้นสุด","ค่าสินไหมทดแทนที่เกิดขึ้นแล้วแต่ยังไม่ได้รับรายงาน","ค่าใช้จ่ายในการจัดการค่าสินไหมทดแทนที่ไม่สามารถจัดสรรได้","รวมค่าประมาณการที่ดีที่สุดสำหรับค่าสินไหมทดแทนค้างจ่าย"]
[null,1,"การประกันอุบัติเหตุส่วนบุคคลระยะสั้น (short term personal accident)",null,null,null,0.12,null,null,null,{"$f":"H10+I10+J10","v":0},{"$f":"K10*(1+G10)","v":0},null,null,null,{"$f":"M10+N10+O10","v":0},{"$f":"P10*(1+G10)","v":0},0.36,{"$f":"MAX(0,$P10*(1+$R10)-$P10*(1+$G10))","v":0}]
[null,2,"สัญญาแนบท้ายระยะสั้น (short term rider)"]
[null,null,"(ก)","การประกันชีวิตแบบชั่วระยะเวลา (term)",null,null,0.12,null,null,null,{"$f":"H12+I12+J12","v":0},{"$f":"K12*(1+G12)","v":0},null,null,null,{"$f":"M12+N12+O12","v":0},{"$f":"P12*(1+G12)","v":0},0.36,{"$f":"MAX(0,$P12*(1+$R12)-$P12*(1+$G12))","v":0}]
[null,null,"(ข)","คุ้มครองโรคร้ายแรง (dread disease)",null,null,0.12,null,null,null,0,0,null,null,null,0,0,0.36,0]
[null,null,"(ค)","การประกันอุบัติเหตุ (accident)",null,null,0.12,null,null,null,0,0,null,null,null,0,0,0.36,0]
[null,null,"(ง)","ค่ารักษาพยาบาลรายวัน (medical expense)",null,null,0.12,null,null,null,0,0,null,null,null,0,0,0.36,0]
[null,null,"(จ)","ประกันสุขภาพ (health)",null,null,0.12,null,null,null,0,0,null,null,null,0,0,0.36,0]
[null,null,"(ฉ)","อื่นๆ (other)",null,null,0.12,null,null,null,0,0,null,null,null,0,0,0.36,0]
[null,3,"การประกันกลุ่มระยะสั้น (short term group)"]
[null,null,"(ก)","คุ้มครองการเสียชีวิต (Mortality benefits)",null,null,0.08,null,null,null,0,0,null,null,null,0,0,0.18,{"$f":"MAX(0,$P19*(1+$R19)-$P19*(1+$G19))","v":0}]
[null,null,"(ข)","อุบัติเหตุส่วนบุคคล และสุขภาพ (PA and Health benefits)",null,null,0.12,null,null,null,0,0,null,null,null,0,0,0.36,0]
[null,null,"(ค)","อื่นๆ (Other)",null,null,0.12,null,null,null,0,0,null,null,null,0,0,0.36,0]
[null,4,"รวม (total)",null,{"$f":"SUM(E$10:E$21)","v":0},{"$f":"SUM(F$10:F$21)","v":0},null,{"$f":"SUM(H$10:H$21)","v":0},0,0,0,0,0,0,0,0,0,null,{"$f":"SUM(S$10:S$21)","v":0}]
[]
[]
[]
[null,"ตารางที่ 4.5 เงินกองทุนสำหรับความเสี่ยงจากภาระผูกพันสำหรับสัญญาประกันภัยระยะสั้น - เงินกองทุนสำหรับความเสี่ยงจากสำรองเบี้ยประกันภัย"]
[null,"ลำดับที่","ประเภทการรับประกันภัย\n(class of business)",null,"สำรองเบี้ยประกันภัยที่ยังไม่ถือเป็นรายได้ หลังหักค่าบำเหน็จสำหรับตัวแทนและนายหน้า/1\n(unearned premium reserve after deducting commission paid)",null,"สำรองสำหรับความเสี่ยงภัยที่ยังไม่สิ้นสุด (Unexpired risk reserve)",null,null,null,null,null,null,null,null,null,"ค่าเผื่อความผันผวนมาตรฐาน ณ ระดับความเชื่อมั่นเปอร์เซ็นต์ไทล์ที่ 95 \n(PAD @95%)","เงินกองทุนตามระดับความเสี่ยง\n(risk capital charge)"]
[null,null,null,null,null,null,"ค่าประมาณการที่ดีที่สุดของภาระผูกพันตามกรมธรรม์ในอนาคต\n(best estimate of future liability)",null,"ค่าประมาณการที่ดีที่สุด\n(best estimate of)",null,null,"ค่าประมาณการที่ดีที่สุดของสำรองสำหรับความเสี่ยงภัยที่ยังไม่สิ้นสุด\n(best estimate of unexpires risk reserve)",null,"ค่าเผื่อความผันผวนมาตรฐาน ณ ระดับความเชื่อมั่นเปอร์เซ็นต์ไทล์ที่ 75 \n(PAD @75%)","มูลค่ายุติธรรมของสำรองสำหรับความเสี่ยงภัยที่ยังไม่สิ้นสุด \n(fair value of unexpired risk reserve)"]
[null,null,null,null,"ก่อนการประกันภัยต่อ\n(gross of reinsurance)","หลังการประกันภัยต่อ\n(net of reinsurance)","ก่อนการประกันภัยต่อ","หลังการประกันภัยต่อ","ค่าใช้จ่ายในการบริหารจัดการกรมธรรม์\n(maintenance expense)","ค่าใช้จ่ายในการจัดการค่าสินไหมทดแทน\n(claim handling expense)","ค่าใช้จ่ายที่เกี่ยวข้องกับการประกันภัยต่อ\n(cost of reinsurance)","ก่อนการประกันภัยต่อ","หลังการประกันภัยต่อ",null,"ก่อนการประกันภัยต่อ","หลังการประกันภัยต่อ"]
[null,1,"การประกันอุบัติเหตุส่วนบุคคลระยะสั้น (short term personal accident)",null,null,null,null,null,null,null,null,{"$f":"G30+I30+J30","v":0},{"$f":"H30+I30+J30+K30","v":0},0.16,{"$f":"L30*(1+N30)","v":0},{"$f":"M30*(1+N30)","v":0},0.47,{"$f":"($M30*(1+$Q30)) - ($M30*(1+$N30))","v":0}]
[null,2,"สัญญาแนบท้ายระยะสั้น (short term rider)"]
[null,null,"(ก)","การประกันชีวิตแบบชั่วระยะเวลา (term)",null,null,null,null,null,null,null,{"$f":"G32+I32+J32","v":0},{"$f":"H32+I32+J32+K32","v":0},0.16,{"$f":"L32*(1+N32)","v":0},{"$f":"M32*(1+N32)","v":0},0.47,{"$f":"($M32*(1+$Q32)) - ($M32*(1+$N32))","v":0}]
[null,null,"(ข)","คุ้มครองโรคร้ายแรง (dread disease)",null,null,null,null,null,null,null,0,0,0.16,0,0,0.47,0]
[null,null,"(ค)","การประกันอุบัติเหตุ (accident)",null,null,null,null,null,null,null,0,0,0.16,0,0,0.47,0]
[null,null,"(ง)","ค่ารักษาพยาบาลรายวัน (medical expense)",null,null,null,null,null,null,null,0,0,0.16,0,0,0.47,0]
[null,null,"(จ)","ประกันสุขภาพ (health)",null,null,null,null,null,null,null,0,0,0.16,0,0,0.47,0]
[null,null,"(ฉ)","อื่นๆ (other)",null,null,null,null,null,null,null,0,0,0.16,0,0,0.47,0]
[null,3,"การประกันกลุ่มระยะสั้น (short term group)"]
[null,null,"(ก)","คุ้มครองการเสียชีวิต (Mortality benefits)",null,null,null,null,null,null,null,{"$f":"G39+I39+J39","v":0},{"$f":"H39+I39+J39+K39","v":0},0.1,0,0,0.23,{"$f":"($M39*(1+$Q39)) - ($M39*(1+$N39))","v":0}]
[null,null,"(ข)","อุบัติเหตุส่วนบุคคล และสุขภาพ (PA and Health benefits)",null,null,null,null,null,null,null,0,0,0.16,0,0,0.47,{"$f":"($M40*(1+$Q40)) - ($M40*(1+$N40))","v":0}]
[null,null,"(ค)","อื่นๆ (Other)",null,null,null,null,null,null,null,0,0,0.16,0,0,0.47,{"$f":"($M41*(1+$Q41)) - ($M41*(1+$N41))","v":0}]
[null,4,"รวม (total)",null,{"$f":"SUM(E$30:E$41)","v":0},0,0,0,0,0,0,0,0,null,{"$f":"SUM(O$30:O$41)","v":0},{"$f":"SUM(P$30:P$41)","v":0},null,{"$f":"MAX(0,SUM(R30:R41) - (MAX(F42,P42)-P42))","v":0}]
[]
[null,"/1 อัตราค่าบำเหน็จสำหรับตัวแทนและนายหน้าที่ใช้ในการคำนวณสำรองเบี้ยประกันภัยที่ยังไม่ถือเป็นรายได้ กำหนดให้เท่ากับ 18% ของทุกประเภทการประกันภัย"]

{"sheet":"แบบฟอร์มที่ 5 - 5.1, 5.7","index":13,"n_rows":73,"n_cols":18,"rows_kept":73,"cut":false,"hidden":false,"merged":[[17,1,19,1],[23,2,23,5],[9,2,9,5],[10,3,10,5],[11,3,11,5],[12,3,12,5],[13,3,13,5],[16,3,16,5],[19,3,19,5],[20,2,20,5],[18,3,18,5],[9,1,16,1],[14,3,14,5],[8,2,8,5],[17,2,17,5],[3,5,3,6],[4,5,4,6],[9,8,9,9],[15,3,15,5]]}
["แบบฟอร์มที่ 5 การคำนวณเงินกองทุนสำหรับความเสี่ยงด้านตลาด"]
[]
[]
[null,null,"บริษัท",null,null,{"$f":"รายชื่อแบบฟอร์ม!C3","v":0}]
[null,null,"ณ วันที่",null,null,{"$f":"รายชื่อแบบฟอร์ม!C4","v":"00:00:00"}]
[]
[]
[null,"ตารางที่ 5.1 สรุปเงินกองทุนสำหรับความเสี่ยงด้านตลาด",null,null,null,null,null,null,"การคำนวณการกระจายความเสี่ยง"]
[null,"ลำดับที่","รายการ",null,null,null,"บาท",null,"การคำนวณความเสี่ยงด้านตลาด",null,"อัตราดอกเบี้ย","ตราสารทุน","ทรัพย์สิน","อัตราแลกเปลี่ยน"]
[null,1,"ความเสี่ยงจากราคาตราสารทุนและราคาสินค้าโภคภัณฑ์",null,null,null,{"$f":"SUM($G$11:$G$17)","v":0},null,"ค่าสหสัมพันธ์กับความเสี่ยงด้านตลาดจากความผันผวนของอัตราดอกเบี้ย",null,1,0.25,0.5,0.25]
[null,null,"(ก)","ตราสารทุนที่จดทะเบียนในตลาดหลักทรัพย์แห่งประเทศไทย และตลาดหลักทรัพย์ เอ็ม เอ ไอ",null,null,{"$f":"'แบบฟอร์มที่ 5 - 5.2-5.5'!$I$12","v":0},null,"ค่าสหสัมพันธ์กับความเสี่ยงด้านตลาดจากความผันผวนของราคาตราสารทุน",null,0.25,1,0.75,0.25]
[null,null,"(ข)","ตราสารทุนที่จดทะเบียนในตลาดหลักทรัพย์อื่น และอยู่ในดัชนีตลาดหลักทรัพย์ตามที่กำหนดไว้",null,null,{"$f":"'แบบฟอร์มที่ 5 - 5.2-5.5'!$I$13","v":0},null,"ค่าสหสัมพันธ์กับความเสี่ยงด้านตลาดจากความผันผวนของราคาทรัพย์สิน",null,0.5,0.75,1,0.25]
[null,null,"(ค)","ตราสารทุนที่จดทะเบียนในตลาดหลักทรัพย์อื่น แต่ไม่อยู่ในดัชนีตลาดหลักทรัพย์ตามที่กำหนดไว้ในตาราง",null,null,{"$f":"'แบบฟอร์มที่ 5 - 5.2-5.5'!$I$14","v":0},null,"ค่าสหสัมพันธ์กับความเสี่ยงด้านตลาดจากความผันผวนของอัตราแลกเปลี่ยน",null,0.25,0.25,0.25,1]
[null,null,"(ง)","Infrastructure fund,  REIT และ Property fund ในรูปแบบตราสารทุนที่จดทะเบียนกองทุนในประเทศไทยและลงทุนในประเทศไทย",null,null,{"$f":"'แบบฟอร์มที่ 5 - 5.2-5.5'!$I$15","v":0}]
[null,null,"(จ)","กองทุนรวมโครงสร้างพื้นฐานเพื่ออนาคตประเทศไทยที่มีวัตถุประสงค์การจัดตั้งตามมติคณะรัฐมนตรี เมื่อวันที่ 12 กรกฎาคม 2559",null,null,{"$f":"'แบบฟอร์มที่ 5 - 5.2-5.5'!$I$16","v":0}]
[null,null,"(ฉ)","ตราสารทุนของบริษัท ที.ไอ.ไอ. จำกัด ตราสารทุนของบริษัท ไทยอินชัวเรอส์ดาต้าเนท จำกัด ตราสารทุนของบริษัทที่ถือเพื่อปรับโครงสร้างหนี้ ตราสารทุนของบริษัทที่ถือเพื่อแก้ไขฐานะทางการเงินของบริษัทประกันชีวิตหรือบริษัทประกันวินาศภัยอื่น",null,null,{"$f":"'แบบฟอร์มที่ 5 - 5.2-5.5'!$I$17","v":0},null,"ตารางที่ 5.7 การคำนวณการกระจายความเสี่ยงภายในความเสี่ยงด้านตลาด ณ ระดับความเชื่อมั่นเปอร์เซ็นไทล์ที่ 95"]
[null,null,"(ช)","ตราสารทุนอื่น นอกเหนือจาก (ก) ถึง (ฉ) รวมถึงสินค้าโภคภัณฑ์",null,null,{"$f":"'แบบฟอร์มที่ 5 - 5.2-5.5'!$I$18","v":0},null,null,null,"อัตราดอกเบี้ย","ตราสารทุน","ทรัพย์สิน","อัตราแลกเปลี่ยน"]
[null,2,"ความเสี่ยงจากราคาอสังหาริมทรัพย์และทรัพย์สินดำเนินงาน",null,null,null,{"$f":"SUM($G$19:$G$20)","v":0},null,null,null,{"$f":"G21+G22","v":0},{"$f":"G10","v":0},{"$f":"G18","v":0},{"$f":"G23","v":0}]
[null,null,"(ก)","อสังหาริมทรัพย์ที่ใช้สำหรับประกอบธุรกิจ หรือเป็นสวัสดิการพนักงานหรือลูกจ้างของบริษัท ได้แก่ ที่ดิน อาคาร อาคารชุด",null,null,{"$f":"'แบบฟอร์มที่ 5 - 5.2-5.5'!$I$24","v":0},null,"อัตราดอกเบี้ย",{"$f":"G21+G22","v":0},{"$f":"$J19*K$18*K10","v":0},0,0,0]
[null,null,"(ข)","อสังหาริมทรัพย์อื่นนอกเหนือจาก (ก) และ ทรัพย์สินดำเนินงาน",null,null,{"$f":"'แบบฟอร์มที่ 5 - 5.2-5.5'!$I$25","v":0},null,"ตราสารทุน",{"$f":"G10","v":0},0,0,0,0]
[null,3,"ความเสี่ยงจากอัตราดอกเบี้ยด้านปัจจัยตลาดทั่วไป (General market risk) (ALM)",null,null,null,{"$f":"'แบบฟอร์มที่ 6'!$L$12","v":0},null,"ทรัพย์สิน",{"$f":"G18","v":0},0,0,0,0]
[null,4,"ความเสี่ยงจากอัตราดอกเบี้ยด้านปัจจัยเฉพาะของผู้ออกตราสาร (Specific risk)",null,null,null,{"$f":"'แบบฟอร์มที่ 5 - 5.2-5.5'!$I$281","v":0},null,"อัตราแลกเปลี่ยน",{"$f":"G23","v":0},0,0,0,0]
[null,5,"ความเสี่ยงจากอัตราแลกเปลี่ยน",null,null,null,{"$f":"'แบบฟอร์มที่ 5 - 5.2-5.5'!$I$1289","v":0},null,null,null,{"$f":"SUM(K$19:K$22)","v":0},{"$f":"SUM(L$19:L$22)","v":0},0,0,{"$f":"SUM($K$23:$N$23)","v":0}]
[null,6,"ความเสี่ยงจากราคาหน่วยลงทุน",null,null,null,{"$f":"'แบบฟอร์มที่ 5 - 5.6.1-5.6.3'!$J$6010+'แบบฟอร์มที่ 5 - 5.6.1-5.6.3'!$J$6324","v":0}]
[null,7,"รวมก่อนการกระจายความเสี่ยง",null,null,null,{"$f":"$G$10+$G$18+$G$21+$G$22+$G$23+$G$24","v":0},null,null,null,null,null,null,"SQRT=",{"$f":"SQRT($O$23)","v":0}]
[null,8,"ผลของการกระจายความเสี่ยง",null,null,null,{"$f":"ABS($G$27-$G$25)","v":0}]
[null,9,"รวมหลังการกระจายความเสี่ยง",null,null,null,{"$f":"$O$25+$G$24","v":0}]
[]
[]
[]
[]
[]
[]
[]
[]
[]
[]
[]
[]
[]
[]
[]
[]
[]
[]
[]
[]
[]
[]
[]
[]
[]
[]
[]
[]
[]
[]
[]
[]
[]
[]
[]
[]
[]
[]
[]
[]
[]
[]
[]
[null,null,null,null,null,null,null,null,null,null,null,null,null,null,null,null,null,{"$f":"SUM(#REF!)","v":{"$error":"#REF!"}}]
[]
[null,null,null,null,null,null,null,null,null,null,null,null,null,null,null,null,null,{"$f":"SQRT(R71)","v":{"$error":"#REF!"}}]

{"sheet":"แบบฟอร์มที่ 5 - 5.2-5.5","index":14,"n_rows":1289,"n_cols":9,"rows_kept":1289,"cut":false,"hidden":false,"merged":[[1286,2,1286,6],[1287,2,1287,7],[1288,2,1288,7],[338,2,338,3],[337,2,337,3],[336,2,336,3],[332,2,332,3],[331,2,331,3],[328,2,328,3],[327,2,327,3],[326,2,326,3],[318,2,318,3],[1281,2,1281,3],[1282,2,1282,3],[1283,2,1283,3],[1267,2,1267,3],[1268,2,1268,3],[1269,2,1269,3],[1270,2,1270,3],[1271,2,1271,3],[1254,2,1254,3],[1255,2,1255,3],[1256,2,1256,3],[1257,2,1257,3],[1258,2,1258,3],[1259,2,1259,3],[1260,2,1260,3],[1261,2,1261,3],[1262,2,1262,3],[1245,2,1245,3],[1284,2,1284,3],[1285,2,1285,3],[1272,2,1272,3],[1273,2,1273,3],[1274,2,1274,3],[1275,2,1275,3],[1276,2,1276,3],[1277,2,1277,3],[1278,2,1278,3],[1279,2,1279,3],[1280,2,1280,3],[1263,2,1263,3],[1264,2,1264,3],[1265,2,1265,3],[1266,2,1266,3],[1246,2,1246,3],[1247,2,1247,3],[1248,2,1248,3],[1249,2,1249,3],[1250,2,1250,3],[1251,2,1251,3],[1252,2,1252,3],[1253,2,1253,3],[228,1,263,1],[228,2,228,5],[229,2,233,2],[229,3,229,5],[234,2,238,2],[234,3,234,5],[239,2,243,2],[239,3,239,5],[244,2,248,2],[244,3,244,5],[249,2,253,2],[249,3,249,5],[254,2,258,2],[254,3,254,5],[259,2,263,2],[259,3,259,5],[280,2,280,5],[264,1,279,1],[264,2,264,5],[265,2,269,2],[265,3,265,5],[270,2,274,2],[270,3,270,5],[275,2,279,2],[275,3,275,5],[67,1,72,1],[67,2,67,5],[68,2,68,5],[73,1,83,1],[73,2,73,5],[74,2,78,2],[74,3,74,5],[79,2,83,2],[79,3,79,5],[69,2,69,5],[192,1,227,1],[192,2,192,5],[193,2,197,2],[193,3,193,5],[198,2,202,2],[203,2,207,2],[203,3,203,5],[208,2,212,2],[208,3,208,5],[213,2,217,2],[213,3,213,5],[218,2,222,2],[218,3,218,5],[223,2,227,2],[223,3,223,5],[156,1,191,1],[156,2,156,5],[157,2,161,2],[162,2,166,2],[162,3,162,5],[167,3,167,5],[172,2,176,2],[1236,2,1236,3],[1237,2,1237,3],[1238,2,1238,3],[1239,2,1239,3],[1240,2,1240,3],[1241,2,1241,3],[1242,2,1242,3],[1243,2,1243,3],[1244,2,1244,3],[1227,2,1227,3],[1228,2,1228,3],[1229,2,1229,3],[1230,2,1230,3],[1231,2,1231,3],[1232,2,1232,3],[1233,2,1233,3],[1234,2,1234,3],[1235,2,1235,3],[1218,2,1218,3],[1219,2,1219,3],[1220,2,1220,3],[1221,2,1221,3],[1222,2,1222,3],[1223,2,1223,3],[1224,2,1224,3],[1225,2,1225,3],[1226,2,1226,3],[1209,2,1209,3],[1210,2,1210,3],[1211,2,1211,3],[1212,2,1212,3],[1213,2,1213,3],[1214,2,1214,3],[1215,2,1215,3],[1216,2,1216,3],[1217,2,1217,3],[1200,2,1200,3],[1201,2,1201,3],[1202,2,1202,3],[1203,2,1203,3],[1204,2,1204,3],[1205,2,1205,3],[1206,2,1206,3],[1207,2,1207,3],[1208,2,1208,3],[1191,2,1191,3],[1192,2,1192,3],[1193,2,1193,3],[1194,2,1194,3],[1195,2,1195,3],[1196,2,1196,3],[1197,2,1197,3],[1198,2,1198,3],[1199,2,1199,3],[1182,2,1182,3],[1183,2,1183,3],[1184,2,1184,3],[1185,2,1185,3],[1186,2,1186,3],[1187,2,1187,3],[1188,2,1188,3],[1189,2,1189,3],[1190,2,1190,3],[1173,2,1173,3],[1174,2,1174,3],[1175,2,1175,3],[1176,2,1176,3],[1177,2,1177,3],[1178,2,1178,3],[1179,2,1179,3],[1180,2,1180,3],[1181,2,1181,3],[1164,2,1164,3],[1165,2,1165,3],[1166,2,1166,3],[1167,2,1167,3],[1168,2,1168,3],[1169,2,1169,3],[1170,2,1170,3],[1171,2,1171,3],[1172,2,1172,3],[1155,2,1155,3],[1156,2,1156,3],[1157,2,1157,3],[1158,2,1158,3],[1159,2,1159,3],[1160,2,1160,3],[1161,2,1161,3],[1162,2,1162,3],[1163,2,1163,3],[1146,2,1146,3],[1147,2,1147,3],[1148,2,1148,3],[1149,2,1149,3],[1150,2,1150,3],[1151,2,1151,3],[1152,2,1152,3],[1153,2,1153,3],[1154,2,1154,3],[1137,2,1137,3],[1138,2,1138,3],[1139,2,1139,3],[1140,2,1140,3],[1141,2,1141,3],[1142,2,1142,3],[1143,2,1143,3],[1144,2,1144,3],[1145,2,1145,3],[1128,2,1128,3],[1129,2,1129,3],[1130,2,1130,3],[1131,2,1131,3],[1132,2,1132,3],[1133,2,1133,3],[1134,2,1134,3],[1135,2,1135,3],[1136,2,1136,3],[1119,2,1119,3],[1120,2,1120,3],[1121,2,1121,3],[1122,2,1122,3],[1123,2,1123,3],[1124,2,1124,3],[1125,2,1125,3],[1126,2,1126,3],[1127,2,1127,3],[1110,2,1110,3],[1111,2,1111,3],[1112,2,1112,3],[1113,2,1113,3],[1114,2,1114,3],[1115,2,1115,3],[1116,2,1116,3],[1117,2,1117,3],[1118,2,1118,3],[1101,2,1101,3],[1102,2,1102,3],[1103,2,1103,3],[1104,2,1104,3],[1105,2,1105,3],[1106,2,1106,3],[1107,2,1107,3],[1108,2,1108,3],[1109,2,1109,3],[1092,2,1092,3],[1093,2,1093,3],[1094,2,1094,3],[1095,2,1095,3],[1096,2,1096,3],[1097,2,1097,3],[1098,2,1098,3],[1099,2,1099,3],[1100,2,1100,3],[1083,2,1083,3],[1084,2,1084,3],[1085,2,1085,3],[1086,2,1086,3],[1087,2,1087,3],[1088,2,1088,3],[1089,2,1089,3],[1090,2,1090,3],[1091,2,1091,3],[1074,2,1074,3],[1075,2,1075,3],[1076,2,1076,3],[1077,2,1077,3],[1078,2,1078,3],[1079,2,1079,3],[1080,2,1080,3],[1081,2,1081,3],[1082,2,1082,3],[1065,2,1065,3],[1066,2,1066,3],[1067,2,1067,3],[1068,2,1068,3],[1069,2,1069,3],[1070,2,1070,3],[1071,2,1071,3],[1072,2,1072,3],[1073,2,1073,3],[1056,2,1056,3],[1057,2,1057,3],[1058,2,1058,3],[1059,2,1059,3],[1060,2,1060,3],[1061,2,1061,3],[1062,2,1062,3],[1063,2,1063,3],[1064,2,1064,3],[1047,2,1047,3],[1048,2,1048,3],[1049,2,1049,3],[1050,2,1050,3],[1051,2,1051,3],[1052,2,1052,3],[1053,2,1053,3],[1054,2,1054,3],[1055,2,1055,3],[1038,2,1038,3],[1039,2,1039,3],[1040,2,1040,3],[1041,2,1041,3],[1042,2,1042,3],[1043,2,1043,3],[1044,2,1044,3],[1045,2,1045,3],[1046,2,1046,3],[1029,2,1029,3],[1030,2,1030,3],[1031,2,1031,3],[1032,2,1032,3],[1033,2,1033,3],[1034,2,1034,3],[1035,2,1035,3],[1036,2,1036,3],[1037,2,1037,3],[1020,2,1020,3],[1021,2,1021,3],[1022,2,1022,3],[1023,2,1023,3],[1024,2,1024,3],[1025,2,1025,3],[1026,2,1026,3],[1027,2,1027,3],[1028,2,1028,3],[1011,2,1011,3],[1012,2,1012,3],[1013,2,1013,3],[1014,2,1014,3],[1015,2,1015,3],[1016,2,1016,3],[1017,2,1017,3],[1018,2,1018,3],[1019,2,1019,3],[1002,2,1002,3],[1003,2,1003,3],[1004,2,1004,3],[1005,2,1005,3],[1006,2,1006,3],[1007,2,1007,3],[1008,2,1008,3],[1009,2,1009,3],[1010,2,1010,3],[993,2,993,3],[994,2,994,3],[995,2,995,3],[996,2,996,3],[997,2,997,3],[998,2,998,3],[999,2,999,3],[1000,2,1000,3],[1001,2,1001,3],[984,2,984,3],[985,2,985,3],[986,2,986,3],[987,2,987,3],[988,2,988,3],[989,2,989,3],[990,2,990,3],[991,2,991,3],[992,2,992,3],[975,2,975,3],[976,2,976,3],[977,2,977,3],[978,2,978,3],[979,2,979,3],[980,2,980,3],[981,2,981,3],[982,2,982,3],[983,2,983,3],[966,2,966,3],[967,2,967,3],[968,2,968,3],[969,2,969,3],[970,2,970,3],[971,2,971,3],[972,2,972,3],[973,2,973,3],[974,2,974,3],[957,2,957,3],[958,2,958,3],[959,2,959,3],[960,2,960,3],[961,2,961,3],[962,2,962,3],[963,2,963,3],[964,2,964,3],[965,2,965,3],[948,2,948,3],[949,2,949,3],[950,2,950,3],[951,2,951,3],[952,2,952,3],[953,2,953,3],[954,2,954,3],[955,2,955,3],[956,2,956,3],[939,2,939,3],[940,2,940,3],[941,2,941,3],[942,2,942,3],[943,2,943,3],[944,2,944,3],[945,2,945,3],[946,2,946,3],[947,2,947,3],[930,2,930,3],[931,2,931,3],[932,2,932,3],[933,2,933,3],[934,2,934,3],[935,2,935,3],[936,2,936,3],[937,2,937,3],[938,2,938,3],[921,2,921,3],[922,2,922,3],[923,2,923,3],[924,2,924,3],[925,2,925,3],[926,2,926,3],[927,2,927,3],[928,2,928,3],[929,2,929,3],[912,2,912,3],[913,2,913,3],[914,2,914,3],[915,2,915,3],[916,2,916,3],[917,2,917,3],[918,2,918,3],[919,2,919,3],[920,2,920,3],[903,2,903,3],[904,2,904,3],[905,2,905,3],[906,2,906,3],[907,2,907,3],[908,2,908,3],[909,2,909,3],[910,2,910,3],[911,2,911,3],[894,2,894,3],[895,2,895,3],[896,2,896,3],[897,2,897,3],[898,2,898,3],[899,2,899,3],[900,2,900,3],[901,2,901,3],[902,2,902,3],[885,2,885,3],[886,2,886,3],[887,2,887,3],[888,2,888,3],[889,2,889,3],[890,2,890,3],[891,2,891,3],[892,2,892,3],[893,2,893,3],[876,2,876,3],[877,2,877,3],[878,2,878,3],[879,2,879,3],[880,2,880,3],[881,2,881,3],[882,2,882,3],[883,2,883,3],[884,2,884,3],[867,2,867,3],[868,2,868,3],[869,2,869,3],[870,2,870,3],[871,2,871,3],[872,2,872,3],[873,2,873,3],[874,2,874,3],[875,2,875,3],[858,2,858,3],[859,2,859,3],[860,2,860,3],[861,2,861,3],[862,2,862,3],[863,2,863,3],[864,2,864,3],[865,2,865,3],[866,2,866,3],[849,2,849,3],[850,2,850,3],[851,2,851,3],[852,2,852,3],[853,2,853,3],[854,2,854,3],[855,2,855,3],[856,2,856,3],[857,2,857,3],[840,2,840,3],[841,2,841,3],[842,2,842,3],[843,2,843,3],[844,2,844,3],[845,2,845,3],[846,2,846,3],[847,2,847,3],[848,2,848,3],[831,2,831,3],[832,2,832,3],[833,2,833,3],[834,2,834,3],[835,2,835,3],[836,2,836,3],[837,2,837,3],[838,2,838,3],[839,2,839,3],[822,2,822,3],[823,2,823,3],[824,2,824,3],[825,2,825,3],[826,2,826,3],[827,2,827,3],[828,2,828,3],[829,2,829,3],[830,2,830,3],[813,2,813,3],[814,2,814,3],[815,2,815,3],[816,2,816,3],[817,2,817,3],[818,2,818,3],[819,2,819,3],[820,2,820,3],[821,2,821,3],[804,2,804,3],[805,2,805,3],[806,2,806,3],[807,2,807,3],[808,2,808,3],[809,2,809,3],[810,2,810,3],[811,2,811,3],[812,2,812,3],[795,2,795,3],[796,2,796,3],[797,2,797,3],[798,2,798,3],[799,2,799,3],[800,2,800,3],[801,2,801,3],[802,2,802,3],[803,2,803,3],[786,2,786,3],[787,2,787,3],[788,2,788,3],[789,2,789,3],[790,2,790,3],[791,2,791,3],[792,2,792,3],[793,2,793,3],[794,2,794,3],[777,2,777,3],[778,2,778,3],[779,2,779,3],[780,2,780,3],[781,2,781,3],[782,2,782,3],[783,2,783,3],[784,2,784,3],[785,2,785,3],[768,2,768,3],[769,2,769,3],[770,2,770,3],[771,2,771,3],[772,2,772,3],[773,2,773,3],[774,2,774,3],[775,2,775,3],[776,2,776,3],[759,2,759,3],[760,2,760,3],[761,2,761,3],[762,2,762,3],[763,2,763,3],[764,2,764,3],[765,2,765,3],[766,2,766,3],[767,2,767,3],[750,2,750,3],[751,2,751,3],[752,2,752,3],[753,2,753,3],[754,2,754,3],[755,2,755,3],[756,2,756,3],[757,2,757,3],[758,2,758,3],[741,2,741,3],[742,2,742,3],[743,2,743,3],[744,2,744,3],[745,2,745,3],[746,2,746,3],[747,2,747,3],[748,2,748,3],[749,2,749,3],[732,2,732,3],[733,2,733,3],[734,2,734,3],[735,2,735,3],[736,2,736,3],[737,2,737,3],[738,2,738,3],[739,2,739,3],[740,2,740,3],[723,2,723,3],[724,2,724,3],[725,2,725,3],[726,2,726,3],[727,2,727,3],[728,2,728,3],[729,2,729,3],[730,2,730,3],[731,2,731,3],[714,2,714,3],[715,2,715,3],[716,2,716,3],[717,2,717,3],[718,2,718,3],[719,2,719,3],[720,2,720,3],[721,2,721,3],[722,2,722,3],[705,2,705,3],[706,2,706,3],[707,2,707,3],[708,2,708,3],[709,2,709,3],[710,2,710,3],[711,2,711,3],[712,2,712,3],[713,2,713,3],[696,2,696,3],[697,2,697,3],[698,2,698,3],[699,2,699,3],[700,2,700,3],[701,2,701,3],[702,2,702,3],[703,2,703,3],[704,2,704,3],[687,2,687,3],[688,2,688,3],[689,2,689,3],[690,2,690,3],[691,2,691,3],[692,2,692,3],[693,2,693,3],[694,2,694,3],[695,2,695,3],[678,2,678,3],[679,2,679,3],[680,2,680,3],[681,2,681,3],[682,2,682,3],[683,2,683,3],[684,2,684,3],[685,2,685,3],[686,2,686,3],[669,2,669,3],[670,2,670,3],[671,2,671,3],[672,2,672,3],[673,2,673,3],[674,2,674,3],[675,2,675,3],[676,2,676,3],[677,2,677,3],[660,2,660,3],[661,2,661,3],[662,2,662,3],[663,2,663,3],[664,2,664,3],[665,2,665,3],[666,2,666,3],[667,2,667,3],[668,2,668,3],[651,2,651,3],[652,2,652,3],[653,2,653,3],[654,2,654,3],[655,2,655,3],[656,2,656,3],[657,2,657,3],[658,2,658,3],[659,2,659,3],[642,2,642,3],[643,2,643,3],[644,2,644,3],[645,2,645,3],[646,2,646,3],[647,2,647,3],[648,2,648,3],[649,2,649,3],[650,2,650,3],[633,2,633,3],[634,2,634,3],[635,2,635,3],[636,2,636,3],[637,2,637,3],[638,2,638,3],[639,2,639,3],[640,2,640,3],[641,2,641,3],[624,2,624,3],[625,2,625,3],[626,2,626,3],[627,2,627,3],[628,2,628,3],[629,2,629,3],[630,2,630,3],[631,2,631,3],[632,2,632,3],[615,2,615,3],[616,2,616,3],[617,2,617,3],[618,2,618,3],[619,2,619,3],[620,2,620,3],[621,2,621,3],[622,2,622,3],[623,2,623,3],[606,2,606,3],[607,2,607,3],[608,2,608,3],[609,2,609,3],[610,2,610,3],[611,2,611,3],[612,2,612,3],[613,2,613,3],[614,2,614,3],[597,2,597,3],[598,2,598,3],[599,2,599,3],[600,2,600,3],[601,2,601,3],[602,2,602,3],[603,2,603,3],[604,2,604,3],[605,2,605,3],[588,2,588,3],[589,2,589,3],[590,2,590,3],[591,2,591,3],[592,2,592,3],[593,2,593,3],[594,2,594,3],[595,2,595,3],[596,2,596,3],[579,2,579,3],[580,2,580,3],[581,2,581,3],[582,2,582,3],[583,2,583,3],[584,2,584,3],[585,2,585,3],[586,2,586,3],[587,2,587,3],[570,2,570,3],[571,2,571,3],[572,2,572,3],[573,2,573,3],[574,2,574,3],[575,2,575,3],[576,2,576,3],[577,2,577,3],[578,2,578,3],[561,2,561,3],[562,2,562,3],[563,2,563,3],[564,2,564,3],[565,2,565,3],[566,2,566,3],[567,2,567,3],[568,2,568,3],[569,2,569,3],[552,2,552,3],[553,2,553,3],[554,2,554,3],[555,2,555,3],[556,2,556,3],[557,2,557,3],[558,2,558,3],[559,2,559,3],[560,2,560,3],[543,2,543,3],[544,2,544,3],[545,2,545,3],[546,2,546,3],[547,2,547,3],[548,2,548,3],[549,2,549,3],[550,2,550,3],[551,2,551,3],[534,2,534,3],[535,2,535,3],[536,2,536,3],[537,2,537,3],[538,2,538,3],[539,2,539,3],[540,2,540,3],[541,2,541,3],[542,2,542,3],[525,2,525,3],[526,2,526,3],[527,2,527,3],[528,2,528,3],[529,2,529,3],[530,2,530,3],[531,2,531,3],[532,2,532,3],[533,2,533,3],[516,2,516,3],[517,2,517,3],[518,2,518,3],[519,2,519,3],[520,2,520,3],[521,2,521,3],[522,2,522,3],[523,2,523,3],[524,2,524,3],[507,2,507,3],[508,2,508,3],[509,2,509,3],[510,2,510,3],[511,2,511,3],[512,2,512,3],[513,2,513,3],[514,2,514,3],[515,2,515,3],[498,2,498,3],[499,2,499,3],[500,2,500,3],[501,2,501,3],[502,2,502,3],[503,2,503,3],[504,2,504,3],[505,2,505,3],[506,2,506,3],[489,2,489,3],[490,2,490,3],[491,2,491,3],[492,2,492,3],[493,2,493,3],[494,2,494,3],[495,2,495,3],[496,2,496,3],[497,2,497,3],[480,2,480,3],[481,2,481,3],[482,2,482,3],[483,2,483,3],[484,2,484,3],[485,2,485,3],[486,2,486,3],[487,2,487,3],[488,2,488,3],[471,2,471,3],[472,2,472,3],[473,2,473,3],[474,2,474,3],[475,2,475,3],[476,2,476,3],[477,2,477,3],[478,2,478,3],[479,2,479,3],[462,2,462,3],[463,2,463,3],[464,2,464,3],[465,2,465,3],[466,2,466,3],[467,2,467,3],[468,2,468,3],[469,2,469,3],[470,2,470,3],[453,2,453,3],[454,2,454,3],[455,2,455,3],[456,2,456,3],[457,2,457,3],[458,2,458,3],[459,2,459,3],[460,2,460,3],[461,2,461,3],[444,2,444,3],[445,2,445,3],[446,2,446,3],[447,2,447,3],[448,2,448,3],[449,2,449,3],[450,2,450,3],[451,2,451,3],[452,2,452,3],[435,2,435,3],[436,2,436,3],[437,2,437,3],[438,2,438,3],[439,2,439,3],[440,2,440,3],[441,2,441,3],[442,2,442,3],[443,2,443,3],[426,2,426,3],[427,2,427,3],[428,2,428,3],[429,2,429,3],[430,2,430,3],[431,2,431,3],[432,2,432,3],[433,2,433,3],[434,2,434,3],[417,2,417,3],[418,2,418,3],[419,2,419,3],[420,2,420,3],[421,2,421,3],[422,2,422,3],[423,2,423,3],[424,2,424,3],[425,2,425,3],[408,2,408,3],[409,2,409,3],[410,2,410,3],[411,2,411,3],[412,2,412,3],[413,2,413,3],[414,2,414,3],[415,2,415,3],[416,2,416,3],[399,2,399,3],[400,2,400,3],[401,2,401,3],[402,2,402,3],[403,2,403,3],[404,2,404,3],[405,2,405,3],[406,2,406,3],[407,2,407,3],[390,2,390,3],[391,2,391,3],[392,2,392,3],[393,2,393,3],[394,2,394,3],[395,2,395,3],[396,2,396,3],[397,2,397,3],[398,2,398,3],[381,2,381,3],[382,2,382,3],[383,2,383,3],[384,2,384,3],[385,2,385,3],[386,2,386,3],[387,2,387,3],[388,2,388,3],[389,2,389,3],[357,2,357,3],[358,2,358,3],[359,2,359,3],[360,2,360,3],[361,2,361,3],[362,2,362,3],[345,2,345,3],[346,2,346,3],[347,2,347,3],[348,2,348,3],[349,2,349,3],[350,2,350,3],[351,2,351,3],[352,2,352,3],[353,2,353,3],[380,2,380,3],[377,2,377,3],[378,2,378,3],[379,2,379,3],[364,2,364,3],[363,2,363,3],[356,2,356,3],[355,2,355,3],[354,2,354,3],[365,2,365,3],[366,2,366,3]],"merged_total":1136,"flags":["merged_cut"]}
["แบบฟอร์มที่ 5 การคำนวณเงินกองทุนสำหรับความเสี่ยงด้านตลาด"]
[]
[]
[]
[null,null,"บริษัท",null,null,{"$f":"รายชื่อแบบฟอร์ม!C3","v":0}]
[null,null,"ณ วันที่",null,null,{"$f":"รายชื่อแบบฟอร์ม!C4","v":"00:00:00"}]
[]
[]
[]
[null,"ตารางที่ 5.2 เงินกองทุนสำหรับความเสี่ยงด้านตลาดจากราคาตราสารทุนและราคาสินค้าโภคภัณฑ์",null,null,null,null,null,null,"บาท"]
[null,"ลำดับที่","รายการ",null,null,null,"ความเสี่ยงภัยทั้งหมด \n (มูลค่าตามประกาศ คปภ. ว่าด้วยการประเมินราคาทรัพย์สินและหนี้สินของบริษัทประกันชีวิต)","ค่าความเสี่ยง","เงินกองทุนตามระดับความเสี่ยง"]
[null,"1","ตราสารทุนที่จดทะเบียนในตลาดหลักทรัพย์แห่งประเทศไทย และตลาดหลักทรัพย์ เอ็ม เอ ไอ",null,null,null,{"$f":"'แบบฟอร์มที่ 5 - 5.2.1-5.2.4'!$I231+'แบบฟอร์มที่ 5 - 5.2.1-5.2.4'!$G13","v":0},null,{"$f":"'แบบฟอร์มที่ 5 - 5.2.1-5.2.4'!$J$13","v":0}]
[null,"2","ตราสารทุนที่จดทะเบียนในตลาดหลักทรัพย์อื่น และอยู่ในดัชนีตลาดหลักทรัพย์ตามที่กำหนดไว้",null,null,null,{"$f":"'แบบฟอร์มที่ 5 - 5.2.1-5.2.4'!$I232+'แบบฟอร์มที่ 5 - 5.2.1-5.2.4'!$G14","v":0},null,{"$f":"'แบบฟอร์มที่ 5 - 5.2.1-5.2.4'!$J$14","v":0}]
[null,3,"ตราสารทุนที่จดทะเบียนในตลาดหลักทรัพย์อื่น แต่ไม่อยู่ในดัชนีตลาดหลักทรัพย์ตามที่กำหนดไว้ในตาราง",null,null,null,{"$f":"'แบบฟอร์มที่ 5 - 5.2.1-5.2.4'!$I233+'แบบฟอร์มที่ 5 - 5.2.1-5.2.4'!$G15","v":0},null,{"$f":"'แบบฟอร์มที่ 5 - 5.2.1-5.2.4'!$J$15","v":0}]
[null,4,"Infrastructure fund,  REIT และ Property fund ในรูปแบบตราสารทุนที่จดทะเบียนกองทุนในประเทศไทยและลงทุนในประเทศไทย",null,null,null,null,0.16,{"$f":"$G15*$H15","v":0}]
[null,5,"กองทุนรวมโครงสร้างพื้นฐานเพื่ออนาคตประเทศไทยที่มีวัตถุประสงค์การจัดตั้งตามมติคณะรัฐมนตรี เมื่อวันที่ 12 กรกฎาคม 2559",null,null,null,null,0.08,{"$f":"$G16*$H16","v":0}]
[null,6,"ตราสารทุนของบริษัท ที.ไอ.ไอ. จำกัด ตราสารทุนของบริษัท ไทยอินชัวเรอส์ดาต้าเนท จำกัด ตราสารทุนของบริษัทที่ถือเพื่อปรับโครงสร้างหนี้ ตราสารทุนของบริษัทที่ถือเพื่อแก้ไขฐานะทางการเงินของบริษัทประกันชีวิตหรือบริษัทประกันวินาศภัยอื่น",null,null,null,null,0.25,{"$f":"$G17*$H17","v":0}]
[null,7,"ตราสารทุนอื่น นอกเหนือจาก 1 ถึง 6 รวมถึงสินค้าโภคภัณฑ์",null,null,null,null,0.5,{"$f":"$G18*$H18","v":0}]
[null,8,"รวม",null,null,null,{"$f":"SUM($G$12:$G$18)","v":0},null,{"$f":"SUM($I$12:$I$18)","v":0}]
[]
[]
[null,"ตารางที่ 5.3 เงินกองทุนสำหรับความเสี่ยงด้านตลาดจากราคาอสังหาริมทรัพย์และทรัพย์สินดำเนินงาน",null,null,null,null,null,null,"บาท"]
[null,"ลำดับที่","รายการ",null,null,null,"ความเสี่ยงภัยทั้งหมด \n (มูลค่าตามประกาศ คปภ. ว่าด้วยการประเมินราคาทรัพย์สินและหนี้สินของบริษัทประกันชีวิต)","ค่าความเสี่ยง","เงินกองทุนตามระดับความเสี่ยง"]
[null,"1","อสังหาริมทรัพย์ที่ใช้สำหรับประกอบธุรกิจ หรือเป็นสวัสดิการพนักงานหรือลูกจ้างของบริษัท ได้แก่ ที่ดิน อาคาร อาคารชุด",null,null,null,null,9.5000000000000001E-2,{"$f":"$G24*H24","v":0}]
[null,2,"อสังหาริมทรัพย์อื่นนอกเหนือจาก 1 และ ทรัพย์สินดำเนินงาน ได้แก่ ยานพาหนะ เครื่องใช้สำนักงาน และเครื่องสมองกล",null,null,null,null,0.19,{"$f":"$G25*H25","v":0}]
[null,3,"รวม",null,null,null,{"$f":"SUM(G24:G25)","v":0},null,{"$f":"SUM($I$24:$I$25)","v":0}]
[]
[]
[null,"ตารางที่ 5.4 เงินกองทุนสำหรับความเสี่ยงจากอัตราดอกเบี้ยด้านปัจจัยเฉพาะของผู้ออกตราสาร (Specific risk)",null,null,null,null,null,null,"บาท"]
[null,"ลำดับที่","รายการ",null,null,null,"ความเสี่ยงภัยทั้งหมด \n (มูลค่าตามประกาศ คปภ. ว่าด้วยการประเมินราคาทรัพย์สินและหนี้สินของบริษัทประกันชีวิต)","ค่าความเสี่ยง","เงินกองทุนตามระดับความเสี่ยง"]
[null,"1","ออก สั่งจ่าย รับรอง รับอาวัล หรือค้ำประกัน โดยรัฐบาลไทย ธนาคารแห่งประเทศไทย กระทรวงการคลังไทย หรือกองทุนเพื่อการฟื้นฟูและพัฒนาระบบสถาบันการเงินไทย ที่เป็นสกุลเงินบาท",null,null,null,null,0,{"$f":"G31*H31","v":0}]
[null,"2","ออกโดยรัฐบาลต่างประเทศ ธนาคารกลางต่างประเทศ และกระทรวงการคลังต่างประเทศ ในสกุลเงินใดๆ"]
[null,null,"2.1 ระดับความเสี่ยง 1","ระยะเวลาคงเหลือไม่เกิน 6 เดือน",null,null,null,3.0000000000000001E-3,{"$f":"H33*G33","v":0}]
[null,null,null,"ระยะเวลาคงเหลือเกิน 6 เดือน แต่ไม่เกิน 1 ปี",null,null,null,6.4999999999999997E-3,{"$f":"H34*G34","v":0}]
[null,null,null,"ระยะเวลาคงเหลือเกิน 1 ปี แต่ไม่เกิน 3 ปี",null,null,null,1.2999999999999999E-2,0]
[null,null,null,"ระยะเวลาคงเหลือเกิน 3 ปี แต่ไม่เกิน 5 ปี",null,null,null,2.5499999999999998E-2,0]
[null,null,null,"ระยะเวลาคงเหลือเกิน 5 ปี ขึ้นไป",null,null,null,3.6999999999999998E-2,0]
[null,null,"2.2 ระดับความเสี่ยง 2","ระยะเวลาคงเหลือไม่เกิน 6 เดือน",null,null,null,3.5000000000000001E-3,0]
[null,null,null,"ระยะเวลาคงเหลือเกิน 6 เดือน แต่ไม่เกิน 1 ปี",null,null,null,7.0000000000000001E-3,0]
[null,null,null,"ระยะเวลาคงเหลือเกิน 1 ปี แต่ไม่เกิน 3 ปี",null,null,null,1.4999999999999999E-2,0]
[null,null,null,"ระยะเวลาคงเหลือเกิน 3 ปี แต่ไม่เกิน 5 ปี",null,null,null,2.7E-2,0]
[null,null,null,"ระยะเวลาคงเหลือเกิน 5 ปี ขึ้นไป",null,null,null,0.04,0]
[null,null,"2.3 ระดับความเสี่ยง 3","ระยะเวลาคงเหลือไม่เกิน 6 เดือน",null,null,null,4.0000000000000001E-3,0]
[null,null,null,"ระยะเวลาคงเหลือเกิน 6 เดือน แต่ไม่เกิน 1 ปี",null,null,null,7.4999999999999997E-3,0]
[null,null,null,"ระยะเวลาคงเหลือเกิน 1 ปี แต่ไม่เกิน 3 ปี",null,null,null,1.7500000000000002E-2,0]
[null,null,null,"ระยะเวลาคงเหลือเกิน 3 ปี แต่ไม่เกิน 5 ปี",null,null,null,3.6999999999999998E-2,0]
[null,null,null,"ระยะเวลาคงเหลือเกิน 5 ปี ขึ้นไป",null,null,null,5.45E-2,0]
[null,null,"2.4 ระดับความเสี่ยง 4","ระยะเวลาคงเหลือไม่เกิน 6 เดือน",null,null,null,4.4999999999999997E-3,0]
[null,null,null,"ระยะเวลาคงเหลือเกิน 6 เดือน แต่ไม่เกิน 1 ปี",null,null,null,8.0000000000000002E-3,0]
[null,null,null,"ระยะเวลาคงเหลือเกิน 1 ปี แต่ไม่เกิน 3 ปี",null,null,null,0.02,0]
[null,null,null,"ระยะเวลาคงเหลือเกิน 3 ปี แต่ไม่เกิน 5 ปี",null,null,null,4.7500000000000001E-2,0]
[null,null,null,"ระยะเวลาคงเหลือเกิน 5 ปี ขึ้นไป",null,null,null,7.2999999999999995E-2,0]
[null,null,"2.5 ระดับความเสี่ยง 5","ระยะเวลาคงเหลือไม่เกิน 6 เดือน",null,null,null,1.8499999999999999E-2,0]
[null,null,null,"ระยะเวลาคงเหลือเกิน 6 เดือน แต่ไม่เกิน 1 ปี",null,null,null,3.6499999999999998E-2,0]
[null,null,null,"ระยะเวลาคงเหลือเกิน 1 ปี แต่ไม่เกิน 3 ปี",null,null,null,0.106,0]
[null,null,null,"ระยะเวลาคงเหลือเกิน 3 ปี แต่ไม่เกิน 5 ปี",null,null,null,0.17050000000000001,0]
[null,null,null,"ระยะเวลาคงเหลือเกิน 5 ปี ขึ้นไป",null,null,null,0.28699999999999998,0]
[null,null,"2.6 ระดับความเสี่ยง 6","ระยะเวลาคงเหลือไม่เกิน 6 เดือน",null,null,null,2.4500000000000001E-2,0]
[null,null,null,"ระยะเวลาคงเหลือเกิน 6 เดือน แต่ไม่เกิน 1 ปี",null,null,null,4.8000000000000001E-2,0]
[null,null,null,"ระยะเวลาคงเหลือเกิน 1 ปี แต่ไม่เกิน 3 ปี",null,null,null,0.13800000000000001,0]
[null,null,null,"ระยะเวลาคงเหลือเกิน 3 ปี แต่ไม่เกิน 5 ปี",null,null,null,0.2195,0]
[null,null,null,"ระยะเวลาคงเหลือเกิน 5 ปี ขึ้นไป",null,null,null,0.36899999999999999,0]
[null,null,"2.7 มิได้มีการจัดอันดับ","ระยะเวลาคงเหลือไม่เกิน 6 เดือน",null,null,null,2.4500000000000001E-2,0]
[null,null,null,"ระยะเวลาคงเหลือเกิน 6 เดือน แต่ไม่เกิน 1 ปี",null,null,null,4.8000000000000001E-2,0]
[null,null,null,"ระยะเวลาคงเหลือเกิน 1 ปี แต่ไม่เกิน 3 ปี",null,null,null,0.13800000000000001,0]
[null,null,null,"ระยะเวลาคงเหลือเกิน 3 ปี แต่ไม่เกิน 5 ปี",null,null,null,0.2195,0]
[null,null,null,"ระยะเวลาคงเหลือเกิน 5 ปี ขึ้นไป",null,null,null,0.36899999999999999,0]
[null,"3","ออกโดยรัฐวิสาหกิจไทยที่มีกฎหมายเฉพาะจัดตั้ง ที่กระทรวงการคลังไม่ค้ำประกัน และยังไม่ได้แปลงสภาพเป็นบริษัทจำกัด  และไม่มีอันดับความน่าเชื่อถือ ที่เป็นสกุลเงินบาท"]
[null,null,"ระยะเวลาคงเหลือไม่เกิน 6 เดือน",null,null,null,null,3.5000000000000001E-3,{"$f":"H69*G69","v":0}]
[null,null,"ระยะเวลาคงเหลือเกิน 6 เดือน แต่ไม่เกิน 1 ปี",null,null,null,null,7.0000000000000001E-3,{"$f":"H70*G70","v":0}]
[null,null,"ระยะเวลาคงเหลือเกิน 1 ปี แต่ไม่เกิน 3 ปี",null,null,null,null,1.4999999999999999E-2,0]
[null,null,"ระยะเวลาคงเหลือเกิน 3 ปี แต่ไม่เกิน 5 ปี",null,null,null,null,2.7E-2,0]
[null,null,"ระยะเวลาคงเหลือเกิน 5 ปี ขึ้นไป",null,null,null,null,0.04,0]
[null,"4","ออกโดยรัฐวิสาหกิจไทยที่มีกฎหมายเฉพาะจัดตั้ง ที่กระทรวงการคลังไม่ค้ำประกัน และยังไม่ได้แปลงสภาพเป็นบริษัทจำกัด  และมีอันดับความน่าเชื่อถือ ที่เป็นสกุลเงินบาท"]
[null,null,"4.1 ระดับความเสี่ยง 1","ระยะเวลาคงเหลือไม่เกิน 6 เดือน",null,null,null,3.0000000000000001E-3,{"$f":"H75*G75","v":0}]
[null,null,null,"ระยะเวลาคงเหลือเกิน 6 เดือน แต่ไม่เกิน 1 ปี",null,null,null,6.4999999999999997E-3,{"$f":"H76*G76","v":0}]
[null,null,null,"ระยะเวลาคงเหลือเกิน 1 ปี แต่ไม่เกิน 3 ปี",null,null,null,1.2999999999999999E-2,0]
[null,null,null,"ระยะเวลาคงเหลือเกิน 3 ปี แต่ไม่เกิน 5 ปี",null,null,null,2.5499999999999998E-2,0]
[null,null,null,"ระยะเวลาคงเหลือเกิน 5 ปี ขึ้นไป",null,null,null,3.6999999999999998E-2,0]
[null,null,"4.2 ระดับความเสี่ยง 2","ระยะเวลาคงเหลือไม่เกิน 6 เดือน",null,null,null,3.5000000000000001E-3,0]
[null,null,null,"ระยะเวลาคงเหลือเกิน 6 เดือน แต่ไม่เกิน 1 ปี",null,null,null,7.0000000000000001E-3,0]
[null,null,null,"ระยะเวลาคงเหลือเกิน 1 ปี แต่ไม่เกิน 3 ปี",null,null,null,1.4999999999999999E-2,0]
[null,null,null,"ระยะเวลาคงเหลือเกิน 3 ปี แต่ไม่เกิน 5 ปี",null,null,null,2.7E-2,0]
[null,null,null,"ระยะเวลาคงเหลือเกิน 5 ปี ขึ้นไป",null,null,null,0.04,0]
[null,"5","ออกโดยรัฐวิสาหกิจไทยที่แปลงสภาพเป็นบริษัทจำกัดไปแล้ว"]
[null,null,"5.1 ระดับความเสี่ยง 1","ระยะเวลาคงเหลือไม่เกิน 6 เดือน",null,null,null,3.0000000000000001E-3,0]
[null,null,null,"ระยะเวลาคงเหลือเกิน 6 เดือน แต่ไม่เกิน 1 ปี",null,null,null,6.4999999999999997E-3,0]
[null,null,null,"ระยะเวลาคงเหลือเกิน 1 ปี แต่ไม่เกิน 3 ปี",null,null,null,1.2999999999999999E-2,0]
[null,null,null,"ระยะเวลาคงเหลือเกิน 3 ปี แต่ไม่เกิน 5 ปี",null,null,null,2.5499999999999998E-2,0]
[null,null,null,"ระยะเวลาคงเหลือเกิน 5 ปี ขึ้นไป",null,null,null,3.6999999999999998E-2,0]
[null,null,"5.2 ระดับความเสี่ยง 2","ระยะเวลาคงเหลือไม่เกิน 6 เดือน",null,null,null,3.5000000000000001E-3,0]
[null,null,null,"ระยะเวลาคงเหลือเกิน 6 เดือน แต่ไม่เกิน 1 ปี",null,null,null,7.0000000000000001E-3,0]
[null,null,null,"ระยะเวลาคงเหลือเกิน 1 ปี แต่ไม่เกิน 3 ปี",null,null,null,1.4999999999999999E-2,0]
[null,null,null,"ระยะเวลาคงเหลือเกิน 3 ปี แต่ไม่เกิน 5 ปี",null,null,null,2.7E-2,0]
[null,null,null,"ระยะเวลาคงเหลือเกิน 5 ปี ขึ้นไป",null,null,null,0.04,0]
[null,null,"5.3 ระดับความเสี่ยง 3","ระยะเวลาคงเหลือไม่เกิน 6 เดือน",null,null,null,4.0000000000000001E-3,0]
[null,null,null,"ระยะเวลาคงเหลือเกิน 6 เดือน แต่ไม่เกิน 1 ปี",null,null,null,7.4999999999999997E-3,0]
[null,null,null,"ระยะเวลาคงเหลือเกิน 1 ปี แต่ไม่เกิน 3 ปี",null,null,null,1.7500000000000002E-2,0]
[null,null,null,"ระยะเวลาคงเหลือเกิน 3 ปี แต่ไม่เกิน 5 ปี",null,null,null,3.6999999999999998E-2,0]
[null,null,null,"ระยะเวลาคงเหลือเกิน 5 ปี ขึ้นไป",null,null,null,5.45E-2,0]
[null,null,"5.4 ระดับความเสี่ยง 4","ระยะเวลาคงเหลือไม่เกิน 6 เดือน",null,null,null,4.4999999999999997E-3,0]
[null,null,null,"ระยะเวลาคงเหลือเกิน 6 เดือน แต่ไม่เกิน 1 ปี",null,null,null,8.0000000000000002E-3,0]
[null,null,null,"ระยะเวลาคงเหลือเกิน 1 ปี แต่ไม่เกิน 3 ปี",null,null,null,0.02,0]
[null,null,null,"ระยะเวลาคงเหลือเกิน 3 ปี แต่ไม่เกิน 5 ปี",null,null,null,4.7500000000000001E-2,{"$f":"H104*G104","v":0}]
[null,null,null,"ระยะเวลาคงเหลือเกิน 5 ปี ขึ้นไป",null,null,null,7.2999999999999995E-2,0]
[null,null,"5.5 ระดับความเสี่ยง 5","ระยะเวลาคงเหลือไม่เกิน 6 เดือน",null,null,null,1.8499999999999999E-2,0]
[null,null,null,"ระยะเวลาคงเหลือเกิน 6 เดือน แต่ไม่เกิน 1 ปี",null,null,null,3.6499999999999998E-2,0]
[null,null,null,"ระยะเวลาคงเหลือเกิน 1 ปี แต่ไม่เกิน 3 ปี",null,null,null,0.106,0]
[null,null,null,"ระยะเวลาคงเหลือเกิน 3 ปี แต่ไม่เกิน 5 ปี",null,null,null,0.17050000000000001,0]
[null,null,null,"ระยะเวลาคงเหลือเกิน 5 ปี ขึ้นไป",null,null,null,0.28699999999999998,0]
[null,null,"5.6 ระดับความเสี่ยง 6","ระยะเวลาคงเหลือไม่เกิน 6 เดือน",null,null,null,2.4500000000000001E-2,0]
[null,null,null,"ระยะเวลาคงเหลือเกิน 6 เดือน แต่ไม่เกิน 1 ปี",null,null,null,4.8000000000000001E-2,0]
[null,null,null,"ระยะเวลาคงเหลือเกิน 1 ปี แต่ไม่เกิน 3 ปี",null,null,null,0.13800000000000001,0]
[null,null,null,"ระยะเวลาคงเหลือเกิน 3 ปี แต่ไม่เกิน 5 ปี",null,null,null,0.2195,0]
[null,null,null,"ระยะเวลาคงเหลือเกิน 5 ปี ขึ้นไป",null,null,null,0.36899999999999999,0]
[null,null,"5.7 มิได้มีการจัดอันดับ","ระยะเวลาคงเหลือไม่เกิน 6 เดือน",null,null,null,2.4500000000000001E-2,0]
[null,null,null,"ระยะเวลาคงเหลือเกิน 6 เดือน แต่ไม่เกิน 1 ปี",null,null,null,4.8000000000000001E-2,0]
[null,null,null,"ระยะเวลาคงเหลือเกิน 1 ปี แต่ไม่เกิน 3 ปี",null,null,null,0.13800000000000001,0]
[null,null,null,"ระยะเวลาคงเหลือเกิน 3 ปี แต่ไม่เกิน 5 ปี",null,null,null,0.2195,0]
[null,null,null,"ระยะเวลาคงเหลือเกิน 5 ปี ขึ้นไป",null,null,null,0.36899999999999999,0]
[null,6,"ออกโดยสถาบันการเงิน / บริษัทหลักทรัพย์ / บริษัทประกันภัย ในประเทศไทย"]
[null,null,"6.1 ระดับความเสี่ยง 1","ระยะเวลาคงเหลือไม่เกิน 6 เดือน",null,null,null,3.0000000000000001E-3,0]
[null,null,null,"ระยะเวลาคงเหลือเกิน 6 เดือน แต่ไม่เกิน 1 ปี",null,null,null,6.4999999999999997E-3,0]
[null,null,null,"ระยะเวลาคงเหลือเกิน 1 ปี แต่ไม่เกิน 3 ปี",null,null,null,1.2999999999999999E-2,0]
[null,null,null,"ระยะเวลาคงเหลือเกิน 3 ปี แต่ไม่เกิน 5 ปี",null,null,null,2.5499999999999998E-2,0]
[null,null,null,"ระยะเวลาคงเหลือเกิน 5 ปี ขึ้นไป",null,null,null,3.6999999999999998E-2,0]
[null,null,"6.2 ระดับความเสี่ยง 2","ระยะเวลาคงเหลือไม่เกิน 6 เดือน",null,null,null,3.5000000000000001E-3,0]
[null,null,null,"ระยะเวลาคงเหลือเกิน 6 เดือน แต่ไม่เกิน 1 ปี",null,null,null,7.0000000000000001E-3,0]
[null,null,null,"ระยะเวลาคงเหลือเกิน 1 ปี แต่ไม่เกิน 3 ปี",null,null,null,1.4999999999999999E-2,0]
[null,null,null,"ระยะเวลาคงเหลือเกิน 3 ปี แต่ไม่เกิน 5 ปี",null,null,null,2.7E-2,0]
[null,null,null,"ระยะเวลาคงเหลือเกิน 5 ปี ขึ้นไป",null,null,null,0.04,0]
[null,null,"6.3 ระดับความเสี่ยง 3","ระยะเวลาคงเหลือไม่เกิน 6 เดือน",null,null,null,4.0000000000000001E-3,0]
[null,null,null,"ระยะเวลาคงเหลือเกิน 6 เดือน แต่ไม่เกิน 1 ปี",null,null,null,7.4999999999999997E-3,0]
[null,null,null,"ระยะเวลาคงเหลือเกิน 1 ปี แต่ไม่เกิน 3 ปี",null,null,null,1.7500000000000002E-2,0]
[null,null,null,"ระยะเวลาคงเหลือเกิน 3 ปี แต่ไม่เกิน 5 ปี",null,null,null,3.6999999999999998E-2,0]
[null,null,null,"ระยะเวลาคงเหลือเกิน 5 ปี ขึ้นไป",null,null,null,5.45E-2,0]
[null,null,"6.4 ระดับความเสี่ยง 4","ระยะเวลาคงเหลือไม่เกิน 6 เดือน",null,null,null,4.4999999999999997E-3,0]
[null,null,null,"ระยะเวลาคงเหลือเกิน 6 เดือน แต่ไม่เกิน 1 ปี",null,null,null,8.0000000000000002E-3,0]
[null,null,null,"ระยะเวลาคงเหลือเกิน 1 ปี แต่ไม่เกิน 3 ปี",null,null,null,0.02,0]
[null,null,null,"ระยะเวลาคงเหลือเกิน 3 ปี แต่ไม่เกิน 5 ปี",null,null,null,4.7500000000000001E-2,0]
[null,null,null,"ระยะเวลาคงเหลือเกิน 5 ปี ขึ้นไป",null,null,null,7.2999999999999995E-2,0]
[null,null,"6.5 ระดับความเสี่ยง 5","ระยะเวลาคงเหลือไม่เกิน 6 เดือน",null,null,null,1.8499999999999999E-2,0]
[null,null,null,"ระยะเวลาคงเหลือเกิน 6 เดือน แต่ไม่เกิน 1 ปี",null,null,null,3.6499999999999998E-2,0]
[null,null,null,"ระยะเวลาคงเหลือเกิน 1 ปี แต่ไม่เกิน 3 ปี",null,null,null,0.106,0]
[null,null,null,"ระยะเวลาคงเหลือเกิน 3 ปี แต่ไม่เกิน 5 ปี",null,null,null,0.17050000000000001,0]
[null,null,null,"ระยะเวลาคงเหลือเกิน 5 ปี ขึ้นไป",null,null,null,0.28699999999999998,0]
[null,null,"6.6 ระดับความเสี่ยง 6","ระยะเวลาคงเหลือไม่เกิน 6 เดือน",null,null,null,2.4500000000000001E-2,0]
[null,null,null,"ระยะเวลาคงเหลือเกิน 6 เดือน แต่ไม่เกิน 1 ปี",null,null,null,4.8000000000000001E-2,0]
[null,null,null,"ระยะเวลาคงเหลือเกิน 1 ปี แต่ไม่เกิน 3 ปี",null,null,null,0.13800000000000001,0]
[null,null,null,"ระยะเวลาคงเหลือเกิน 3 ปี แต่ไม่เกิน 5 ปี",null,null,null,0.2195,0]
[null,null,null,"ระยะเวลาคงเหลือเกิน 5 ปี ขึ้นไป",null,null,null,0.36899999999999999,0]
[null,null,"6.7 มิได้มีการจัดอันดับ","ระยะเวลาคงเหลือไม่เกิน 6 เดือน",null,null,null,2.4500000000000001E-2,0]
[null,null,null,"ระยะเวลาคงเหลือเกิน 6 เดือน แต่ไม่เกิน 1 ปี",null,null,null,4.8000000000000001E-2,0]
[null,null,null,"ระยะเวลาคงเหลือเกิน 1 ปี แต่ไม่เกิน 3 ปี",null,null,null,0.13800000000000001,0]
[null,null,null,"ระยะเวลาคงเหลือเกิน 3 ปี แต่ไม่เกิน 5 ปี",null,null,null,0.2195,0]
[null,null,null,"ระยะเวลาคงเหลือเกิน 5 ปี ขึ้นไป",null,null,null,0.36899999999999999,0]
[null,"7","ออกโดยหน่วยงาน/บริษัทอื่น ในประเทศไทย นอกจาก 1-6"]
[null,null,"7.1 ระดับความเสี่ยง 1","ระยะเวลาคงเหลือไม่เกิน 6 เดือน",null,null,null,3.0000000000000001E-3,0]
[null,null,null,"ระยะเวลาคงเหลือเกิน 6 เดือน แต่ไม่เกิน 1 ปี",null,null,null,6.4999999999999997E-3,0]
[null,null,null,"ระยะเวลาคงเหลือเกิน 1 ปี แต่ไม่เกิน 3 ปี",null,null,null,1.2999999999999999E-2,0]
[null,null,null,"ระยะเวลาคงเหลือเกิน 3 ปี แต่ไม่เกิน 5 ปี",null,null,null,2.5499999999999998E-2,0]
[null,null,null,"ระยะเวลาคงเหลือเกิน 5 ปี ขึ้นไป",null,null,null,3.6999999999999998E-2,0]
[null,null,"7.2 ระดับความเสี่ยง 2","ระยะเวลาคงเหลือไม่เกิน 6 เดือน",null,null,null,3.5000000000000001E-3,0]
[null,null,null,"ระยะเวลาคงเหลือเกิน 6 เดือน แต่ไม่เกิน 1 ปี",null,null,null,7.0000000000000001E-3,0]
[null,null,null,"ระยะเวลาคงเหลือเกิน 1 ปี แต่ไม่เกิน 3 ปี",null,null,null,1.4999999999999999E-2,0]
[null,null,null,"ระยะเวลาคงเหลือเกิน 3 ปี แต่ไม่เกิน 5 ปี",null,null,null,2.7E-2,0]
[null,null,null,"ระยะเวลาคงเหลือเกิน 5 ปี ขึ้นไป",null,null,null,0.04,0]
[null,null,"7.3 ระดับความเสี่ยง 3","ระยะเวลาคงเหลือไม่เกิน 6 เดือน",null,null,null,4.0000000000000001E-3,{"$f":"H168*G168","v":0}]
[null,null,null,"ระยะเวลาคงเหลือเกิน 6 เดือน แต่ไม่เกิน 1 ปี",null,null,null,7.4999999999999997E-3,0]
[null,null,null,"ระยะเวลาคงเหลือเกิน 1 ปี แต่ไม่เกิน 3 ปี",null,null,null,1.7500000000000002E-2,0]
[null,null,null,"ระยะเวลาคงเหลือเกิน 3 ปี แต่ไม่เกิน 5 ปี",null,null,null,3.6999999999999998E-2,0]
[null,null,null,"ระยะเวลาคงเหลือเกิน 5 ปี ขึ้นไป",null,null,null,5.45E-2,0]
[null,null,"7.4 ระดับความเสี่ยง 4","ระยะเวลาคงเหลือไม่เกิน 6 เดือน",null,null,null,4.4999999999999997E-3,0]
[null,null,null,"ระยะเวลาคงเหลือเกิน 6 เดือน แต่ไม่เกิน 1 ปี",null,null,null,8.0000000000000002E-3,0]
[null,null,null,"ระยะเวลาคงเหลือเกิน 1 ปี แต่ไม่เกิน 3 ปี",null,null,null,0.02,0]
[null,null,null,"ระยะเวลาคงเหลือเกิน 3 ปี แต่ไม่เกิน 5 ปี",null,null,null,4.7500000000000001E-2,0]
[null,null,null,"ระยะเวลาคงเหลือเกิน 5 ปี ขึ้นไป",null,null,null,7.2999999999999995E-2,0]
[null,null,"7.5 ระดับความเสี่ยง 5","ระยะเวลาคงเหลือไม่เกิน 6 เดือน",null,null,null,1.8499999999999999E-2,0]
[null,null,null,"ระยะเวลาคงเหลือเกิน 6 เดือน แต่ไม่เกิน 1 ปี",null,null,null,3.6499999999999998E-2,0]
[null,null,null,"ระยะเวลาคงเหลือเกิน 1 ปี แต่ไม่เกิน 3 ปี",null,null,null,0.106,0]
[null,null,null,"ระยะเวลาคงเหลือเกิน 3 ปี แต่ไม่เกิน 5 ปี",null,null,null,0.17050000000000001,0]
[null,null,null,"ระยะเวลาคงเหลือเกิน 5 ปี ขึ้นไป",null,null,null,0.28699999999999998,0]
[null,null,"7.6 ระดับความเสี่ยง 6","ระยะเวลาคงเหลือไม่เกิน 6 เดือน",null,null,null,2.4500000000000001E-2,0]
[null,null,null,"ระยะเวลาคงเหลือเกิน 6 เดือน แต่ไม่เกิน 1 ปี",null,null,null,4.8000000000000001E-2,0]
[null,null,null,"ระยะเวลาคงเหลือเกิน 1 ปี แต่ไม่เกิน 3 ปี",null,null,null,0.13800000000000001,0]
[null,null,null,"ระยะเวลาคงเหลือเกิน 3 ปี แต่ไม่เกิน 5 ปี",null,null,null,0.2195,0]
[null,null,null,"ระยะเวลาคงเหลือเกิน 5 ปี ขึ้นไป",null,null,null,0.36899999999999999,0]
[null,null,"7.7 มิได้มีการจัดอันดับ","ระยะเวลาคงเหลือไม่เกิน 6 เดือน",null,null,null,2.4500000000000001E-2,0]
[null,null,null,"ระยะเวลาคงเหลือเกิน 6 เดือน แต่ไม่เกิน 1 ปี",null,null,null,4.8000000000000001E-2,0]
[null,null,null,"ระยะเวลาคงเหลือเกิน 1 ปี แต่ไม่เกิน 3 ปี",null,null,null,0.13800000000000001,0]
[null,null,null,"ระยะเวลาคงเหลือเกิน 3 ปี แต่ไม่เกิน 5 ปี",null,null,null,0.2195,0]
[null,null,null,"ระยะเวลาคงเหลือเกิน 5 ปี ขึ้นไป",null,null,null,0.36899999999999999,0]
[null,"8","ออกโดยรัฐวิสาหกิจต่างประเทศ"]
[null,null,"8.1 ระดับความเสี่ยง 1","ระยะเวลาคงเหลือไม่เกิน 6 เดือน",null,null,null,3.0000000000000001E-3,0]
[null,null,null,"ระยะเวลาคงเหลือเกิน 6 เดือน แต่ไม่เกิน 1 ปี",null,null,null,6.4999999999999997E-3,0]
[null,null,null,"ระยะเวลาคงเหลือเกิน 1 ปี แต่ไม่เกิน 3 ปี",null,null,null,1.2999999999999999E-2,0]
[null,null,null,"ระยะเวลาคงเหลือเกิน 3 ปี แต่ไม่เกิน 5 ปี",null,null,null,2.5499999999999998E-2,0]
[null,null,null,"ระยะเวลาคงเหลือเกิน 5 ปี ขึ้นไป",null,null,null,3.6999999999999998E-2,0]
[null,null,"8.2 ระดับความเสี่ยง 2","ระยะเวลาคงเหลือไม่เกิน 6 เดือน",null,null,null,3.5000000000000001E-3,0]
[null,null,null,"ระยะเวลาคงเหลือเกิน 6 เดือน แต่ไม่เกิน 1 ปี",null,null,null,7.0000000000000001E-3,0]
[null,null,null,"ระยะเวลาคงเหลือเกิน 1 ปี แต่ไม่เกิน 3 ปี",null,null,null,1.4999999999999999E-2,0]
[null,null,null,"ระยะเวลาคงเหลือเกิน 3 ปี แต่ไม่เกิน 5 ปี",null,null,null,2.7E-2,0]
[null,null,null,"ระยะเวลาคงเหลือเกิน 5 ปี ขึ้นไป",null,null,null,0.04,0]
[null,null,"8.3 ระดับความเสี่ยง 3","ระยะเวลาคงเหลือไม่เกิน 6 เดือน",null,null,null,4.0000000000000001E-3,0]
[null,null,null,"ระยะเวลาคงเหลือเกิน 6 เดือน แต่ไม่เกิน 1 ปี",null,null,null,7.4999999999999997E-3,0]
[null,null,null,"ระยะเวลาคงเหลือเกิน 1 ปี แต่ไม่เกิน 3 ปี",null,null,null,1.7500000000000002E-2,0]
[null,null,null,"ระยะเวลาคงเหลือเกิน 3 ปี แต่ไม่เกิน 5 ปี",null,null,null,3.6999999999999998E-2,0]
[null,null,null,"ระยะเวลาคงเหลือเกิน 5 ปี ขึ้นไป",null,null,null,5.45E-2,0]
[null,null,"8.4 ระดับความเสี่ยง 4","ระยะเวลาคงเหลือไม่เกิน 6 เดือน",null,null,null,4.4999999999999997E-3,0]
[null,null,null,"ระยะเวลาคงเหลือเกิน 6 เดือน แต่ไม่เกิน 1 ปี",null,null,null,8.0000000000000002E-3,0]
[null,null,null,"ระยะเวลาคงเหลือเกิน 1 ปี แต่ไม่เกิน 3 ปี",null,null,null,0.02,0]
[null,null,null,"ระยะเวลาคงเหลือเกิน 3 ปี แต่ไม่เกิน 5 ปี",null,null,null,4.7500000000000001E-2,0]
[null,null,null,"ระยะเวลาคงเหลือเกิน 5 ปี ขึ้นไป",null,null,null,7.2999999999999995E-2,0]
[null,null,"8.5 ระดับความเสี่ยง 5","ระยะเวลาคงเหลือไม่เกิน 6 เดือน",null,null,null,1.8499999999999999E-2,0]
[null,null,null,"ระยะเวลาคงเหลือเกิน 6 เดือน แต่ไม่เกิน 1 ปี",null,null,null,3.6499999999999998E-2,0]
[null,null,null,"ระยะเวลาคงเหลือเกิน 1 ปี แต่ไม่เกิน 3 ปี",null,null,null,0.106,0]
[null,null,null,"ระยะเวลาคงเหลือเกิน 3 ปี แต่ไม่เกิน 5 ปี",null,null,null,0.17050000000000001,0]
[null,null,null,"ระยะเวลาคงเหลือเกิน 5 ปี ขึ้นไป",null,null,null,0.28699999999999998,0]
[null,null,"8.6 ระดับความเสี่ยง 6","ระยะเวลาคงเหลือไม่เกิน 6 เดือน",null,null,null,2.4500000000000001E-2,0]
[null,null,null,"ระยะเวลาคงเหลือเกิน 6 เดือน แต่ไม่เกิน 1 ปี",null,null,null,4.8000000000000001E-2,0]
[null,null,null,"ระยะเวลาคงเหลือเกิน 1 ปี แต่ไม่เกิน 3 ปี",null,null,null,0.13800000000000001,0]
[null,null,null,"ระยะเวลาคงเหลือเกิน 3 ปี แต่ไม่เกิน 5 ปี",null,null,null,0.2195,0]
[null,null,null,"ระยะเวลาคงเหลือเกิน 5 ปี ขึ้นไป",null,null,null,0.36899999999999999,0]
[null,null,"8.7 มิได้มีการจัดอันดับ","ระยะเวลาคงเหลือไม่เกิน 6 เดือน",null,null,null,2.4500000000000001E-2,0]
[null,null,null,"ระยะเวลาคงเหลือเกิน 6 เดือน แต่ไม่เกิน 1 ปี",null,null,null,4.8000000000000001E-2,0]
[null,null,null,"ระยะเวลาคงเหลือเกิน 1 ปี แต่ไม่เกิน 3 ปี",null,null,null,0.13800000000000001,0]
[null,null,null,"ระยะเวลาคงเหลือเกิน 3 ปี แต่ไม่เกิน 5 ปี",null,null,null,0.2195,0]
[null,null,null,"ระยะเวลาคงเหลือเกิน 5 ปี ขึ้นไป",null,null,null,0.36899999999999999,0]
[null,"9","ออกโดยบริษัทเอกชนต่างประเทศ"]
[null,null,"9.1 ระดับความเสี่ยง 1","ระยะเวลาคงเหลือไม่เกิน 6 เดือน",null,null,null,3.0000000000000001E-3,0]
[null,null,null,"ระยะเวลาคงเหลือเกิน 6 เดือน แต่ไม่เกิน 1 ปี",null,null,null,6.4999999999999997E-3,0]
[null,null,null,"ระยะเวลาคงเหลือเกิน 1 ปี แต่ไม่เกิน 3 ปี",null,null,null,1.2999999999999999E-2,{"$f":"H232*G232","v":0}]
[null,null,null,"ระยะเวลาคงเหลือเกิน 3 ปี แต่ไม่เกิน 5 ปี",null,null,null,2.5499999999999998E-2,0]
[null,null,null,"ระยะเวลาคงเหลือเกิน 5 ปี ขึ้นไป",null,null,null,3.6999999999999998E-2,0]
[null,null,"9.2 ระดับความเสี่ยง 2","ระยะเวลาคงเหลือไม่เกิน 6 เดือน",null,null,null,3.5000000000000001E-3,0]
[null,null,null,"ระยะเวลาคงเหลือเกิน 6 เดือน แต่ไม่เกิน 1 ปี",null,null,null,7.0000000000000001E-3,0]
[null,null,null,"ระยะเวลาคงเหลือเกิน 1 ปี แต่ไม่เกิน 3 ปี",null,null,null,1.4999999999999999E-2,0]
[null,null,null,"ระยะเวลาคงเหลือเกิน 3 ปี แต่ไม่เกิน 5 ปี",null,null,null,2.7E-2,0]
[null,null,null,"ระยะเวลาคงเหลือเกิน 5 ปี ขึ้นไป",null,null,null,0.04,0]
[null,null,"9.3 ระดับความเสี่ยง 3","ระยะเวลาคงเหลือไม่เกิน 6 เดือน",null,null,null,4.0000000000000001E-3,0]
[null,null,null,"ระยะเวลาคงเหลือเกิน 6 เดือน แต่ไม่เกิน 1 ปี",null,null,null,7.4999999999999997E-3,0]
[null,null,null,"ระยะเวลาคงเหลือเกิน 1 ปี แต่ไม่เกิน 3 ปี",null,null,null,1.7500000000000002E-2,0]
[null,null,null,"ระยะเวลาคงเหลือเกิน 3 ปี แต่ไม่เกิน 5 ปี",null,null,null,3.6999999999999998E-2,{"$f":"H243*G243","v":0}]
[null,null,null,"ระยะเวลาคงเหลือเกิน 5 ปี ขึ้นไป",null,null,null,5.45E-2,{"$f":"H244*G244","v":0}]
[null,null,"9.4 ระดับความเสี่ยง 4","ระยะเวลาคงเหลือไม่เกิน 6 เดือน",null,null,null,4.4999999999999997E-3,0]
[null,null,null,"ระยะเวลาคงเหลือเกิน 6 เดือน แต่ไม่เกิน 1 ปี",null,null,null,8.0000000000000002E-3,0]
[null,null,null,"ระยะเวลาคงเหลือเกิน 1 ปี แต่ไม่เกิน 3 ปี",null,null,null,0.02,0]
[null,null,null,"ระยะเวลาคงเหลือเกิน 3 ปี แต่ไม่เกิน 5 ปี",null,null,null,4.7500000000000001E-2,0]
[null,null,null,"ระยะเวลาคงเหลือเกิน 5 ปี ขึ้นไป",null,null,null,7.2999999999999995E-2,0]
[null,null,"9.5 ระดับความเสี่ยง 5","ระยะเวลาคงเหลือไม่เกิน 6 เดือน",null,null,null,1.8499999999999999E-2,0]
[null,null,null,"ระยะเวลาคงเหลือเกิน 6 เดือน แต่ไม่เกิน 1 ปี",null,null,null,3.6499999999999998E-2,0]
[null,null,null,"ระยะเวลาคงเหลือเกิน 1 ปี แต่ไม่เกิน 3 ปี",null,null,null,0.106,0]
[null,null,null,"ระยะเวลาคงเหลือเกิน 3 ปี แต่ไม่เกิน 5 ปี",null,null,null,0.17050000000000001,0]
[null,null,null,"ระยะเวลาคงเหลือเกิน 5 ปี ขึ้นไป",null,null,null,0.28699999999999998,0]
[null,null,"9.6 ระดับความเสี่ยง 6","ระยะเวลาคงเหลือไม่เกิน 6 เดือน",null,null,null,2.4500000000000001E-2,0]
[null,null,null,"ระยะเวลาคงเหลือเกิน 6 เดือน แต่ไม่เกิน 1 ปี",null,null,null,4.8000000000000001E-2,0]
[null,null,null,"ระยะเวลาคงเหลือเกิน 1 ปี แต่ไม่เกิน 3 ปี",null,null,null,0.13800000000000001,0]
[null,null,null,"ระยะเวลาคงเหลือเกิน 3 ปี แต่ไม่เกิน 5 ปี",null,null,null,0.2195,0]
[null,null,null,"ระยะเวลาคงเหลือเกิน 5 ปี ขึ้นไป",null,null,null,0.36899999999999999,0]
[null,null,"9.7 มิได้มีการจัดอันดับ","ระยะเวลาคงเหลือไม่เกิน 6 เดือน",null,null,null,2.4500000000000001E-2,0]
[null,null,null,"ระยะเวลาคงเหลือเกิน 6 เดือน แต่ไม่เกิน 1 ปี",null,null,null,4.8000000000000001E-2,0]
[null,null,null,"ระยะเวลาคงเหลือเกิน 1 ปี แต่ไม่เกิน 3 ปี",null,null,null,0.13800000000000001,0]
[null,null,null,"ระยะเวลาคงเหลือเกิน 3 ปี แต่ไม่เกิน 5 ปี",null,null,null,0.2195,0]
[null,null,null,"ระยะเวลาคงเหลือเกิน 5 ปี ขึ้นไป",null,null,null,0.36899999999999999,0]
[null,"10","การลงทุนในตราสารหนี้ non-investment grade ที่ไม่เป็นไปตามประกาศ คปภ. ว่าด้วยการลงทุนประกอบธุรกิจอื่นของบริษัทประกันชีวิต"]
[null,null,"10.1 ระดับความเสี่ยง 5","ระยะเวลาคงเหลือไม่เกิน 6 เดือน",null,null,null,0.45,{"$f":"H266*G266","v":0}]
[null,null,null,"ระยะเวลาคงเหลือเกิน 6 เดือน แต่ไม่เกิน 1 ปี",null,null,null,0.45,{"$f":"H267*G267","v":0}]
[null,null,null,"ระยะเวลาคงเหลือเกิน 1 ปี แต่ไม่เกิน 3 ปี",null,null,null,0.45,0]
[null,null,null,"ระยะเวลาคงเหลือเกิน 3 ปี แต่ไม่เกิน 5 ปี",null,null,null,0.45,0]
[null,null,null,"ระยะเวลาคงเหลือเกิน 5 ปี ขึ้นไป",null,null,null,0.45,0]
[null,null,"10.2 ระดับความเสี่ยง 6","ระยะเวลาคงเหลือไม่เกิน 6 เดือน",null,null,null,0.68,0]
[null,null,null,"ระยะเวลาคงเหลือเกิน 6 เดือน แต่ไม่เกิน 1 ปี",null,null,null,0.68,0]
[null,null,null,"ระยะเวลาคงเหลือเกิน 1 ปี แต่ไม่เกิน 3 ปี",null,null,null,0.68,0]
[null,null,null,"ระยะเวลาคงเหลือเกิน 3 ปี แต่ไม่เกิน 5 ปี",null,null,null,0.68,0]
[null,null,null,"ระยะเวลาคงเหลือเกิน 5 ปี ขึ้นไป",null,null,null,0.68,0]
[null,null,"10.3 มิได้มีการจัดอันดับ","ระยะเวลาคงเหลือไม่เกิน 6 เดือน",null,null,null,0.68,0]
[null,null,null,"ระยะเวลาคงเหลือเกิน 6 เดือน แต่ไม่เกิน 1 ปี",null,null,null,0.68,0]
[null,null,null,"ระยะเวลาคงเหลือเกิน 1 ปี แต่ไม่เกิน 3 ปี",null,null,null,0.68,0]
[null,null,null,"ระยะเวลาคงเหลือเกิน 3 ปี แต่ไม่เกิน 5 ปี",null,null,null,0.68,0]
[null,null,null,"ระยะเวลาคงเหลือเกิน 5 ปี ขึ้นไป",null,null,null,0.68,{"$f":"H280*G280","v":0}]
[null,11,"รวม",null,null,null,{"$f":"SUM(G31:G280)","v":0},null,{"$f":"SUM(I31:I280)","v":0}]
[]
[]
[]
[null,"ตารางที่ 5.5 เงินกองทุนสำหรับความเสี่ยงด้านตลาดจากอัตราแลกเปลี่ยน"]
[null,"ลำดับที่","สกุลเงินตราต่างประเทศ (types of currency)",null,"สถานะสินทรัพย์สุทธิที่แสดงในงบดุล","สถานะหนี้สินสุทธิที่แสดงในงบดุล","สถานะซื้อขายล่วงหน้าสุทธิ","สถานะซื้อสุทธิ","สถานะขายสุทธิ"]
[null,1]
[null,2]
[null,3]
[null,4]
[null,5]
[null,6]
[null,7]
[null,8]
[null,9]
[null,10]
[null,11]
[null,12]
[null,13]
[null,14]
[null,15]
[null,16]
[null,17]
[null,18]
[null,19]
[null,20]
[null,21]
[null,22]
[null,23]
[null,24]
[null,25]
[null,26]
[null,27]
[null,28]
[null,29]
[null,30]
[null,31]
[null,32]
[null,33]
[null,34]
[null,35]
[null,36]
[null,37]
[null,38]
[null,39]
[null,40]
[null,41]
[null,42]
[null,43]
[null,44]
[null,45]
[null,46]
[null,47]
[null,48]
[null,49]
[null,50]
[null,51]
[null,52]
[null,53]
[null,54]
[null,55]
[null,56]
[null,57]
[null,58]
[null,59]
[null,60]
[null,61]
[null,62]
[null,63]
[null,64]
[null,65]
[null,66]
[null,67]
[null,68]
[null,69]
[null,70]
[null,71]
[null,72]
[null,73]
[null,74]
[null,75]
[null,76]
[null,77]
[null,78]
[null,79]
[null,80]
[null,81]
[null,82]
[null,83]
[null,84]
[null,85]
[null,86]
[null,87]
[null,88]
[null,89]
[null,90]
[null,91]
[null,92]
[null,93]
[null,94]
[null,95]
[null,96]
[null,97]
[null,98]
[null,99]
[null,100]
[null,101]
[null,102]
[null,103]
[null,104]
[null,105]
[null,106]
[null,107]
[null,108]
[null,109]
[null,110]
[null,111]
[null,112]
[null,113]
[null,114]
[null,115]
[null,116]
[null,117]
[null,118]
[null,119]
[null,120]
[null,121]
[null,122]
[null,123]
[null,124]
[null,125]
[null,126]
[null,127]
[null,128]
[null,129]
[null,130]
[null,131]
[null,132]
[null,133]
[null,134]
[null,135]
[null,136]
[null,137]
[null,138]
[null,139]
[null,140]
[null,141]
[null,142]
[null,143]
[null,144]
[null,145]
[null,146]
[null,147]
[null,148]
[null,149]
[null,150]
[null,151]
[null,152]
[null,153]
[null,154]
[null,155]
[null,156]
[null,157]
[null,158]
[null,159]
[null,160]
[null,161]
[null,162]
[null,163]
[null,164]
[null,165]
[null,166]
[null,167]
[null,168]
[null,169]
[null,170]
[null,171]
[null,172]
[null,173]
[null,174]
[null,175]
[null,176]
[null,177]
[null,178]
[null,179]
[null,180]
[null,181]
[null,182]
[null,183]
[null,184]
[null,185]
[null,186]
[null,187]
[null,188]
[null,189]
[null,190]
[null,191]
[null,192]
[null,193]
[null,194]
[null,195]
[null,196]
[null,197]
[null,198]
[null,199]
[null,200]
[null,201]
[null,202]
[null,203]
[null,204]
[null,205]
[null,206]
[null,207]
[null,208]
[null,209]
[null,210]
[null,211]
[null,212]
[null,213]
[null,214]
[null,215]
[null,216]
[null,217]
[null,218]
[null,219]
[null,220]
[null,221]
[null,222]
[null,223]
[null,224]
[null,225]
[null,226]
[null,227]
[null,228]
[null,229]
[null,230]
[null,231]
[null,232]
[null,233]
[null,234]
[null,235]
[null,236]
[null,237]
[null,238]
[null,239]
[null,240]
[null,241]
[null,242]
[null,243]
[null,244]
[null,245]
[null,246]
[null,247]
[null,248]
[null,249]
[null,250]
[null,251]
[null,252]
[null,253]
[null,254]
[null,255]
[null,256]
[null,257]
[null,258]
[null,259]
[null,260]
[null,261]
[null,262]
[null,263]
[null,264]
[null,265]
[null,266]
[null,267]
[null,268]
[null,269]
[null,270]
[null,271]
[null,272]
[null,273]
[null,274]
[null,275]
[null,276]
[null,277]
[null,278]
[null,279]
[null,280]
[null,281]
[null,282]
[null,283]
[null,284]
[null,285]
[null,286]
[null,287]
[null,288]
[null,289]
[null,290]
[null,291]
[null,292]
[null,293]
[null,294]
[null,295]
[null,296]
[null,297]
[null,298]
[null,299]
[null,300]
[null,301]
[null,302]
[null,303]
[null,304]
[null,305]
[null,306]
[null,307]
[null,308]
[null,309]
[null,310]
[null,311]
[null,312]
[null,313]
[null,314]
[null,315]
[null,316]
[null,317]
[null,318]
[null,319]
[null,320]
[null,321]
[null,322]
[null,323]
[null,324]
[null,325]
[null,326]
[null,327]
[null,328]
[null,329]
[null,330]
[null,331]
[null,332]
[null,333]
[null,334]
[null,335]
[null,336]
[null,337]
[null,338]
[null,339]
[null,340]
[null,341]
[null,342]
[null,343]
[null,344]
[null,345]
[null,346]
[null,347]
[null,348]
[null,349]
[null,350]
[null,351]
[null,352]
[null,353]
[null,354]
[null,355]
[null,356]
[null,357]
[null,358]
[null,359]
[null,360]
[null,361]
[null,362]
[null,363]
[null,364]
[null,365]
[null,366]
[null,367]
[null,368]
[null,369]
[null,370]
[null,371]
[null,372]
[null,373]
[null,374]
[null,375]
[null,376]
[null,377]
[null,378]
[null,379]
[null,380]
[null,381]
[null,382]
[null,383]
[null,384]
[null,385]
[null,386]
[null,387]
[null,388]
[null,389]
[null,390]
[null,391]
[null,392]
[null,393]
[null,394]
[null,395]
[null,396]
[null,397]
[null,398]
[null,399]
[null,400]
[null,401]
[null,402]
[null,403]
[null,404]
[null,405]
[null,406]
[null,407]
[null,408]
[null,409]
[null,410]
[null,411]
[null,412]
[null,413]
[null,414]
[null,415]
[null,416]
[null,417]
[null,418]
[null,419]
[null,420]
[null,421]
[null,422]
[null,423]
[null,424]
[null,425]
[null,426]
[null,427]
[null,428]
[null,429]
[null,430]
[null,431]
[null,432]
[null,433]
[null,434]
[null,435]
[null,436]
[null,437]
[null,438]
[null,439]
[null,440]
[null,441]
[null,442]
[null,443]
[null,444]
[null,445]
[null,446]
[null,447]
[null,448]
[null,449]
[null,450]
[null,451]
[null,452]
[null,453]
[null,454]
[null,455]
[null,456]
[null,457]
[null,458]
[null,459]
[null,460]
[null,461]
[null,462]
[null,463]
[null,464]
[null,465]
[null,466]
[null,467]
[null,468]
[null,469]
[null,470]
[null,471]
[null,472]
[null,473]
[null,474]
[null,475]
[null,476]
[null,477]
[null,478]
[null,479]
[null,480]
[null,481]
[null,482]
[null,483]
[null,484]
[null,485]
[null,486]
[null,487]
[null,488]
[null,489]
[null,490]
[null,491]
[null,492]
[null,493]
[null,494]
[null,495]
[null,496]
[null,497]
[null,498]
[null,499]
[null,500]
[null,501]
[null,502]
[null,503]
[null,504]
[null,505]
[null,506]
[null,507]
[null,508]
[null,509]
[null,510]
[null,511]
[null,512]
[null,513]
[null,514]
[null,515]
[null,516]
[null,517]
[null,518]
[null,519]
[null,520]
[null,521]
[null,522]
[null,523]
[null,524]
[null,525]
[null,526]
[null,527]
[null,528]
[null,529]
[null,530]
[null,531]
[null,532]
[null,533]
[null,534]
[null,535]
[null,536]
[null,537]
[null,538]
[null,539]
[null,540]
[null,541]
[null,542]
[null,543]
[null,544]
[null,545]
[null,546]
[null,547]
[null,548]
[null,549]
[null,550]
[null,551]
[null,552]
[null,553]
[null,554]
[null,555]
[null,556]
[null,557]
[null,558]
[null,559]
[null,560]
[null,561]
[null,562]
[null,563]
[null,564]
[null,565]
[null,566]
[null,567]
[null,568]
[null,569]
[null,570]
[null,571]
[null,572]
[null,573]
[null,574]
[null,575]
[null,576]
[null,577]
[null,578]
[null,579]
[null,580]
[null,581]
[null,582]
[null,583]
[null,584]
[null,585]
[null,586]
[null,587]
[null,588]
[null,589]
[null,590]
[null,591]
[null,592]
[null,593]
[null,594]
[null,595]
[null,596]
[null,597]
[null,598]
[null,599]
[null,600]
[null,601]
[null,602]
[null,603]
[null,604]
[null,605]
[null,606]
[null,607]
[null,608]
[null,609]
[null,610]
[null,611]
[null,612]
[null,613]
[null,614]
[null,615]
[null,616]
[null,617]
[null,618]
[null,619]
[null,620]
[null,621]
[null,622]
[null,623]
[null,624]
[null,625]
[null,626]
[null,627]
[null,628]
[null,629]
[null,630]
[null,631]
[null,632]
[null,633]
[null,634]
[null,635]
[null,636]
[null,637]
[null,638]
[null,639]
[null,640]
[null,641]
[null,642]
[null,643]
[null,644]
[null,645]
[null,646]
[null,647]
[null,648]
[null,649]
[null,650]
[null,651]
[null,652]
[null,653]
[null,654]
[null,655]
[null,656]
[null,657]
[null,658]
[null,659]
[null,660]
[null,661]
[null,662]
[null,663]
[null,664]
[null,665]
[null,666]
[null,667]
[null,668]
[null,669]
[null,670]
[null,671]
[null,672]
[null,673]
[null,674]
[null,675]
[null,676]
[null,677]
[null,678]
[null,679]
[null,680]
[null,681]
[null,682]
[null,683]
[null,684]
[null,685]
[null,686]
[null,687]
[null,688]
[null,689]
[null,690]
[null,691]
[null,692]
[null,693]
[null,694]
[null,695]
[null,696]
[null,697]
[null,698]
[null,699]
[null,700]
[null,701]
[null,702]
[null,703]
[null,704]
[null,705]
[null,706]
[null,707]
[null,708]
[null,709]
[null,710]
[null,711]
[null,712]
[null,713]
[null,714]
[null,715]
[null,716]
[null,717]
[null,718]
[null,719]
[null,720]
[null,721]
[null,722]
[null,723]
[null,724]
[null,725]
[null,726]
[null,727]
[null,728]
[null,729]
[null,730]
[null,731]
[null,732]
[null,733]
[null,734]
[null,735]
[null,736]
[null,737]
[null,738]
[null,739]
[null,740]
[null,741]
[null,742]
[null,743]
[null,744]
[null,745]
[null,746]
[null,747]
[null,748]
[null,749]
[null,750]
[null,751]
[null,752]
[null,753]
[null,754]
[null,755]
[null,756]
[null,757]
[null,758]
[null,759]
[null,760]
[null,761]
[null,762]
[null,763]
[null,764]
[null,765]
[null,766]
[null,767]
[null,768]
[null,769]
[null,770]
[null,771]
[null,772]
[null,773]
[null,774]
[null,775]
[null,776]
[null,777]
[null,778]
[null,779]
[null,780]
[null,781]
[null,782]
[null,783]
[null,784]
[null,785]
[null,786]
[null,787]
[null,788]
[null,789]
[null,790]
[null,791]
[null,792]
[null,793]
[null,794]
[null,795]
[null,796]
[null,797]
[null,798]
[null,799]
[null,800]
[null,801]
[null,802]
[null,803]
[null,804]
[null,805]
[null,806]
[null,807]
[null,808]
[null,809]
[null,810]
[null,811]
[null,812]
[null,813]
[null,814]
[null,815]
[null,816]
[null,817]
[null,818]
[null,819]
[null,820]
[null,821]
[null,822]
[null,823]
[null,824]
[null,825]
[null,826]
[null,827]
[null,828]
[null,829]
[null,830]
[null,831]
[null,832]
[null,833]
[null,834]
[null,835]
[null,836]
[null,837]
[null,838]
[null,839]
[null,840]
[null,841]
[null,842]
[null,843]
[null,844]
[null,845]
[null,846]
[null,847]
[null,848]
[null,849]
[null,850]
[null,851]
[null,852]
[null,853]
[null,854]
[null,855]
[null,856]
[null,857]
[null,858]
[null,859]
[null,860]
[null,861]
[null,862]
[null,863]
[null,864]
[null,865]
[null,866]
[null,867]
[null,868]
[null,869]
[null,870]
[null,871]
[null,872]
[null,873]
[null,874]
[null,875]
[null,876]
[null,877]
[null,878]
[null,879]
[null,880]
[null,881]
[null,882]
[null,883]
[null,884]
[null,885]
[null,886]
[null,887]
[null,888]
[null,889]
[null,890]
[null,891]
[null,892]
[null,893]
[null,894]
[null,895]
[null,896]
[null,897]
[null,898]
[null,899]
[null,900]
[null,901]
[null,902]
[null,903]
[null,904]
[null,905]
[null,906]
[null,907]
[null,908]
[null,909]
[null,910]
[null,911]
[null,912]
[null,913]
[null,914]
[null,915]
[null,916]
[null,917]
[null,918]
[null,919]
[null,920]
[null,921]
[null,922]
[null,923]
[null,924]
[null,925]
[null,926]
[null,927]
[null,928]
[null,929]
[null,930]
[null,931]
[null,932]
[null,933]
[null,934]
[null,935]
[null,936]
[null,937]
[null,938]
[null,939]
[null,940]
[null,941]
[null,942]
[null,943]
[null,944]
[null,945]
[null,946]
[null,947]
[null,948]
[null,949]
[null,950]
[null,951]
[null,952]
[null,953]
[null,954]
[null,955]
[null,956]
[null,957]
[null,958]
[null,959]
[null,960]
[null,961]
[null,962]
[null,963]
[null,964]
[null,965]
[null,966]
[null,967]
[null,968]
[null,969]
[null,970]
[null,971]
[null,972]
[null,973]
[null,974]
[null,975]
[null,976]
[null,977]
[null,978]
[null,979]
[null,980]
[null,981]
[null,982]
[null,983]
[null,984]
[null,985]
[null,986]
[null,987]
[null,988]
[null,989]
[null,990]
[null,991]
[null,992]
[null,993]
[null,994]
[null,995]
[null,996]
[null,997]
[null,998]
[null,999]
[null,1000]
[null,1001,"สถานะรวม (total position)",null,null,null,null,{"$f":"SUM(H$287:H$1286)","v":0},{"$f":"SUM(I$287:I$1286)","v":0}]
[null,1002,"ค่าความเสี่ยงจากอัตราแลกเปลี่ยน (currency risk charge)",null,null,null,null,null,0.08]
[null,1003,"เงินกองทุนตามระดับความเสี่ยง (risk capital charge)",null,null,null,null,null,{"$f":"(ABS($H$1287)+ABS($I$1287))*$I$1288","v":0}]

{"sheet":"แบบฟอร์มที่ 5 - 5.2.1-5.2.4","index":15,"n_rows":1239,"n_cols":352,"rows_kept":1239,"cut":false,"hidden":false,"merged":[[209,11,211,12],[212,11,214,12],[215,11,217,12],[218,11,220,12],[221,11,223,12],[212,9,214,9],[215,9,217,9],[218,9,220,9],[221,9,223,9],[224,9,226,9],[227,9,229,9],[20,2,22,2],[77,11,79,12],[80,11,82,12],[83,11,85,12],[86,11,88,12],[89,11,91,12],[92,11,94,12],[95,11,97,12],[98,11,100,12],[101,11,103,12],[104,11,106,12],[107,11,109,12],[110,11,112,12],[113,11,115,12],[116,11,118,12],[119,11,121,12],[122,11,124,12],[131,9,133,9],[134,9,136,9],[137,9,139,9],[140,9,142,9],[143,9,145,9],[146,9,148,9],[149,9,151,9],[152,9,154,9],[155,9,157,9],[158,9,160,9],[161,9,163,9],[164,9,166,9],[167,9,169,9],[170,9,172,9],[173,9,175,9],[197,11,199,12],[230,25,232,25],[143,10,145,10],[143,13,145,13],[164,15,166,15],[164,16,166,16],[164,17,166,17],[164,18,166,18],[164,19,166,19],[176,9,178,9],[179,9,181,9],[179,17,181,17],[179,18,181,18],[185,19,187,19],[182,9,184,9],[185,9,187,9],[188,9,190,9],[188,14,190,14],[188,15,190,15],[152,15,154,15],[152,16,154,16],[152,17,154,17],[152,18,154,18],[149,15,151,15],[200,11,202,12],[149,18,151,18],[152,19,154,19],[164,10,166,10],[164,13,166,13],[164,14,166,14],[161,11,163,12],[164,11,166,12],[170,15,172,15],[170,16,172,16],[170,17,172,17],[170,18,172,18],[167,15,169,15],[167,16,169,16],[167,17,169,17],[167,18,169,18],[170,19,172,19],[188,16,190,16],[173,14,175,14],[173,15,175,15],[173,16,175,16],[173,17,175,17],[173,18,175,18],[173,19,175,19],[188,11,190,12],[173,11,175,12],[167,19,169,19],[167,11,169,12],[179,13,181,13],[77,24,79,24],[77,13,77,18],[78,13,78,16],[78,17,78,18],[80,16,82,16],[80,17,82,17],[89,18,91,18],[98,19,100,19],[107,19,109,19],[110,10,112,10],[110,13,112,13],[110,14,112,14],[110,15,112,15],[110,16,112,16],[110,17,112,17],[110,18,112,18],[236,23,236,29],[236,16,236,22],[101,27,103,27],[98,17,100,17],[98,18,100,18],[110,19,112,19],[110,27,112,27],[107,16,109,16],[107,17,109,17],[107,18,109,18],[122,15,124,15],[122,16,124,16],[122,17,124,17],[122,18,124,18],[122,19,124,19],[122,27,124,27],[237,26,237,29],[236,331,236,337],[236,338,236,344],[236,345,236,351],[237,331,237,333],[237,334,237,337],[237,338,237,340],[237,341,237,344],[237,345,237,347],[237,348,237,351],[237,299,237,302],[237,303,237,305],[237,306,237,309],[237,310,237,312],[237,313,237,316],[237,317,237,319],[237,320,237,323],[237,324,237,326],[237,327,237,330],[236,254,236,260],[236,261,236,267],[236,268,236,274],[237,268,237,270],[237,271,237,274],[237,275,237,277],[237,278,237,281],[237,292,237,295],[237,261,237,263],[237,264,237,267],[237,149,237,151],[237,152,237,155],[236,282,236,288],[236,289,236,295],[236,296,236,302],[237,166,237,169],[237,170,237,172],[237,173,237,176],[236,191,236,197],[236,198,236,204],[236,205,236,211],[236,212,236,218],[236,240,236,246],[236,247,236,253],[237,282,237,284],[237,285,237,288],[237,289,237,291],[236,275,236,281],[236,177,236,183],[236,184,236,190],[236,170,236,176],[236,303,236,309],[236,310,236,316],[236,317,236,323],[236,324,236,330],[237,177,237,179],[237,180,237,183],[237,184,237,186],[237,187,237,190],[237,191,237,193],[237,194,237,197],[237,198,237,200],[237,201,237,204],[237,205,237,207],[237,208,237,211],[237,212,237,214],[237,215,237,218],[237,219,237,221],[237,222,237,225],[237,226,237,228],[237,229,237,232],[237,233,237,235],[236,219,236,225],[236,226,236,232],[236,233,236,239],[237,296,237,298],[237,236,237,239],[237,240,237,242],[237,243,237,246],[237,247,237,249],[237,250,237,253],[237,254,237,256],[237,257,237,260],[237,114,237,116],[237,117,237,120],[237,121,237,123],[237,124,237,127],[237,128,237,130],[237,131,237,134],[237,135,237,137],[237,138,237,141],[237,142,237,144],[237,145,237,148],[237,159,237,162],[237,163,237,165],[236,93,236,99],[237,93,237,95],[237,96,237,99],[236,100,236,106],[236,107,236,113],[236,114,236,120],[236,121,236,127],[236,128,236,134],[236,135,236,141],[236,142,236,148],[236,149,236,155],[236,156,236,162],[236,163,236,169],[237,100,237,102],[237,103,237,106],[237,107,237,109],[237,110,237,113],[237,156,237,158],[236,72,236,78],[237,72,237,74],[237,75,237,78],[236,79,236,85],[237,79,237,81],[237,82,237,85],[236,86,236,92],[237,86,237,88],[237,89,237,92],[83,16,85,16],[83,19,85,19],[89,10,91,10],[236,58,236,64],[237,58,237,60],[237,61,237,64],[236,65,236,71],[237,65,237,67],[237,68,237,71],[236,30,236,36],[237,30,237,32],[237,33,237,36],[236,37,236,43],[237,37,237,39],[237,40,237,43],[236,44,236,50],[237,44,237,46],[237,47,237,50],[86,19,88,19],[89,19,91,19],[89,27,91,27],[92,27,94,27],[146,11,148,12],[237,16,237,18],[237,19,237,22],[237,23,237,25],[236,2,236,8],[237,5,237,8],[237,2,237,4],[236,1,238,1],[236,51,236,57],[237,51,237,53],[237,54,237,57],[77,19,79,19],[77,20,79,20],[77,22,79,22],[77,25,79,25],[77,26,79,26],[77,27,79,27],[86,27,88,27],[80,27,82,27],[83,15,85,15],[230,21,232,21],[230,19,232,19],[230,3,232,3],[83,9,85,9],[80,9,82,9],[86,9,88,9],[89,9,91,9],[92,9,94,9],[95,9,97,9],[98,9,100,9],[101,9,103,9],[104,9,106,9],[97,4,97,6],[10,1,11,1],[21,5,21,8],[20,1,22,1],[236,9,236,15],[237,9,237,11],[237,12,237,15],[77,1,79,1],[83,1,85,1],[86,1,88,1],[98,1,100,1],[98,3,100,3],[89,3,91,3],[80,1,82,1],[4,2,4,5],[5,2,5,5],[20,5,20,10],[21,9,21,10],[10,8,11,8],[10,9,11,9],[10,5,10,7],[83,10,85,10],[83,13,85,13],[80,3,82,3],[80,10,82,10],[80,13,82,13],[80,14,82,14],[80,15,82,15],[89,1,91,1],[89,15,91,15],[110,1,112,1],[110,3,112,3],[143,11,145,12],[20,13,22,13],[83,27,85,27],[86,3,88,3],[86,10,88,10],[86,13,88,13],[86,14,88,14],[86,15,88,15],[86,16,88,16],[86,17,88,17],[86,18,88,18],[20,11,22,11],[20,12,22,12],[80,19,82,19],[83,3,85,3],[92,10,94,10],[92,13,94,13],[92,14,94,14],[92,15,94,15],[92,16,94,16],[92,17,94,17],[92,18,94,18],[92,19,94,19],[83,14,85,14],[83,17,85,17],[83,18,85,18],[80,18,82,18],[20,3,22,3],[20,4,22,4],[89,13,91,13],[89,14,91,14],[89,16,91,16],[89,17,91,17],[101,1,103,1],[101,3,103,3],[92,1,94,1],[92,3,94,3],[98,4,98,6],[99,4,99,6],[100,4,100,6],[101,4,101,6],[102,4,102,6],[103,4,103,6],[104,4,104,6],[105,4,105,6],[98,10,100,10],[98,13,100,13],[98,14,100,14],[98,15,100,15],[98,16,100,16],[92,4,92,6],[93,4,93,6],[94,4,94,6],[104,10,106,10],[104,13,106,13],[107,9,109,9],[107,27,109,27],[104,15,106,15],[104,16,106,16],[104,17,106,17],[104,18,106,18],[104,19,106,19],[104,27,106,27],[98,27,100,27],[95,1,97,1],[95,3,97,3],[95,10,97,10],[95,13,97,13],[95,14,97,14],[95,15,97,15],[95,16,97,16],[95,17,97,17],[95,18,97,18],[95,19,97,19],[95,27,97,27],[101,10,103,10],[101,13,103,13],[101,14,103,14],[101,15,103,15],[101,16,103,16],[101,17,103,17],[101,18,103,18],[101,19,103,19],[95,4,95,6],[96,4,96,6],[104,14,106,14],[107,15,109,15],[110,9,112,9],[116,17,118,17],[116,18,118,18],[116,19,118,19],[116,27,118,27],[113,1,115,1],[113,3,115,3],[113,10,115,10],[113,13,115,13],[113,14,115,14],[113,15,115,15],[113,16,115,16],[113,17,115,17],[113,18,115,18],[113,19,115,19],[113,27,115,27],[111,4,111,6],[112,4,112,6],[122,2,124,2],[113,9,115,9],[116,9,118,9],[119,9,121,9],[122,9,124,9],[122,1,124,1],[122,3,124,3],[122,10,124,10],[122,13,124,13],[122,14,124,14],[113,4,113,6],[114,4,114,6],[115,4,115,6],[116,4,116,6],[117,4,117,6],[118,4,118,6],[119,4,119,6],[120,4,120,6],[121,4,121,6],[122,4,122,6],[101,21,103,21],[104,21,106,21],[107,21,109,21],[119,1,121,1],[119,3,121,3],[119,10,121,10],[119,13,121,13],[119,14,121,14],[119,15,121,15],[119,16,121,16],[119,17,121,17],[119,18,121,18],[119,19,121,19],[119,27,121,27],[116,1,118,1],[116,3,118,3],[116,10,118,10],[116,13,118,13],[116,14,118,14],[116,15,118,15],[116,16,118,16],[110,21,112,21],[113,21,115,21],[116,21,118,21],[119,21,121,21],[107,1,109,1],[107,3,109,3],[107,10,109,10],[107,13,109,13],[107,14,109,14],[104,1,106,1],[104,3,106,3],[122,21,124,21],[106,4,106,6],[107,4,107,6],[108,4,108,6],[109,4,109,6],[110,4,110,6],[128,18,130,18],[128,19,130,19],[128,27,130,27],[125,1,127,1],[125,3,127,3],[125,10,127,10],[125,13,127,13],[125,14,127,14],[125,15,127,15],[125,16,127,16],[125,17,127,17],[125,18,127,18],[125,19,127,19],[125,27,127,27],[125,4,125,6],[126,4,126,6],[127,4,127,6],[130,4,130,6],[125,2,127,2],[125,9,127,9],[128,9,130,9],[125,21,127,21],[125,11,127,12],[128,11,130,12],[123,4,123,6],[124,4,124,6],[131,18,133,18],[131,19,133,19],[131,27,133,27],[140,17,142,17],[140,18,142,18],[140,19,142,19],[140,13,142,13],[140,14,142,14],[134,17,136,17],[134,18,136,18],[134,19,136,19],[134,27,136,27],[131,10,133,10],[131,13,133,13],[131,14,133,14],[131,15,133,15],[131,16,133,16],[131,17,133,17],[131,11,133,12],[140,11,142,12],[134,10,136,10],[134,13,136,13],[137,10,139,10],[137,13,139,13],[134,14,136,14],[134,15,136,15],[134,16,136,16],[140,16,142,16],[134,11,136,12],[137,11,139,12],[137,1,139,1],[137,3,139,3],[137,14,139,14],[137,15,139,15],[137,16,139,16],[137,17,139,17],[137,18,139,18],[137,19,139,19],[140,15,142,15],[140,1,142,1],[140,3,142,3],[140,10,142,10],[134,1,136,1],[134,3,136,3],[128,1,130,1],[128,3,130,3],[128,10,130,10],[128,13,130,13],[128,14,130,14],[128,15,130,15],[128,16,130,16],[128,17,130,17],[131,1,133,1],[131,3,133,3],[128,4,128,6],[129,4,129,6],[131,4,131,6],[132,4,132,6],[133,4,133,6],[134,4,134,6],[135,4,135,6],[136,4,136,6],[146,1,148,1],[146,3,148,3],[152,3,154,3],[152,10,154,10],[152,13,154,13],[152,14,154,14],[148,4,148,6],[149,4,149,6],[150,4,150,6],[151,4,151,6],[152,4,152,6],[153,4,153,6],[154,4,154,6],[149,19,151,19],[149,27,151,27],[143,19,145,19],[143,27,145,27],[146,10,148,10],[146,13,148,13],[146,14,148,14],[146,15,148,15],[146,16,148,16],[146,17,148,17],[146,18,148,18],[146,19,148,19],[143,14,145,14],[143,15,145,15],[143,16,145,16],[143,17,145,17],[143,18,145,18],[143,1,145,1],[143,3,145,3],[152,1,154,1],[152,21,154,21],[149,1,151,1],[149,3,151,3],[149,10,151,10],[149,13,151,13],[149,14,151,14],[149,11,151,12],[152,11,154,12],[161,1,163,1],[161,3,163,3],[161,10,163,10],[161,13,163,13],[161,14,163,14],[161,15,163,15],[161,16,163,16],[161,17,163,17],[161,18,163,18],[161,19,163,19],[158,15,160,15],[158,16,160,16],[158,17,160,17],[158,18,160,18],[158,19,160,19],[158,1,160,1],[158,3,160,3],[158,10,160,10],[158,13,160,13],[158,14,160,14],[158,11,160,12],[149,16,151,16],[149,17,151,17],[185,27,187,27],[179,19,181,19],[179,27,181,27],[182,10,184,10],[182,13,184,13],[182,14,184,14],[176,15,178,15],[176,16,178,16],[176,17,178,17],[176,18,178,18],[176,19,178,19],[176,1,178,1],[176,3,178,3],[176,10,178,10],[176,13,178,13],[176,14,178,14],[170,27,172,27],[179,15,181,15],[179,16,181,16],[173,10,175,10],[173,13,175,13],[185,17,187,17],[185,18,187,18],[182,15,184,15],[182,16,184,16],[182,17,184,17],[182,18,184,18],[182,19,184,19],[185,11,187,12],[179,1,181,1],[179,3,181,3],[179,10,181,10],[167,1,169,1],[167,3,169,3],[167,10,169,10],[167,13,169,13],[167,14,169,14],[164,1,166,1],[164,3,166,3],[170,4,170,6],[171,4,171,6],[170,11,172,12],[166,4,166,6],[167,2,169,2],[170,2,172,2],[191,9,193,9],[194,9,196,9],[191,11,193,12],[194,11,196,12],[170,1,172,1],[170,3,172,3],[170,10,172,10],[170,13,172,13],[170,14,172,14],[185,1,187,1],[185,3,187,3],[185,10,187,10],[185,13,187,13],[185,14,187,14],[182,1,184,1],[182,3,184,3],[176,11,178,12],[179,11,181,12],[182,11,184,12],[179,14,181,14],[173,1,175,1],[173,3,175,3],[206,1,208,1],[203,1,205,1],[203,3,205,3],[203,10,205,10],[203,13,205,13],[203,14,205,14],[206,9,208,9],[200,1,202,1],[200,3,202,3],[206,3,208,3],[206,10,208,10],[206,13,208,13],[206,14,208,14],[208,4,208,6],[197,14,199,14],[203,11,205,12],[206,11,208,12],[203,19,205,19],[194,1,196,1],[194,3,196,3],[194,10,196,10],[194,13,196,13],[194,14,196,14],[191,1,193,1],[191,3,193,3],[191,10,193,10],[191,13,193,13],[191,14,193,14],[191,15,193,15],[191,16,193,16],[191,17,193,17],[191,18,193,18],[191,19,193,19],[203,27,205,27],[197,19,199,19],[197,27,199,27],[200,10,202,10],[200,13,202,13],[200,14,202,14],[200,15,202,15],[200,16,202,16],[200,17,202,17],[200,18,202,18],[200,19,202,19],[197,23,199,23],[197,1,199,1],[197,3,199,3],[197,10,199,10],[197,13,199,13],[209,23,211,23],[212,23,214,23],[200,21,202,21],[203,21,205,21],[206,21,208,21],[209,21,211,21],[212,15,214,15],[212,16,214,16],[212,17,214,17],[212,18,214,18],[212,19,214,19],[212,1,214,1],[212,3,214,3],[212,10,214,10],[212,13,214,13],[212,14,214,14],[206,15,208,15],[206,16,208,16],[206,17,208,17],[206,18,208,18],[203,15,205,15],[203,16,205,16],[203,17,205,17],[203,18,205,18],[206,19,208,19],[209,1,211,1],[209,3,211,3],[209,10,211,10],[209,13,211,13],[209,14,211,14],[209,15,211,15],[209,16,211,16],[221,1,223,1],[221,3,223,3],[221,10,223,10],[221,13,223,13],[221,14,223,14],[218,1,220,1],[218,3,220,3],[226,4,226,6],[221,19,223,19],[221,27,223,27],[215,19,217,19],[215,27,217,27],[218,10,220,10],[218,13,220,13],[218,14,220,14],[218,15,220,15],[218,16,220,16],[218,17,220,17],[218,18,220,18],[218,19,220,19],[215,23,217,23],[218,23,220,23],[221,23,223,23],[215,1,217,1],[215,3,217,3],[215,10,217,10],[215,13,217,13],[215,14,217,14],[215,15,217,15],[215,16,217,16],[215,17,217,17],[215,18,217,18],[227,1,229,1],[227,3,229,3],[227,10,229,10],[227,13,229,13],[227,14,229,14],[227,15,229,15],[227,16,229,16],[227,17,229,17],[227,18,229,18],[227,19,229,19],[224,1,226,1],[224,3,226,3],[224,23,226,23],[224,10,226,10],[224,13,226,13],[224,14,226,14],[224,15,226,15],[224,16,226,16],[224,17,226,17],[224,18,226,18],[224,11,226,12],[227,11,229,12],[227,4,227,6],[228,4,228,6],[229,4,229,6],[179,23,181,23],[182,23,184,23],[185,23,187,23],[191,23,193,23],[230,1,232,1],[230,27,232,27],[227,23,229,23],[230,23,232,23],[77,23,79,23],[80,23,82,23],[83,23,85,23],[86,23,88,23],[89,23,91,23],[92,23,94,23],[95,23,97,23],[98,23,100,23],[101,23,103,23],[104,23,106,23],[107,23,109,23],[110,23,112,23],[113,23,115,23],[116,23,118,23],[119,23,121,23],[122,23,124,23],[224,19,226,19],[227,27,229,27],[218,27,220,27],[209,27,211,27],[212,27,214,27],[200,27,202,27],[191,27,193,27],[224,27,226,27],[173,27,175,27],[176,27,178,27],[164,27,166,27],[158,27,160,27],[146,27,148,27],[137,27,139,27],[140,27,142,27],[125,23,127,23],[128,23,130,23],[131,23,133,23],[134,23,136,23],[137,23,139,23],[140,23,142,23],[143,23,145,23],[146,23,148,23],[149,23,151,23],[152,23,154,23],[158,23,160,23],[161,23,163,23],[164,23,166,23],[167,23,169,23],[170,23,172,23],[176,23,178,23],[173,23,175,23],[155,23,157,23],[155,27,157,27],[167,27,169,27],[152,27,154,27],[161,27,163,27],[20,14,22,14],[212,21,214,21],[215,21,217,21],[218,21,220,21],[221,21,223,21],[224,21,226,21],[227,21,229,21],[194,27,196,27],[182,27,184,27],[167,4,167,6],[168,4,168,6],[169,4,169,6],[161,21,163,21],[164,21,166,21],[167,21,169,21],[170,21,172,21],[173,21,175,21],[77,21,79,21],[80,21,82,21],[83,21,85,21],[86,21,88,21],[89,21,91,21],[92,21,94,21],[95,21,97,21],[98,21,100,21],[191,21,193,21],[128,21,130,21],[131,21,133,21],[134,21,136,21],[137,21,139,21],[140,21,142,21],[143,21,145,21],[146,21,148,21],[149,21,151,21],[158,21,160,21],[176,21,178,21],[179,21,181,21],[182,21,184,21],[185,21,187,21],[185,15,187,15],[185,16,187,16],[155,1,157,1],[155,3,157,3],[155,10,157,10],[155,13,157,13],[155,14,157,14],[155,15,157,15],[155,16,157,16],[155,17,157,17],[155,18,157,18],[155,19,157,19],[155,21,157,21],[155,4,155,6],[156,4,156,6],[157,4,157,6],[158,4,158,6],[159,4,159,6],[155,11,157,12],[160,4,160,6],[161,4,161,6],[162,4,162,6],[163,4,163,6],[164,4,164,6],[165,4,165,6],[15,2,15,4],[14,2,14,4],[13,2,13,4],[12,2,12,4],[10,2,11,4],[82,4,82,6],[81,4,81,6],[80,4,80,6],[83,4,83,6],[84,4,84,6],[85,4,85,6],[86,4,86,6],[87,4,87,6],[88,4,88,6],[89,4,89,6],[90,4,90,6],[91,4,91,6],[137,4,137,6],[138,4,138,6],[139,4,139,6]],"merged_total":1157,"flags":["merged_cut"]}
["แบบฟอร์มที่ 5 การคำนวณเงินกองทุนสำหรับความเสี่ยงด้านตลาด"]
[]
[]
[]
[null,"บริษัท",{"$f":"รายชื่อแบบฟอร์ม!C3","v":0}]
[null,"ณ วันที่",{"$f":"รายชื่อแบบฟอร์ม!C4","v":"00:00:00"}]
[]
[]
[]
[null,"ตารางที่ 5.2.1 เงินกองทุนสำหรับความเสี่ยงด้านตลาดจากราคาตราสารทุนที่จดทะเบียนในตลาดหลักทรัพย์แห่งประเทศไทย ตลาดหลักทรัพย์ เอ็ม เอ ไอ และตลาดหลักทรัพย์อื่น"]
[null,"ลำดับที่","รายการ",null,null,"มูลค่าสุทธิ (net exposure) ของตราสารทุน",null,null,"ค่าความเสี่ยง","เงินกองทุนตามระดับความเสี่ยง"]
[null,null,null,null,null,"อยู่ในพอร์ตการลงทุนที่\nได้รับการป้องกันความเสี่ยง \n(hedged portfolio)","ไม่อยู่ในพอร์ตการลงทุนที่ได้รับการป้องกันความเสี่ยง (unhedged portfolio)","รวม"]
[null,1,"ตราสารทุนที่จดทะเบียนในตลาดหลักทรัพย์แห่งประเทศไทย และตลาดหลักทรัพย์ เอ็ม เอ ไอ",null,null,{"$f":"$W231","v":0},null,{"$f":"SUM($F13:$G13)","v":0},0.25,{"$f":"$AA231+$G13*$I13","v":0}]
[null,2,"ตราสารทุนที่จดทะเบียนในตลาดหลักทรัพย์อื่น และอยู่ในดัชนีตลาดหลักทรัพย์ตามที่กำหนดไว้",null,null,{"$f":"$W232","v":0},null,{"$f":"SUM($F14:$G14)","v":0},0.25,{"$f":"$AA232+$G14*$I14","v":0}]
[null,3,"ตราสารทุนที่จดทะเบียนในตลาดหลักทรัพย์อื่น แต่ไม่อยู่ในดัชนีตลาดหลักทรัพย์ตามที่กำหนดไว้ในตาราง",null,null,{"$f":"$W233","v":0},null,{"$f":"SUM($F15:$G15)","v":0},0.35,{"$f":"$AA233+$G15*$I15","v":0}]
[null,4,"รวม",null,null,{"$f":"SUM(F$13:F$15)","v":0},{"$f":"SUM(G$13:G$15)","v":0},{"$f":"SUM(H$13:H$15)","v":0},null,{"$f":"SUM(J$13:J$15)","v":0}]
[null,"หมายเหตุ ในกรณีที่บริษัทไม่ได้ทำการป้องกันความเสี่ยงจากการลงทุนในตราสารทุนตามเงื่อนไขที่กำหนดประกาศ คปภ. ที่เกี่ยวข้องกับการดำรงเงินกองทุนตามระดับความเสี่ยง ไม่ต้องกรอกข้อมูลในตารางที่ 5.2.2 - 5.2.4"]
[]
[]
[null,"ตารางที่ 5.2.2 เงินกองทุนสำหรับความเสี่ยงด้านตลาดจากราคาตราสารทุนที่จดทะเบียนในตลาดหลักทรัพย์แห่งประเทศไทย ตลาดหลักทรัพย์ เอ็ม เอ ไอ และตลาดหลักทรัพย์อื่น ที่ได้รับการป้องกันความเสี่ยง (hedged portfolio)"]
[null,"ลำดับของพอร์ตการลงทุน\nที่ได้รับการป้องกันความเสี่ยง\n(hedged portfolio)","ชื่อพอร์ตการลงทุนที่ได้รับการป้องกันความเสี่ยง\n(hedged portfolio)","มูลค่าทั้งสิ้น\n(total exposure)\nของตราสารทุน ","มูลค่าตลาดของสินทรัพย์อ้างอิง\nของเครื่องมือป้องกันความเสี่ยง\n(underlying asset) ","การพิจารณาประสิทธิภาพในการป้องกันความเสี่ยง (ตามประกาศ คปภ. ว่าด้วยการคำนวณเงินกองทุนของบริษัทประกันชีวิต)",null,null,null,null,null,"มูลค่าที่ได้รับ\nการป้องกันความเสี่ยง \n(hedged exposure)","มูลค่าสุทธิ  \n(net exposure) \nของตราสารทุน","สถานะที่ได้รับการป้องกัน\nความเสี่ยงเกินกว่า\nมูลค่าของตราสารทุน (Over-hedged position)","เงินกองทุนตามระดับความเสี่ยง"]
[null,null,null,null,null,"regression analysis verification",null,null,null,"coverage ratio verification"]
[null,null,null,null,null,"มีข้อมูลเพียงพอในการทำ regression analysis","สินทรัพย์อ้างอิงของ\nเครื่องมือป้องกันความเสี่ยง\nตรงกับพอร์ตการลงทุน\nที่ต้องการป้องกันความเสี่ยง","ค่าความชัน \n(slope) \nของ line of best fit ","ค่าสัมประสิทธิ์สหสัมพันธ์ (correlation coefficient)","มูลค่าของพอร์ตการลงทุนส่วนที่ต้องการป้องกันความเสี่ยงหารด้วยมูลค่าของสินทรัพย์อ้างอิงของเครื่องมือป้องกันความเสี่ยง ","มูลค่าของสินทรัพย์อ้างอิงของเครื่องมือป้องกันความเสี่ยงหารด้วยมูลค่าของพอร์ตการลงทุนส่วนที่ต้องการป้องกันความเสี่ยง "]
[null,1,{"$f":"IF(LOOKUP($B24,$B$81:$B$230,$C$81:$C$230)=0,\"\",LOOKUP($B24,$B$81:$B$230,$C$81:$C$230))","v":""},{"$f":"IF(LOOKUP($B24,$B$81:$B$230,$D$81:$D$230)=0,\"\",LOOKUP($B24,$B$81:$B$230,$D$81:$D$230))","v":""},{"$f":"IF(LOOKUP($B24,$B$81:$B$230,$K$81:$K$230)=0,\"\",LOOKUP($B24,$B$81:$B$230,$K$81:$K$230))","v":""},{"$f":"IF(LOOKUP($B24,$B$81:$B$230,$N$81:$N$230)=0,\"\",LOOKUP($B24,$B$81:$B$230,$N$81:$N$230))","v":""},{"$f":"IF(LOOKUP($B24,$B$81:$B$230,$O$81:$O$230)=0,\"\",LOOKUP($B24,$B$81:$B$230,$O$81:$O$230))","v":""},{"$f":"IF(LOOKUP($B24,$B$81:$B$230,$P$81:$P$230)=0,\"\",LOOKUP($B24,$B$81:$B$230,$P$81:$P$230))","v":""},{"$f":"IF(LOOKUP($B24,$B$81:$B$230,$Q$81:$Q$230)=0,\"\",LOOKUP($B24,$B$81:$B$230,$Q$81:$Q$230))","v":""},{"$f":"IF(LOOKUP($B24,$B$81:$B$230,$R$81:$R$230)=0,\"\",LOOKUP($B24,$B$81:$B$230,$R$81:$R$230))","v":""},{"$f":"IF(LOOKUP($B24,$B$81:$B$230,$S$81:$S$230)=0,\"\",LOOKUP($B24,$B$81:$B$230,$S$81:$S$230))","v":""},{"$f":"IF(AND(LOOKUP($B24,$B$81:$B$230,$T$81:$T$230)=0,$D24=\"\"),\"\",LOOKUP($B24,$B$81:$B$230,$T$81:$T$230))","v":""},{"$f":"IF(AND(LOOKUP($B24,$B$81:$B$230,$V$81:$V$230)=0,$D24=\"\"),\"\",LOOKUP($B24,$B$81:$B$230,$V$81:$V$230))","v":""},{"$f":"IF(AND(LOOKUP($B24,$B$81:$B$230,$X$81:$X$230)=0,$D24=\"\"),\"\",LOOKUP($B24,$B$81:$B$230,$X$81:$X$230))","v":""},{"$f":"IF(AND(LOOKUP($B24,$B$81:$B$230,$AB$81:$AB$230)=0,$D24=\"\"),\"\",LOOKUP($B24,$B$81:$B$230,$AB$81:$AB$230))","v":""}]
[null,2,"","","","","","","","","","","","",""]
[null,3,"","","","","","","","","","","","",""]
[null,4,"","","","","","","","","","","","",""]
[null,5,"","","","","","","","","","","","",""]
[null,6,"","","","","","","","","","","","",""]
[null,7,"","","","","","","","","","","","",""]
[null,8,"","","","","","","","","","","","",""]
[null,9,"","","","","","","","","","","","",""]
[null,10,"","","","","","","","","","","","",""]
[null,11,"","","","","","","","","","","","",""]
[null,12,"","","","","","","","","","","","",""]
[null,13,"","","","","","","","","","","","",""]
[null,14,"","","","","","","","","","","","",""]
[null,15,"","","","","","","","","","","","",""]
[null,16,"","","","","","","","","","","","",""]
[null,17,"","","","","","","","","","","","",""]
[null,18,"","","","","","","","","","","","",""]
[null,19,"","","","","","","","","","","","",""]
[null,20,"","","","","","","","","","","","",""]
[null,21,"","","","","","","","","","","","",""]
[null,22,"","","","","","","","","","","","",""]
[null,23,"","","","","","","","","","","","",""]
[null,24,"","","","","","","","","","","","",""]
[null,25,"","","","","","","","","","","","",""]
[null,26,"","","","","","","","","","","","",""]
[null,27,"","","","","","","","","","","","",""]
[null,28,"","","","","","","","","","","","",""]
[null,29,"","","","","","","","","","","","",""]
[null,30,"","","","","","","","","","","","",""]
[null,31,"","","","","","","","","","","","",""]
[null,32,"","","","","","","","","","","","",""]
[null,33,{"$f":"IF(LOOKUP($B56,$B$81:$B$230,$C$81:$C$230)=0,\"\",LOOKUP($B56,$B$81:$B$230,$C$81:$C$230))","v":""},{"$f":"IF(LOOKUP($B56,$B$81:$B$230,$D$81:$D$230)=0,\"\",LOOKUP($B56,$B$81:$B$230,$D$81:$D$230))","v":""},{"$f":"IF(LOOKUP($B56,$B$81:$B$230,$K$81:$K$230)=0,\"\",LOOKUP($B56,$B$81:$B$230,$K$81:$K$230))","v":""},{"$f":"IF(LOOKUP($B56,$B$81:$B$230,$N$81:$N$230)=0,\"\",LOOKUP($B56,$B$81:$B$230,$N$81:$N$230))","v":""},{"$f":"IF(LOOKUP($B56,$B$81:$B$230,$O$81:$O$230)=0,\"\",LOOKUP($B56,$B$81:$B$230,$O$81:$O$230))","v":""},{"$f":"IF(LOOKUP($B56,$B$81:$B$230,$P$81:$P$230)=0,\"\",LOOKUP($B56,$B$81:$B$230,$P$81:$P$230))","v":""},{"$f":"IF(LOOKUP($B56,$B$81:$B$230,$Q$81:$Q$230)=0,\"\",LOOKUP($B56,$B$81:$B$230,$Q$81:$Q$230))","v":""},{"$f":"IF(LOOKUP($B56,$B$81:$B$230,$R$81:$R$230)=0,\"\",LOOKUP($B56,$B$81:$B$230,$R$81:$R$230))","v":""},{"$f":"IF(LOOKUP($B56,$B$81:$B$230,$S$81:$S$230)=0,\"\",LOOKUP($B56,$B$81:$B$230,$S$81:$S$230))","v":""},{"$f":"IF(AND(LOOKUP($B56,$B$81:$B$230,$T$81:$T$230)=0,$D56=\"\"),\"\",LOOKUP($B56,$B$81:$B$230,$T$81:$T$230))","v":""},{"$f":"IF(AND(LOOKUP($B56,$B$81:$B$230,$V$81:$V$230)=0,$D56=\"\"),\"\",LOOKUP($B56,$B$81:$B$230,$V$81:$V$230))","v":""},{"$f":"IF(AND(LOOKUP($B56,$B$81:$B$230,$X$81:$X$230)=0,$D56=\"\"),\"\",LOOKUP($B56,$B$81:$B$230,$X$81:$X$230))","v":""},{"$f":"IF(AND(LOOKUP($B56,$B$81:$B$230,$AB$81:$AB$230)=0,$D56=\"\"),\"\",LOOKUP($B56,$B$81:$B$230,$AB$81:$AB$230))","v":""}]
[null,34,"","","","","","","","","","","","",""]
[null,35,"","","","","","","","","","","","",""]
[null,36,"","","","","","","","","","","","",""]
[null,37,"","","","","","","","","","","","",""]
[null,38,"","","","","","","","","","","","",""]
[null,39,"","","","","","","","","","","","",""]
[null,40,"","","","","","","","","","","","",""]
[null,41,"","","","","","","","","","","","",""]
[null,42,"","","","","","","","","","","","",""]
[null,43,"","","","","","","","","","","","",""]
[null,44,"","","","","","","","","","","","",""]
[null,45,"","","","","","","","","","","","",""]
[null,46,"","","","","","","","","","","","",""]
[null,47,"","","","","","","","","","","","",""]
[null,48,"","","","","","","","","","","","",""]
[null,49,"","","","","","","","","","","","",""]
[null,50,"","","","","","","","","","","","",""]
[null,"รวม",null,{"$f":"SUM(D24:D73)","v":0},{"$f":"SUM(E24:E73)","v":0},null,null,null,null,null,null,{"$f":"SUM(L$24:L$73)","v":0},{"$f":"SUM(M$24:M$73)","v":0},{"$f":"SUM(N$24:N$73)","v":0},{"$f":"SUM(O$24:O$73)","v":0}]
[]
[]
[null,"ตารางที่ 5.2.3 รายละเอียดการพิจารณาประสิทธิภาพในการป้องกันความเสี่ยง และการคำนวณเงินกองทุนสำหรับความเสี่ยงด้านตลาดจากราคาตราสารทุนในพอร์ตการลงทุนที่ได้รับการป้องกันความเสี่ยง (hedged portfolio)"]
[null,"ลำดับของพอร์ตการลงทุน\nที่ได้รับการป้องกันความเสี่ยง\n(hedged portfolio)","ชื่อพอร์ตการลงทุนที่ได้รับการป้องกันความเสี่ยง\n(hedged portfolio)","พอร์ตการลงทุนในตราสารทุนที่ต้องการป้องกันความเสี่ยง",null,null,null,null,null,"เครื่องมือป้องกันความเสี่ยง",null,"รายละเอียดของพอร์ตการลงทุนในตราสารทุนที่ต้องการป้องกันความเสี่ยง เครื่องมือป้องกันความเสี่ยง และกลยุทธในการป้องกันความเสี่ยง",null,"การพิจารณาประสิทธิภาพในการป้องกันความเสี่ยง (ตามประกาศ คปภ. ว่าด้วยการคำนวณเงินกองทุนของบริษัทประกันชีวิต)",null,null,null,null,null,"มูลค่าที่ได้รับ\nการป้องกันความเสี่ยง \n(hedged exposure)","มูลค่าที่ได้รับ\nการป้องกันความเสี่ยง \n(hedged exposure)\nแยกตามประเภทของตราสารทุน","มูลค่าสุทธิ\n(net exposure)","มูลค่าสุทธิ\n(net exposure)\nแยกตามประเภทของตราสารทุน","Over-hedged position","Over-hedged position\nแยกตามประเภทของตราสารทุน","ค่าความเสี่ยง","เงินกองทุนตามระดับความเสี่ยงแยกตามประเภทของตราสารทุน","เงินกองทุนตามระดับความเสี่ยง"]
[null,null,null,"มูลค่าทั้งสิ้น\n(total exposure)\nของตราสารทุน ","การแบ่งประเภทของตราสารทุน",null,null,null,"มูลค่าของตราสารทุน\nแต่ละประเภท","ชื่อย่อสัญญา","มูลค่าตลาดของสินทรัพย์อ้างอิง\nของเครื่องมือป้องกันความเสี่ยง \n(underlying asset) ",null,null,"regression analysis verification",null,null,null,"coverage ratio verification"]
[null,null,null,null,"ประเภท",null,null,"ร้อยละ",null,null,null,null,null,"มีข้อมูลเพียงพอในการทำ regression analysis หรือไม่","สินทรัพย์อ้างอิงของ\nเครื่องมือป้องกันความเสี่ยง\nตรงกับพอร์ตการลงทุน\nที่ต้องการป้องกันความเสี่ยง","ค่าความชัน (slope) \nของ line of best fit ","ค่าสัมประสิทธิ์สหสัมพันธ์ (correlation coefficient)","มูลค่าของพอร์ตการลงทุนส่วนที่ต้องการป้องกันความเสี่ยงหารด้วยมูลค่าของสินทรัพย์อ้างอิงของเครื่องมือป้องกันความเสี่ยง ","มูลค่าของสินทรัพย์อ้างอิงของเครื่องมือป้องกันความเสี่ยงหารด้วยมูลค่าของพอร์ตการลงทุนส่วนที่ต้องการป้องกันความเสี่ยง "]
[null,1,null,null,"(1) ตราสารทุนที่จดทะเบียนในตลาดหลักทรัพย์แห่งประเทศไทย และตลาดหลักทรัพย์ เอ็ม เอ ไอ",null,null,null,{"$f":"$D81*$H81","v":0},null,null,null,null,null,null,null,null,{"$f":"IF(AND(SUM($I81:$I83)=0,$K81=\"\"),\"\",SUM($I81:$I83)/$K81)","v":""},{"$f":"IF(AND(SUM($I81:$I83)=0,$K81=\"\"),\"\",$K81/SUM($I81:$I83))","v":""},{"$f":"IF(D81=\"\",0,IF(N81=\"ใช่\",IF(AND(P81<=-0.8,P81>=-1.25,Q81<=-0.9,Q81>=-1,R81>=0.95,S81>=0.95),MIN(SUM(I81:I83),K81),0),IF(O81=\"ใช่\",IF(AND(R81>=0.95,S81>=0.95),MIN(SUM(I81:I83),K81),0),0)))","v":0},{"$f":"IF(T81=0,0,IF(Z81=0.25,IF(SUM(I81:I82)>T81,T81*(I81/SUM(I81:I82)),I81),IF(T81>SUM(U81:U82),T81-SUM(U81:U82),0)))","v":0},{"$f":"SUM(W81:W83)","v":0},{"$f":"I81-U81","v":0},{"$f":"IF($D81=\"\",0,IF($N81=\"ใช่\",IF(AND($P81<=-0.8,$P81>=-1.25,$Q81<=-0.9,$Q81>=-1,$R81>=0.95,$S81>=0.95),0,MAX(K81-SUM(W81:W83),0)),IF($O81=\"ใช่\",IF(AND($R81>=0.95,$S81>=0.95),0,MAX(K81-SUM(W81:W83),0)),MAX(K81-SUM(W81:W83),0))))","v":0},{"$f":"IF(X81=0,0,X81*$I81/SUM(I81:I83))","v":0},0.25,{"$f":"W81*Z81+Y81","v":0},{"$f":"SUM(AA81:AA83)","v":0}]
[null,null,null,null,"(2) ตราสารทุนที่จดทะเบียนในตลาดหลักทรัพย์อื่น และอยู่ในดัชนีตลาดหลักทรัพย์ตามที่กำหนดไว้",null,null,null,{"$f":"$D81*$H82","v":0},null,null,null,null,null,null,null,null,null,null,null,{"$f":"IF(T81=0,0,IF(Z82=0.25,IF(SUM(I81:I82)>T81,T81*(I82/SUM(I81:I82)),I82),IF(T81>SUM(U81:U82),T81-SUM(U81:U82),0)))","v":0},null,0,null,{"$f":"IF(X81=0,0,X81*$I82/SUM(I81:I83))","v":0},0.25,{"$f":"W82*Z82+Y82","v":0}]
[null,null,null,null,"(3) ตราสารทุนที่จดทะเบียนในตลาดหลักทรัพย์อื่น แต่ไม่อยู่ในดัชนีตลาดหลักทรัพย์ตามที่กำหนดไว้ในตาราง",null,null,null,{"$f":"$D81*$H83","v":0},null,null,null,null,null,null,null,null,null,null,null,{"$f":"IF(T81=0,0,IF(Z83=0.25,IF(SUM(I81:I82)>T81,T81*(I83/SUM(I81:I82)),I83),IF(T81>SUM(U81:U82),T81-SUM(U81:U82),0)))","v":0},null,0,null,{"$f":"IF(X81=0,0,X81*$I83/SUM(I81:I83))","v":0},0.35,0]
[null,2,null,null,"(1) ตราสารทุนที่จดทะเบียนในตลาดหลักทรัพย์แห่งประเทศไทย และตลาดหลักทรัพย์ เอ็ม เอ ไอ",null,null,null,{"$f":"$D84*$H84","v":0},null,null,null,null,null,null,null,null,{"$f":"IF(AND(SUM($I84:$I86)=0,$K84=\"\"),\"\",SUM($I84:$I86)/$K84)","v":""},{"$f":"IF(AND(SUM($I84:$I86)=0,$K84=\"\"),\"\",$K84/SUM($I84:$I86))","v":""},{"$f":"IF(D84=\"\",0,IF(N84=\"ใช่\",IF(AND(P84<=-0.8,P84>=-1.25,Q84<=-0.9,Q84>=-1,R84>=0.95,S84>=0.95),MIN(SUM(I84:I86),K84),0),IF(O84=\"ใช่\",IF(AND(R84>=0.95,S84>=0.95),MIN(SUM(I84:I86),K84),0),0)))","v":0},{"$f":"IF(T84=0,0,IF(Z84=0.25,IF(SUM(I84:I85)>T84,T84*(I84/SUM(I84:I85)),I84),IF(T84>SUM(U84:U85),T84-SUM(U84:U85),0)))","v":0},{"$f":"SUM(W84:W86)","v":0},0,{"$f":"IF($D84=\"\",0,IF($N84=\"ใช่\",IF(AND($P84<=-0.8,$P84>=-1.25,$Q84<=-0.9,$Q84>=-1,$R84>=0.95,$S84>=0.95),0,MAX(K84-SUM(W84:W86),0)),IF($O84=\"ใช่\",IF(AND($R84>=0.95,$S84>=0.95),0,MAX(K84-SUM(W84:W86),0)),MAX(K84-SUM(W84:W86),0))))","v":0},{"$f":"IF(X84=0,0,X84*$I84/SUM(I84:I86))","v":0},0.25,0,{"$f":"SUM(AA84:AA86)","v":0}]
[null,null,null,null,"(2) ตราสารทุนที่จดทะเบียนในตลาดหลักทรัพย์อื่น และอยู่ในดัชนีตลาดหลักทรัพย์ตามที่กำหนดไว้",null,null,null,{"$f":"$D84*$H85","v":0},null,null,null,null,null,null,null,null,null,null,null,{"$f":"IF(T84=0,0,IF(Z85=0.25,IF(SUM(I84:I85)>T84,T84*(I85/SUM(I84:I85)),I85),IF(T84>SUM(U84:U85),T84-SUM(U84:U85),0)))","v":0},null,0,null,{"$f":"IF(X84=0,0,X84*$I85/SUM(I84:I86))","v":0},0.25,{"$f":"W85*Z85+Y85","v":0}]
[null,null,null,null,"(3) ตราสารทุนที่จดทะเบียนในตลาดหลักทรัพย์อื่น แต่ไม่อยู่ในดัชนีตลาดหลักทรัพย์ตามที่กำหนดไว้ในตาราง",null,null,null,{"$f":"$D84*$H86","v":0},null,null,null,null,null,null,null,null,null,null,null,{"$f":"IF(T84=0,0,IF(Z86=0.25,IF(SUM(I84:I85)>T84,T84*(I86/SUM(I84:I85)),I86),IF(T84>SUM(U84:U85),T84-SUM(U84:U85),0)))","v":0},null,0,null,{"$f":"IF(X84=0,0,X84*$I86/SUM(I84:I86))","v":0},0.35,0]
[null,3,null,null,"(1) ตราสารทุนที่จดทะเบียนในตลาดหลักทรัพย์แห่งประเทศไทย และตลาดหลักทรัพย์ เอ็ม เอ ไอ",null,null,null,{"$f":"$D87*$H87","v":0},null,null,null,null,null,null,null,null,{"$f":"IF(AND(SUM($I87:$I89)=0,$K87=\"\"),\"\",SUM($I87:$I89)/$K87)","v":""},{"$f":"IF(AND(SUM($I87:$I89)=0,$K87=\"\"),\"\",$K87/SUM($I87:$I89))","v":""},{"$f":"IF(D87=\"\",0,IF(N87=\"ใช่\",IF(AND(P87<=-0.8,P87>=-1.25,Q87<=-0.9,Q87>=-1,R87>=0.95,S87>=0.95),MIN(SUM(I87:I89),K87),0),IF(O87=\"ใช่\",IF(AND(R87>=0.95,S87>=0.95),MIN(SUM(I87:I89),K87),0),0)))","v":0},{"$f":"IF(T87=0,0,IF(Z87=0.25,IF(SUM(I87:I88)>T87,T87*(I87/SUM(I87:I88)),I87),IF(T87>SUM(U87:U88),T87-SUM(U87:U88),0)))","v":0},{"$f":"SUM(W87:W89)","v":0},0,{"$f":"IF($D87=\"\",0,IF($N87=\"ใช่\",IF(AND($P87<=-0.8,$P87>=-1.25,$Q87<=-0.9,$Q87>=-1,$R87>=0.95,$S87>=0.95),0,MAX(K87-SUM(W87:W89),0)),IF($O87=\"ใช่\",IF(AND($R87>=0.95,$S87>=0.95),0,MAX(K87-SUM(W87:W89),0)),MAX(K87-SUM(W87:W89),0))))","v":0},{"$f":"IF(X87=0,0,X87*$I87/SUM(I87:I89))","v":0},0.25,0,{"$f":"SUM(AA87:AA89)","v":0}]
[null,null,null,null,"(2) ตราสารทุนที่จดทะเบียนในตลาดหลักทรัพย์อื่น และอยู่ในดัชนีตลาดหลักทรัพย์ตามที่กำหนดไว้",null,null,null,{"$f":"$D87*$H88","v":0},null,null,null,null,null,null,null,null,null,null,null,{"$f":"IF(T87=0,0,IF(Z88=0.25,IF(SUM(I87:I88)>T87,T87*(I88/SUM(I87:I88)),I88),IF(T87>SUM(U87:U88),T87-SUM(U87:U88),0)))","v":0},null,0,null,{"$f":"IF(X87=0,0,X87*$I88/SUM(I87:I89))","v":0},0.25,0]
[null,null,null,null,"(3) ตราสารทุนที่จดทะเบียนในตลาดหลักทรัพย์อื่น แต่ไม่อยู่ในดัชนีตลาดหลักทรัพย์ตามที่กำหนดไว้ในตาราง",null,null,null,{"$f":"$D87*$H89","v":0},null,null,null,null,null,null,null,null,null,null,null,{"$f":"IF(T87=0,0,IF(Z89=0.25,IF(SUM(I87:I88)>T87,T87*(I89/SUM(I87:I88)),I89),IF(T87>SUM(U87:U88),T87-SUM(U87:U88),0)))","v":0},null,0,null,{"$f":"IF(X87=0,0,X87*$I89/SUM(I87:I89))","v":0},0.35,0]
[null,4,null,null,"(1) ตราสารทุนที่จดทะเบียนในตลาดหลักทรัพย์แห่งประเทศไทย และตลาดหลักทรัพย์ เอ็ม เอ ไอ",null,null,null,{"$f":"$D90*$H90","v":0},null,null,null,null,null,null,null,null,{"$f":"IF(AND(SUM($I90:$I92)=0,$K90=\"\"),\"\",SUM($I90:$I92)/$K90)","v":""},{"$f":"IF(AND(SUM($I90:$I92)=0,$K90=\"\"),\"\",$K90/SUM($I90:$I92))","v":""},{"$f":"IF(D90=\"\",0,IF(N90=\"ใช่\",IF(AND(P90<=-0.8,P90>=-1.25,Q90<=-0.9,Q90>=-1,R90>=0.95,S90>=0.95),MIN(SUM(I90:I92),K90),0),IF(O90=\"ใช่\",IF(AND(R90>=0.95,S90>=0.95),MIN(SUM(I90:I92),K90),0),0)))","v":0},{"$f":"IF(T90=0,0,IF(Z90=0.25,IF(SUM(I90:I91)>T90,T90*(I90/SUM(I90:I91)),I90),IF(T90>SUM(U90:U91),T90-SUM(U90:U91),0)))","v":0},{"$f":"SUM(W90:W92)","v":0},0,{"$f":"IF($D90=\"\",0,IF($N90=\"ใช่\",IF(AND($P90<=-0.8,$P90>=-1.25,$Q90<=-0.9,$Q90>=-1,$R90>=0.95,$S90>=0.95),0,MAX(K90-SUM(W90:W92),0)),IF($O90=\"ใช่\",IF(AND($R90>=0.95,$S90>=0.95),0,MAX(K90-SUM(W90:W92),0)),MAX(K90-SUM(W90:W92),0))))","v":0},{"$f":"IF(X90=0,0,X90*$I90/SUM(I90:I92))","v":0},0.25,0,{"$f":"SUM(AA90:AA92)","v":0}]
[null,null,null,null,"(2) ตราสารทุนที่จดทะเบียนในตลาดหลักทรัพย์อื่น และอยู่ในดัชนีตลาดหลักทรัพย์ตามที่กำหนดไว้",null,null,null,{"$f":"$D90*$H91","v":0},null,null,null,null,null,null,null,null,null,null,null,{"$f":"IF(T90=0,0,IF(Z91=0.25,IF(SUM(I90:I91)>T90,T90*(I91/SUM(I90:I91)),I91),IF(T90>SUM(U90:U91),T90-SUM(U90:U91),0)))","v":0},null,0,null,{"$f":"IF(X90=0,0,X90*$I91/SUM(I90:I92))","v":0},0.25,0]
[null,null,null,null,"(3) ตราสารทุนที่จดทะเบียนในตลาดหลักทรัพย์อื่น แต่ไม่อยู่ในดัชนีตลาดหลักทรัพย์ตามที่กำหนดไว้ในตาราง",null,null,null,{"$f":"$D90*$H92","v":0},null,null,null,null,null,null,null,null,null,null,null,{"$f":"IF(T90=0,0,IF(Z92=0.25,IF(SUM(I90:I91)>T90,T90*(I92/SUM(I90:I91)),I92),IF(T90>SUM(U90:U91),T90-SUM(U90:U91),0)))","v":0},null,0,null,{"$f":"IF(X90=0,0,X90*$I92/SUM(I90:I92))","v":0},0.35,0]
[null,5,null,null,"(1) ตราสารทุนที่จดทะเบียนในตลาดหลักทรัพย์แห่งประเทศไทย และตลาดหลักทรัพย์ เอ็ม เอ ไอ",null,null,null,{"$f":"$D93*$H93","v":0},null,null,null,null,null,null,null,null,{"$f":"IF(AND(SUM($I93:$I95)=0,$K93=\"\"),\"\",SUM($I93:$I95)/$K93)","v":""},{"$f":"IF(AND(SUM($I93:$I95)=0,$K93=\"\"),\"\",$K93/SUM($I93:$I95))","v":""},{"$f":"IF(D93=\"\",0,IF(N93=\"ใช่\",IF(AND(P93<=-0.8,P93>=-1.25,Q93<=-0.9,Q93>=-1,R93>=0.95,S93>=0.95),MIN(SUM(I93:I95),K93),0),IF(O93=\"ใช่\",IF(AND(R93>=0.95,S93>=0.95),MIN(SUM(I93:I95),K93),0),0)))","v":0},{"$f":"IF(T93=0,0,IF(Z93=0.25,IF(SUM(I93:I94)>T93,T93*(I93/SUM(I93:I94)),I93),IF(T93>SUM(U93:U94),T93-SUM(U93:U94),0)))","v":0},{"$f":"SUM(W93:W95)","v":0},0,{"$f":"IF($D93=\"\",0,IF($N93=\"ใช่\",IF(AND($P93<=-0.8,$P93>=-1.25,$Q93<=-0.9,$Q93>=-1,$R93>=0.95,$S93>=0.95),0,MAX(K93-SUM(W93:W95),0)),IF($O93=\"ใช่\",IF(AND($R93>=0.95,$S93>=0.95),0,MAX(K93-SUM(W93:W95),0)),MAX(K93-SUM(W93:W95),0))))","v":0},{"$f":"IF(X93=0,0,X93*$I93/SUM(I93:I95))","v":0},0.25,0,{"$f":"SUM(AA93:AA95)","v":0}]
[null,null,null,null,"(2) ตราสารทุนที่จดทะเบียนในตลาดหลักทรัพย์อื่น และอยู่ในดัชนีตลาดหลักทรัพย์ตามที่กำหนดไว้",null,null,null,{"$f":"$D93*$H94","v":0},null,null,null,null,null,null,null,null,null,null,null,{"$f":"IF(T93=0,0,IF(Z94=0.25,IF(SUM(I93:I94)>T93,T93*(I94/SUM(I93:I94)),I94),IF(T93>SUM(U93:U94),T93-SUM(U93:U94),0)))","v":0},null,0,null,{"$f":"IF(X93=0,0,X93*$I94/SUM(I93:I95))","v":0},0.25,0]
[null,null,null,null,"(3) ตราสารทุนที่จดทะเบียนในตลาดหลักทรัพย์อื่น แต่ไม่อยู่ในดัชนีตลาดหลักทรัพย์ตามที่กำหนดไว้ในตาราง",null,null,null,{"$f":"$D93*$H95","v":0},null,null,null,null,null,null,null,null,null,null,null,{"$f":"IF(T93=0,0,IF(Z95=0.25,IF(SUM(I93:I94)>T93,T93*(I95/SUM(I93:I94)),I95),IF(T93>SUM(U93:U94),T93-SUM(U93:U94),0)))","v":0},null,0,null,{"$f":"IF(X93=0,0,X93*$I95/SUM(I93:I95))","v":0},0.35,0]
[null,6,null,null,"(1) ตราสารทุนที่จดทะเบียนในตลาดหลักทรัพย์แห่งประเทศไทย และตลาดหลักทรัพย์ เอ็ม เอ ไอ",null,null,null,{"$f":"$D96*$H96","v":0},null,null,null,null,null,null,null,null,{"$f":"IF(AND(SUM($I96:$I98)=0,$K96=\"\"),\"\",SUM($I96:$I98)/$K96)","v":""},{"$f":"IF(AND(SUM($I96:$I98)=0,$K96=\"\"),\"\",$K96/SUM($I96:$I98))","v":""},{"$f":"IF(D96=\"\",0,IF(N96=\"ใช่\",IF(AND(P96<=-0.8,P96>=-1.25,Q96<=-0.9,Q96>=-1,R96>=0.95,S96>=0.95),MIN(SUM(I96:I98),K96),0),IF(O96=\"ใช่\",IF(AND(R96>=0.95,S96>=0.95),MIN(SUM(I96:I98),K96),0),0)))","v":0},{"$f":"IF(T96=0,0,IF(Z96=0.25,IF(SUM(I96:I97)>T96,T96*(I96/SUM(I96:I97)),I96),IF(T96>SUM(U96:U97),T96-SUM(U96:U97),0)))","v":0},{"$f":"SUM(W96:W98)","v":0},0,{"$f":"IF($D96=\"\",0,IF($N96=\"ใช่\",IF(AND($P96<=-0.8,$P96>=-1.25,$Q96<=-0.9,$Q96>=-1,$R96>=0.95,$S96>=0.95),0,MAX(K96-SUM(W96:W98),0)),IF($O96=\"ใช่\",IF(AND($R96>=0.95,$S96>=0.95),0,MAX(K96-SUM(W96:W98),0)),MAX(K96-SUM(W96:W98),0))))","v":0},{"$f":"IF(X96=0,0,X96*$I96/SUM(I96:I98))","v":0},0.25,0,{"$f":"SUM(AA96:AA98)","v":0}]
[null,null,null,null,"(2) ตราสารทุนที่จดทะเบียนในตลาดหลักทรัพย์อื่น และอยู่ในดัชนีตลาดหลักทรัพย์ตามที่กำหนดไว้",null,null,null,{"$f":"$D96*$H97","v":0},null,null,null,null,null,null,null,null,null,null,null,{"$f":"IF(T96=0,0,IF(Z97=0.25,IF(SUM(I96:I97)>T96,T96*(I97/SUM(I96:I97)),I97),IF(T96>SUM(U96:U97),T96-SUM(U96:U97),0)))","v":0},null,0,null,{"$f":"IF(X96=0,0,X96*$I97/SUM(I96:I98))","v":0},0.25,0]
[null,null,null,null,"(3) ตราสารทุนที่จดทะเบียนในตลาดหลักทรัพย์อื่น แต่ไม่อยู่ในดัชนีตลาดหลักทรัพย์ตามที่กำหนดไว้ในตาราง",null,null,null,{"$f":"$D96*$H98","v":0},null,null,null,null,null,null,null,null,null,null,null,{"$f":"IF(T96=0,0,IF(Z98=0.25,IF(SUM(I96:I97)>T96,T96*(I98/SUM(I96:I97)),I98),IF(T96>SUM(U96:U97),T96-SUM(U96:U97),0)))","v":0},null,0,null,{"$f":"IF(X96=0,0,X96*$I98/SUM(I96:I98))","v":0},0.35,0]
[null,7,null,null,"(1) ตราสารทุนที่จดทะเบียนในตลาดหลักทรัพย์แห่งประเทศไทย และตลาดหลักทรัพย์ เอ็ม เอ ไอ",null,null,null,{"$f":"$D99*$H99","v":0},null,null,null,null,null,null,null,null,{"$f":"IF(AND(SUM($I99:$I101)=0,$K99=\"\"),\"\",SUM($I99:$I101)/$K99)","v":""},{"$f":"IF(AND(SUM($I99:$I101)=0,$K99=\"\"),\"\",$K99/SUM($I99:$I101))","v":""},{"$f":"IF(D99=\"\",0,IF(N99=\"ใช่\",IF(AND(P99<=-0.8,P99>=-1.25,Q99<=-0.9,Q99>=-1,R99>=0.95,S99>=0.95),MIN(SUM(I99:I101),K99),0),IF(O99=\"ใช่\",IF(AND(R99>=0.95,S99>=0.95),MIN(SUM(I99:I101),K99),0),0)))","v":0},{"$f":"IF(T99=0,0,IF(Z99=0.25,IF(SUM(I99:I100)>T99,T99*(I99/SUM(I99:I100)),I99),IF(T99>SUM(U99:U100),T99-SUM(U99:U100),0)))","v":0},{"$f":"SUM(W99:W101)","v":0},0,{"$f":"IF($D99=\"\",0,IF($N99=\"ใช่\",IF(AND($P99<=-0.8,$P99>=-1.25,$Q99<=-0.9,$Q99>=-1,$R99>=0.95,$S99>=0.95),0,MAX(K99-SUM(W99:W101),0)),IF($O99=\"ใช่\",IF(AND($R99>=0.95,$S99>=0.95),0,MAX(K99-SUM(W99:W101),0)),MAX(K99-SUM(W99:W101),0))))","v":0},{"$f":"IF(X99=0,0,X99*$I99/SUM(I99:I101))","v":0},0.25,0,{"$f":"SUM(AA99:AA101)","v":0}]
[null,null,null,null,"(2) ตราสารทุนที่จดทะเบียนในตลาดหลักทรัพย์อื่น และอยู่ในดัชนีตลาดหลักทรัพย์ตามที่กำหนดไว้",null,null,null,{"$f":"$D99*$H100","v":0},null,null,null,null,null,null,null,null,null,null,null,{"$f":"IF(T99=0,0,IF(Z100=0.25,IF(SUM(I99:I100)>T99,T99*(I100/SUM(I99:I100)),I100),IF(T99>SUM(U99:U100),T99-SUM(U99:U100),0)))","v":0},null,0,null,{"$f":"IF(X99=0,0,X99*$I100/SUM(I99:I101))","v":0},0.25,0]
[null,null,null,null,"(3) ตราสารทุนที่จดทะเบียนในตลาดหลักทรัพย์อื่น แต่ไม่อยู่ในดัชนีตลาดหลักทรัพย์ตามที่กำหนดไว้ในตาราง",null,null,null,{"$f":"$D99*$H101","v":0},null,null,null,null,null,null,null,null,null,null,null,{"$f":"IF(T99=0,0,IF(Z101=0.25,IF(SUM(I99:I100)>T99,T99*(I101/SUM(I99:I100)),I101),IF(T99>SUM(U99:U100),T99-SUM(U99:U100),0)))","v":0},null,0,null,{"$f":"IF(X99=0,0,X99*$I101/SUM(I99:I101))","v":0},0.35,0]
[null,8,null,null,"(1) ตราสารทุนที่จดทะเบียนในตลาดหลักทรัพย์แห่งประเทศไทย และตลาดหลักทรัพย์ เอ็ม เอ ไอ",null,null,null,{"$f":"$D102*$H102","v":0},null,null,null,null,null,null,null,null,{"$f":"IF(AND(SUM($I102:$I104)=0,$K102=\"\"),\"\",SUM($I102:$I104)/$K102)","v":""},{"$f":"IF(AND(SUM($I102:$I104)=0,$K102=\"\"),\"\",$K102/SUM($I102:$I104))","v":""},{"$f":"IF(D102=\"\",0,IF(N102=\"ใช่\",IF(AND(P102<=-0.8,P102>=-1.25,Q102<=-0.9,Q102>=-1,R102>=0.95,S102>=0.95),MIN(SUM(I102:I104),K102),0),IF(O102=\"ใช่\",IF(AND(R102>=0.95,S102>=0.95),MIN(SUM(I102:I104),K102),0),0)))","v":0},{"$f":"IF(T102=0,0,IF(Z102=0.25,IF(SUM(I102:I103)>T102,T102*(I102/SUM(I102:I103)),I102),IF(T102>SUM(U102:U103),T102-SUM(U102:U103),0)))","v":0},{"$f":"SUM(W102:W104)","v":0},0,{"$f":"IF($D102=\"\",0,IF($N102=\"ใช่\",IF(AND($P102<=-0.8,$P102>=-1.25,$Q102<=-0.9,$Q102>=-1,$R102>=0.95,$S102>=0.95),0,MAX(K102-SUM(W102:W104),0)),IF($O102=\"ใช่\",IF(AND($R102>=0.95,$S102>=0.95),0,MAX(K102-SUM(W102:W104),0)),MAX(K102-SUM(W102:W104),0))))","v":0},{"$f":"IF(X102=0,0,X102*$I102/SUM(I102:I104))","v":0},0.25,0,{"$f":"SUM(AA102:AA104)","v":0}]
[null,null,null,null,"(2) ตราสารทุนที่จดทะเบียนในตลาดหลักทรัพย์อื่น และอยู่ในดัชนีตลาดหลักทรัพย์ตามที่กำหนดไว้",null,null,null,{"$f":"$D102*$H103","v":0},null,null,null,null,null,null,null,null,null,null,null,{"$f":"IF(T102=0,0,IF(Z103=0.25,IF(SUM(I102:I103)>T102,T102*(I103/SUM(I102:I103)),I103),IF(T102>SUM(U102:U103),T102-SUM(U102:U103),0)))","v":0},null,0,null,{"$f":"IF(X102=0,0,X102*$I103/SUM(I102:I104))","v":0},0.25,0]
[null,null,null,null,"(3) ตราสารทุนที่จดทะเบียนในตลาดหลักทรัพย์อื่น แต่ไม่อยู่ในดัชนีตลาดหลักทรัพย์ตามที่กำหนดไว้ในตาราง",null,null,null,{"$f":"$D102*$H104","v":0},null,null,null,null,null,null,null,null,null,null,null,{"$f":"IF(T102=0,0,IF(Z104=0.25,IF(SUM(I102:I103)>T102,T102*(I104/SUM(I102:I103)),I104),IF(T102>SUM(U102:U103),T102-SUM(U102:U103),0)))","v":0},null,0,null,{"$f":"IF(X102=0,0,X102*$I104/SUM(I102:I104))","v":0},0.35,0]
[null,9,null,null,"(1) ตราสารทุนที่จดทะเบียนในตลาดหลักทรัพย์แห่งประเทศไทย และตลาดหลักทรัพย์ เอ็ม เอ ไอ",null,null,null,{"$f":"$D105*$H105","v":0},null,null,null,null,null,null,null,null,{"$f":"IF(AND(SUM($I105:$I107)=0,$K105=\"\"),\"\",SUM($I105:$I107)/$K105)","v":""},{"$f":"IF(AND(SUM($I105:$I107)=0,$K105=\"\"),\"\",$K105/SUM($I105:$I107))","v":""},{"$f":"IF(D105=\"\",0,IF(N105=\"ใช่\",IF(AND(P105<=-0.8,P105>=-1.25,Q105<=-0.9,Q105>=-1,R105>=0.95,S105>=0.95),MIN(SUM(I105:I107),K105),0),IF(O105=\"ใช่\",IF(AND(R105>=0.95,S105>=0.95),MIN(SUM(I105:I107),K105),0),0)))","v":0},{"$f":"IF(T105=0,0,IF(Z105=0.25,IF(SUM(I105:I106)>T105,T105*(I105/SUM(I105:I106)),I105),IF(T105>SUM(U105:U106),T105-SUM(U105:U106),0)))","v":0},{"$f":"SUM(W105:W107)","v":0},0,{"$f":"IF($D105=\"\",0,IF($N105=\"ใช่\",IF(AND($P105<=-0.8,$P105>=-1.25,$Q105<=-0.9,$Q105>=-1,$R105>=0.95,$S105>=0.95),0,MAX(K105-SUM(W105:W107),0)),IF($O105=\"ใช่\",IF(AND($R105>=0.95,$S105>=0.95),0,MAX(K105-SUM(W105:W107),0)),MAX(K105-SUM(W105:W107),0))))","v":0},{"$f":"IF(X105=0,0,X105*$I105/SUM(I105:I107))","v":0},0.25,0,{"$f":"SUM(AA105:AA107)","v":0}]
[null,null,null,null,"(2) ตราสารทุนที่จดทะเบียนในตลาดหลักทรัพย์อื่น และอยู่ในดัชนีตลาดหลักทรัพย์ตามที่กำหนดไว้",null,null,null,{"$f":"$D105*$H106","v":0},null,null,null,null,null,null,null,null,null,null,null,{"$f":"IF(T105=0,0,IF(Z106=0.25,IF(SUM(I105:I106)>T105,T105*(I106/SUM(I105:I106)),I106),IF(T105>SUM(U105:U106),T105-SUM(U105:U106),0)))","v":0},null,0,null,{"$f":"IF(X105=0,0,X105*$I106/SUM(I105:I107))","v":0},0.25,0]
[null,null,null,null,"(3) ตราสารทุนที่จดทะเบียนในตลาดหลักทรัพย์อื่น แต่ไม่อยู่ในดัชนีตลาดหลักทรัพย์ตามที่กำหนดไว้ในตาราง",null,null,null,{"$f":"$D105*$H107","v":0},null,null,null,null,null,null,null,null,null,null,null,{"$f":"IF(T105=0,0,IF(Z107=0.25,IF(SUM(I105:I106)>T105,T105*(I107/SUM(I105:I106)),I107),IF(T105>SUM(U105:U106),T105-SUM(U105:U106),0)))","v":0},null,0,null,{"$f":"IF(X105=0,0,X105*$I107/SUM(I105:I107))","v":0},0.35,0]
[null,10,null,null,"(1) ตราสารทุนที่จดทะเบียนในตลาดหลักทรัพย์แห่งประเทศไทย และตลาดหลักทรัพย์ เอ็ม เอ ไอ",null,null,null,{"$f":"$D108*$H108","v":0},null,null,null,null,null,null,null,null,{"$f":"IF(AND(SUM($I108:$I110)=0,$K108=\"\"),\"\",SUM($I108:$I110)/$K108)","v":""},{"$f":"IF(AND(SUM($I108:$I110)=0,$K108=\"\"),\"\",$K108/SUM($I108:$I110))","v":""},{"$f":"IF(D108=\"\",0,IF(N108=\"ใช่\",IF(AND(P108<=-0.8,P108>=-1.25,Q108<=-0.9,Q108>=-1,R108>=0.95,S108>=0.95),MIN(SUM(I108:I110),K108),0),IF(O108=\"ใช่\",IF(AND(R108>=0.95,S108>=0.95),MIN(SUM(I108:I110),K108),0),0)))","v":0},{"$f":"IF(T108=0,0,IF(Z108=0.25,IF(SUM(I108:I109)>T108,T108*(I108/SUM(I108:I109)),I108),IF(T108>SUM(U108:U109),T108-SUM(U108:U109),0)))","v":0},{"$f":"SUM(W108:W110)","v":0},0,{"$f":"IF($D108=\"\",0,IF($N108=\"ใช่\",IF(AND($P108<=-0.8,$P108>=-1.25,$Q108<=-0.9,$Q108>=-1,$R108>=0.95,$S108>=0.95),0,MAX(K108-SUM(W108:W110),0)),IF($O108=\"ใช่\",IF(AND($R108>=0.95,$S108>=0.95),0,MAX(K108-SUM(W108:W110),0)),MAX(K108-SUM(W108:W110),0))))","v":0},{"$f":"IF(X108=0,0,X108*$I108/SUM(I108:I110))","v":0},0.25,0,{"$f":"SUM(AA108:AA110)","v":0}]
[null,null,null,null,"(2) ตราสารทุนที่จดทะเบียนในตลาดหลักทรัพย์อื่น และอยู่ในดัชนีตลาดหลักทรัพย์ตามที่กำหนดไว้",null,null,null,{"$f":"$D108*$H109","v":0},null,null,null,null,null,null,null,null,null,null,null,{"$f":"IF(T108=0,0,IF(Z109=0.25,IF(SUM(I108:I109)>T108,T108*(I109/SUM(I108:I109)),I109),IF(T108>SUM(U108:U109),T108-SUM(U108:U109),0)))","v":0},null,0,null,{"$f":"IF(X108=0,0,X108*$I109/SUM(I108:I110))","v":0},0.25,0]
[null,null,null,null,"(3) ตราสารทุนที่จดทะเบียนในตลาดหลักทรัพย์อื่น แต่ไม่อยู่ในดัชนีตลาดหลักทรัพย์ตามที่กำหนดไว้ในตาราง",null,null,null,{"$f":"$D108*$H110","v":0},null,null,null,null,null,null,null,null,null,null,null,{"$f":"IF(T108=0,0,IF(Z110=0.25,IF(SUM(I108:I109)>T108,T108*(I110/SUM(I108:I109)),I110),IF(T108>SUM(U108:U109),T108-SUM(U108:U109),0)))","v":0},null,0,null,{"$f":"IF(X108=0,0,X108*$I110/SUM(I108:I110))","v":0},0.35,0]
[null,11,null,null,"(1) ตราสารทุนที่จดทะเบียนในตลาดหลักทรัพย์แห่งประเทศไทย และตลาดหลักทรัพย์ เอ็ม เอ ไอ",null,null,null,{"$f":"$D111*$H111","v":0},null,null,null,null,null,null,null,null,{"$f":"IF(AND(SUM($I111:$I113)=0,$K111=\"\"),\"\",SUM($I111:$I113)/$K111)","v":""},{"$f":"IF(AND(SUM($I111:$I113)=0,$K111=\"\"),\"\",$K111/SUM($I111:$I113))","v":""},{"$f":"IF(D111=\"\",0,IF(N111=\"ใช่\",IF(AND(P111<=-0.8,P111>=-1.25,Q111<=-0.9,Q111>=-1,R111>=0.95,S111>=0.95),MIN(SUM(I111:I113),K111),0),IF(O111=\"ใช่\",IF(AND(R111>=0.95,S111>=0.95),MIN(SUM(I111:I113),K111),0),0)))","v":0},{"$f":"IF(T111=0,0,IF(Z111=0.25,IF(SUM(I111:I112)>T111,T111*(I111/SUM(I111:I112)),I111),IF(T111>SUM(U111:U112),T111-SUM(U111:U112),0)))","v":0},{"$f":"SUM(W111:W113)","v":0},0,{"$f":"IF($D111=\"\",0,IF($N111=\"ใช่\",IF(AND($P111<=-0.8,$P111>=-1.25,$Q111<=-0.9,$Q111>=-1,$R111>=0.95,$S111>=0.95),0,MAX(K111-SUM(W111:W113),0)),IF($O111=\"ใช่\",IF(AND($R111>=0.95,$S111>=0.95),0,MAX(K111-SUM(W111:W113),0)),MAX(K111-SUM(W111:W113),0))))","v":0},{"$f":"IF(X111=0,0,X111*$I111/SUM(I111:I113))","v":0},0.25,0,{"$f":"SUM(AA111:AA113)","v":0}]
[null,null,null,null,"(2) ตราสารทุนที่จดทะเบียนในตลาดหลักทรัพย์อื่น และอยู่ในดัชนีตลาดหลักทรัพย์ตามที่กำหนดไว้",null,null,null,{"$f":"$D111*$H112","v":0},null,null,null,null,null,null,null,null,null,null,null,{"$f":"IF(T111=0,0,IF(Z112=0.25,IF(SUM(I111:I112)>T111,T111*(I112/SUM(I111:I112)),I112),IF(T111>SUM(U111:U112),T111-SUM(U111:U112),0)))","v":0},null,0,null,{"$f":"IF(X111=0,0,X111*$I112/SUM(I111:I113))","v":0},0.25,0]
[null,null,null,null,"(3) ตราสารทุนที่จดทะเบียนในตลาดหลักทรัพย์อื่น แต่ไม่อยู่ในดัชนีตลาดหลักทรัพย์ตามที่กำหนดไว้ในตาราง",null,null,null,{"$f":"$D111*$H113","v":0},null,null,null,null,null,null,null,null,null,null,null,{"$f":"IF(T111=0,0,IF(Z113=0.25,IF(SUM(I111:I112)>T111,T111*(I113/SUM(I111:I112)),I113),IF(T111>SUM(U111:U112),T111-SUM(U111:U112),0)))","v":0},null,{"$f":"I113-U113","v":0},null,{"$f":"IF(X111=0,0,X111*$I113/SUM(I111:I113))","v":0},0.35,0]
[null,12,null,null,"(1) ตราสารทุนที่จดทะเบียนในตลาดหลักทรัพย์แห่งประเทศไทย และตลาดหลักทรัพย์ เอ็ม เอ ไอ",null,null,null,{"$f":"$D114*$H114","v":0},null,null,null,null,null,null,null,null,{"$f":"IF(AND(SUM($I114:$I116)=0,$K114=\"\"),\"\",SUM($I114:$I116)/$K114)","v":""},{"$f":"IF(AND(SUM($I114:$I116)=0,$K114=\"\"),\"\",$K114/SUM($I114:$I116))","v":""},{"$f":"IF(D114=\"\",0,IF(N114=\"ใช่\",IF(AND(P114<=-0.8,P114>=-1.25,Q114<=-0.9,Q114>=-1,R114>=0.95,S114>=0.95),MIN(SUM(I114:I116),K114),0),IF(O114=\"ใช่\",IF(AND(R114>=0.95,S114>=0.95),MIN(SUM(I114:I116),K114),0),0)))","v":0},{"$f":"IF(T114=0,0,IF(Z114=0.25,IF(SUM(I114:I115)>T114,T114*(I114/SUM(I114:I115)),I114),IF(T114>SUM(U114:U115),T114-SUM(U114:U115),0)))","v":0},{"$f":"SUM(W114:W116)","v":0},0,{"$f":"IF($D114=\"\",0,IF($N114=\"ใช่\",IF(AND($P114<=-0.8,$P114>=-1.25,$Q114<=-0.9,$Q114>=-1,$R114>=0.95,$S114>=0.95),0,MAX(K114-SUM(W114:W116),0)),IF($O114=\"ใช่\",IF(AND($R114>=0.95,$S114>=0.95),0,MAX(K114-SUM(W114:W116),0)),MAX(K114-SUM(W114:W116),0))))","v":0},{"$f":"IF(X114=0,0,X114*$I114/SUM(I114:I116))","v":0},0.25,0,{"$f":"SUM(AA114:AA116)","v":0}]
[null,null,null,null,"(2) ตราสารทุนที่จดทะเบียนในตลาดหลักทรัพย์อื่น และอยู่ในดัชนีตลาดหลักทรัพย์ตามที่กำหนดไว้",null,null,null,{"$f":"$D114*$H115","v":0},null,null,null,null,null,null,null,null,null,null,null,{"$f":"IF(T114=0,0,IF(Z115=0.25,IF(SUM(I114:I115)>T114,T114*(I115/SUM(I114:I115)),I115),IF(T114>SUM(U114:U115),T114-SUM(U114:U115),0)))","v":0},null,0,null,{"$f":"IF(X114=0,0,X114*$I115/SUM(I114:I116))","v":0},0.25,0]
[null,null,null,null,"(3) ตราสารทุนที่จดทะเบียนในตลาดหลักทรัพย์อื่น แต่ไม่อยู่ในดัชนีตลาดหลักทรัพย์ตามที่กำหนดไว้ในตาราง",null,null,null,{"$f":"$D114*$H116","v":0},null,null,null,null,null,null,null,null,null,null,null,{"$f":"IF(T114=0,0,IF(Z116=0.25,IF(SUM(I114:I115)>T114,T114*(I116/SUM(I114:I115)),I116),IF(T114>SUM(U114:U115),T114-SUM(U114:U115),0)))","v":0},null,0,null,{"$f":"IF(X114=0,0,X114*$I116/SUM(I114:I116))","v":0},0.35,0]
[null,13,null,null,"(1) ตราสารทุนที่จดทะเบียนในตลาดหลักทรัพย์แห่งประเทศไทย และตลาดหลักทรัพย์ เอ็ม เอ ไอ",null,null,null,{"$f":"$D117*$H117","v":0},null,null,null,null,null,null,null,null,{"$f":"IF(AND(SUM($I117:$I119)=0,$K117=\"\"),\"\",SUM($I117:$I119)/$K117)","v":""},{"$f":"IF(AND(SUM($I117:$I119)=0,$K117=\"\"),\"\",$K117/SUM($I117:$I119))","v":""},{"$f":"IF(D117=\"\",0,IF(N117=\"ใช่\",IF(AND(P117<=-0.8,P117>=-1.25,Q117<=-0.9,Q117>=-1,R117>=0.95,S117>=0.95),MIN(SUM(I117:I119),K117),0),IF(O117=\"ใช่\",IF(AND(R117>=0.95,S117>=0.95),MIN(SUM(I117:I119),K117),0),0)))","v":0},{"$f":"IF(T117=0,0,IF(Z117=0.25,IF(SUM(I117:I118)>T117,T117*(I117/SUM(I117:I118)),I117),IF(T117>SUM(U117:U118),T117-SUM(U117:U118),0)))","v":0},{"$f":"SUM(W117:W119)","v":0},0,{"$f":"IF($D117=\"\",0,IF($N117=\"ใช่\",IF(AND($P117<=-0.8,$P117>=-1.25,$Q117<=-0.9,$Q117>=-1,$R117>=0.95,$S117>=0.95),0,MAX(K117-SUM(W117:W119),0)),IF($O117=\"ใช่\",IF(AND($R117>=0.95,$S117>=0.95),0,MAX(K117-SUM(W117:W119),0)),MAX(K117-SUM(W117:W119),0))))","v":0},{"$f":"IF(X117=0,0,X117*$I117/SUM(I117:I119))","v":0},0.25,0,{"$f":"SUM(AA117:AA119)","v":0}]
[null,null,null,null,"(2) ตราสารทุนที่จดทะเบียนในตลาดหลักทรัพย์อื่น และอยู่ในดัชนีตลาดหลักทรัพย์ตามที่กำหนดไว้",null,null,null,{"$f":"$D117*$H118","v":0},null,null,null,null,null,null,null,null,null,null,null,{"$f":"IF(T117=0,0,IF(Z118=0.25,IF(SUM(I117:I118)>T117,T117*(I118/SUM(I117:I118)),I118),IF(T117>SUM(U117:U118),T117-SUM(U117:U118),0)))","v":0},null,0,null,{"$f":"IF(X117=0,0,X117*$I118/SUM(I117:I119))","v":0},0.25,0]
[null,null,null,null,"(3) ตราสารทุนที่จดทะเบียนในตลาดหลักทรัพย์อื่น แต่ไม่อยู่ในดัชนีตลาดหลักทรัพย์ตามที่กำหนดไว้ในตาราง",null,null,null,{"$f":"$D117*$H119","v":0},null,null,null,null,null,null,null,null,null,null,null,{"$f":"IF(T117=0,0,IF(Z119=0.25,IF(SUM(I117:I118)>T117,T117*(I119/SUM(I117:I118)),I119),IF(T117>SUM(U117:U118),T117-SUM(U117:U118),0)))","v":0},null,0,null,{"$f":"IF(X117=0,0,X117*$I119/SUM(I117:I119))","v":0},0.35,0]
[null,14,null,null,"(1) ตราสารทุนที่จดทะเบียนในตลาดหลักทรัพย์แห่งประเทศไทย และตลาดหลักทรัพย์ เอ็ม เอ ไอ",null,null,null,{"$f":"$D120*$H120","v":0},null,null,null,null,null,null,null,null,{"$f":"IF(AND(SUM($I120:$I122)=0,$K120=\"\"),\"\",SUM($I120:$I122)/$K120)","v":""},{"$f":"IF(AND(SUM($I120:$I122)=0,$K120=\"\"),\"\",$K120/SUM($I120:$I122))","v":""},{"$f":"IF(D120=\"\",0,IF(N120=\"ใช่\",IF(AND(P120<=-0.8,P120>=-1.25,Q120<=-0.9,Q120>=-1,R120>=0.95,S120>=0.95),MIN(SUM(I120:I122),K120),0),IF(O120=\"ใช่\",IF(AND(R120>=0.95,S120>=0.95),MIN(SUM(I120:I122),K120),0),0)))","v":0},{"$f":"IF(T120=0,0,IF(Z120=0.25,IF(SUM(I120:I121)>T120,T120*(I120/SUM(I120:I121)),I120),IF(T120>SUM(U120:U121),T120-SUM(U120:U121),0)))","v":0},{"$f":"SUM(W120:W122)","v":0},0,{"$f":"IF($D120=\"\",0,IF($N120=\"ใช่\",IF(AND($P120<=-0.8,$P120>=-1.25,$Q120<=-0.9,$Q120>=-1,$R120>=0.95,$S120>=0.95),0,MAX(K120-SUM(W120:W122),0)),IF($O120=\"ใช่\",IF(AND($R120>=0.95,$S120>=0.95),0,MAX(K120-SUM(W120:W122),0)),MAX(K120-SUM(W120:W122),0))))","v":0},{"$f":"IF(X120=0,0,X120*$I120/SUM(I120:I122))","v":0},0.25,0,{"$f":"SUM(AA120:AA122)","v":0}]
[null,null,null,null,"(2) ตราสารทุนที่จดทะเบียนในตลาดหลักทรัพย์อื่น และอยู่ในดัชนีตลาดหลักทรัพย์ตามที่กำหนดไว้",null,null,null,{"$f":"$D120*$H121","v":0},null,null,null,null,null,null,null,null,null,null,null,{"$f":"IF(T120=0,0,IF(Z121=0.25,IF(SUM(I120:I121)>T120,T120*(I121/SUM(I120:I121)),I121),IF(T120>SUM(U120:U121),T120-SUM(U120:U121),0)))","v":0},null,0,null,{"$f":"IF(X120=0,0,X120*$I121/SUM(I120:I122))","v":0},0.25,0]
[null,null,null,null,"(3) ตราสารทุนที่จดทะเบียนในตลาดหลักทรัพย์อื่น แต่ไม่อยู่ในดัชนีตลาดหลักทรัพย์ตามที่กำหนดไว้ในตาราง",null,null,null,{"$f":"$D120*$H122","v":0},null,null,null,null,null,null,null,null,null,null,null,{"$f":"IF(T120=0,0,IF(Z122=0.25,IF(SUM(I120:I121)>T120,T120*(I122/SUM(I120:I121)),I122),IF(T120>SUM(U120:U121),T120-SUM(U120:U121),0)))","v":0},null,0,null,{"$f":"IF(X120=0,0,X120*$I122/SUM(I120:I122))","v":0},0.35,0]
[null,15,null,null,"(1) ตราสารทุนที่จดทะเบียนในตลาดหลักทรัพย์แห่งประเทศไทย และตลาดหลักทรัพย์ เอ็ม เอ ไอ",null,null,null,{"$f":"$D123*$H123","v":0},null,null,null,null,null,null,null,null,{"$f":"IF(AND(SUM($I123:$I125)=0,$K123=\"\"),\"\",SUM($I123:$I125)/$K123)","v":""},{"$f":"IF(AND(SUM($I123:$I125)=0,$K123=\"\"),\"\",$K123/SUM($I123:$I125))","v":""},{"$f":"IF(D123=\"\",0,IF(N123=\"ใช่\",IF(AND(P123<=-0.8,P123>=-1.25,Q123<=-0.9,Q123>=-1,R123>=0.95,S123>=0.95),MIN(SUM(I123:I125),K123),0),IF(O123=\"ใช่\",IF(AND(R123>=0.95,S123>=0.95),MIN(SUM(I123:I125),K123),0),0)))","v":0},{"$f":"IF(T123=0,0,IF(Z123=0.25,IF(SUM(I123:I124)>T123,T123*(I123/SUM(I123:I124)),I123),IF(T123>SUM(U123:U124),T123-SUM(U123:U124),0)))","v":0},{"$f":"SUM(W123:W125)","v":0},0,{"$f":"IF($D123=\"\",0,IF($N123=\"ใช่\",IF(AND($P123<=-0.8,$P123>=-1.25,$Q123<=-0.9,$Q123>=-1,$R123>=0.95,$S123>=0.95),0,MAX(K123-SUM(W123:W125),0)),IF($O123=\"ใช่\",IF(AND($R123>=0.95,$S123>=0.95),0,MAX(K123-SUM(W123:W125),0)),MAX(K123-SUM(W123:W125),0))))","v":0},{"$f":"IF(X123=0,0,X123*$I123/SUM(I123:I125))","v":0},0.25,{"$f":"W123*Z123+Y123","v":0},{"$f":"SUM(AA123:AA125)","v":0}]
[null,null,null,null,"(2) ตราสารทุนที่จดทะเบียนในตลาดหลักทรัพย์อื่น และอยู่ในดัชนีตลาดหลักทรัพย์ตามที่กำหนดไว้",null,null,null,{"$f":"$D123*$H124","v":0},null,null,null,null,null,null,null,null,null,null,null,{"$f":"IF(T123=0,0,IF(Z124=0.25,IF(SUM(I123:I124)>T123,T123*(I124/SUM(I123:I124)),I124),IF(T123>SUM(U123:U124),T123-SUM(U123:U124),0)))","v":0},null,0,null,{"$f":"IF(X123=0,0,X123*$I124/SUM(I123:I125))","v":0},0.25,0]
[null,null,null,null,"(3) ตราสารทุนที่จดทะเบียนในตลาดหลักทรัพย์อื่น แต่ไม่อยู่ในดัชนีตลาดหลักทรัพย์ตามที่กำหนดไว้ในตาราง",null,null,null,{"$f":"$D123*$H125","v":0},null,null,null,null,null,null,null,null,null,null,null,{"$f":"IF(T123=0,0,IF(Z125=0.25,IF(SUM(I123:I124)>T123,T123*(I125/SUM(I123:I124)),I125),IF(T123>SUM(U123:U124),T123-SUM(U123:U124),0)))","v":0},null,0,null,{"$f":"IF(X123=0,0,X123*$I125/SUM(I123:I125))","v":0},0.35,0]
[null,16,null,null,"(1) ตราสารทุนที่จดทะเบียนในตลาดหลักทรัพย์แห่งประเทศไทย และตลาดหลักทรัพย์ เอ็ม เอ ไอ",null,null,null,{"$f":"$D126*$H126","v":0},null,null,null,null,null,null,null,null,{"$f":"IF(AND(SUM($I126:$I128)=0,$K126=\"\"),\"\",SUM($I126:$I128)/$K126)","v":""},{"$f":"IF(AND(SUM($I126:$I128)=0,$K126=\"\"),\"\",$K126/SUM($I126:$I128))","v":""},{"$f":"IF(D126=\"\",0,IF(N126=\"ใช่\",IF(AND(P126<=-0.8,P126>=-1.25,Q126<=-0.9,Q126>=-1,R126>=0.95,S126>=0.95),MIN(SUM(I126:I128),K126),0),IF(O126=\"ใช่\",IF(AND(R126>=0.95,S126>=0.95),MIN(SUM(I126:I128),K126),0),0)))","v":0},{"$f":"IF(T126=0,0,IF(Z126=0.25,IF(SUM(I126:I127)>T126,T126*(I126/SUM(I126:I127)),I126),IF(T126>SUM(U126:U127),T126-SUM(U126:U127),0)))","v":0},{"$f":"SUM(W126:W128)","v":0},0,{"$f":"IF($D126=\"\",0,IF($N126=\"ใช่\",IF(AND($P126<=-0.8,$P126>=-1.25,$Q126<=-0.9,$Q126>=-1,$R126>=0.95,$S126>=0.95),0,MAX(K126-SUM(W126:W128),0)),IF($O126=\"ใช่\",IF(AND($R126>=0.95,$S126>=0.95),0,MAX(K126-SUM(W126:W128),0)),MAX(K126-SUM(W126:W128),0))))","v":0},{"$f":"IF(X126=0,0,X126*$I126/SUM(I126:I128))","v":0},0.25,0,{"$f":"SUM(AA126:AA128)","v":0}]
[null,null,null,null,"(2) ตราสารทุนที่จดทะเบียนในตลาดหลักทรัพย์อื่น และอยู่ในดัชนีตลาดหลักทรัพย์ตามที่กำหนดไว้",null,null,null,{"$f":"$D126*$H127","v":0},null,null,null,null,null,null,null,null,null,null,null,{"$f":"IF(T126=0,0,IF(Z127=0.25,IF(SUM(I126:I127)>T126,T126*(I127/SUM(I126:I127)),I127),IF(T126>SUM(U126:U127),T126-SUM(U126:U127),0)))","v":0},null,0,null,{"$f":"IF(X126=0,0,X126*$I127/SUM(I126:I128))","v":0},0.25,0]
[null,null,null,null,"(3) ตราสารทุนที่จดทะเบียนในตลาดหลักทรัพย์อื่น แต่ไม่อยู่ในดัชนีตลาดหลักทรัพย์ตามที่กำหนดไว้ในตาราง",null,null,null,{"$f":"$D126*$H128","v":0},null,null,null,null,null,null,null,null,null,null,null,{"$f":"IF(T126=0,0,IF(Z128=0.25,IF(SUM(I126:I127)>T126,T126*(I128/SUM(I126:I127)),I128),IF(T126>SUM(U126:U127),T126-SUM(U126:U127),0)))","v":0},null,0,null,{"$f":"IF(X126=0,0,X126*$I128/SUM(I126:I128))","v":0},0.35,0]
[null,17,null,null,"(1) ตราสารทุนที่จดทะเบียนในตลาดหลักทรัพย์แห่งประเทศไทย และตลาดหลักทรัพย์ เอ็ม เอ ไอ",null,null,null,{"$f":"$D129*$H129","v":0},null,null,null,null,null,null,null,null,{"$f":"IF(AND(SUM($I129:$I131)=0,$K129=\"\"),\"\",SUM($I129:$I131)/$K129)","v":""},{"$f":"IF(AND(SUM($I129:$I131)=0,$K129=\"\"),\"\",$K129/SUM($I129:$I131))","v":""},{"$f":"IF(D129=\"\",0,IF(N129=\"ใช่\",IF(AND(P129<=-0.8,P129>=-1.25,Q129<=-0.9,Q129>=-1,R129>=0.95,S129>=0.95),MIN(SUM(I129:I131),K129),0),IF(O129=\"ใช่\",IF(AND(R129>=0.95,S129>=0.95),MIN(SUM(I129:I131),K129),0),0)))","v":0},{"$f":"IF(T129=0,0,IF(Z129=0.25,IF(SUM(I129:I130)>T129,T129*(I129/SUM(I129:I130)),I129),IF(T129>SUM(U129:U130),T129-SUM(U129:U130),0)))","v":0},{"$f":"SUM(W129:W131)","v":0},0,{"$f":"IF($D129=\"\",0,IF($N129=\"ใช่\",IF(AND($P129<=-0.8,$P129>=-1.25,$Q129<=-0.9,$Q129>=-1,$R129>=0.95,$S129>=0.95),0,MAX(K129-SUM(W129:W131),0)),IF($O129=\"ใช่\",IF(AND($R129>=0.95,$S129>=0.95),0,MAX(K129-SUM(W129:W131),0)),MAX(K129-SUM(W129:W131),0))))","v":0},{"$f":"IF(X129=0,0,X129*$I129/SUM(I129:I131))","v":0},0.25,0,{"$f":"SUM(AA129:AA131)","v":0}]
[null,null,null,null,"(2) ตราสารทุนที่จดทะเบียนในตลาดหลักทรัพย์อื่น และอยู่ในดัชนีตลาดหลักทรัพย์ตามที่กำหนดไว้",null,null,null,{"$f":"$D129*$H130","v":0},null,null,null,null,null,null,null,null,null,null,null,{"$f":"IF(T129=0,0,IF(Z130=0.25,IF(SUM(I129:I130)>T129,T129*(I130/SUM(I129:I130)),I130),IF(T129>SUM(U129:U130),T129-SUM(U129:U130),0)))","v":0},null,0,null,{"$f":"IF(X129=0,0,X129*$I130/SUM(I129:I131))","v":0},0.25,0]
[null,null,null,null,"(3) ตราสารทุนที่จดทะเบียนในตลาดหลักทรัพย์อื่น แต่ไม่อยู่ในดัชนีตลาดหลักทรัพย์ตามที่กำหนดไว้ในตาราง",null,null,null,{"$f":"$D129*$H131","v":0},null,null,null,null,null,null,null,null,null,null,null,{"$f":"IF(T129=0,0,IF(Z131=0.25,IF(SUM(I129:I130)>T129,T129*(I131/SUM(I129:I130)),I131),IF(T129>SUM(U129:U130),T129-SUM(U129:U130),0)))","v":0},null,0,null,{"$f":"IF(X129=0,0,X129*$I131/SUM(I129:I131))","v":0},0.35,0]
[null,18,null,null,"(1) ตราสารทุนที่จดทะเบียนในตลาดหลักทรัพย์แห่งประเทศไทย และตลาดหลักทรัพย์ เอ็ม เอ ไอ",null,null,null,{"$f":"$D132*$H132","v":0},null,null,null,null,null,null,null,null,{"$f":"IF(AND(SUM($I132:$I134)=0,$K132=\"\"),\"\",SUM($I132:$I134)/$K132)","v":""},{"$f":"IF(AND(SUM($I132:$I134)=0,$K132=\"\"),\"\",$K132/SUM($I132:$I134))","v":""},{"$f":"IF(D132=\"\",0,IF(N132=\"ใช่\",IF(AND(P132<=-0.8,P132>=-1.25,Q132<=-0.9,Q132>=-1,R132>=0.95,S132>=0.95),MIN(SUM(I132:I134),K132),0),IF(O132=\"ใช่\",IF(AND(R132>=0.95,S132>=0.95),MIN(SUM(I132:I134),K132),0),0)))","v":0},{"$f":"IF(T132=0,0,IF(Z132=0.25,IF(SUM(I132:I133)>T132,T132*(I132/SUM(I132:I133)),I132),IF(T132>SUM(U132:U133),T132-SUM(U132:U133),0)))","v":0},{"$f":"SUM(W132:W134)","v":0},0,{"$f":"IF($D132=\"\",0,IF($N132=\"ใช่\",IF(AND($P132<=-0.8,$P132>=-1.25,$Q132<=-0.9,$Q132>=-1,$R132>=0.95,$S132>=0.95),0,MAX(K132-SUM(W132:W134),0)),IF($O132=\"ใช่\",IF(AND($R132>=0.95,$S132>=0.95),0,MAX(K132-SUM(W132:W134),0)),MAX(K132-SUM(W132:W134),0))))","v":0},{"$f":"IF(X132=0,0,X132*$I132/SUM(I132:I134))","v":0},0.25,0,{"$f":"SUM(AA132:AA134)","v":0}]
[null,null,null,null,"(2) ตราสารทุนที่จดทะเบียนในตลาดหลักทรัพย์อื่น และอยู่ในดัชนีตลาดหลักทรัพย์ตามที่กำหนดไว้",null,null,null,{"$f":"$D132*$H133","v":0},null,null,null,null,null,null,null,null,null,null,null,{"$f":"IF(T132=0,0,IF(Z133=0.25,IF(SUM(I132:I133)>T132,T132*(I133/SUM(I132:I133)),I133),IF(T132>SUM(U132:U133),T132-SUM(U132:U133),0)))","v":0},null,0,null,{"$f":"IF(X132=0,0,X132*$I133/SUM(I132:I134))","v":0},0.25,0]
[null,null,null,null,"(3) ตราสารทุนที่จดทะเบียนในตลาดหลักทรัพย์อื่น แต่ไม่อยู่ในดัชนีตลาดหลักทรัพย์ตามที่กำหนดไว้ในตาราง",null,null,null,{"$f":"$D132*$H134","v":0},null,null,null,null,null,null,null,null,null,null,null,{"$f":"IF(T132=0,0,IF(Z134=0.25,IF(SUM(I132:I133)>T132,T132*(I134/SUM(I132:I133)),I134),IF(T132>SUM(U132:U133),T132-SUM(U132:U133),0)))","v":0},null,0,null,{"$f":"IF(X132=0,0,X132*$I134/SUM(I132:I134))","v":0},0.35,0]
[null,19,null,null,"(1) ตราสารทุนที่จดทะเบียนในตลาดหลักทรัพย์แห่งประเทศไทย และตลาดหลักทรัพย์ เอ็ม เอ ไอ",null,null,null,{"$f":"$D135*$H135","v":0},null,null,null,null,null,null,null,null,{"$f":"IF(AND(SUM($I135:$I137)=0,$K135=\"\"),\"\",SUM($I135:$I137)/$K135)","v":""},{"$f":"IF(AND(SUM($I135:$I137)=0,$K135=\"\"),\"\",$K135/SUM($I135:$I137))","v":""},{"$f":"IF(D135=\"\",0,IF(N135=\"ใช่\",IF(AND(P135<=-0.8,P135>=-1.25,Q135<=-0.9,Q135>=-1,R135>=0.95,S135>=0.95),MIN(SUM(I135:I137),K135),0),IF(O135=\"ใช่\",IF(AND(R135>=0.95,S135>=0.95),MIN(SUM(I135:I137),K135),0),0)))","v":0},{"$f":"IF(T135=0,0,IF(Z135=0.25,IF(SUM(I135:I136)>T135,T135*(I135/SUM(I135:I136)),I135),IF(T135>SUM(U135:U136),T135-SUM(U135:U136),0)))","v":0},{"$f":"SUM(W135:W137)","v":0},0,{"$f":"IF($D135=\"\",0,IF($N135=\"ใช่\",IF(AND($P135<=-0.8,$P135>=-1.25,$Q135<=-0.9,$Q135>=-1,$R135>=0.95,$S135>=0.95),0,MAX(K135-SUM(W135:W137),0)),IF($O135=\"ใช่\",IF(AND($R135>=0.95,$S135>=0.95),0,MAX(K135-SUM(W135:W137),0)),MAX(K135-SUM(W135:W137),0))))","v":0},{"$f":"IF(X135=0,0,X135*$I135/SUM(I135:I137))","v":0},0.25,0,{"$f":"SUM(AA135:AA137)","v":0}]
[null,null,null,null,"(2) ตราสารทุนที่จดทะเบียนในตลาดหลักทรัพย์อื่น และอยู่ในดัชนีตลาดหลักทรัพย์ตามที่กำหนดไว้",null,null,null,{"$f":"$D135*$H136","v":0},null,null,null,null,null,null,null,null,null,null,null,{"$f":"IF(T135=0,0,IF(Z136=0.25,IF(SUM(I135:I136)>T135,T135*(I136/SUM(I135:I136)),I136),IF(T135>SUM(U135:U136),T135-SUM(U135:U136),0)))","v":0},null,0,null,{"$f":"IF(X135=0,0,X135*$I136/SUM(I135:I137))","v":0},0.25,0]
[null,null,null,null,"(3) ตราสารทุนที่จดทะเบียนในตลาดหลักทรัพย์อื่น แต่ไม่อยู่ในดัชนีตลาดหลักทรัพย์ตามที่กำหนดไว้ในตาราง",null,null,null,{"$f":"$D135*$H137","v":0},null,null,null,null,null,null,null,null,null,null,null,{"$f":"IF(T135=0,0,IF(Z137=0.25,IF(SUM(I135:I136)>T135,T135*(I137/SUM(I135:I136)),I137),IF(T135>SUM(U135:U136),T135-SUM(U135:U136),0)))","v":0},null,0,null,{"$f":"IF(X135=0,0,X135*$I137/SUM(I135:I137))","v":0},0.35,0]
[null,20,null,null,"(1) ตราสารทุนที่จดทะเบียนในตลาดหลักทรัพย์แห่งประเทศไทย และตลาดหลักทรัพย์ เอ็ม เอ ไอ",null,null,null,{"$f":"$D138*$H138","v":0},null,null,null,null,null,null,null,null,{"$f":"IF(AND(SUM($I138:$I140)=0,$K138=\"\"),\"\",SUM($I138:$I140)/$K138)","v":""},{"$f":"IF(AND(SUM($I138:$I140)=0,$K138=\"\"),\"\",$K138/SUM($I138:$I140))","v":""},{"$f":"IF(D138=\"\",0,IF(N138=\"ใช่\",IF(AND(P138<=-0.8,P138>=-1.25,Q138<=-0.9,Q138>=-1,R138>=0.95,S138>=0.95),MIN(SUM(I138:I140),K138),0),IF(O138=\"ใช่\",IF(AND(R138>=0.95,S138>=0.95),MIN(SUM(I138:I140),K138),0),0)))","v":0},{"$f":"IF(T138=0,0,IF(Z138=0.25,IF(SUM(I138:I139)>T138,T138*(I138/SUM(I138:I139)),I138),IF(T138>SUM(U138:U139),T138-SUM(U138:U139),0)))","v":0},{"$f":"SUM(W138:W140)","v":0},0,{"$f":"IF($D138=\"\",0,IF($N138=\"ใช่\",IF(AND($P138<=-0.8,$P138>=-1.25,$Q138<=-0.9,$Q138>=-1,$R138>=0.95,$S138>=0.95),0,MAX(K138-SUM(W138:W140),0)),IF($O138=\"ใช่\",IF(AND($R138>=0.95,$S138>=0.95),0,MAX(K138-SUM(W138:W140),0)),MAX(K138-SUM(W138:W140),0))))","v":0},{"$f":"IF(X138=0,0,X138*$I138/SUM(I138:I140))","v":0},0.25,0,{"$f":"SUM(AA138:AA140)","v":0}]
[null,null,null,null,"(2) ตราสารทุนที่จดทะเบียนในตลาดหลักทรัพย์อื่น และอยู่ในดัชนีตลาดหลักทรัพย์ตามที่กำหนดไว้",null,null,null,{"$f":"$D138*$H139","v":0},null,null,null,null,null,null,null,null,null,null,null,{"$f":"IF(T138=0,0,IF(Z139=0.25,IF(SUM(I138:I139)>T138,T138*(I139/SUM(I138:I139)),I139),IF(T138>SUM(U138:U139),T138-SUM(U138:U139),0)))","v":0},null,0,null,{"$f":"IF(X138=0,0,X138*$I139/SUM(I138:I140))","v":0},0.25,0]
[null,null,null,null,"(3) ตราสารทุนที่จดทะเบียนในตลาดหลักทรัพย์อื่น แต่ไม่อยู่ในดัชนีตลาดหลักทรัพย์ตามที่กำหนดไว้ในตาราง",null,null,null,{"$f":"$D138*$H140","v":0},null,null,null,null,null,null,null,null,null,null,null,{"$f":"IF(T138=0,0,IF(Z140=0.25,IF(SUM(I138:I139)>T138,T138*(I140/SUM(I138:I139)),I140),IF(T138>SUM(U138:U139),T138-SUM(U138:U139),0)))","v":0},null,0,null,{"$f":"IF(X138=0,0,X138*$I140/SUM(I138:I140))","v":0},0.35,0]
[null,21,null,null,"(1) ตราสารทุนที่จดทะเบียนในตลาดหลักทรัพย์แห่งประเทศไทย และตลาดหลักทรัพย์ เอ็ม เอ ไอ",null,null,null,{"$f":"$D141*$H141","v":0},null,null,null,null,null,null,null,null,{"$f":"IF(AND(SUM($I141:$I143)=0,$K141=\"\"),\"\",SUM($I141:$I143)/$K141)","v":""},{"$f":"IF(AND(SUM($I141:$I143)=0,$K141=\"\"),\"\",$K141/SUM($I141:$I143))","v":""},{"$f":"IF(D141=\"\",0,IF(N141=\"ใช่\",IF(AND(P141<=-0.8,P141>=-1.25,Q141<=-0.9,Q141>=-1,R141>=0.95,S141>=0.95),MIN(SUM(I141:I143),K141),0),IF(O141=\"ใช่\",IF(AND(R141>=0.95,S141>=0.95),MIN(SUM(I141:I143),K141),0),0)))","v":0},{"$f":"IF(T141=0,0,IF(Z141=0.25,IF(SUM(I141:I142)>T141,T141*(I141/SUM(I141:I142)),I141),IF(T141>SUM(U141:U142),T141-SUM(U141:U142),0)))","v":0},{"$f":"SUM(W141:W143)","v":0},0,{"$f":"IF($D141=\"\",0,IF($N141=\"ใช่\",IF(AND($P141<=-0.8,$P141>=-1.25,$Q141<=-0.9,$Q141>=-1,$R141>=0.95,$S141>=0.95),0,MAX(K141-SUM(W141:W143),0)),IF($O141=\"ใช่\",IF(AND($R141>=0.95,$S141>=0.95),0,MAX(K141-SUM(W141:W143),0)),MAX(K141-SUM(W141:W143),0))))","v":0},{"$f":"IF(X141=0,0,X141*$I141/SUM(I141:I143))","v":0},0.25,0,{"$f":"SUM(AA141:AA143)","v":0}]
[null,null,null,null,"(2) ตราสารทุนที่จดทะเบียนในตลาดหลักทรัพย์อื่น และอยู่ในดัชนีตลาดหลักทรัพย์ตามที่กำหนดไว้",null,null,null,{"$f":"$D141*$H142","v":0},null,null,null,null,null,null,null,null,null,null,null,{"$f":"IF(T141=0,0,IF(Z142=0.25,IF(SUM(I141:I142)>T141,T141*(I142/SUM(I141:I142)),I142),IF(T141>SUM(U141:U142),T141-SUM(U141:U142),0)))","v":0},null,0,null,{"$f":"IF(X141=0,0,X141*$I142/SUM(I141:I143))","v":0},0.25,0]
[null,null,null,null,"(3) ตราสารทุนที่จดทะเบียนในตลาดหลักทรัพย์อื่น แต่ไม่อยู่ในดัชนีตลาดหลักทรัพย์ตามที่กำหนดไว้ในตาราง",null,null,null,{"$f":"$D141*$H143","v":0},null,null,null,null,null,null,null,null,null,null,null,{"$f":"IF(T141=0,0,IF(Z143=0.25,IF(SUM(I141:I142)>T141,T141*(I143/SUM(I141:I142)),I143),IF(T141>SUM(U141:U142),T141-SUM(U141:U142),0)))","v":0},null,0,null,{"$f":"IF(X141=0,0,X141*$I143/SUM(I141:I143))","v":0},0.35,0]
[null,22,null,null,"(1) ตราสารทุนที่จดทะเบียนในตลาดหลักทรัพย์แห่งประเทศไทย และตลาดหลักทรัพย์ เอ็ม เอ ไอ",null,null,null,{"$f":"$D144*$H144","v":0},null,null,null,null,null,null,null,null,{"$f":"IF(AND(SUM($I144:$I146)=0,$K144=\"\"),\"\",SUM($I144:$I146)/$K144)","v":""},{"$f":"IF(AND(SUM($I144:$I146)=0,$K144=\"\"),\"\",$K144/SUM($I144:$I146))","v":""},{"$f":"IF(D144=\"\",0,IF(N144=\"ใช่\",IF(AND(P144<=-0.8,P144>=-1.25,Q144<=-0.9,Q144>=-1,R144>=0.95,S144>=0.95),MIN(SUM(I144:I146),K144),0),IF(O144=\"ใช่\",IF(AND(R144>=0.95,S144>=0.95),MIN(SUM(I144:I146),K144),0),0)))","v":0},{"$f":"IF(T144=0,0,IF(Z144=0.25,IF(SUM(I144:I145)>T144,T144*(I144/SUM(I144:I145)),I144),IF(T144>SUM(U144:U145),T144-SUM(U144:U145),0)))","v":0},{"$f":"SUM(W144:W146)","v":0},0,{"$f":"IF($D144=\"\",0,IF($N144=\"ใช่\",IF(AND($P144<=-0.8,$P144>=-1.25,$Q144<=-0.9,$Q144>=-1,$R144>=0.95,$S144>=0.95),0,MAX(K144-SUM(W144:W146),0)),IF($O144=\"ใช่\",IF(AND($R144>=0.95,$S144>=0.95),0,MAX(K144-SUM(W144:W146),0)),MAX(K144-SUM(W144:W146),0))))","v":0},{"$f":"IF(X144=0,0,X144*$I144/SUM(I144:I146))","v":0},0.25,0,{"$f":"SUM(AA144:AA146)","v":0}]
[null,null,null,null,"(2) ตราสารทุนที่จดทะเบียนในตลาดหลักทรัพย์อื่น และอยู่ในดัชนีตลาดหลักทรัพย์ตามที่กำหนดไว้",null,null,null,{"$f":"$D144*$H145","v":0},null,null,null,null,null,null,null,null,null,null,null,{"$f":"IF(T144=0,0,IF(Z145=0.25,IF(SUM(I144:I145)>T144,T144*(I145/SUM(I144:I145)),I145),IF(T144>SUM(U144:U145),T144-SUM(U144:U145),0)))","v":0},null,{"$f":"I145-U145","v":0},null,{"$f":"IF(X144=0,0,X144*$I145/SUM(I144:I146))","v":0},0.25,0]
[null,null,null,null,"(3) ตราสารทุนที่จดทะเบียนในตลาดหลักทรัพย์อื่น แต่ไม่อยู่ในดัชนีตลาดหลักทรัพย์ตามที่กำหนดไว้ในตาราง",null,null,null,{"$f":"$D144*$H146","v":0},null,null,null,null,null,null,null,null,null,null,null,{"$f":"IF(T144=0,0,IF(Z146=0.25,IF(SUM(I144:I145)>T144,T144*(I146/SUM(I144:I145)),I146),IF(T144>SUM(U144:U145),T144-SUM(U144:U145),0)))","v":0},null,0,null,{"$f":"IF(X144=0,0,X144*$I146/SUM(I144:I146))","v":0},0.35,0]
[null,23,null,null,"(1) ตราสารทุนที่จดทะเบียนในตลาดหลักทรัพย์แห่งประเทศไทย และตลาดหลักทรัพย์ เอ็ม เอ ไอ",null,null,null,{"$f":"$D147*$H147","v":0},null,null,null,null,null,null,null,null,{"$f":"IF(AND(SUM($I147:$I149)=0,$K147=\"\"),\"\",SUM($I147:$I149)/$K147)","v":""},{"$f":"IF(AND(SUM($I147:$I149)=0,$K147=\"\"),\"\",$K147/SUM($I147:$I149))","v":""},{"$f":"IF(D147=\"\",0,IF(N147=\"ใช่\",IF(AND(P147<=-0.8,P147>=-1.25,Q147<=-0.9,Q147>=-1,R147>=0.95,S147>=0.95),MIN(SUM(I147:I149),K147),0),IF(O147=\"ใช่\",IF(AND(R147>=0.95,S147>=0.95),MIN(SUM(I147:I149),K147),0),0)))","v":0},{"$f":"IF(T147=0,0,IF(Z147=0.25,IF(SUM(I147:I148)>T147,T147*(I147/SUM(I147:I148)),I147),IF(T147>SUM(U147:U148),T147-SUM(U147:U148),0)))","v":0},{"$f":"SUM(W147:W149)","v":0},0,{"$f":"IF($D147=\"\",0,IF($N147=\"ใช่\",IF(AND($P147<=-0.8,$P147>=-1.25,$Q147<=-0.9,$Q147>=-1,$R147>=0.95,$S147>=0.95),0,MAX(K147-SUM(W147:W149),0)),IF($O147=\"ใช่\",IF(AND($R147>=0.95,$S147>=0.95),0,MAX(K147-SUM(W147:W149),0)),MAX(K147-SUM(W147:W149),0))))","v":0},{"$f":"IF(X147=0,0,X147*$I147/SUM(I147:I149))","v":0},0.25,0,{"$f":"SUM(AA147:AA149)","v":0}]
[null,null,null,null,"(2) ตราสารทุนที่จดทะเบียนในตลาดหลักทรัพย์อื่น และอยู่ในดัชนีตลาดหลักทรัพย์ตามที่กำหนดไว้",null,null,null,{"$f":"$D147*$H148","v":0},null,null,null,null,null,null,null,null,null,null,null,{"$f":"IF(T147=0,0,IF(Z148=0.25,IF(SUM(I147:I148)>T147,T147*(I148/SUM(I147:I148)),I148),IF(T147>SUM(U147:U148),T147-SUM(U147:U148),0)))","v":0},null,0,null,{"$f":"IF(X147=0,0,X147*$I148/SUM(I147:I149))","v":0},0.25,0]
[null,null,null,null,"(3) ตราสารทุนที่จดทะเบียนในตลาดหลักทรัพย์อื่น แต่ไม่อยู่ในดัชนีตลาดหลักทรัพย์ตามที่กำหนดไว้ในตาราง",null,null,null,{"$f":"$D147*$H149","v":0},null,null,null,null,null,null,null,null,null,null,null,{"$f":"IF(T147=0,0,IF(Z149=0.25,IF(SUM(I147:I148)>T147,T147*(I149/SUM(I147:I148)),I149),IF(T147>SUM(U147:U148),T147-SUM(U147:U148),0)))","v":0},null,0,null,{"$f":"IF(X147=0,0,X147*$I149/SUM(I147:I149))","v":0},0.35,0]
[null,24,null,null,"(1) ตราสารทุนที่จดทะเบียนในตลาดหลักทรัพย์แห่งประเทศไทย และตลาดหลักทรัพย์ เอ็ม เอ ไอ",null,null,null,{"$f":"$D150*$H150","v":0},null,null,null,null,null,null,null,null,{"$f":"IF(AND(SUM($I150:$I152)=0,$K150=\"\"),\"\",SUM($I150:$I152)/$K150)","v":""},{"$f":"IF(AND(SUM($I150:$I152)=0,$K150=\"\"),\"\",$K150/SUM($I150:$I152))","v":""},{"$f":"IF(D150=\"\",0,IF(N150=\"ใช่\",IF(AND(P150<=-0.8,P150>=-1.25,Q150<=-0.9,Q150>=-1,R150>=0.95,S150>=0.95),MIN(SUM(I150:I152),K150),0),IF(O150=\"ใช่\",IF(AND(R150>=0.95,S150>=0.95),MIN(SUM(I150:I152),K150),0),0)))","v":0},{"$f":"IF(T150=0,0,IF(Z150=0.25,IF(SUM(I150:I151)>T150,T150*(I150/SUM(I150:I151)),I150),IF(T150>SUM(U150:U151),T150-SUM(U150:U151),0)))","v":0},{"$f":"SUM(W150:W152)","v":0},0,{"$f":"IF($D150=\"\",0,IF($N150=\"ใช่\",IF(AND($P150<=-0.8,$P150>=-1.25,$Q150<=-0.9,$Q150>=-1,$R150>=0.95,$S150>=0.95),0,MAX(K150-SUM(W150:W152),0)),IF($O150=\"ใช่\",IF(AND($R150>=0.95,$S150>=0.95),0,MAX(K150-SUM(W150:W152),0)),MAX(K150-SUM(W150:W152),0))))","v":0},{"$f":"IF(X150=0,0,X150*$I150/SUM(I150:I152))","v":0},0.25,0,{"$f":"SUM(AA150:AA152)","v":0}]
[null,null,null,null,"(2) ตราสารทุนที่จดทะเบียนในตลาดหลักทรัพย์อื่น และอยู่ในดัชนีตลาดหลักทรัพย์ตามที่กำหนดไว้",null,null,null,{"$f":"$D150*$H151","v":0},null,null,null,null,null,null,null,null,null,null,null,{"$f":"IF(T150=0,0,IF(Z151=0.25,IF(SUM(I150:I151)>T150,T150*(I151/SUM(I150:I151)),I151),IF(T150>SUM(U150:U151),T150-SUM(U150:U151),0)))","v":0},null,0,null,{"$f":"IF(X150=0,0,X150*$I151/SUM(I150:I152))","v":0},0.25,0]
[null,null,null,null,"(3) ตราสารทุนที่จดทะเบียนในตลาดหลักทรัพย์อื่น แต่ไม่อยู่ในดัชนีตลาดหลักทรัพย์ตามที่กำหนดไว้ในตาราง",null,null,null,{"$f":"$D150*$H152","v":0},null,null,null,null,null,null,null,null,null,null,null,{"$f":"IF(T150=0,0,IF(Z152=0.25,IF(SUM(I150:I151)>T150,T150*(I152/SUM(I150:I151)),I152),IF(T150>SUM(U150:U151),T150-SUM(U150:U151),0)))","v":0},null,0,null,{"$f":"IF(X150=0,0,X150*$I152/SUM(I150:I152))","v":0},0.35,0]
[null,25,null,null,"(1) ตราสารทุนที่จดทะเบียนในตลาดหลักทรัพย์แห่งประเทศไทย และตลาดหลักทรัพย์ เอ็ม เอ ไอ",null,null,null,{"$f":"$D153*$H153","v":0},null,null,null,null,null,null,null,null,{"$f":"IF(AND(SUM($I153:$I155)=0,$K153=\"\"),\"\",SUM($I153:$I155)/$K153)","v":""},{"$f":"IF(AND(SUM($I153:$I155)=0,$K153=\"\"),\"\",$K153/SUM($I153:$I155))","v":""},{"$f":"IF(D153=\"\",0,IF(N153=\"ใช่\",IF(AND(P153<=-0.8,P153>=-1.25,Q153<=-0.9,Q153>=-1,R153>=0.95,S153>=0.95),MIN(SUM(I153:I155),K153),0),IF(O153=\"ใช่\",IF(AND(R153>=0.95,S153>=0.95),MIN(SUM(I153:I155),K153),0),0)))","v":0},{"$f":"IF(T153=0,0,IF(Z153=0.25,IF(SUM(I153:I154)>T153,T153*(I153/SUM(I153:I154)),I153),IF(T153>SUM(U153:U154),T153-SUM(U153:U154),0)))","v":0},{"$f":"SUM(W153:W155)","v":0},0,{"$f":"IF($D153=\"\",0,IF($N153=\"ใช่\",IF(AND($P153<=-0.8,$P153>=-1.25,$Q153<=-0.9,$Q153>=-1,$R153>=0.95,$S153>=0.95),0,MAX(K153-SUM(W153:W155),0)),IF($O153=\"ใช่\",IF(AND($R153>=0.95,$S153>=0.95),0,MAX(K153-SUM(W153:W155),0)),MAX(K153-SUM(W153:W155),0))))","v":0},{"$f":"IF(X153=0,0,X153*$I153/SUM(I153:I155))","v":0},0.25,0,{"$f":"SUM(AA153:AA155)","v":0}]
[null,null,null,null,"(2) ตราสารทุนที่จดทะเบียนในตลาดหลักทรัพย์อื่น และอยู่ในดัชนีตลาดหลักทรัพย์ตามที่กำหนดไว้",null,null,null,{"$f":"$D153*$H154","v":0},null,null,null,null,null,null,null,null,null,null,null,{"$f":"IF(T153=0,0,IF(Z154=0.25,IF(SUM(I153:I154)>T153,T153*(I154/SUM(I153:I154)),I154),IF(T153>SUM(U153:U154),T153-SUM(U153:U154),0)))","v":0},null,0,null,{"$f":"IF(X153=0,0,X153*$I154/SUM(I153:I155))","v":0},0.25,0]
[null,null,null,null,"(3) ตราสารทุนที่จดทะเบียนในตลาดหลักทรัพย์อื่น แต่ไม่อยู่ในดัชนีตลาดหลักทรัพย์ตามที่กำหนดไว้ในตาราง",null,null,null,{"$f":"$D153*$H155","v":0},null,null,null,null,null,null,null,null,null,null,null,{"$f":"IF(T153=0,0,IF(Z155=0.25,IF(SUM(I153:I154)>T153,T153*(I155/SUM(I153:I154)),I155),IF(T153>SUM(U153:U154),T153-SUM(U153:U154),0)))","v":0},null,0,null,{"$f":"IF(X153=0,0,X153*$I155/SUM(I153:I155))","v":0},0.35,0]
[null,26,null,null,"(1) ตราสารทุนที่จดทะเบียนในตลาดหลักทรัพย์แห่งประเทศไทย และตลาดหลักทรัพย์ เอ็ม เอ ไอ",null,null,null,{"$f":"$D156*$H156","v":0},null,null,null,null,null,null,null,null,{"$f":"IF(AND(SUM($I156:$I158)=0,$K156=\"\"),\"\",SUM($I156:$I158)/$K156)","v":""},{"$f":"IF(AND(SUM($I156:$I158)=0,$K156=\"\"),\"\",$K156/SUM($I156:$I158))","v":""},{"$f":"IF(D156=\"\",0,IF(N156=\"ใช่\",IF(AND(P156<=-0.8,P156>=-1.25,Q156<=-0.9,Q156>=-1,R156>=0.95,S156>=0.95),MIN(SUM(I156:I158),K156),0),IF(O156=\"ใช่\",IF(AND(R156>=0.95,S156>=0.95),MIN(SUM(I156:I158),K156),0),0)))","v":0},{"$f":"IF(T156=0,0,IF(Z156=0.25,IF(SUM(I156:I157)>T156,T156*(I156/SUM(I156:I157)),I156),IF(T156>SUM(U156:U157),T156-SUM(U156:U157),0)))","v":0},{"$f":"SUM(W156:W158)","v":0},0,{"$f":"IF($D156=\"\",0,IF($N156=\"ใช่\",IF(AND($P156<=-0.8,$P156>=-1.25,$Q156<=-0.9,$Q156>=-1,$R156>=0.95,$S156>=0.95),0,MAX(K156-SUM(W156:W158),0)),IF($O156=\"ใช่\",IF(AND($R156>=0.95,$S156>=0.95),0,MAX(K156-SUM(W156:W158),0)),MAX(K156-SUM(W156:W158),0))))","v":0},{"$f":"IF(X156=0,0,X156*$I156/SUM(I156:I158))","v":0},0.25,{"$f":"W156*Z156+Y156","v":0},{"$f":"SUM(AA156:AA158)","v":0}]
[null,null,null,null,"(2) ตราสารทุนที่จดทะเบียนในตลาดหลักทรัพย์อื่น และอยู่ในดัชนีตลาดหลักทรัพย์ตามที่กำหนดไว้",null,null,null,{"$f":"$D156*$H157","v":0},null,null,null,null,null,null,null,null,null,null,null,{"$f":"IF(T156=0,0,IF(Z157=0.25,IF(SUM(I156:I157)>T156,T156*(I157/SUM(I156:I157)),I157),IF(T156>SUM(U156:U157),T156-SUM(U156:U157),0)))","v":0},null,0,null,{"$f":"IF(X156=0,0,X156*$I157/SUM(I156:I158))","v":0},0.25,0]
[null,null,null,null,"(3) ตราสารทุนที่จดทะเบียนในตลาดหลักทรัพย์อื่น แต่ไม่อยู่ในดัชนีตลาดหลักทรัพย์ตามที่กำหนดไว้ในตาราง",null,null,null,{"$f":"$D156*$H158","v":0},null,null,null,null,null,null,null,null,null,null,null,{"$f":"IF(T156=0,0,IF(Z158=0.25,IF(SUM(I156:I157)>T156,T156*(I158/SUM(I156:I157)),I158),IF(T156>SUM(U156:U157),T156-SUM(U156:U157),0)))","v":0},null,0,null,{"$f":"IF(X156=0,0,X156*$I158/SUM(I156:I158))","v":0},0.35,0]
[null,27,null,null,"(1) ตราสารทุนที่จดทะเบียนในตลาดหลักทรัพย์แห่งประเทศไทย และตลาดหลักทรัพย์ เอ็ม เอ ไอ",null,null,null,{"$f":"$D159*$H159","v":0},null,null,null,null,null,null,null,null,{"$f":"IF(AND(SUM($I159:$I161)=0,$K159=\"\"),\"\",SUM($I159:$I161)/$K159)","v":""},{"$f":"IF(AND(SUM($I159:$I161)=0,$K159=\"\"),\"\",$K159/SUM($I159:$I161))","v":""},{"$f":"IF(D159=\"\",0,IF(N159=\"ใช่\",IF(AND(P159<=-0.8,P159>=-1.25,Q159<=-0.9,Q159>=-1,R159>=0.95,S159>=0.95),MIN(SUM(I159:I161),K159),0),IF(O159=\"ใช่\",IF(AND(R159>=0.95,S159>=0.95),MIN(SUM(I159:I161),K159),0),0)))","v":0},{"$f":"IF(T159=0,0,IF(Z159=0.25,IF(SUM(I159:I160)>T159,T159*(I159/SUM(I159:I160)),I159),IF(T159>SUM(U159:U160),T159-SUM(U159:U160),0)))","v":0},{"$f":"SUM(W159:W161)","v":0},0,{"$f":"IF($D159=\"\",0,IF($N159=\"ใช่\",IF(AND($P159<=-0.8,$P159>=-1.25,$Q159<=-0.9,$Q159>=-1,$R159>=0.95,$S159>=0.95),0,MAX(K159-SUM(W159:W161),0)),IF($O159=\"ใช่\",IF(AND($R159>=0.95,$S159>=0.95),0,MAX(K159-SUM(W159:W161),0)),MAX(K159-SUM(W159:W161),0))))","v":0},{"$f":"IF(X159=0,0,X159*$I159/SUM(I159:I161))","v":0},0.25,0,{"$f":"SUM(AA159:AA161)","v":0}]
[null,null,null,null,"(2) ตราสารทุนที่จดทะเบียนในตลาดหลักทรัพย์อื่น และอยู่ในดัชนีตลาดหลักทรัพย์ตามที่กำหนดไว้",null,null,null,{"$f":"$D159*$H160","v":0},null,null,null,null,null,null,null,null,null,null,null,{"$f":"IF(T159=0,0,IF(Z160=0.25,IF(SUM(I159:I160)>T159,T159*(I160/SUM(I159:I160)),I160),IF(T159>SUM(U159:U160),T159-SUM(U159:U160),0)))","v":0},null,0,null,{"$f":"IF(X159=0,0,X159*$I160/SUM(I159:I161))","v":0},0.25,0]
[null,null,null,null,"(3) ตราสารทุนที่จดทะเบียนในตลาดหลักทรัพย์อื่น แต่ไม่อยู่ในดัชนีตลาดหลักทรัพย์ตามที่กำหนดไว้ในตาราง",null,null,null,{"$f":"$D159*$H161","v":0},null,null,null,null,null,null,null,null,null,null,null,{"$f":"IF(T159=0,0,IF(Z161=0.25,IF(SUM(I159:I160)>T159,T159*(I161/SUM(I159:I160)),I161),IF(T159>SUM(U159:U160),T159-SUM(U159:U160),0)))","v":0},null,0,null,{"$f":"IF(X159=0,0,X159*$I161/SUM(I159:I161))","v":0},0.35,0]
[null,28,null,null,"(1) ตราสารทุนที่จดทะเบียนในตลาดหลักทรัพย์แห่งประเทศไทย และตลาดหลักทรัพย์ เอ็ม เอ ไอ",null,null,null,{"$f":"$D162*$H162","v":0},null,null,null,null,null,null,null,null,{"$f":"IF(AND(SUM($I162:$I164)=0,$K162=\"\"),\"\",SUM($I162:$I164)/$K162)","v":""},{"$f":"IF(AND(SUM($I162:$I164)=0,$K162=\"\"),\"\",$K162/SUM($I162:$I164))","v":""},{"$f":"IF(D162=\"\",0,IF(N162=\"ใช่\",IF(AND(P162<=-0.8,P162>=-1.25,Q162<=-0.9,Q162>=-1,R162>=0.95,S162>=0.95),MIN(SUM(I162:I164),K162),0),IF(O162=\"ใช่\",IF(AND(R162>=0.95,S162>=0.95),MIN(SUM(I162:I164),K162),0),0)))","v":0},{"$f":"IF(T162=0,0,IF(Z162=0.25,IF(SUM(I162:I163)>T162,T162*(I162/SUM(I162:I163)),I162),IF(T162>SUM(U162:U163),T162-SUM(U162:U163),0)))","v":0},{"$f":"SUM(W162:W164)","v":0},0,{"$f":"IF($D162=\"\",0,IF($N162=\"ใช่\",IF(AND($P162<=-0.8,$P162>=-1.25,$Q162<=-0.9,$Q162>=-1,$R162>=0.95,$S162>=0.95),0,MAX(K162-SUM(W162:W164),0)),IF($O162=\"ใช่\",IF(AND($R162>=0.95,$S162>=0.95),0,MAX(K162-SUM(W162:W164),0)),MAX(K162-SUM(W162:W164),0))))","v":0},{"$f":"IF(X162=0,0,X162*$I162/SUM(I162:I164))","v":0},0.25,{"$f":"W162*Z162+Y162","v":0},{"$f":"SUM(AA162:AA164)","v":0}]
[null,null,null,null,"(2) ตราสารทุนที่จดทะเบียนในตลาดหลักทรัพย์อื่น และอยู่ในดัชนีตลาดหลักทรัพย์ตามที่กำหนดไว้",null,null,null,{"$f":"$D162*$H163","v":0},null,null,null,null,null,null,null,null,null,null,null,{"$f":"IF(T162=0,0,IF(Z163=0.25,IF(SUM(I162:I163)>T162,T162*(I163/SUM(I162:I163)),I163),IF(T162>SUM(U162:U163),T162-SUM(U162:U163),0)))","v":0},null,0,null,{"$f":"IF(X162=0,0,X162*$I163/SUM(I162:I164))","v":0},0.25,0]
[null,null,null,null,"(3) ตราสารทุนที่จดทะเบียนในตลาดหลักทรัพย์อื่น แต่ไม่อยู่ในดัชนีตลาดหลักทรัพย์ตามที่กำหนดไว้ในตาราง",null,null,null,{"$f":"$D162*$H164","v":0},null,null,null,null,null,null,null,null,null,null,null,{"$f":"IF(T162=0,0,IF(Z164=0.25,IF(SUM(I162:I163)>T162,T162*(I164/SUM(I162:I163)),I164),IF(T162>SUM(U162:U163),T162-SUM(U162:U163),0)))","v":0},null,0,null,{"$f":"IF(X162=0,0,X162*$I164/SUM(I162:I164))","v":0},0.35,0]
[null,29,null,null,"(1) ตราสารทุนที่จดทะเบียนในตลาดหลักทรัพย์แห่งประเทศไทย และตลาดหลักทรัพย์ เอ็ม เอ ไอ",null,null,null,{"$f":"$D165*$H165","v":0},null,null,null,null,null,null,null,null,{"$f":"IF(AND(SUM($I165:$I167)=0,$K165=\"\"),\"\",SUM($I165:$I167)/$K165)","v":""},{"$f":"IF(AND(SUM($I165:$I167)=0,$K165=\"\"),\"\",$K165/SUM($I165:$I167))","v":""},{"$f":"IF(D165=\"\",0,IF(N165=\"ใช่\",IF(AND(P165<=-0.8,P165>=-1.25,Q165<=-0.9,Q165>=-1,R165>=0.95,S165>=0.95),MIN(SUM(I165:I167),K165),0),IF(O165=\"ใช่\",IF(AND(R165>=0.95,S165>=0.95),MIN(SUM(I165:I167),K165),0),0)))","v":0},{"$f":"IF(T165=0,0,IF(Z165=0.25,IF(SUM(I165:I166)>T165,T165*(I165/SUM(I165:I166)),I165),IF(T165>SUM(U165:U166),T165-SUM(U165:U166),0)))","v":0},{"$f":"SUM(W165:W167)","v":0},0,{"$f":"IF($D165=\"\",0,IF($N165=\"ใช่\",IF(AND($P165<=-0.8,$P165>=-1.25,$Q165<=-0.9,$Q165>=-1,$R165>=0.95,$S165>=0.95),0,MAX(K165-SUM(W165:W167),0)),IF($O165=\"ใช่\",IF(AND($R165>=0.95,$S165>=0.95),0,MAX(K165-SUM(W165:W167),0)),MAX(K165-SUM(W165:W167),0))))","v":0},{"$f":"IF(X165=0,0,X165*$I165/SUM(I165:I167))","v":0},0.25,0,{"$f":"SUM(AA165:AA167)","v":0}]
[null,null,null,null,"(2) ตราสารทุนที่จดทะเบียนในตลาดหลักทรัพย์อื่น และอยู่ในดัชนีตลาดหลักทรัพย์ตามที่กำหนดไว้",null,null,null,{"$f":"$D165*$H166","v":0},null,null,null,null,null,null,null,null,null,null,null,{"$f":"IF(T165=0,0,IF(Z166=0.25,IF(SUM(I165:I166)>T165,T165*(I166/SUM(I165:I166)),I166),IF(T165>SUM(U165:U166),T165-SUM(U165:U166),0)))","v":0},null,0,null,{"$f":"IF(X165=0,0,X165*$I166/SUM(I165:I167))","v":0},0.25,0]
[null,null,null,null,"(3) ตราสารทุนที่จดทะเบียนในตลาดหลักทรัพย์อื่น แต่ไม่อยู่ในดัชนีตลาดหลักทรัพย์ตามที่กำหนดไว้ในตาราง",null,null,null,{"$f":"$D165*$H167","v":0},null,null,null,null,null,null,null,null,null,null,null,{"$f":"IF(T165=0,0,IF(Z167=0.25,IF(SUM(I165:I166)>T165,T165*(I167/SUM(I165:I166)),I167),IF(T165>SUM(U165:U166),T165-SUM(U165:U166),0)))","v":0},null,0,null,{"$f":"IF(X165=0,0,X165*$I167/SUM(I165:I167))","v":0},0.35,0]
[null,30,null,null,"(1) ตราสารทุนที่จดทะเบียนในตลาดหลักทรัพย์แห่งประเทศไทย และตลาดหลักทรัพย์ เอ็ม เอ ไอ",null,null,null,{"$f":"$D168*$H168","v":0},null,null,null,null,null,null,null,null,{"$f":"IF(AND(SUM($I168:$I170)=0,$K168=\"\"),\"\",SUM($I168:$I170)/$K168)","v":""},{"$f":"IF(AND(SUM($I168:$I170)=0,$K168=\"\"),\"\",$K168/SUM($I168:$I170))","v":""},{"$f":"IF(D168=\"\",0,IF(N168=\"ใช่\",IF(AND(P168<=-0.8,P168>=-1.25,Q168<=-0.9,Q168>=-1,R168>=0.95,S168>=0.95),MIN(SUM(I168:I170),K168),0),IF(O168=\"ใช่\",IF(AND(R168>=0.95,S168>=0.95),MIN(SUM(I168:I170),K168),0),0)))","v":0},{"$f":"IF(T168=0,0,IF(Z168=0.25,IF(SUM(I168:I169)>T168,T168*(I168/SUM(I168:I169)),I168),IF(T168>SUM(U168:U169),T168-SUM(U168:U169),0)))","v":0},{"$f":"SUM(W168:W170)","v":0},0,{"$f":"IF($D168=\"\",0,IF($N168=\"ใช่\",IF(AND($P168<=-0.8,$P168>=-1.25,$Q168<=-0.9,$Q168>=-1,$R168>=0.95,$S168>=0.95),0,MAX(K168-SUM(W168:W170),0)),IF($O168=\"ใช่\",IF(AND($R168>=0.95,$S168>=0.95),0,MAX(K168-SUM(W168:W170),0)),MAX(K168-SUM(W168:W170),0))))","v":0},{"$f":"IF(X168=0,0,X168*$I168/SUM(I168:I170))","v":0},0.25,0,{"$f":"SUM(AA168:AA170)","v":0}]
[null,null,null,null,"(2) ตราสารทุนที่จดทะเบียนในตลาดหลักทรัพย์อื่น และอยู่ในดัชนีตลาดหลักทรัพย์ตามที่กำหนดไว้",null,null,null,{"$f":"$D168*$H169","v":0},null,null,null,null,null,null,null,null,null,null,null,{"$f":"IF(T168=0,0,IF(Z169=0.25,IF(SUM(I168:I169)>T168,T168*(I169/SUM(I168:I169)),I169),IF(T168>SUM(U168:U169),T168-SUM(U168:U169),0)))","v":0},null,0,null,{"$f":"IF(X168=0,0,X168*$I169/SUM(I168:I170))","v":0},0.25,0]
[null,null,null,null,"(3) ตราสารทุนที่จดทะเบียนในตลาดหลักทรัพย์อื่น แต่ไม่อยู่ในดัชนีตลาดหลักทรัพย์ตามที่กำหนดไว้ในตาราง",null,null,null,{"$f":"$D168*$H170","v":0},null,null,null,null,null,null,null,null,null,null,null,{"$f":"IF(T168=0,0,IF(Z170=0.25,IF(SUM(I168:I169)>T168,T168*(I170/SUM(I168:I169)),I170),IF(T168>SUM(U168:U169),T168-SUM(U168:U169),0)))","v":0},null,0,null,{"$f":"IF(X168=0,0,X168*$I170/SUM(I168:I170))","v":0},0.35,0]
[null,31,null,null,"(1) ตราสารทุนที่จดทะเบียนในตลาดหลักทรัพย์แห่งประเทศไทย และตลาดหลักทรัพย์ เอ็ม เอ ไอ",null,null,null,{"$f":"$D171*$H171","v":0},null,null,null,null,null,null,null,null,{"$f":"IF(AND(SUM($I171:$I173)=0,$K171=\"\"),\"\",SUM($I171:$I173)/$K171)","v":""},{"$f":"IF(AND(SUM($I171:$I173)=0,$K171=\"\"),\"\",$K171/SUM($I171:$I173))","v":""},{"$f":"IF(D171=\"\",0,IF(N171=\"ใช่\",IF(AND(P171<=-0.8,P171>=-1.25,Q171<=-0.9,Q171>=-1,R171>=0.95,S171>=0.95),MIN(SUM(I171:I173),K171),0),IF(O171=\"ใช่\",IF(AND(R171>=0.95,S171>=0.95),MIN(SUM(I171:I173),K171),0),0)))","v":0},{"$f":"IF(T171=0,0,IF(Z171=0.25,IF(SUM(I171:I172)>T171,T171*(I171/SUM(I171:I172)),I171),IF(T171>SUM(U171:U172),T171-SUM(U171:U172),0)))","v":0},{"$f":"SUM(W171:W173)","v":0},0,{"$f":"IF($D171=\"\",0,IF($N171=\"ใช่\",IF(AND($P171<=-0.8,$P171>=-1.25,$Q171<=-0.9,$Q171>=-1,$R171>=0.95,$S171>=0.95),0,MAX(K171-SUM(W171:W173),0)),IF($O171=\"ใช่\",IF(AND($R171>=0.95,$S171>=0.95),0,MAX(K171-SUM(W171:W173),0)),MAX(K171-SUM(W171:W173),0))))","v":0},{"$f":"IF(X171=0,0,X171*$I171/SUM(I171:I173))","v":0},0.25,0,{"$f":"SUM(AA171:AA173)","v":0}]
[null,null,null,null,"(2) ตราสารทุนที่จดทะเบียนในตลาดหลักทรัพย์อื่น และอยู่ในดัชนีตลาดหลักทรัพย์ตามที่กำหนดไว้",null,null,null,{"$f":"$D171*$H172","v":0},null,null,null,null,null,null,null,null,null,null,null,{"$f":"IF(T171=0,0,IF(Z172=0.25,IF(SUM(I171:I172)>T171,T171*(I172/SUM(I171:I172)),I172),IF(T171>SUM(U171:U172),T171-SUM(U171:U172),0)))","v":0},null,0,null,{"$f":"IF(X171=0,0,X171*$I172/SUM(I171:I173))","v":0},0.25,0]
[null,null,null,null,"(3) ตราสารทุนที่จดทะเบียนในตลาดหลักทรัพย์อื่น แต่ไม่อยู่ในดัชนีตลาดหลักทรัพย์ตามที่กำหนดไว้ในตาราง",null,null,null,{"$f":"$D171*$H173","v":0},null,null,null,null,null,null,null,null,null,null,null,{"$f":"IF(T171=0,0,IF(Z173=0.25,IF(SUM(I171:I172)>T171,T171*(I173/SUM(I171:I172)),I173),IF(T171>SUM(U171:U172),T171-SUM(U171:U172),0)))","v":0},null,0,null,{"$f":"IF(X171=0,0,X171*$I173/SUM(I171:I173))","v":0},0.35,0]
[null,32,null,null,"(1) ตราสารทุนที่จดทะเบียนในตลาดหลักทรัพย์แห่งประเทศไทย และตลาดหลักทรัพย์ เอ็ม เอ ไอ",null,null,null,{"$f":"$D174*$H174","v":0},null,null,null,null,null,null,null,null,{"$f":"IF(AND(SUM($I174:$I176)=0,$K174=\"\"),\"\",SUM($I174:$I176)/$K174)","v":""},{"$f":"IF(AND(SUM($I174:$I176)=0,$K174=\"\"),\"\",$K174/SUM($I174:$I176))","v":""},{"$f":"IF(D174=\"\",0,IF(N174=\"ใช่\",IF(AND(P174<=-0.8,P174>=-1.25,Q174<=-0.9,Q174>=-1,R174>=0.95,S174>=0.95),MIN(SUM(I174:I176),K174),0),IF(O174=\"ใช่\",IF(AND(R174>=0.95,S174>=0.95),MIN(SUM(I174:I176),K174),0),0)))","v":0},{"$f":"IF(T174=0,0,IF(Z174=0.25,IF(SUM(I174:I175)>T174,T174*(I174/SUM(I174:I175)),I174),IF(T174>SUM(U174:U175),T174-SUM(U174:U175),0)))","v":0},{"$f":"SUM(W174:W176)","v":0},0,{"$f":"IF($D174=\"\",0,IF($N174=\"ใช่\",IF(AND($P174<=-0.8,$P174>=-1.25,$Q174<=-0.9,$Q174>=-1,$R174>=0.95,$S174>=0.95),0,MAX(K174-SUM(W174:W176),0)),IF($O174=\"ใช่\",IF(AND($R174>=0.95,$S174>=0.95),0,MAX(K174-SUM(W174:W176),0)),MAX(K174-SUM(W174:W176),0))))","v":0},{"$f":"IF(X174=0,0,X174*$I174/SUM(I174:I176))","v":0},0.25,0,{"$f":"SUM(AA174:AA176)","v":0}]
[null,null,null,null,"(2) ตราสารทุนที่จดทะเบียนในตลาดหลักทรัพย์อื่น และอยู่ในดัชนีตลาดหลักทรัพย์ตามที่กำหนดไว้",null,null,null,{"$f":"$D174*$H175","v":0},null,null,null,null,null,null,null,null,null,null,null,{"$f":"IF(T174=0,0,IF(Z175=0.25,IF(SUM(I174:I175)>T174,T174*(I175/SUM(I174:I175)),I175),IF(T174>SUM(U174:U175),T174-SUM(U174:U175),0)))","v":0},null,0,null,{"$f":"IF(X174=0,0,X174*$I175/SUM(I174:I176))","v":0},0.25,0]
[null,null,null,null,"(3) ตราสารทุนที่จดทะเบียนในตลาดหลักทรัพย์อื่น แต่ไม่อยู่ในดัชนีตลาดหลักทรัพย์ตามที่กำหนดไว้ในตาราง",null,null,null,{"$f":"$D174*$H176","v":0},null,null,null,null,null,null,null,null,null,null,null,{"$f":"IF(T174=0,0,IF(Z176=0.25,IF(SUM(I174:I175)>T174,T174*(I176/SUM(I174:I175)),I176),IF(T174>SUM(U174:U175),T174-SUM(U174:U175),0)))","v":0},null,0,null,{"$f":"IF(X174=0,0,X174*$I176/SUM(I174:I176))","v":0},0.35,0]
[null,33,null,null,"(1) ตราสารทุนที่จดทะเบียนในตลาดหลักทรัพย์แห่งประเทศไทย และตลาดหลักทรัพย์ เอ็ม เอ ไอ",null,null,null,{"$f":"$D177*$H177","v":0},null,null,null,null,null,null,null,null,{"$f":"IF(AND(SUM($I177:$I179)=0,$K177=\"\"),\"\",SUM($I177:$I179)/$K177)","v":""},{"$f":"IF(AND(SUM($I177:$I179)=0,$K177=\"\"),\"\",$K177/SUM($I177:$I179))","v":""},{"$f":"IF(D177=\"\",0,IF(N177=\"ใช่\",IF(AND(P177<=-0.8,P177>=-1.25,Q177<=-0.9,Q177>=-1,R177>=0.95,S177>=0.95),MIN(SUM(I177:I179),K177),0),IF(O177=\"ใช่\",IF(AND(R177>=0.95,S177>=0.95),MIN(SUM(I177:I179),K177),0),0)))","v":0},{"$f":"IF(T177=0,0,IF(Z177=0.25,IF(SUM(I177:I178)>T177,T177*(I177/SUM(I177:I178)),I177),IF(T177>SUM(U177:U178),T177-SUM(U177:U178),0)))","v":0},{"$f":"SUM(W177:W179)","v":0},{"$f":"I177-U177","v":0},{"$f":"IF($D177=\"\",0,IF($N177=\"ใช่\",IF(AND($P177<=-0.8,$P177>=-1.25,$Q177<=-0.9,$Q177>=-1,$R177>=0.95,$S177>=0.95),0,MAX(K177-SUM(W177:W179),0)),IF($O177=\"ใช่\",IF(AND($R177>=0.95,$S177>=0.95),0,MAX(K177-SUM(W177:W179),0)),MAX(K177-SUM(W177:W179),0))))","v":0},{"$f":"IF(X177=0,0,X177*$I177/SUM(I177:I179))","v":0},0.25,0,{"$f":"SUM(AA177:AA179)","v":0}]
[null,null,null,null,"(2) ตราสารทุนที่จดทะเบียนในตลาดหลักทรัพย์อื่น และอยู่ในดัชนีตลาดหลักทรัพย์ตามที่กำหนดไว้",null,null,null,{"$f":"$D177*$H178","v":0},null,null,null,null,null,null,null,null,null,null,null,{"$f":"IF(T177=0,0,IF(Z178=0.25,IF(SUM(I177:I178)>T177,T177*(I178/SUM(I177:I178)),I178),IF(T177>SUM(U177:U178),T177-SUM(U177:U178),0)))","v":0},null,0,null,{"$f":"IF(X177=0,0,X177*$I178/SUM(I177:I179))","v":0},0.25,0]
[null,null,null,null,"(3) ตราสารทุนที่จดทะเบียนในตลาดหลักทรัพย์อื่น แต่ไม่อยู่ในดัชนีตลาดหลักทรัพย์ตามที่กำหนดไว้ในตาราง",null,null,null,{"$f":"$D177*$H179","v":0},null,null,null,null,null,null,null,null,null,null,null,{"$f":"IF(T177=0,0,IF(Z179=0.25,IF(SUM(I177:I178)>T177,T177*(I179/SUM(I177:I178)),I179),IF(T177>SUM(U177:U178),T177-SUM(U177:U178),0)))","v":0},null,0,null,{"$f":"IF(X177=0,0,X177*$I179/SUM(I177:I179))","v":0},0.35,0]
[null,34,null,null,"(1) ตราสารทุนที่จดทะเบียนในตลาดหลักทรัพย์แห่งประเทศไทย และตลาดหลักทรัพย์ เอ็ม เอ ไอ",null,null,null,{"$f":"$D180*$H180","v":0},null,null,null,null,null,null,null,null,{"$f":"IF(AND(SUM($I180:$I182)=0,$K180=\"\"),\"\",SUM($I180:$I182)/$K180)","v":""},{"$f":"IF(AND(SUM($I180:$I182)=0,$K180=\"\"),\"\",$K180/SUM($I180:$I182))","v":""},{"$f":"IF(D180=\"\",0,IF(N180=\"ใช่\",IF(AND(P180<=-0.8,P180>=-1.25,Q180<=-0.9,Q180>=-1,R180>=0.95,S180>=0.95),MIN(SUM(I180:I182),K180),0),IF(O180=\"ใช่\",IF(AND(R180>=0.95,S180>=0.95),MIN(SUM(I180:I182),K180),0),0)))","v":0},{"$f":"IF(T180=0,0,IF(Z180=0.25,IF(SUM(I180:I181)>T180,T180*(I180/SUM(I180:I181)),I180),IF(T180>SUM(U180:U181),T180-SUM(U180:U181),0)))","v":0},{"$f":"SUM(W180:W182)","v":0},0,{"$f":"IF($D180=\"\",0,IF($N180=\"ใช่\",IF(AND($P180<=-0.8,$P180>=-1.25,$Q180<=-0.9,$Q180>=-1,$R180>=0.95,$S180>=0.95),0,MAX(K180-SUM(W180:W182),0)),IF($O180=\"ใช่\",IF(AND($R180>=0.95,$S180>=0.95),0,MAX(K180-SUM(W180:W182),0)),MAX(K180-SUM(W180:W182),0))))","v":0},{"$f":"IF(X180=0,0,X180*$I180/SUM(I180:I182))","v":0},0.25,0,{"$f":"SUM(AA180:AA182)","v":0}]
[null,null,null,null,"(2) ตราสารทุนที่จดทะเบียนในตลาดหลักทรัพย์อื่น และอยู่ในดัชนีตลาดหลักทรัพย์ตามที่กำหนดไว้",null,null,null,{"$f":"$D180*$H181","v":0},null,null,null,null,null,null,null,null,null,null,null,{"$f":"IF(T180=0,0,IF(Z181=0.25,IF(SUM(I180:I181)>T180,T180*(I181/SUM(I180:I181)),I181),IF(T180>SUM(U180:U181),T180-SUM(U180:U181),0)))","v":0},null,0,null,{"$f":"IF(X180=0,0,X180*$I181/SUM(I180:I182))","v":0},0.25,0]
[null,null,null,null,"(3) ตราสารทุนที่จดทะเบียนในตลาดหลักทรัพย์อื่น แต่ไม่อยู่ในดัชนีตลาดหลักทรัพย์ตามที่กำหนดไว้ในตาราง",null,null,null,{"$f":"$D180*$H182","v":0},null,null,null,null,null,null,null,null,null,null,null,{"$f":"IF(T180=0,0,IF(Z182=0.25,IF(SUM(I180:I181)>T180,T180*(I182/SUM(I180:I181)),I182),IF(T180>SUM(U180:U181),T180-SUM(U180:U181),0)))","v":0},null,0,null,{"$f":"IF(X180=0,0,X180*$I182/SUM(I180:I182))","v":0},0.35,0]
[null,35,null,null,"(1) ตราสารทุนที่จดทะเบียนในตลาดหลักทรัพย์แห่งประเทศไทย และตลาดหลักทรัพย์ เอ็ม เอ ไอ",null,null,null,{"$f":"$D183*$H183","v":0},null,null,null,null,null,null,null,null,{"$f":"IF(AND(SUM($I183:$I185)=0,$K183=\"\"),\"\",SUM($I183:$I185)/$K183)","v":""},{"$f":"IF(AND(SUM($I183:$I185)=0,$K183=\"\"),\"\",$K183/SUM($I183:$I185))","v":""},{"$f":"IF(D183=\"\",0,IF(N183=\"ใช่\",IF(AND(P183<=-0.8,P183>=-1.25,Q183<=-0.9,Q183>=-1,R183>=0.95,S183>=0.95),MIN(SUM(I183:I185),K183),0),IF(O183=\"ใช่\",IF(AND(R183>=0.95,S183>=0.95),MIN(SUM(I183:I185),K183),0),0)))","v":0},{"$f":"IF(T183=0,0,IF(Z183=0.25,IF(SUM(I183:I184)>T183,T183*(I183/SUM(I183:I184)),I183),IF(T183>SUM(U183:U184),T183-SUM(U183:U184),0)))","v":0},{"$f":"SUM(W183:W185)","v":0},0,{"$f":"IF($D183=\"\",0,IF($N183=\"ใช่\",IF(AND($P183<=-0.8,$P183>=-1.25,$Q183<=-0.9,$Q183>=-1,$R183>=0.95,$S183>=0.95),0,MAX(K183-SUM(W183:W185),0)),IF($O183=\"ใช่\",IF(AND($R183>=0.95,$S183>=0.95),0,MAX(K183-SUM(W183:W185),0)),MAX(K183-SUM(W183:W185),0))))","v":0},{"$f":"IF(X183=0,0,X183*$I183/SUM(I183:I185))","v":0},0.25,0,{"$f":"SUM(AA183:AA185)","v":0}]
[null,null,null,null,"(2) ตราสารทุนที่จดทะเบียนในตลาดหลักทรัพย์อื่น และอยู่ในดัชนีตลาดหลักทรัพย์ตามที่กำหนดไว้",null,null,null,{"$f":"$D183*$H184","v":0},null,null,null,null,null,null,null,null,null,null,null,{"$f":"IF(T183=0,0,IF(Z184=0.25,IF(SUM(I183:I184)>T183,T183*(I184/SUM(I183:I184)),I184),IF(T183>SUM(U183:U184),T183-SUM(U183:U184),0)))","v":0},null,0,null,{"$f":"IF(X183=0,0,X183*$I184/SUM(I183:I185))","v":0},0.25,0]
[null,null,null,null,"(3) ตราสารทุนที่จดทะเบียนในตลาดหลักทรัพย์อื่น แต่ไม่อยู่ในดัชนีตลาดหลักทรัพย์ตามที่กำหนดไว้ในตาราง",null,null,null,{"$f":"$D183*$H185","v":0},null,null,null,null,null,null,null,null,null,null,null,{"$f":"IF(T183=0,0,IF(Z185=0.25,IF(SUM(I183:I184)>T183,T183*(I185/SUM(I183:I184)),I185),IF(T183>SUM(U183:U184),T183-SUM(U183:U184),0)))","v":0},null,0,null,{"$f":"IF(X183=0,0,X183*$I185/SUM(I183:I185))","v":0},0.35,0]
[null,36,null,null,"(1) ตราสารทุนที่จดทะเบียนในตลาดหลักทรัพย์แห่งประเทศไทย และตลาดหลักทรัพย์ เอ็ม เอ ไอ",null,null,null,{"$f":"$D186*$H186","v":0},null,null,null,null,null,null,null,null,{"$f":"IF(AND(SUM($I186:$I188)=0,$K186=\"\"),\"\",SUM($I186:$I188)/$K186)","v":""},{"$f":"IF(AND(SUM($I186:$I188)=0,$K186=\"\"),\"\",$K186/SUM($I186:$I188))","v":""},{"$f":"IF(D186=\"\",0,IF(N186=\"ใช่\",IF(AND(P186<=-0.8,P186>=-1.25,Q186<=-0.9,Q186>=-1,R186>=0.95,S186>=0.95),MIN(SUM(I186:I188),K186),0),IF(O186=\"ใช่\",IF(AND(R186>=0.95,S186>=0.95),MIN(SUM(I186:I188),K186),0),0)))","v":0},{"$f":"IF(T186=0,0,IF(Z186=0.25,IF(SUM(I186:I187)>T186,T186*(I186/SUM(I186:I187)),I186),IF(T186>SUM(U186:U187),T186-SUM(U186:U187),0)))","v":0},{"$f":"SUM(W186:W188)","v":0},0,{"$f":"IF($D186=\"\",0,IF($N186=\"ใช่\",IF(AND($P186<=-0.8,$P186>=-1.25,$Q186<=-0.9,$Q186>=-1,$R186>=0.95,$S186>=0.95),0,MAX(K186-SUM(W186:W188),0)),IF($O186=\"ใช่\",IF(AND($R186>=0.95,$S186>=0.95),0,MAX(K186-SUM(W186:W188),0)),MAX(K186-SUM(W186:W188),0))))","v":0},{"$f":"IF(X186=0,0,X186*$I186/SUM(I186:I188))","v":0},0.25,0,{"$f":"SUM(AA186:AA188)","v":0}]
[null,null,null,null,"(2) ตราสารทุนที่จดทะเบียนในตลาดหลักทรัพย์อื่น และอยู่ในดัชนีตลาดหลักทรัพย์ตามที่กำหนดไว้",null,null,null,{"$f":"$D186*$H187","v":0},null,null,null,null,null,null,null,null,null,null,null,{"$f":"IF(T186=0,0,IF(Z187=0.25,IF(SUM(I186:I187)>T186,T186*(I187/SUM(I186:I187)),I187),IF(T186>SUM(U186:U187),T186-SUM(U186:U187),0)))","v":0},null,0,null,{"$f":"IF(X186=0,0,X186*$I187/SUM(I186:I188))","v":0},0.25,0]
[null,null,null,null,"(3) ตราสารทุนที่จดทะเบียนในตลาดหลักทรัพย์อื่น แต่ไม่อยู่ในดัชนีตลาดหลักทรัพย์ตามที่กำหนดไว้ในตาราง",null,null,null,{"$f":"$D186*$H188","v":0},null,null,null,null,null,null,null,null,null,null,null,{"$f":"IF(T186=0,0,IF(Z188=0.25,IF(SUM(I186:I187)>T186,T186*(I188/SUM(I186:I187)),I188),IF(T186>SUM(U186:U187),T186-SUM(U186:U187),0)))","v":0},null,0,null,{"$f":"IF(X186=0,0,X186*$I188/SUM(I186:I188))","v":0},0.35,0]
[null,37,null,null,"(1) ตราสารทุนที่จดทะเบียนในตลาดหลักทรัพย์แห่งประเทศไทย และตลาดหลักทรัพย์ เอ็ม เอ ไอ",null,null,null,{"$f":"$D189*$H189","v":0},null,null,null,null,null,null,null,null,{"$f":"IF(AND(SUM($I189:$I191)=0,$K189=\"\"),\"\",SUM($I189:$I191)/$K189)","v":""},{"$f":"IF(AND(SUM($I189:$I191)=0,$K189=\"\"),\"\",$K189/SUM($I189:$I191))","v":""},{"$f":"IF(D189=\"\",0,IF(N189=\"ใช่\",IF(AND(P189<=-0.8,P189>=-1.25,Q189<=-0.9,Q189>=-1,R189>=0.95,S189>=0.95),MIN(SUM(I189:I191),K189),0),IF(O189=\"ใช่\",IF(AND(R189>=0.95,S189>=0.95),MIN(SUM(I189:I191),K189),0),0)))","v":0},{"$f":"IF(T189=0,0,IF(Z189=0.25,IF(SUM(I189:I190)>T189,T189*(I189/SUM(I189:I190)),I189),IF(T189>SUM(U189:U190),T189-SUM(U189:U190),0)))","v":0},{"$f":"SUM(W189:W191)","v":0},0,{"$f":"IF($D189=\"\",0,IF($N189=\"ใช่\",IF(AND($P189<=-0.8,$P189>=-1.25,$Q189<=-0.9,$Q189>=-1,$R189>=0.95,$S189>=0.95),0,MAX(K189-SUM(W189:W191),0)),IF($O189=\"ใช่\",IF(AND($R189>=0.95,$S189>=0.95),0,MAX(K189-SUM(W189:W191),0)),MAX(K189-SUM(W189:W191),0))))","v":0},{"$f":"IF(X189=0,0,X189*$I189/SUM(I189:I191))","v":0},0.25,{"$f":"W189*Z189+Y189","v":0},{"$f":"SUM(AA189:AA191)","v":0}]
[null,null,null,null,"(2) ตราสารทุนที่จดทะเบียนในตลาดหลักทรัพย์อื่น และอยู่ในดัชนีตลาดหลักทรัพย์ตามที่กำหนดไว้",null,null,null,{"$f":"$D189*$H190","v":0},null,null,null,null,null,null,null,null,null,null,null,{"$f":"IF(T189=0,0,IF(Z190=0.25,IF(SUM(I189:I190)>T189,T189*(I190/SUM(I189:I190)),I190),IF(T189>SUM(U189:U190),T189-SUM(U189:U190),0)))","v":0},null,0,null,{"$f":"IF(X189=0,0,X189*$I190/SUM(I189:I191))","v":0},0.25,0]
[null,null,null,null,"(3) ตราสารทุนที่จดทะเบียนในตลาดหลักทรัพย์อื่น แต่ไม่อยู่ในดัชนีตลาดหลักทรัพย์ตามที่กำหนดไว้ในตาราง",null,null,null,{"$f":"$D189*$H191","v":0},null,null,null,null,null,null,null,null,null,null,null,{"$f":"IF(T189=0,0,IF(Z191=0.25,IF(SUM(I189:I190)>T189,T189*(I191/SUM(I189:I190)),I191),IF(T189>SUM(U189:U190),T189-SUM(U189:U190),0)))","v":0},null,0,null,{"$f":"IF(X189=0,0,X189*$I191/SUM(I189:I191))","v":0},0.35,0]
[null,38,null,null,"(1) ตราสารทุนที่จดทะเบียนในตลาดหลักทรัพย์แห่งประเทศไทย และตลาดหลักทรัพย์ เอ็ม เอ ไอ",null,null,null,{"$f":"$D192*$H192","v":0},null,null,null,null,null,null,null,null,{"$f":"IF(AND(SUM($I192:$I194)=0,$K192=\"\"),\"\",SUM($I192:$I194)/$K192)","v":""},{"$f":"IF(AND(SUM($I192:$I194)=0,$K192=\"\"),\"\",$K192/SUM($I192:$I194))","v":""},{"$f":"IF(D192=\"\",0,IF(N192=\"ใช่\",IF(AND(P192<=-0.8,P192>=-1.25,Q192<=-0.9,Q192>=-1,R192>=0.95,S192>=0.95),MIN(SUM(I192:I194),K192),0),IF(O192=\"ใช่\",IF(AND(R192>=0.95,S192>=0.95),MIN(SUM(I192:I194),K192),0),0)))","v":0},{"$f":"IF(T192=0,0,IF(Z192=0.25,IF(SUM(I192:I193)>T192,T192*(I192/SUM(I192:I193)),I192),IF(T192>SUM(U192:U193),T192-SUM(U192:U193),0)))","v":0},{"$f":"SUM(W192:W194)","v":0},0,{"$f":"IF($D192=\"\",0,IF($N192=\"ใช่\",IF(AND($P192<=-0.8,$P192>=-1.25,$Q192<=-0.9,$Q192>=-1,$R192>=0.95,$S192>=0.95),0,MAX(K192-SUM(W192:W194),0)),IF($O192=\"ใช่\",IF(AND($R192>=0.95,$S192>=0.95),0,MAX(K192-SUM(W192:W194),0)),MAX(K192-SUM(W192:W194),0))))","v":0},{"$f":"IF(X192=0,0,X192*$I192/SUM(I192:I194))","v":0},0.25,0,{"$f":"SUM(AA192:AA194)","v":0}]
[null,null,null,null,"(2) ตราสารทุนที่จดทะเบียนในตลาดหลักทรัพย์อื่น และอยู่ในดัชนีตลาดหลักทรัพย์ตามที่กำหนดไว้",null,null,null,{"$f":"$D192*$H193","v":0},null,null,null,null,null,null,null,null,null,null,null,{"$f":"IF(T192=0,0,IF(Z193=0.25,IF(SUM(I192:I193)>T192,T192*(I193/SUM(I192:I193)),I193),IF(T192>SUM(U192:U193),T192-SUM(U192:U193),0)))","v":0},null,0,null,{"$f":"IF(X192=0,0,X192*$I193/SUM(I192:I194))","v":0},0.25,0]
[null,null,null,null,"(3) ตราสารทุนที่จดทะเบียนในตลาดหลักทรัพย์อื่น แต่ไม่อยู่ในดัชนีตลาดหลักทรัพย์ตามที่กำหนดไว้ในตาราง",null,null,null,{"$f":"$D192*$H194","v":0},null,null,null,null,null,null,null,null,null,null,null,{"$f":"IF(T192=0,0,IF(Z194=0.25,IF(SUM(I192:I193)>T192,T192*(I194/SUM(I192:I193)),I194),IF(T192>SUM(U192:U193),T192-SUM(U192:U193),0)))","v":0},null,0,null,{"$f":"IF(X192=0,0,X192*$I194/SUM(I192:I194))","v":0},0.35,0]
[null,39,null,null,"(1) ตราสารทุนที่จดทะเบียนในตลาดหลักทรัพย์แห่งประเทศไทย และตลาดหลักทรัพย์ เอ็ม เอ ไอ",null,null,null,{"$f":"$D195*$H195","v":0},null,null,null,null,null,null,null,null,{"$f":"IF(AND(SUM($I195:$I197)=0,$K195=\"\"),\"\",SUM($I195:$I197)/$K195)","v":""},{"$f":"IF(AND(SUM($I195:$I197)=0,$K195=\"\"),\"\",$K195/SUM($I195:$I197))","v":""},{"$f":"IF(D195=\"\",0,IF(N195=\"ใช่\",IF(AND(P195<=-0.8,P195>=-1.25,Q195<=-0.9,Q195>=-1,R195>=0.95,S195>=0.95),MIN(SUM(I195:I197),K195),0),IF(O195=\"ใช่\",IF(AND(R195>=0.95,S195>=0.95),MIN(SUM(I195:I197),K195),0),0)))","v":0},{"$f":"IF(T195=0,0,IF(Z195=0.25,IF(SUM(I195:I196)>T195,T195*(I195/SUM(I195:I196)),I195),IF(T195>SUM(U195:U196),T195-SUM(U195:U196),0)))","v":0},{"$f":"SUM(W195:W197)","v":0},0,{"$f":"IF($D195=\"\",0,IF($N195=\"ใช่\",IF(AND($P195<=-0.8,$P195>=-1.25,$Q195<=-0.9,$Q195>=-1,$R195>=0.95,$S195>=0.95),0,MAX(K195-SUM(W195:W197),0)),IF($O195=\"ใช่\",IF(AND($R195>=0.95,$S195>=0.95),0,MAX(K195-SUM(W195:W197),0)),MAX(K195-SUM(W195:W197),0))))","v":0},{"$f":"IF(X195=0,0,X195*$I195/SUM(I195:I197))","v":0},0.25,0,{"$f":"SUM(AA195:AA197)","v":0}]
[null,null,null,null,"(2) ตราสารทุนที่จดทะเบียนในตลาดหลักทรัพย์อื่น และอยู่ในดัชนีตลาดหลักทรัพย์ตามที่กำหนดไว้",null,null,null,{"$f":"$D195*$H196","v":0},null,null,null,null,null,null,null,null,null,null,null,{"$f":"IF(T195=0,0,IF(Z196=0.25,IF(SUM(I195:I196)>T195,T195*(I196/SUM(I195:I196)),I196),IF(T195>SUM(U195:U196),T195-SUM(U195:U196),0)))","v":0},null,0,null,{"$f":"IF(X195=0,0,X195*$I196/SUM(I195:I197))","v":0},0.25,0]
[null,null,null,null,"(3) ตราสารทุนที่จดทะเบียนในตลาดหลักทรัพย์อื่น แต่ไม่อยู่ในดัชนีตลาดหลักทรัพย์ตามที่กำหนดไว้ในตาราง",null,null,null,{"$f":"$D195*$H197","v":0},null,null,null,null,null,null,null,null,null,null,null,{"$f":"IF(T195=0,0,IF(Z197=0.25,IF(SUM(I195:I196)>T195,T195*(I197/SUM(I195:I196)),I197),IF(T195>SUM(U195:U196),T195-SUM(U195:U196),0)))","v":0},null,0,null,{"$f":"IF(X195=0,0,X195*$I197/SUM(I195:I197))","v":0},0.35,0]
[null,40,null,null,"(1) ตราสารทุนที่จดทะเบียนในตลาดหลักทรัพย์แห่งประเทศไทย และตลาดหลักทรัพย์ เอ็ม เอ ไอ",null,null,null,{"$f":"$D198*$H198","v":0},null,null,null,null,null,null,null,null,{"$f":"IF(AND(SUM($I198:$I200)=0,$K198=\"\"),\"\",SUM($I198:$I200)/$K198)","v":""},{"$f":"IF(AND(SUM($I198:$I200)=0,$K198=\"\"),\"\",$K198/SUM($I198:$I200))","v":""},{"$f":"IF(D198=\"\",0,IF(N198=\"ใช่\",IF(AND(P198<=-0.8,P198>=-1.25,Q198<=-0.9,Q198>=-1,R198>=0.95,S198>=0.95),MIN(SUM(I198:I200),K198),0),IF(O198=\"ใช่\",IF(AND(R198>=0.95,S198>=0.95),MIN(SUM(I198:I200),K198),0),0)))","v":0},{"$f":"IF(T198=0,0,IF(Z198=0.25,IF(SUM(I198:I199)>T198,T198*(I198/SUM(I198:I199)),I198),IF(T198>SUM(U198:U199),T198-SUM(U198:U199),0)))","v":0},{"$f":"SUM(W198:W200)","v":0},0,{"$f":"IF($D198=\"\",0,IF($N198=\"ใช่\",IF(AND($P198<=-0.8,$P198>=-1.25,$Q198<=-0.9,$Q198>=-1,$R198>=0.95,$S198>=0.95),0,MAX(K198-SUM(W198:W200),0)),IF($O198=\"ใช่\",IF(AND($R198>=0.95,$S198>=0.95),0,MAX(K198-SUM(W198:W200),0)),MAX(K198-SUM(W198:W200),0))))","v":0},{"$f":"IF(X198=0,0,X198*$I198/SUM(I198:I200))","v":0},0.25,0,{"$f":"SUM(AA198:AA200)","v":0}]
[null,null,null,null,"(2) ตราสารทุนที่จดทะเบียนในตลาดหลักทรัพย์อื่น และอยู่ในดัชนีตลาดหลักทรัพย์ตามที่กำหนดไว้",null,null,null,{"$f":"$D198*$H199","v":0},null,null,null,null,null,null,null,null,null,null,null,{"$f":"IF(T198=0,0,IF(Z199=0.25,IF(SUM(I198:I199)>T198,T198*(I199/SUM(I198:I199)),I199),IF(T198>SUM(U198:U199),T198-SUM(U198:U199),0)))","v":0},null,0,null,{"$f":"IF(X198=0,0,X198*$I199/SUM(I198:I200))","v":0},0.25,0]
[null,null,null,null,"(3) ตราสารทุนที่จดทะเบียนในตลาดหลักทรัพย์อื่น แต่ไม่อยู่ในดัชนีตลาดหลักทรัพย์ตามที่กำหนดไว้ในตาราง",null,null,null,{"$f":"$D198*$H200","v":0},null,null,null,null,null,null,null,null,null,null,null,{"$f":"IF(T198=0,0,IF(Z200=0.25,IF(SUM(I198:I199)>T198,T198*(I200/SUM(I198:I199)),I200),IF(T198>SUM(U198:U199),T198-SUM(U198:U199),0)))","v":0},null,0,null,{"$f":"IF(X198=0,0,X198*$I200/SUM(I198:I200))","v":0},0.35,0]
[null,41,null,null,"(1) ตราสารทุนที่จดทะเบียนในตลาดหลักทรัพย์แห่งประเทศไทย และตลาดหลักทรัพย์ เอ็ม เอ ไอ",null,null,null,{"$f":"$D201*$H201","v":0},null,null,null,null,null,null,null,null,{"$f":"IF(AND(SUM($I201:$I203)=0,$K201=\"\"),\"\",SUM($I201:$I203)/$K201)","v":""},{"$f":"IF(AND(SUM($I201:$I203)=0,$K201=\"\"),\"\",$K201/SUM($I201:$I203))","v":""},{"$f":"IF(D201=\"\",0,IF(N201=\"ใช่\",IF(AND(P201<=-0.8,P201>=-1.25,Q201<=-0.9,Q201>=-1,R201>=0.95,S201>=0.95),MIN(SUM(I201:I203),K201),0),IF(O201=\"ใช่\",IF(AND(R201>=0.95,S201>=0.95),MIN(SUM(I201:I203),K201),0),0)))","v":0},{"$f":"IF(T201=0,0,IF(Z201=0.25,IF(SUM(I201:I202)>T201,T201*(I201/SUM(I201:I202)),I201),IF(T201>SUM(U201:U202),T201-SUM(U201:U202),0)))","v":0},{"$f":"SUM(W201:W203)","v":0},0,{"$f":"IF($D201=\"\",0,IF($N201=\"ใช่\",IF(AND($P201<=-0.8,$P201>=-1.25,$Q201<=-0.9,$Q201>=-1,$R201>=0.95,$S201>=0.95),0,MAX(K201-SUM(W201:W203),0)),IF($O201=\"ใช่\",IF(AND($R201>=0.95,$S201>=0.95),0,MAX(K201-SUM(W201:W203),0)),MAX(K201-SUM(W201:W203),0))))","v":0},{"$f":"IF(X201=0,0,X201*$I201/SUM(I201:I203))","v":0},0.25,{"$f":"W201*Z201+Y201","v":0},{"$f":"SUM(AA201:AA203)","v":0}]
[null,null,null,null,"(2) ตราสารทุนที่จดทะเบียนในตลาดหลักทรัพย์อื่น และอยู่ในดัชนีตลาดหลักทรัพย์ตามที่กำหนดไว้",null,null,null,{"$f":"$D201*$H202","v":0},null,null,null,null,null,null,null,null,null,null,null,{"$f":"IF(T201=0,0,IF(Z202=0.25,IF(SUM(I201:I202)>T201,T201*(I202/SUM(I201:I202)),I202),IF(T201>SUM(U201:U202),T201-SUM(U201:U202),0)))","v":0},null,0,null,{"$f":"IF(X201=0,0,X201*$I202/SUM(I201:I203))","v":0},0.25,0]
[null,null,null,null,"(3) ตราสารทุนที่จดทะเบียนในตลาดหลักทรัพย์อื่น แต่ไม่อยู่ในดัชนีตลาดหลักทรัพย์ตามที่กำหนดไว้ในตาราง",null,null,null,{"$f":"$D201*$H203","v":0},null,null,null,null,null,null,null,null,null,null,null,{"$f":"IF(T201=0,0,IF(Z203=0.25,IF(SUM(I201:I202)>T201,T201*(I203/SUM(I201:I202)),I203),IF(T201>SUM(U201:U202),T201-SUM(U201:U202),0)))","v":0},null,0,null,{"$f":"IF(X201=0,0,X201*$I203/SUM(I201:I203))","v":0},0.35,0]
[null,42,null,null,"(1) ตราสารทุนที่จดทะเบียนในตลาดหลักทรัพย์แห่งประเทศไทย และตลาดหลักทรัพย์ เอ็ม เอ ไอ",null,null,null,{"$f":"$D204*$H204","v":0},null,null,null,null,null,null,null,null,{"$f":"IF(AND(SUM($I204:$I206)=0,$K204=\"\"),\"\",SUM($I204:$I206)/$K204)","v":""},{"$f":"IF(AND(SUM($I204:$I206)=0,$K204=\"\"),\"\",$K204/SUM($I204:$I206))","v":""},{"$f":"IF(D204=\"\",0,IF(N204=\"ใช่\",IF(AND(P204<=-0.8,P204>=-1.25,Q204<=-0.9,Q204>=-1,R204>=0.95,S204>=0.95),MIN(SUM(I204:I206),K204),0),IF(O204=\"ใช่\",IF(AND(R204>=0.95,S204>=0.95),MIN(SUM(I204:I206),K204),0),0)))","v":0},{"$f":"IF(T204=0,0,IF(Z204=0.25,IF(SUM(I204:I205)>T204,T204*(I204/SUM(I204:I205)),I204),IF(T204>SUM(U204:U205),T204-SUM(U204:U205),0)))","v":0},{"$f":"SUM(W204:W206)","v":0},0,{"$f":"IF($D204=\"\",0,IF($N204=\"ใช่\",IF(AND($P204<=-0.8,$P204>=-1.25,$Q204<=-0.9,$Q204>=-1,$R204>=0.95,$S204>=0.95),0,MAX(K204-SUM(W204:W206),0)),IF($O204=\"ใช่\",IF(AND($R204>=0.95,$S204>=0.95),0,MAX(K204-SUM(W204:W206),0)),MAX(K204-SUM(W204:W206),0))))","v":0},{"$f":"IF(X204=0,0,X204*$I204/SUM(I204:I206))","v":0},0.25,0,{"$f":"SUM(AA204:AA206)","v":0}]
[null,null,null,null,"(2) ตราสารทุนที่จดทะเบียนในตลาดหลักทรัพย์อื่น และอยู่ในดัชนีตลาดหลักทรัพย์ตามที่กำหนดไว้",null,null,null,{"$f":"$D204*$H205","v":0},null,null,null,null,null,null,null,null,null,null,null,{"$f":"IF(T204=0,0,IF(Z205=0.25,IF(SUM(I204:I205)>T204,T204*(I205/SUM(I204:I205)),I205),IF(T204>SUM(U204:U205),T204-SUM(U204:U205),0)))","v":0},null,0,null,{"$f":"IF(X204=0,0,X204*$I205/SUM(I204:I206))","v":0},0.25,0]
[null,null,null,null,"(3) ตราสารทุนที่จดทะเบียนในตลาดหลักทรัพย์อื่น แต่ไม่อยู่ในดัชนีตลาดหลักทรัพย์ตามที่กำหนดไว้ในตาราง",null,null,null,{"$f":"$D204*$H206","v":0},null,null,null,null,null,null,null,null,null,null,null,{"$f":"IF(T204=0,0,IF(Z206=0.25,IF(SUM(I204:I205)>T204,T204*(I206/SUM(I204:I205)),I206),IF(T204>SUM(U204:U205),T204-SUM(U204:U205),0)))","v":0},null,0,null,{"$f":"IF(X204=0,0,X204*$I206/SUM(I204:I206))","v":0},0.35,0]
[null,43,null,null,"(1) ตราสารทุนที่จดทะเบียนในตลาดหลักทรัพย์แห่งประเทศไทย และตลาดหลักทรัพย์ เอ็ม เอ ไอ",null,null,null,{"$f":"$D207*$H207","v":0},null,null,null,null,null,null,null,null,{"$f":"IF(AND(SUM($I207:$I209)=0,$K207=\"\"),\"\",SUM($I207:$I209)/$K207)","v":""},{"$f":"IF(AND(SUM($I207:$I209)=0,$K207=\"\"),\"\",$K207/SUM($I207:$I209))","v":""},{"$f":"IF(D207=\"\",0,IF(N207=\"ใช่\",IF(AND(P207<=-0.8,P207>=-1.25,Q207<=-0.9,Q207>=-1,R207>=0.95,S207>=0.95),MIN(SUM(I207:I209),K207),0),IF(O207=\"ใช่\",IF(AND(R207>=0.95,S207>=0.95),MIN(SUM(I207:I209),K207),0),0)))","v":0},{"$f":"IF(T207=0,0,IF(Z207=0.25,IF(SUM(I207:I208)>T207,T207*(I207/SUM(I207:I208)),I207),IF(T207>SUM(U207:U208),T207-SUM(U207:U208),0)))","v":0},{"$f":"SUM(W207:W209)","v":0},0,{"$f":"IF($D207=\"\",0,IF($N207=\"ใช่\",IF(AND($P207<=-0.8,$P207>=-1.25,$Q207<=-0.9,$Q207>=-1,$R207>=0.95,$S207>=0.95),0,MAX(K207-SUM(W207:W209),0)),IF($O207=\"ใช่\",IF(AND($R207>=0.95,$S207>=0.95),0,MAX(K207-SUM(W207:W209),0)),MAX(K207-SUM(W207:W209),0))))","v":0},{"$f":"IF(X207=0,0,X207*$I207/SUM(I207:I209))","v":0},0.25,0,{"$f":"SUM(AA207:AA209)","v":0}]
[null,null,null,null,"(2) ตราสารทุนที่จดทะเบียนในตลาดหลักทรัพย์อื่น และอยู่ในดัชนีตลาดหลักทรัพย์ตามที่กำหนดไว้",null,null,null,{"$f":"$D207*$H208","v":0},null,null,null,null,null,null,null,null,null,null,null,{"$f":"IF(T207=0,0,IF(Z208=0.25,IF(SUM(I207:I208)>T207,T207*(I208/SUM(I207:I208)),I208),IF(T207>SUM(U207:U208),T207-SUM(U207:U208),0)))","v":0},null,0,null,{"$f":"IF(X207=0,0,X207*$I208/SUM(I207:I209))","v":0},0.25,0]
[null,null,null,null,"(3) ตราสารทุนที่จดทะเบียนในตลาดหลักทรัพย์อื่น แต่ไม่อยู่ในดัชนีตลาดหลักทรัพย์ตามที่กำหนดไว้ในตาราง",null,null,null,{"$f":"$D207*$H209","v":0},null,null,null,null,null,null,null,null,null,null,null,{"$f":"IF(T207=0,0,IF(Z209=0.25,IF(SUM(I207:I208)>T207,T207*(I209/SUM(I207:I208)),I209),IF(T207>SUM(U207:U208),T207-SUM(U207:U208),0)))","v":0},null,{"$f":"I209-U209","v":0},null,{"$f":"IF(X207=0,0,X207*$I209/SUM(I207:I209))","v":0},0.35,0]
[null,44,null,null,"(1) ตราสารทุนที่จดทะเบียนในตลาดหลักทรัพย์แห่งประเทศไทย และตลาดหลักทรัพย์ เอ็ม เอ ไอ",null,null,null,{"$f":"$D210*$H210","v":0},null,null,null,null,null,null,null,null,{"$f":"IF(AND(SUM($I210:$I212)=0,$K210=\"\"),\"\",SUM($I210:$I212)/$K210)","v":""},{"$f":"IF(AND(SUM($I210:$I212)=0,$K210=\"\"),\"\",$K210/SUM($I210:$I212))","v":""},{"$f":"IF(D210=\"\",0,IF(N210=\"ใช่\",IF(AND(P210<=-0.8,P210>=-1.25,Q210<=-0.9,Q210>=-1,R210>=0.95,S210>=0.95),MIN(SUM(I210:I212),K210),0),IF(O210=\"ใช่\",IF(AND(R210>=0.95,S210>=0.95),MIN(SUM(I210:I212),K210),0),0)))","v":0},{"$f":"IF(T210=0,0,IF(Z210=0.25,IF(SUM(I210:I211)>T210,T210*(I210/SUM(I210:I211)),I210),IF(T210>SUM(U210:U211),T210-SUM(U210:U211),0)))","v":0},{"$f":"SUM(W210:W212)","v":0},0,{"$f":"IF($D210=\"\",0,IF($N210=\"ใช่\",IF(AND($P210<=-0.8,$P210>=-1.25,$Q210<=-0.9,$Q210>=-1,$R210>=0.95,$S210>=0.95),0,MAX(K210-SUM(W210:W212),0)),IF($O210=\"ใช่\",IF(AND($R210>=0.95,$S210>=0.95),0,MAX(K210-SUM(W210:W212),0)),MAX(K210-SUM(W210:W212),0))))","v":0},{"$f":"IF(X210=0,0,X210*$I210/SUM(I210:I212))","v":0},0.25,0,{"$f":"SUM(AA210:AA212)","v":0}]
[null,null,null,null,"(2) ตราสารทุนที่จดทะเบียนในตลาดหลักทรัพย์อื่น และอยู่ในดัชนีตลาดหลักทรัพย์ตามที่กำหนดไว้",null,null,null,{"$f":"$D210*$H211","v":0},null,null,null,null,null,null,null,null,null,null,null,{"$f":"IF(T210=0,0,IF(Z211=0.25,IF(SUM(I210:I211)>T210,T210*(I211/SUM(I210:I211)),I211),IF(T210>SUM(U210:U211),T210-SUM(U210:U211),0)))","v":0},null,0,null,{"$f":"IF(X210=0,0,X210*$I211/SUM(I210:I212))","v":0},0.25,0]
[null,null,null,null,"(3) ตราสารทุนที่จดทะเบียนในตลาดหลักทรัพย์อื่น แต่ไม่อยู่ในดัชนีตลาดหลักทรัพย์ตามที่กำหนดไว้ในตาราง",null,null,null,{"$f":"$D210*$H212","v":0},null,null,null,null,null,null,null,null,null,null,null,{"$f":"IF(T210=0,0,IF(Z212=0.25,IF(SUM(I210:I211)>T210,T210*(I212/SUM(I210:I211)),I212),IF(T210>SUM(U210:U211),T210-SUM(U210:U211),0)))","v":0},null,0,null,{"$f":"IF(X210=0,0,X210*$I212/SUM(I210:I212))","v":0},0.35,0]
[null,45,null,null,"(1) ตราสารทุนที่จดทะเบียนในตลาดหลักทรัพย์แห่งประเทศไทย และตลาดหลักทรัพย์ เอ็ม เอ ไอ",null,null,null,{"$f":"$D213*$H213","v":0},null,null,null,null,null,null,null,null,{"$f":"IF(AND(SUM($I213:$I215)=0,$K213=\"\"),\"\",SUM($I213:$I215)/$K213)","v":""},{"$f":"IF(AND(SUM($I213:$I215)=0,$K213=\"\"),\"\",$K213/SUM($I213:$I215))","v":""},{"$f":"IF(D213=\"\",0,IF(N213=\"ใช่\",IF(AND(P213<=-0.8,P213>=-1.25,Q213<=-0.9,Q213>=-1,R213>=0.95,S213>=0.95),MIN(SUM(I213:I215),K213),0),IF(O213=\"ใช่\",IF(AND(R213>=0.95,S213>=0.95),MIN(SUM(I213:I215),K213),0),0)))","v":0},{"$f":"IF(T213=0,0,IF(Z213=0.25,IF(SUM(I213:I214)>T213,T213*(I213/SUM(I213:I214)),I213),IF(T213>SUM(U213:U214),T213-SUM(U213:U214),0)))","v":0},{"$f":"SUM(W213:W215)","v":0},0,{"$f":"IF($D213=\"\",0,IF($N213=\"ใช่\",IF(AND($P213<=-0.8,$P213>=-1.25,$Q213<=-0.9,$Q213>=-1,$R213>=0.95,$S213>=0.95),0,MAX(K213-SUM(W213:W215),0)),IF($O213=\"ใช่\",IF(AND($R213>=0.95,$S213>=0.95),0,MAX(K213-SUM(W213:W215),0)),MAX(K213-SUM(W213:W215),0))))","v":0},{"$f":"IF(X213=0,0,X213*$I213/SUM(I213:I215))","v":0},0.25,0,{"$f":"SUM(AA213:AA215)","v":0}]
[null,null,null,null,"(2) ตราสารทุนที่จดทะเบียนในตลาดหลักทรัพย์อื่น และอยู่ในดัชนีตลาดหลักทรัพย์ตามที่กำหนดไว้",null,null,null,{"$f":"$D213*$H214","v":0},null,null,null,null,null,null,null,null,null,null,null,{"$f":"IF(T213=0,0,IF(Z214=0.25,IF(SUM(I213:I214)>T213,T213*(I214/SUM(I213:I214)),I214),IF(T213>SUM(U213:U214),T213-SUM(U213:U214),0)))","v":0},null,0,null,{"$f":"IF(X213=0,0,X213*$I214/SUM(I213:I215))","v":0},0.25,0]
[null,null,null,null,"(3) ตราสารทุนที่จดทะเบียนในตลาดหลักทรัพย์อื่น แต่ไม่อยู่ในดัชนีตลาดหลักทรัพย์ตามที่กำหนดไว้ในตาราง",null,null,null,{"$f":"$D213*$H215","v":0},null,null,null,null,null,null,null,null,null,null,null,{"$f":"IF(T213=0,0,IF(Z215=0.25,IF(SUM(I213:I214)>T213,T213*(I215/SUM(I213:I214)),I215),IF(T213>SUM(U213:U214),T213-SUM(U213:U214),0)))","v":0},null,0,null,{"$f":"IF(X213=0,0,X213*$I215/SUM(I213:I215))","v":0},0.35,0]
[null,46,null,null,"(1) ตราสารทุนที่จดทะเบียนในตลาดหลักทรัพย์แห่งประเทศไทย และตลาดหลักทรัพย์ เอ็ม เอ ไอ",null,null,null,{"$f":"$D216*$H216","v":0},null,null,null,null,null,null,null,null,{"$f":"IF(AND(SUM($I216:$I218)=0,$K216=\"\"),\"\",SUM($I216:$I218)/$K216)","v":""},{"$f":"IF(AND(SUM($I216:$I218)=0,$K216=\"\"),\"\",$K216/SUM($I216:$I218))","v":""},{"$f":"IF(D216=\"\",0,IF(N216=\"ใช่\",IF(AND(P216<=-0.8,P216>=-1.25,Q216<=-0.9,Q216>=-1,R216>=0.95,S216>=0.95),MIN(SUM(I216:I218),K216),0),IF(O216=\"ใช่\",IF(AND(R216>=0.95,S216>=0.95),MIN(SUM(I216:I218),K216),0),0)))","v":0},{"$f":"IF(T216=0,0,IF(Z216=0.25,IF(SUM(I216:I217)>T216,T216*(I216/SUM(I216:I217)),I216),IF(T216>SUM(U216:U217),T216-SUM(U216:U217),0)))","v":0},{"$f":"SUM(W216:W218)","v":0},0,{"$f":"IF($D216=\"\",0,IF($N216=\"ใช่\",IF(AND($P216<=-0.8,$P216>=-1.25,$Q216<=-0.9,$Q216>=-1,$R216>=0.95,$S216>=0.95),0,MAX(K216-SUM(W216:W218),0)),IF($O216=\"ใช่\",IF(AND($R216>=0.95,$S216>=0.95),0,MAX(K216-SUM(W216:W218),0)),MAX(K216-SUM(W216:W218),0))))","v":0},{"$f":"IF(X216=0,0,X216*$I216/SUM(I216:I218))","v":0},0.25,0,{"$f":"SUM(AA216:AA218)","v":0}]
[null,null,null,null,"(2) ตราสารทุนที่จดทะเบียนในตลาดหลักทรัพย์อื่น และอยู่ในดัชนีตลาดหลักทรัพย์ตามที่กำหนดไว้",null,null,null,{"$f":"$D216*$H217","v":0},null,null,null,null,null,null,null,null,null,null,null,{"$f":"IF(T216=0,0,IF(Z217=0.25,IF(SUM(I216:I217)>T216,T216*(I217/SUM(I216:I217)),I217),IF(T216>SUM(U216:U217),T216-SUM(U216:U217),0)))","v":0},null,0,null,{"$f":"IF(X216=0,0,X216*$I217/SUM(I216:I218))","v":0},0.25,0]
[null,null,null,null,"(3) ตราสารทุนที่จดทะเบียนในตลาดหลักทรัพย์อื่น แต่ไม่อยู่ในดัชนีตลาดหลักทรัพย์ตามที่กำหนดไว้ในตาราง",null,null,null,{"$f":"$D216*$H218","v":0},null,null,null,null,null,null,null,null,null,null,null,{"$f":"IF(T216=0,0,IF(Z218=0.25,IF(SUM(I216:I217)>T216,T216*(I218/SUM(I216:I217)),I218),IF(T216>SUM(U216:U217),T216-SUM(U216:U217),0)))","v":0},null,0,null,{"$f":"IF(X216=0,0,X216*$I218/SUM(I216:I218))","v":0},0.35,0]
[null,47,null,null,"(1) ตราสารทุนที่จดทะเบียนในตลาดหลักทรัพย์แห่งประเทศไทย และตลาดหลักทรัพย์ เอ็ม เอ ไอ",null,null,null,{"$f":"$D219*$H219","v":0},null,null,null,null,null,null,null,null,{"$f":"IF(AND(SUM($I219:$I221)=0,$K219=\"\"),\"\",SUM($I219:$I221)/$K219)","v":""},{"$f":"IF(AND(SUM($I219:$I221)=0,$K219=\"\"),\"\",$K219/SUM($I219:$I221))","v":""},{"$f":"IF(D219=\"\",0,IF(N219=\"ใช่\",IF(AND(P219<=-0.8,P219>=-1.25,Q219<=-0.9,Q219>=-1,R219>=0.95,S219>=0.95),MIN(SUM(I219:I221),K219),0),IF(O219=\"ใช่\",IF(AND(R219>=0.95,S219>=0.95),MIN(SUM(I219:I221),K219),0),0)))","v":0},{"$f":"IF(T219=0,0,IF(Z219=0.25,IF(SUM(I219:I220)>T219,T219*(I219/SUM(I219:I220)),I219),IF(T219>SUM(U219:U220),T219-SUM(U219:U220),0)))","v":0},{"$f":"SUM(W219:W221)","v":0},0,{"$f":"IF($D219=\"\",0,IF($N219=\"ใช่\",IF(AND($P219<=-0.8,$P219>=-1.25,$Q219<=-0.9,$Q219>=-1,$R219>=0.95,$S219>=0.95),0,MAX(K219-SUM(W219:W221),0)),IF($O219=\"ใช่\",IF(AND($R219>=0.95,$S219>=0.95),0,MAX(K219-SUM(W219:W221),0)),MAX(K219-SUM(W219:W221),0))))","v":0},{"$f":"IF(X219=0,0,X219*$I219/SUM(I219:I221))","v":0},0.25,0,{"$f":"SUM(AA219:AA221)","v":0}]
[null,null,null,null,"(2) ตราสารทุนที่จดทะเบียนในตลาดหลักทรัพย์อื่น และอยู่ในดัชนีตลาดหลักทรัพย์ตามที่กำหนดไว้",null,null,null,{"$f":"$D219*$H220","v":0},null,null,null,null,null,null,null,null,null,null,null,{"$f":"IF(T219=0,0,IF(Z220=0.25,IF(SUM(I219:I220)>T219,T219*(I220/SUM(I219:I220)),I220),IF(T219>SUM(U219:U220),T219-SUM(U219:U220),0)))","v":0},null,0,null,{"$f":"IF(X219=0,0,X219*$I220/SUM(I219:I221))","v":0},0.25,0]
[null,null,null,null,"(3) ตราสารทุนที่จดทะเบียนในตลาดหลักทรัพย์อื่น แต่ไม่อยู่ในดัชนีตลาดหลักทรัพย์ตามที่กำหนดไว้ในตาราง",null,null,null,{"$f":"$D219*$H221","v":0},null,null,null,null,null,null,null,null,null,null,null,{"$f":"IF(T219=0,0,IF(Z221=0.25,IF(SUM(I219:I220)>T219,T219*(I221/SUM(I219:I220)),I221),IF(T219>SUM(U219:U220),T219-SUM(U219:U220),0)))","v":0},null,0,null,{"$f":"IF(X219=0,0,X219*$I221/SUM(I219:I221))","v":0},0.35,0]
[null,48,null,null,"(1) ตราสารทุนที่จดทะเบียนในตลาดหลักทรัพย์แห่งประเทศไทย และตลาดหลักทรัพย์ เอ็ม เอ ไอ",null,null,null,{"$f":"$D222*$H222","v":0},null,null,null,null,null,null,null,null,{"$f":"IF(AND(SUM($I222:$I224)=0,$K222=\"\"),\"\",SUM($I222:$I224)/$K222)","v":""},{"$f":"IF(AND(SUM($I222:$I224)=0,$K222=\"\"),\"\",$K222/SUM($I222:$I224))","v":""},{"$f":"IF(D222=\"\",0,IF(N222=\"ใช่\",IF(AND(P222<=-0.8,P222>=-1.25,Q222<=-0.9,Q222>=-1,R222>=0.95,S222>=0.95),MIN(SUM(I222:I224),K222),0),IF(O222=\"ใช่\",IF(AND(R222>=0.95,S222>=0.95),MIN(SUM(I222:I224),K222),0),0)))","v":0},{"$f":"IF(T222=0,0,IF(Z222=0.25,IF(SUM(I222:I223)>T222,T222*(I222/SUM(I222:I223)),I222),IF(T222>SUM(U222:U223),T222-SUM(U222:U223),0)))","v":0},{"$f":"SUM(W222:W224)","v":0},0,{"$f":"IF($D222=\"\",0,IF($N222=\"ใช่\",IF(AND($P222<=-0.8,$P222>=-1.25,$Q222<=-0.9,$Q222>=-1,$R222>=0.95,$S222>=0.95),0,MAX(K222-SUM(W222:W224),0)),IF($O222=\"ใช่\",IF(AND($R222>=0.95,$S222>=0.95),0,MAX(K222-SUM(W222:W224),0)),MAX(K222-SUM(W222:W224),0))))","v":0},{"$f":"IF(X222=0,0,X222*$I222/SUM(I222:I224))","v":0},0.25,0,{"$f":"SUM(AA222:AA224)","v":0}]
[null,null,null,null,"(2) ตราสารทุนที่จดทะเบียนในตลาดหลักทรัพย์อื่น และอยู่ในดัชนีตลาดหลักทรัพย์ตามที่กำหนดไว้",null,null,null,{"$f":"$D222*$H223","v":0},null,null,null,null,null,null,null,null,null,null,null,{"$f":"IF(T222=0,0,IF(Z223=0.25,IF(SUM(I222:I223)>T222,T222*(I223/SUM(I222:I223)),I223),IF(T222>SUM(U222:U223),T222-SUM(U222:U223),0)))","v":0},null,0,null,{"$f":"IF(X222=0,0,X222*$I223/SUM(I222:I224))","v":0},0.25,0]
[null,null,null,null,"(3) ตราสารทุนที่จดทะเบียนในตลาดหลักทรัพย์อื่น แต่ไม่อยู่ในดัชนีตลาดหลักทรัพย์ตามที่กำหนดไว้ในตาราง",null,null,null,{"$f":"$D222*$H224","v":0},null,null,null,null,null,null,null,null,null,null,null,{"$f":"IF(T222=0,0,IF(Z224=0.25,IF(SUM(I222:I223)>T222,T222*(I224/SUM(I222:I223)),I224),IF(T222>SUM(U222:U223),T222-SUM(U222:U223),0)))","v":0},null,0,null,{"$f":"IF(X222=0,0,X222*$I224/SUM(I222:I224))","v":0},0.35,0]
[null,49,null,null,"(1) ตราสารทุนที่จดทะเบียนในตลาดหลักทรัพย์แห่งประเทศไทย และตลาดหลักทรัพย์ เอ็ม เอ ไอ",null,null,null,{"$f":"$D225*$H225","v":0},null,null,null,null,null,null,null,null,{"$f":"IF(AND(SUM($I225:$I227)=0,$K225=\"\"),\"\",SUM($I225:$I227)/$K225)","v":""},{"$f":"IF(AND(SUM($I225:$I227)=0,$K225=\"\"),\"\",$K225/SUM($I225:$I227))","v":""},{"$f":"IF(D225=\"\",0,IF(N225=\"ใช่\",IF(AND(P225<=-0.8,P225>=-1.25,Q225<=-0.9,Q225>=-1,R225>=0.95,S225>=0.95),MIN(SUM(I225:I227),K225),0),IF(O225=\"ใช่\",IF(AND(R225>=0.95,S225>=0.95),MIN(SUM(I225:I227),K225),0),0)))","v":0},{"$f":"IF(T225=0,0,IF(Z225=0.25,IF(SUM(I225:I226)>T225,T225*(I225/SUM(I225:I226)),I225),IF(T225>SUM(U225:U226),T225-SUM(U225:U226),0)))","v":0},{"$f":"SUM(W225:W227)","v":0},0,{"$f":"IF($D225=\"\",0,IF($N225=\"ใช่\",IF(AND($P225<=-0.8,$P225>=-1.25,$Q225<=-0.9,$Q225>=-1,$R225>=0.95,$S225>=0.95),0,MAX(K225-SUM(W225:W227),0)),IF($O225=\"ใช่\",IF(AND($R225>=0.95,$S225>=0.95),0,MAX(K225-SUM(W225:W227),0)),MAX(K225-SUM(W225:W227),0))))","v":0},{"$f":"IF(X225=0,0,X225*$I225/SUM(I225:I227))","v":0},0.25,0,{"$f":"SUM(AA225:AA227)","v":0}]
[null,null,null,null,"(2) ตราสารทุนที่จดทะเบียนในตลาดหลักทรัพย์อื่น และอยู่ในดัชนีตลาดหลักทรัพย์ตามที่กำหนดไว้",null,null,null,{"$f":"$D225*$H226","v":0},null,null,null,null,null,null,null,null,null,null,null,{"$f":"IF(T225=0,0,IF(Z226=0.25,IF(SUM(I225:I226)>T225,T225*(I226/SUM(I225:I226)),I226),IF(T225>SUM(U225:U226),T225-SUM(U225:U226),0)))","v":0},null,0,null,{"$f":"IF(X225=0,0,X225*$I226/SUM(I225:I227))","v":0},0.25,0]
[null,null,null,null,"(3) ตราสารทุนที่จดทะเบียนในตลาดหลักทรัพย์อื่น แต่ไม่อยู่ในดัชนีตลาดหลักทรัพย์ตามที่กำหนดไว้ในตาราง",null,null,null,{"$f":"$D225*$H227","v":0},null,null,null,null,null,null,null,null,null,null,null,{"$f":"IF(T225=0,0,IF(Z227=0.25,IF(SUM(I225:I226)>T225,T225*(I227/SUM(I225:I226)),I227),IF(T225>SUM(U225:U226),T225-SUM(U225:U226),0)))","v":0},null,0,null,{"$f":"IF(X225=0,0,X225*$I227/SUM(I225:I227))","v":0},0.35,0]
[null,50,null,null,"(1) ตราสารทุนที่จดทะเบียนในตลาดหลักทรัพย์แห่งประเทศไทย และตลาดหลักทรัพย์ เอ็ม เอ ไอ",null,null,null,{"$f":"$D228*$H228","v":0},null,null,null,null,null,null,null,null,{"$f":"IF(AND(SUM($I228:$I230)=0,$K228=\"\"),\"\",SUM($I228:$I230)/$K228)","v":""},{"$f":"IF(AND(SUM($I228:$I230)=0,$K228=\"\"),\"\",$K228/SUM($I228:$I230))","v":""},{"$f":"IF(D228=\"\",0,IF(N228=\"ใช่\",IF(AND(P228<=-0.8,P228>=-1.25,Q228<=-0.9,Q228>=-1,R228>=0.95,S228>=0.95),MIN(SUM(I228:I230),K228),0),IF(O228=\"ใช่\",IF(AND(R228>=0.95,S228>=0.95),MIN(SUM(I228:I230),K228),0),0)))","v":0},{"$f":"IF(T228=0,0,IF(Z228=0.25,IF(SUM(I228:I229)>T228,T228*(I228/SUM(I228:I229)),I228),IF(T228>SUM(U228:U229),T228-SUM(U228:U229),0)))","v":0},{"$f":"SUM(W228:W230)","v":0},0,{"$f":"IF($D228=\"\",0,IF($N228=\"ใช่\",IF(AND($P228<=-0.8,$P228>=-1.25,$Q228<=-0.9,$Q228>=-1,$R228>=0.95,$S228>=0.95),0,MAX(K228-SUM(W228:W230),0)),IF($O228=\"ใช่\",IF(AND($R228>=0.95,$S228>=0.95),0,MAX(K228-SUM(W228:W230),0)),MAX(K228-SUM(W228:W230),0))))","v":0},{"$f":"IF(X228=0,0,X228*$I228/SUM(I228:I230))","v":0},0.25,0,{"$f":"SUM(AA228:AA230)","v":0}]
[null,null,null,null,"(2) ตราสารทุนที่จดทะเบียนในตลาดหลักทรัพย์อื่น และอยู่ในดัชนีตลาดหลักทรัพย์ตามที่กำหนดไว้",null,null,null,{"$f":"$D228*$H229","v":0},null,null,null,null,null,null,null,null,null,null,null,{"$f":"IF(T228=0,0,IF(Z229=0.25,IF(SUM(I228:I229)>T228,T228*(I229/SUM(I228:I229)),I229),IF(T228>SUM(U228:U229),T228-SUM(U228:U229),0)))","v":0},null,0,null,{"$f":"IF(X228=0,0,X228*$I229/SUM(I228:I230))","v":0},0.25,0]
[null,null,null,null,"(3) ตราสารทุนที่จดทะเบียนในตลาดหลักทรัพย์อื่น แต่ไม่อยู่ในดัชนีตลาดหลักทรัพย์ตามที่กำหนดไว้ในตาราง",null,null,null,{"$f":"$D228*$H230","v":0},null,null,null,null,null,null,null,null,null,null,null,{"$f":"IF(T228=0,0,IF(Z230=0.25,IF(SUM(I228:I229)>T228,T228*(I230/SUM(I228:I229)),I230),IF(T228>SUM(U228:U229),T228-SUM(U228:U229),0)))","v":0},null,0,null,{"$f":"IF(X228=0,0,X228*$I230/SUM(I228:I230))","v":0},0.35,0]
[null,51,"รวม",{"$f":"SUM(D81:D230)","v":0},"(1) ตราสารทุนที่จดทะเบียนในตลาดหลักทรัพย์แห่งประเทศไทย และตลาดหลักทรัพย์ เอ็ม เอ ไอ",null,null,{"$f":"IF(D231=0,\"\",I231/D231)","v":""},{"$f":"SUMIF($E$81:$G$230,$E231,$I$81:$I$230)","v":0},null,null,null,null,null,null,null,null,null,null,{"$f":"SUM(T81:T230)","v":0},{"$f":"SUMIF($E$81:$G$230,$E231,$U$81:$U$230)","v":0},{"$f":"SUM(V81:V230)","v":0},{"$f":"SUMIF($E$81:$G$230,$E231,$W$81:$W$230)","v":0},{"$f":"SUM(X81:X230)","v":0},{"$f":"SUMIF($E$81:$G$230,$E231,$Y$81:$Y$230)","v":0},null,{"$f":"SUMIF($E$81:$G$230,$E231,$AA$81:$AA$230)","v":0},{"$f":"SUM(AB81:AB230)","v":0}]
[null,null,null,null,"(2) ตราสารทุนที่จดทะเบียนในตลาดหลักทรัพย์อื่น และอยู่ในดัชนีตลาดหลักทรัพย์ตามที่กำหนดไว้",null,null,{"$f":"IF(D231=0,\"\",I232/D231)","v":""},{"$f":"SUMIF($E$81:$G$230,$E232,$I$81:$I$230)","v":0},null,null,null,null,null,null,null,null,null,null,null,{"$f":"SUMIF($E$81:$G$230,$E232,$U$81:$U$230)","v":0},null,{"$f":"SUMIF($E$81:$G$230,$E232,$W$81:$W$230)","v":0},null,{"$f":"SUMIF($E$81:$G$230,$E232,$Y$81:$Y$230)","v":0},null,{"$f":"SUMIF($E$81:$G$230,$E232,$AA$81:$AA$230)","v":0}]
[null,null,null,null,"(3) ตราสารทุนที่จดทะเบียนในตลาดหลักทรัพย์อื่น แต่ไม่อยู่ในดัชนีตลาดหลักทรัพย์ตามที่กำหนดไว้ในตาราง",null,null,{"$f":"IF(D231=0,\"\",I233/D231)","v":""},{"$f":"SUMIF($E$81:$G$230,$E233,$I$81:$I$230)","v":0},null,null,null,null,null,null,null,null,null,null,null,{"$f":"SUMIF($E$81:$G$230,$E233,$U$81:$U$230)","v":0},null,{"$f":"SUMIF($E$81:$G$230,$E233,$W$81:$W$230)","v":0},null,{"$f":"SUMIF($E$81:$G$230,$E233,$Y$81:$Y$230)","v":0},null,{"$f":"SUMIF($E$81:$G$230,$E233,$AA$81:$AA$230)","v":0}]
[]
[]
[null,"ตารางที่ 5.2.4 ข้อมูลพอร์ตการลงทุนที่ได้รับการป้องกันความเสี่ยง (hedged portfolio)"]
[null,"พอร์ตการลงทุนที่ได้รับการป้องกันความเสี่ยง\n(hedged portfolio)",1,null,null,null,null,null,null,2,null,null,null,null,null,null,3,null,null,null,null,null,null,4,null,null,null,null,null,null,5,null,null,null,null,null,null,6,null,null,null,null,null,null,7,null,null,null,null,null,null,8,null,null,null,null,null,null,9,null,null,null,null,null,null,10,null,null,null,null,null,null,11,null,null,null,null,null,null,12,null,null,null,null,null,null,13,null,null,null,null,null,null,14,null,null,null,null,null,null,15,null,null,null,null,null,null,16,null,null,null,null,null,null,17,null,null,null,null,null,null,18,null,null,null,null,null,null,19,null,null,null,null,null,null,20,null,null,null,null,null,null,21,null,null,null,null,null,null,22,null,null,null,null,null,null,23,null,null,null,null,null,null,24,null,null,null,null,null,null,25,null,null,null,null,null,null,26,null,null,null,null,null,null,27,null,null,null,null,null,null,28,null,null,null,null,null,null,29,null,null,null,null,null,null,30,null,null,null,null,null,null,31,null,null,null,null,null,null,32,null,null,null,null,null,null,33,null,null,null,null,null,null,34,null,null,null,null,null,null,35,null,null,null,null,null,null,36,null,null,null,null,null,null,37,null,null,null,null,null,null,38,null,null,null,null,null,null,39,null,null,null,null,null,null,40,null,null,null,null,null,null,41,null,null,null,null,null,null,42,null,null,null,null,null,null,43,null,null,null,null,null,null,44,null,null,null,null,null,null,45,null,null,null,null,null,null,46,null,null,null,null,null,null,47,null,null,null,null,null,null,48,null,null,null,null,null,null,49,null,null,null,null,null,null,50]
[null,null,"พอร์ตการลงทุนในตราสารทุนที่ต้องการป้องกันความเสี่ยง",null,null,"เครื่องมือป้องกันความเสี่ยง",null,null,null,"พอร์ตการลงทุนในตราสารทุนที่ต้องการป้องกันความเสี่ยง",null,null,"เครื่องมือป้องกันความเสี่ยง",null,null,null,"พอร์ตการลงทุนในตราสารทุนที่ต้องการป้องกันความเสี่ยง",null,null,"เครื่องมือป้องกันความเสี่ยง",null,null,null,"พอร์ตการลงทุนในตราสารทุนที่ต้องการป้องกันความเสี่ยง",null,null,"เครื่องมือป้องกันความเสี่ยง",null,null,null,"พอร์ตการลงทุนในตราสารทุนที่ต้องการป้องกันความเสี่ยง",null,null,"เครื่องมือป้องกันความเสี่ยง",null,null,null,"พอร์ตการลงทุนในตราสารทุนที่ต้องการป้องกันความเสี่ยง",null,null,"เครื่องมือป้องกันความเสี่ยง",null,null,null,"พอร์ตการลงทุนในตราสารทุนที่ต้องการป้องกันความเสี่ยง",null,null,"เครื่องมือป้องกันความเสี่ยง",null,null,null,"พอร์ตการลงทุนในตราสารทุนที่ต้องการป้องกันความเสี่ยง",null,null,"เครื่องมือป้องกันความเสี่ยง",null,null,null,"พอร์ตการลงทุนในตราสารทุนที่ต้องการป้องกันความเสี่ยง",null,null,"เครื่องมือป้องกันความเสี่ยง",null,null,null,"พอร์ตการลงทุนในตราสารทุนที่ต้องการป้องกันความเสี่ยง",null,null,"เครื่องมือป้องกันความเสี่ยง",null,null,null,"พอร์ตการลงทุนในตราสารทุนที่ต้องการป้องกันความเสี่ยง",null,null,"เครื่องมือป้องกันความเสี่ยง",null,null,null,"พอร์ตการลงทุนในตราสารทุนที่ต้องการป้องกันความเสี่ยง",null,null,"เครื่องมือป้องกันความเสี่ยง",null,null,null,"พอร์ตการลงทุนในตราสารทุนที่ต้องการป้องกันความเสี่ยง",null,null,"เครื่องมือป้องกันความเสี่ยง",null,null,null,"พอร์ตการลงทุนในตราสารทุนที่ต้องการป้องกันความเสี่ยง",null,null,"เครื่องมือป้องกันความเสี่ยง",null,null,null,"พอร์ตการลงทุนในตราสารทุนที่ต้องการป้องกันความเสี่ยง",null,null,"เครื่องมือป้องกันความเสี่ยง",null,null,null,"พอร์ตการลงทุนในตราสารทุนที่ต้องการป้องกันความเสี่ยง",null,null,"เครื่องมือป้องกันความเสี่ยง",null,null,null,"พอร์ตการลงทุนในตราสารทุนที่ต้องการป้องกันความเสี่ยง",null,null,"เครื่องมือป้องกันความเสี่ยง",null,null,null,"พอร์ตการลงทุนในตราสารทุนที่ต้องการป้องกันความเสี่ยง",null,null,"เครื่องมือป้องกันความเสี่ยง",null,null,null,"พอร์ตการลงทุนในตราสารทุนที่ต้องการป้องกันความเสี่ยง",null,null,"เครื่องมือป้องกันความเสี่ยง",null,null,null,"พอร์ตการลงทุนในตราสารทุนที่ต้องการป้องกันความเสี่ยง",null,null,"เครื่องมือป้องกันความเสี่ยง",null,null,null,"พอร์ตการลงทุนในตราสารทุนที่ต้องการป้องกันความเสี่ยง",null,null,"เครื่องมือป้องกันความเสี่ยง",null,null,null,"พอร์ตการลงทุนในตราสารทุนที่ต้องการป้องกันความเสี่ยง",null,null,"เครื่องมือป้องกันความเสี่ยง",null,null,null,"พอร์ตการลงทุนในตราสารทุนที่ต้องการป้องกันความเสี่ยง",null,null,"เครื่องมือป้องกันความเสี่ยง",null,null,null,"พอร์ตการลงทุนในตราสารทุนที่ต้องการป้องกันความเสี่ยง",null,null,"เครื่องมือป้องกันความเสี่ยง",null,null,null,"พอร์ตการลงทุนในตราสารทุนที่ต้องการป้องกันความเสี่ยง",null,null,"เครื่องมือป้องกันความเสี่ยง",null,null,null,"พอร์ตการลงทุนในตราสารทุนที่ต้องการป้องกันความเสี่ยง",null,null,"เครื่องมือป้องกันความเสี่ยง",null,null,null,"พอร์ตการลงทุนในตราสารทุนที่ต้องการป้องกันความเสี่ยง",null,null,"เครื่องมือป้องกันความเสี่ยง",null,null,null,"พอร์ตการลงทุนในตราสารทุนที่ต้องการป้องกันความเสี่ยง",null,null,"เครื่องมือป้องกันความเสี่ยง",null,null,null,"พอร์ตการลงทุนในตราสารทุนที่ต้องการป้องกันความเสี่ยง",null,null,"เครื่องมือป้องกันความเสี่ยง",null,null,null,"พอร์ตการลงทุนในตราสารทุนที่ต้องการป้องกันความเสี่ยง",null,null,"เครื่องมือป้องกันความเสี่ยง",null,null,null,"พอร์ตการลงทุนในตราสารทุนที่ต้องการป้องกันความเสี่ยง",null,null,"เครื่องมือป้องกันความเสี่ยง",null,null,null,"พอร์ตการลงทุนในตราสารทุนที่ต้องการป้องกันความเสี่ยง",null,null,"เครื่องมือป้องกันความเสี่ยง",null,null,null,"พอร์ตการลงทุนในตราสารทุนที่ต้องการป้องกันความเสี่ยง",null,null,"เครื่องมือป้องกันความเสี่ยง",null,null,null,"พอร์ตการลงทุนในตราสารทุนที่ต้องการป้องกันความเสี่ยง",null,null,"เครื่องมือป้องกันความเสี่ยง",null,null,null,"พอร์ตการลงทุนในตราสารทุนที่ต้องการป้องกันความเสี่ยง",null,null,"เครื่องมือป้องกันความเสี่ยง",null,null,null,"พอร์ตการลงทุนในตราสารทุนที่ต้องการป้องกันความเสี่ยง",null,null,"เครื่องมือป้องกันความเสี่ยง",null,null,null,"พอร์ตการลงทุนในตราสารทุนที่ต้องการป้องกันความเสี่ยง",null,null,"เครื่องมือป้องกันความเสี่ยง",null,null,null,"พอร์ตการลงทุนในตราสารทุนที่ต้องการป้องกันความเสี่ยง",null,null,"เครื่องมือป้องกันความเสี่ยง",null,null,null,"พอร์ตการลงทุนในตราสารทุนที่ต้องการป้องกันความเสี่ยง",null,null,"เครื่องมือป้องกันความเสี่ยง",null,null,null,"พอร์ตการลงทุนในตราสารทุนที่ต้องการป้องกันความเสี่ยง",null,null,"เครื่องมือป้องกันความเสี่ยง",null,null,null,"พอร์ตการลงทุนในตราสารทุนที่ต้องการป้องกันความเสี่ยง",null,null,"เครื่องมือป้องกันความเสี่ยง",null,null,null,"พอร์ตการลงทุนในตราสารทุนที่ต้องการป้องกันความเสี่ยง",null,null,"เครื่องมือป้องกันความเสี่ยง",null,null,null,"พอร์ตการลงทุนในตราสารทุนที่ต้องการป้องกันความเสี่ยง",null,null,"เครื่องมือป้องกันความเสี่ยง",null,null,null,"พอร์ตการลงทุนในตราสารทุนที่ต้องการป้องกันความเสี่ยง",null,null,"เครื่องมือป้องกันความเสี่ยง",null,null,null,"พอร์ตการลงทุนในตราสารทุนที่ต้องการป้องกันความเสี่ยง",null,null,"เครื่องมือป้องกันความเสี่ยง",null,null,null,"พอร์ตการลงทุนในตราสารทุนที่ต้องการป้องกันความเสี่ยง",null,null,"เครื่องมือป้องกันความเสี่ยง",null,null,null,"พอร์ตการลงทุนในตราสารทุนที่ต้องการป้องกันความเสี่ยง",null,null,"เครื่องมือป้องกันความเสี่ยง",null,null,null,"พอร์ตการลงทุนในตราสารทุนที่ต้องการป้องกันความเสี่ยง",null,null,"เครื่องมือป้องกันความเสี่ยง",null,null,null,"พอร์ตการลงทุนในตราสารทุนที่ต้องการป้องกันความเสี่ยง",null,null,"เครื่องมือป้องกันความเสี่ยง",null,null,null,"พอร์ตการลงทุนในตราสารทุนที่ต้องการป้องกันความเสี่ยง",null,null,"เครื่องมือป้องกันความเสี่ยง"]
[null,null,"ตลาดหลักทรัพย์และประเทศ","ชื่อย่อหลักทรัพย์","มูลค่าของตราสารทุน"," ตลาดที่ทำการซื้อขาย/ชื่อคู่สัญญา และประเทศ","ชื่อย่อสัญญา","สินทรัพย์อ้างอิงของเครื่องมือป้องกันความเสี่ยง","มูลค่าของสินทรัพย์อ้างอิงของเครื่องมือป้องกันความเสี่ยง","ตลาดหลักทรัพย์และประเทศ","ชื่อย่อหลักทรัพย์","มูลค่าของตราสารทุน"," ตลาดที่ทำการซื้อขาย/ชื่อคู่สัญญา และประเทศ","ชื่อย่อสัญญา","สินทรัพย์อ้างอิงของเครื่องมือป้องกันความเสี่ยง","มูลค่าของสินทรัพย์อ้างอิงของเครื่องมือป้องกันความเสี่ยง","ตลาดหลักทรัพย์และประเทศ","ชื่อย่อหลักทรัพย์","มูลค่าของตราสารทุน"," ตลาดที่ทำการซื้อขาย/ชื่อคู่สัญญา และประเทศ","ชื่อย่อสัญญา","สินทรัพย์อ้างอิงของเครื่องมือป้องกันความเสี่ยง","มูลค่าของสินทรัพย์อ้างอิงของเครื่องมือป้องกันความเสี่ยง","ตลาดหลักทรัพย์และประเทศ","ชื่อย่อหลักทรัพย์","มูลค่าของตราสารทุน"," ตลาดที่ทำการซื้อขาย/ชื่อคู่สัญญา และประเทศ","ชื่อย่อสัญญา","สินทรัพย์อ้างอิงของเครื่องมือป้องกันความเสี่ยง","มูลค่าของสินทรัพย์อ้างอิงของเครื่องมือป้องกันความเสี่ยง","ตลาดหลักทรัพย์และประเทศ","ชื่อย่อหลักทรัพย์","มูลค่าของตราสารทุน"," ตลาดที่ทำการซื้อขาย/ชื่อคู่สัญญา และประเทศ","ชื่อย่อสัญญา","สินทรัพย์อ้างอิงของเครื่องมือป้องกันความเสี่ยง","มูลค่าของสินทรัพย์อ้างอิงของเครื่องมือป้องกันความเสี่ยง","ตลาดหลักทรัพย์และประเทศ","ชื่อย่อหลักทรัพย์","มูลค่าของตราสารทุน"," ตลาดที่ทำการซื้อขาย/ชื่อคู่สัญญา และประเทศ","ชื่อย่อสัญญา","สินทรัพย์อ้างอิงของเครื่องมือป้องกันความเสี่ยง","มูลค่าของสินทรัพย์อ้างอิงของเครื่องมือป้องกันความเสี่ยง","ตลาดหลักทรัพย์และประเทศ","ชื่อย่อหลักทรัพย์","มูลค่าของตราสารทุน"," ตลาดที่ทำการซื้อขาย/ชื่อคู่สัญญา และประเทศ","ชื่อย่อสัญญา","สินทรัพย์อ้างอิงของเครื่องมือป้องกันความเสี่ยง","มูลค่าของสินทรัพย์อ้างอิงของเครื่องมือป้องกันความเสี่ยง","ตลาดหลักทรัพย์และประเทศ","ชื่อย่อหลักทรัพย์","มูลค่าของตราสารทุน"," ตลาดที่ทำการซื้อขาย/ชื่อคู่สัญญา และประเทศ","ชื่อย่อสัญญา","สินทรัพย์อ้างอิงของเครื่องมือป้องกันความเสี่ยง","มูลค่าของสินทรัพย์อ้างอิงของเครื่องมือป้องกันความเสี่ยง","ตลาดหลักทรัพย์และประเทศ","ชื่อย่อหลักทรัพย์","มูลค่าของตราสารทุน"," ตลาดที่ทำการซื้อขาย/ชื่อคู่สัญญา และประเทศ","ชื่อย่อสัญญา","สินทรัพย์อ้างอิงของเครื่องมือป้องกันความเสี่ยง","มูลค่าของสินทรัพย์อ้างอิงของเครื่องมือป้องกันความเสี่ยง","ตลาดหลักทรัพย์และประเทศ","ชื่อย่อหลักทรัพย์","มูลค่าของตราสารทุน"," ตลาดที่ทำการซื้อขาย/ชื่อคู่สัญญา และประเทศ","ชื่อย่อสัญญา","สินทรัพย์อ้างอิงของเครื่องมือป้องกันความเสี่ยง","มูลค่าของสินทรัพย์อ้างอิงของเครื่องมือป้องกันความเสี่ยง","ตลาดหลักทรัพย์และประเทศ","ชื่อย่อหลักทรัพย์","มูลค่าของตราสารทุน"," ตลาดที่ทำการซื้อขาย/ชื่อคู่สัญญา และประเทศ","ชื่อย่อสัญญา","สินทรัพย์อ้างอิงของเครื่องมือป้องกันความเสี่ยง","มูลค่าของสินทรัพย์อ้างอิงของเครื่องมือป้องกันความเสี่ยง","ตลาดหลักทรัพย์และประเทศ","ชื่อย่อหลักทรัพย์","มูลค่าของตราสารทุน"," ตลาดที่ทำการซื้อขาย/ชื่อคู่สัญญา และประเทศ","ชื่อย่อสัญญา","สินทรัพย์อ้างอิงของเครื่องมือป้องกันความเสี่ยง","มูลค่าของสินทรัพย์อ้างอิงของเครื่องมือป้องกันความเสี่ยง","ตลาดหลักทรัพย์และประเทศ","ชื่อย่อหลักทรัพย์","มูลค่าของตราสารทุน"," ตลาดที่ทำการซื้อขาย/ชื่อคู่สัญญา และประเทศ","ชื่อย่อสัญญา","สินทรัพย์อ้างอิงของเครื่องมือป้องกันความเสี่ยง","มูลค่าของสินทรัพย์อ้างอิงของเครื่องมือป้องกันความเสี่ยง","ตลาดหลักทรัพย์และประเทศ","ชื่อย่อหลักทรัพย์","มูลค่าของตราสารทุน"," ตลาดที่ทำการซื้อขาย/ชื่อคู่สัญญา และประเทศ","ชื่อย่อสัญญา","สินทรัพย์อ้างอิงของเครื่องมือป้องกันความเสี่ยง","มูลค่าของสินทรัพย์อ้างอิงของเครื่องมือป้องกันความเสี่ยง","ตลาดหลักทรัพย์และประเทศ","ชื่อย่อหลักทรัพย์","มูลค่าของตราสารทุน"," ตลาดที่ทำการซื้อขาย/ชื่อคู่สัญญา และประเทศ","ชื่อย่อสัญญา","สินทรัพย์อ้างอิงของเครื่องมือป้องกันความเสี่ยง","มูลค่าของสินทรัพย์อ้างอิงของเครื่องมือป้องกันความเสี่ยง","ตลาดหลักทรัพย์และประเทศ","ชื่อย่อหลักทรัพย์","มูลค่าของตราสารทุน"," ตลาดที่ทำการซื้อขาย/ชื่อคู่สัญญา และประเทศ","ชื่อย่อสัญญา","สินทรัพย์อ้างอิงของเครื่องมือป้องกันความเสี่ยง","มูลค่าของสินทรัพย์อ้างอิงของเครื่องมือป้องกันความเสี่ยง","ตลาดหลักทรัพย์และประเทศ","ชื่อย่อหลักทรัพย์","มูลค่าของตราสารทุน"," ตลาดที่ทำการซื้อขาย/ชื่อคู่สัญญา และประเทศ","ชื่อย่อสัญญา","สินทรัพย์อ้างอิงของเครื่องมือป้องกันความเสี่ยง","มูลค่าของสินทรัพย์อ้างอิงของเครื่องมือป้องกันความเสี่ยง","ตลาดหลักทรัพย์และประเทศ","ชื่อย่อหลักทรัพย์","มูลค่าของตราสารทุน"," ตลาดที่ทำการซื้อขาย/ชื่อคู่สัญญา และประเทศ","ชื่อย่อสัญญา","สินทรัพย์อ้างอิงของเครื่องมือป้องกันความเสี่ยง","มูลค่าของสินทรัพย์อ้างอิงของเครื่องมือป้องกันความเสี่ยง","ตลาดหลักทรัพย์และประเทศ","ชื่อย่อหลักทรัพย์","มูลค่าของตราสารทุน"," ตลาดที่ทำการซื้อขาย/ชื่อคู่สัญญา และประเทศ","ชื่อย่อสัญญา","สินทรัพย์อ้างอิงของเครื่องมือป้องกันความเสี่ยง","มูลค่าของสินทรัพย์อ้างอิงของเครื่องมือป้องกันความเสี่ยง","ตลาดหลักทรัพย์และประเทศ","ชื่อย่อหลักทรัพย์","มูลค่าของตราสารทุน"," ตลาดที่ทำการซื้อขาย/ชื่อคู่สัญญา และประเทศ","ชื่อย่อสัญญา","สินทรัพย์อ้างอิงของเครื่องมือป้องกันความเสี่ยง","มูลค่าของสินทรัพย์อ้างอิงของเครื่องมือป้องกันความเสี่ยง","ตลาดหลักทรัพย์และประเทศ","ชื่อย่อหลักทรัพย์","มูลค่าของตราสารทุน"," ตลาดที่ทำการซื้อขาย/ชื่อคู่สัญญา และประเทศ","ชื่อย่อสัญญา","สินทรัพย์อ้างอิงของเครื่องมือป้องกันความเสี่ยง","มูลค่าของสินทรัพย์อ้างอิงของเครื่องมือป้องกันความเสี่ยง","ตลาดหลักทรัพย์และประเทศ","ชื่อย่อหลักทรัพย์","มูลค่าของตราสารทุน"," ตลาดที่ทำการซื้อขาย/ชื่อคู่สัญญา และประเทศ","ชื่อย่อสัญญา","สินทรัพย์อ้างอิงของเครื่องมือป้องกันความเสี่ยง","มูลค่าของสินทรัพย์อ้างอิงของเครื่องมือป้องกันความเสี่ยง","ตลาดหลักทรัพย์และประเทศ","ชื่อย่อหลักทรัพย์","มูลค่าของตราสารทุน"," ตลาดที่ทำการซื้อขาย/ชื่อคู่สัญญา และประเทศ","ชื่อย่อสัญญา","สินทรัพย์อ้างอิงของเครื่องมือป้องกันความเสี่ยง","มูลค่าของสินทรัพย์อ้างอิงของเครื่องมือป้องกันความเสี่ยง","ตลาดหลักทรัพย์และประเทศ","ชื่อย่อหลักทรัพย์","มูลค่าของตราสารทุน"," ตลาดที่ทำการซื้อขาย/ชื่อคู่สัญญา และประเทศ","ชื่อย่อสัญญา","สินทรัพย์อ้างอิงของเครื่องมือป้องกันความเสี่ยง","มูลค่าของสินทรัพย์อ้างอิงของเครื่องมือป้องกันความเสี่ยง","ตลาดหลักทรัพย์และประเทศ","ชื่อย่อหลักทรัพย์","มูลค่าของตราสารทุน"," ตลาดที่ทำการซื้อขาย/ชื่อคู่สัญญา และประเทศ","ชื่อย่อสัญญา","สินทรัพย์อ้างอิงของเครื่องมือป้องกันความเสี่ยง","มูลค่าของสินทรัพย์อ้างอิงของเครื่องมือป้องกันความเสี่ยง","ตลาดหลักทรัพย์และประเทศ","ชื่อย่อหลักทรัพย์","มูลค่าของตราสารทุน"," ตลาดที่ทำการซื้อขาย/ชื่อคู่สัญญา และประเทศ","ชื่อย่อสัญญา","สินทรัพย์อ้างอิงของเครื่องมือป้องกันความเสี่ยง","มูลค่าของสินทรัพย์อ้างอิงของเครื่องมือป้องกันความเสี่ยง","ตลาดหลักทรัพย์และประเทศ","ชื่อย่อหลักทรัพย์","มูลค่าของตราสารทุน"," ตลาดที่ทำการซื้อขาย/ชื่อคู่สัญญา และประเทศ","ชื่อย่อสัญญา","สินทรัพย์อ้างอิงของเครื่องมือป้องกันความเสี่ยง","มูลค่าของสินทรัพย์อ้างอิงของเครื่องมือป้องกันความเสี่ยง","ตลาดหลักทรัพย์และประเทศ","ชื่อย่อหลักทรัพย์","มูลค่าของตราสารทุน"," ตลาดที่ทำการซื้อขาย/ชื่อคู่สัญญา และประเทศ","ชื่อย่อสัญญา","สินทรัพย์อ้างอิงของเครื่องมือป้องกันความเสี่ยง","มูลค่าของสินทรัพย์อ้างอิงของเครื่องมือป้องกันความเสี่ยง","ตลาดหลักทรัพย์และประเทศ","ชื่อย่อหลักทรัพย์","มูลค่าของตราสารทุน"," ตลาดที่ทำการซื้อขาย/ชื่อคู่สัญญา และประเทศ","ชื่อย่อสัญญา","สินทรัพย์อ้างอิงของเครื่องมือป้องกันความเสี่ยง","มูลค่าของสินทรัพย์อ้างอิงของเครื่องมือป้องกันความเสี่ยง","ตลาดหลักทรัพย์และประเทศ","ชื่อย่อหลักทรัพย์","มูลค่าของตราสารทุน"," ตลาดที่ทำการซื้อขาย/ชื่อคู่สัญญา และประเทศ","ชื่อย่อสัญญา","สินทรัพย์อ้างอิงของเครื่องมือป้องกันความเสี่ยง","มูลค่าของสินทรัพย์อ้างอิงของเครื่องมือป้องกันความเสี่ยง","ตลาดหลักทรัพย์และประเทศ","ชื่อย่อหลักทรัพย์","มูลค่าของตราสารทุน"," ตลาดที่ทำการซื้อขาย/ชื่อคู่สัญญา และประเทศ","ชื่อย่อสัญญา","สินทรัพย์อ้างอิงของเครื่องมือป้องกันความเสี่ยง","มูลค่าของสินทรัพย์อ้างอิงของเครื่องมือป้องกันความเสี่ยง","ตลาดหลักทรัพย์และประเทศ","ชื่อย่อหลักทรัพย์","มูลค่าของตราสารทุน"," ตลาดที่ทำการซื้อขาย/ชื่อคู่สัญญา และประเทศ","ชื่อย่อสัญญา","สินทรัพย์อ้างอิงของเครื่องมือป้องกันความเสี่ยง","มูลค่าของสินทรัพย์อ้างอิงของเครื่องมือป้องกันความเสี่ยง","ตลาดหลักทรัพย์และประเทศ","ชื่อย่อหลักทรัพย์","มูลค่าของตราสารทุน"," ตลาดที่ทำการซื้อขาย/ชื่อคู่สัญญา และประเทศ","ชื่อย่อสัญญา","สินทรัพย์อ้างอิงของเครื่องมือป้องกันความเสี่ยง","มูลค่าของสินทรัพย์อ้างอิงของเครื่องมือป้องกันความเสี่ยง","ตลาดหลักทรัพย์และประเทศ","ชื่อย่อหลักทรัพย์","มูลค่าของตราสารทุน"," ตลาดที่ทำการซื้อขาย/ชื่อคู่สัญญา และประเทศ","ชื่อย่อสัญญา","สินทรัพย์อ้างอิงของเครื่องมือป้องกันความเสี่ยง","มูลค่าของสินทรัพย์อ้างอิงของเครื่องมือป้องกันความเสี่ยง","ตลาดหลักทรัพย์และประเทศ","ชื่อย่อหลักทรัพย์","มูลค่าของตราสารทุน"," ตลาดที่ทำการซื้อขาย/ชื่อคู่สัญญา และประเทศ","ชื่อย่อสัญญา","สินทรัพย์อ้างอิงของเครื่องมือป้องกันความเสี่ยง","มูลค่าของสินทรัพย์อ้างอิงของเครื่องมือป้องกันความเสี่ยง","ตลาดหลักทรัพย์และประเทศ","ชื่อย่อหลักทรัพย์","มูลค่าของตราสารทุน"," ตลาดที่ทำการซื้อขาย/ชื่อคู่สัญญา และประเทศ","ชื่อย่อสัญญา","สินทรัพย์อ้างอิงของเครื่องมือป้องกันความเสี่ยง","มูลค่าของสินทรัพย์อ้างอิงของเครื่องมือป้องกันความเสี่ยง","ตลาดหลักทรัพย์และประเทศ","ชื่อย่อหลักทรัพย์","มูลค่าของตราสารทุน"," ตลาดที่ทำการซื้อขาย/ชื่อคู่สัญญา และประเทศ","ชื่อย่อสัญญา","สินทรัพย์อ้างอิงของเครื่องมือป้องกันความเสี่ยง","มูลค่าของสินทรัพย์อ้างอิงของเครื่องมือป้องกันความเสี่ยง","ตลาดหลักทรัพย์และประเทศ","ชื่อย่อหลักทรัพย์","มูลค่าของตราสารทุน"," ตลาดที่ทำการซื้อขาย/ชื่อคู่สัญญา และประเทศ","ชื่อย่อสัญญา","สินทรัพย์อ้างอิงของเครื่องมือป้องกันความเสี่ยง","มูลค่าของสินทรัพย์อ้างอิงของเครื่องมือป้องกันความเสี่ยง","ตลาดหลักทรัพย์และประเทศ","ชื่อย่อหลักทรัพย์","มูลค่าของตราสารทุน"," ตลาดที่ทำการซื้อขาย/ชื่อคู่สัญญา และประเทศ","ชื่อย่อสัญญา","สินทรัพย์อ้างอิงของเครื่องมือป้องกันความเสี่ยง","มูลค่าของสินทรัพย์อ้างอิงของเครื่องมือป้องกันความเสี่ยง","ตลาดหลักทรัพย์และประเทศ","ชื่อย่อหลักทรัพย์","มูลค่าของตราสารทุน"," ตลาดที่ทำการซื้อขาย/ชื่อคู่สัญญา และประเทศ","ชื่อย่อสัญญา","สินทรัพย์อ้างอิงของเครื่องมือป้องกันความเสี่ยง","มูลค่าของสินทรัพย์อ้างอิงของเครื่องมือป้องกันความเสี่ยง","ตลาดหลักทรัพย์และประเทศ","ชื่อย่อหลักทรัพย์","มูลค่าของตราสารทุน"," ตลาดที่ทำการซื้อขาย/ชื่อคู่สัญญา และประเทศ","ชื่อย่อสัญญา","สินทรัพย์อ้างอิงของเครื่องมือป้องกันความเสี่ยง","มูลค่าของสินทรัพย์อ้างอิงของเครื่องมือป้องกันความเสี่ยง","ตลาดหลักทรัพย์และประเทศ","ชื่อย่อหลักทรัพย์","มูลค่าของตราสารทุน"," ตลาดที่ทำการซื้อขาย/ชื่อคู่สัญญา และประเทศ","ชื่อย่อสัญญา","สินทรัพย์อ้างอิงของเครื่องมือป้องกันความเสี่ยง","มูลค่าของสินทรัพย์อ้างอิงของเครื่องมือป้องกันความเสี่ยง","ตลาดหลักทรัพย์และประเทศ","ชื่อย่อหลักทรัพย์","มูลค่าของตราสารทุน"," ตลาดที่ทำการซื้อขาย/ชื่อคู่สัญญา และประเทศ","ชื่อย่อสัญญา","สินทรัพย์อ้างอิงของเครื่องมือป้องกันความเสี่ยง","มูลค่าของสินทรัพย์อ้างอิงของเครื่องมือป้องกันความเสี่ยง","ตลาดหลักทรัพย์และประเทศ","ชื่อย่อหลักทรัพย์","มูลค่าของตราสารทุน"," ตลาดที่ทำการซื้อขาย/ชื่อคู่สัญญา และประเทศ","ชื่อย่อสัญญา","สินทรัพย์อ้างอิงของเครื่องมือป้องกันความเสี่ยง","มูลค่าของสินทรัพย์อ้างอิงของเครื่องมือป้องกันความเสี่ยง","ตลาดหลักทรัพย์และประเทศ","ชื่อย่อหลักทรัพย์","มูลค่าของตราสารทุน"," ตลาดที่ทำการซื้อขาย/ชื่อคู่สัญญา และประเทศ","ชื่อย่อสัญญา","สินทรัพย์อ้างอิงของเครื่องมือป้องกันความเสี่ยง","มูลค่าของสินทรัพย์อ้างอิงของเครื่องมือป้องกันความเสี่ยง","ตลาดหลักทรัพย์และประเทศ","ชื่อย่อหลักทรัพย์","มูลค่าของตราสารทุน"," ตลาดที่ทำการซื้อขาย/ชื่อคู่สัญญา และประเทศ","ชื่อย่อสัญญา","สินทรัพย์อ้างอิงของเครื่องมือป้องกันความเสี่ยง","มูลค่าของสินทรัพย์อ้างอิงของเครื่องมือป้องกันความเสี่ยง","ตลาดหลักทรัพย์และประเทศ","ชื่อย่อหลักทรัพย์","มูลค่าของตราสารทุน"," ตลาดที่ทำการซื้อขาย/ชื่อคู่สัญญา และประเทศ","ชื่อย่อสัญญา","สินทรัพย์อ้างอิงของเครื่องมือป้องกันความเสี่ยง","มูลค่าของสินทรัพย์อ้างอิงของเครื่องมือป้องกันความเสี่ยง","ตลาดหลักทรัพย์และประเทศ","ชื่อย่อหลักทรัพย์","มูลค่าของตราสารทุน"," ตลาดที่ทำการซื้อขาย/ชื่อคู่สัญญา และประเทศ","ชื่อย่อสัญญา","สินทรัพย์อ้างอิงของเครื่องมือป้องกันความเสี่ยง","มูลค่าของสินทรัพย์อ้างอิงของเครื่องมือป้องกันความเสี่ยง","ตลาดหลักทรัพย์และประเทศ","ชื่อย่อหลักทรัพย์","มูลค่าของตราสารทุน"," ตลาดที่ทำการซื้อขาย/ชื่อคู่สัญญา และประเทศ","ชื่อย่อสัญญา","สินทรัพย์อ้างอิงของเครื่องมือป้องกันความเสี่ยง","มูลค่าของสินทรัพย์อ้างอิงของเครื่องมือป้องกันความเสี่ยง","ตลาดหลักทรัพย์และประเทศ","ชื่อย่อหลักทรัพย์","มูลค่าของตราสารทุน"," ตลาดที่ทำการซื้อขาย/ชื่อคู่สัญญา และประเทศ","ชื่อย่อสัญญา","สินทรัพย์อ้างอิงของเครื่องมือป้องกันความเสี่ยง","มูลค่าของสินทรัพย์อ้างอิงของเครื่องมือป้องกันความเสี่ยง"]
[null,1]
[null,2]
[null,3]
[null,4]
[null,5]
[null,6]
[null,7]
[null,8]
[null,9]
[null,10]
[null,11]
[null,12]
[null,13]
[null,14]
[null,15]
[null,16]
[null,17]
[null,18]
[null,19]
[null,20]
[null,21]
[null,22]
[null,23]
[null,24]
[null,25]
[null,26]
[null,27]
[null,28]
[null,29]
[null,30]
[null,31]
[null,32]
[null,33]
[null,34]
[null,35]
[null,36]
[null,37]
[null,38]
[null,39]
[null,40]
[null,41]
[null,42]
[null,43]
[null,44]
[null,45]
[null,46]
[null,47]
[null,48]
[null,49]
[null,50]
[null,51]
[null,52]
[null,53]
[null,54]
[null,55]
[null,56]
[null,57]
[null,58]
[null,59]
[null,60]
[null,61]
[null,62]
[null,63]
[null,64]
[null,65]
[null,66]
[null,67]
[null,68]
[null,69]
[null,70]
[null,71]
[null,72]
[null,73]
[null,74]
[null,75]
[null,76]
[null,77]
[null,78]
[null,79]
[null,80]
[null,81]
[null,82]
[null,83]
[null,84]
[null,85]
[null,86]
[null,87]
[null,88]
[null,89]
[null,90]
[null,91]
[null,92]
[null,93]
[null,94]
[null,95]
[null,96]
[null,97]
[null,98]
[null,99]
[null,100]
[null,101]
[null,102]
[null,103]
[null,104]
[null,105]
[null,106]
[null,107]
[null,108]
[null,109]
[null,110]
[null,111]
[null,112]
[null,113]
[null,114]
[null,115]
[null,116]
[null,117]
[null,118]
[null,119]
[null,120]
[null,121]
[null,122]
[null,123]
[null,124]
[null,125]
[null,126]
[null,127]
[null,128]
[null,129]
[null,130]
[null,131]
[null,132]
[null,133]
[null,134]
[null,135]
[null,136]
[null,137]
[null,138]
[null,139]
[null,140]
[null,141]
[null,142]
[null,143]
[null,144]
[null,145]
[null,146]
[null,147]
[null,148]
[null,149]
[null,150]
[null,151]
[null,152]
[null,153]
[null,154]
[null,155]
[null,156]
[null,157]
[null,158]
[null,159]
[null,160]
[null,161]
[null,162]
[null,163]
[null,164]
[null,165]
[null,166]
[null,167]
[null,168]
[null,169]
[null,170]
[null,171]
[null,172]
[null,173]
[null,174]
[null,175]
[null,176]
[null,177]
[null,178]
[null,179]
[null,180]
[null,181]
[null,182]
[null,183]
[null,184]
[null,185]
[null,186]
[null,187]
[null,188]
[null,189]
[null,190]
[null,191]
[null,192]
[null,193]
[null,194]
[null,195]
[null,196]
[null,197]
[null,198]
[null,199]
[null,200]
[null,201]
[null,202]
[null,203]
[null,204]
[null,205]
[null,206]
[null,207]
[null,208]
[null,209]
[null,210]
[null,211]
[null,212]
[null,213]
[null,214]
[null,215]
[null,216]
[null,217]
[null,218]
[null,219]
[null,220]
[null,221]
[null,222]
[null,223]
[null,224]
[null,225]
[null,226]
[null,227]
[null,228]
[null,229]
[null,230]
[null,231]
[null,232]
[null,233]
[null,234]
[null,235]
[null,236]
[null,237]
[null,238]
[null,239]
[null,240]
[null,241]
[null,242]
[null,243]
[null,244]
[null,245]
[null,246]
[null,247]
[null,248]
[null,249]
[null,250]
[null,251]
[null,252]
[null,253]
[null,254]
[null,255]
[null,256]
[null,257]
[null,258]
[null,259]
[null,260]
[null,261]
[null,262]
[null,263]
[null,264]
[null,265]
[null,266]
[null,267]
[null,268]
[null,269]
[null,270]
[null,271]
[null,272]
[null,273]
[null,274]
[null,275]
[null,276]
[null,277]
[null,278]
[null,279]
[null,280]
[null,281]
[null,282]
[null,283]
[null,284]
[null,285]
[null,286]
[null,287]
[null,288]
[null,289]
[null,290]
[null,291]
[null,292]
[null,293]
[null,294]
[null,295]
[null,296]
[null,297]
[null,298]
[null,299]
[null,300]
[null,301]
[null,302]
[null,303]
[null,304]
[null,305]
[null,306]
[null,307]
[null,308]
[null,309]
[null,310]
[null,311]
[null,312]
[null,313]
[null,314]
[null,315]
[null,316]
[null,317]
[null,318]
[null,319]
[null,320]
[null,321]
[null,322]
[null,323]
[null,324]
[null,325]
[null,326]
[null,327]
[null,328]
[null,329]
[null,330]
[null,331]
[null,332]
[null,333]
[null,334]
[null,335]
[null,336]
[null,337]
[null,338]
[null,339]
[null,340]
[null,341]
[null,342]
[null,343]
[null,344]
[null,345]
[null,346]
[null,347]
[null,348]
[null,349]
[null,350]
[null,351]
[null,352]
[null,353]
[null,354]
[null,355]
[null,356]
[null,357]
[null,358]
[null,359]
[null,360]
[null,361]
[null,362]
[null,363]
[null,364]
[null,365]
[null,366]
[null,367]
[null,368]
[null,369]
[null,370]
[null,371]
[null,372]
[null,373]
[null,374]
[null,375]
[null,376]
[null,377]
[null,378]
[null,379]
[null,380]
[null,381]
[null,382]
[null,383]
[null,384]
[null,385]
[null,386]
[null,387]
[null,388]
[null,389]
[null,390]
[null,391]
[null,392]
[null,393]
[null,394]
[null,395]
[null,396]
[null,397]
[null,398]
[null,399]
[null,400]
[null,401]
[null,402]
[null,403]
[null,404]
[null,405]
[null,406]
[null,407]
[null,408]
[null,409]
[null,410]
[null,411]
[null,412]
[null,413]
[null,414]
[null,415]
[null,416]
[null,417]
[null,418]
[null,419]
[null,420]
[null,421]
[null,422]
[null,423]
[null,424]
[null,425]
[null,426]
[null,427]
[null,428]
[null,429]
[null,430]
[null,431]
[null,432]
[null,433]
[null,434]
[null,435]
[null,436]
[null,437]
[null,438]
[null,439]
[null,440]
[null,441]
[null,442]
[null,443]
[null,444]
[null,445]
[null,446]
[null,447]
[null,448]
[null,449]
[null,450]
[null,451]
[null,452]
[null,453]
[null,454]
[null,455]
[null,456]
[null,457]
[null,458]
[null,459]
[null,460]
[null,461]
[null,462]
[null,463]
[null,464]
[null,465]
[null,466]
[null,467]
[null,468]
[null,469]
[null,470]
[null,471]
[null,472]
[null,473]
[null,474]
[null,475]
[null,476]
[null,477]
[null,478]
[null,479]
[null,480]
[null,481]
[null,482]
[null,483]
[null,484]
[null,485]
[null,486]
[null,487]
[null,488]
[null,489]
[null,490]
[null,491]
[null,492]
[null,493]
[null,494]
[null,495]
[null,496]
[null,497]
[null,498]
[null,499]
[null,500]
[null,501]
[null,502]
[null,503]
[null,504]
[null,505]
[null,506]
[null,507]
[null,508]
[null,509]
[null,510]
[null,511]
[null,512]
[null,513]
[null,514]
[null,515]
[null,516]
[null,517]
[null,518]
[null,519]
[null,520]
[null,521]
[null,522]
[null,523]
[null,524]
[null,525]
[null,526]
[null,527]
[null,528]
[null,529]
[null,530]
[null,531]
[null,532]
[null,533]
[null,534]
[null,535]
[null,536]
[null,537]
[null,538]
[null,539]
[null,540]
[null,541]
[null,542]
[null,543]
[null,544]
[null,545]
[null,546]
[null,547]
[null,548]
[null,549]
[null,550]
[null,551]
[null,552]
[null,553]
[null,554]
[null,555]
[null,556]
[null,557]
[null,558]
[null,559]
[null,560]
[null,561]
[null,562]
[null,563]
[null,564]
[null,565]
[null,566]
[null,567]
[null,568]
[null,569]
[null,570]
[null,571]
[null,572]
[null,573]
[null,574]
[null,575]
[null,576]
[null,577]
[null,578]
[null,579]
[null,580]
[null,581]
[null,582]
[null,583]
[null,584]
[null,585]
[null,586]
[null,587]
[null,588]
[null,589]
[null,590]
[null,591]
[null,592]
[null,593]
[null,594]
[null,595]
[null,596]
[null,597]
[null,598]
[null,599]
[null,600]
[null,601]
[null,602]
[null,603]
[null,604]
[null,605]
[null,606]
[null,607]
[null,608]
[null,609]
[null,610]
[null,611]
[null,612]
[null,613]
[null,614]
[null,615]
[null,616]
[null,617]
[null,618]
[null,619]
[null,620]
[null,621]
[null,622]
[null,623]
[null,624]
[null,625]
[null,626]
[null,627]
[null,628]
[null,629]
[null,630]
[null,631]
[null,632]
[null,633]
[null,634]
[null,635]
[null,636]
[null,637]
[null,638]
[null,639]
[null,640]
[null,641]
[null,642]
[null,643]
[null,644]
[null,645]
[null,646]
[null,647]
[null,648]
[null,649]
[null,650]
[null,651]
[null,652]
[null,653]
[null,654]
[null,655]
[null,656]
[null,657]
[null,658]
[null,659]
[null,660]
[null,661]
[null,662]
[null,663]
[null,664]
[null,665]
[null,666]
[null,667]
[null,668]
[null,669]
[null,670]
[null,671]
[null,672]
[null,673]
[null,674]
[null,675]
[null,676]
[null,677]
[null,678]
[null,679]
[null,680]
[null,681]
[null,682]
[null,683]
[null,684]
[null,685]
[null,686]
[null,687]
[null,688]
[null,689]
[null,690]
[null,691]
[null,692]
[null,693]
[null,694]
[null,695]
[null,696]
[null,697]
[null,698]
[null,699]
[null,700]
[null,701]
[null,702]
[null,703]
[null,704]
[null,705]
[null,706]
[null,707]
[null,708]
[null,709]
[null,710]
[null,711]
[null,712]
[null,713]
[null,714]
[null,715]
[null,716]
[null,717]
[null,718]
[null,719]
[null,720]
[null,721]
[null,722]
[null,723]
[null,724]
[null,725]
[null,726]
[null,727]
[null,728]
[null,729]
[null,730]
[null,731]
[null,732]
[null,733]
[null,734]
[null,735]
[null,736]
[null,737]
[null,738]
[null,739]
[null,740]
[null,741]
[null,742]
[null,743]
[null,744]
[null,745]
[null,746]
[null,747]
[null,748]
[null,749]
[null,750]
[null,751]
[null,752]
[null,753]
[null,754]
[null,755]
[null,756]
[null,757]
[null,758]
[null,759]
[null,760]
[null,761]
[null,762]
[null,763]
[null,764]
[null,765]
[null,766]
[null,767]
[null,768]
[null,769]
[null,770]
[null,771]
[null,772]
[null,773]
[null,774]
[null,775]
[null,776]
[null,777]
[null,778]
[null,779]
[null,780]
[null,781]
[null,782]
[null,783]
[null,784]
[null,785]
[null,786]
[null,787]
[null,788]
[null,789]
[null,790]
[null,791]
[null,792]
[null,793]
[null,794]
[null,795]
[null,796]
[null,797]
[null,798]
[null,799]
[null,800]
[null,801]
[null,802]
[null,803]
[null,804]
[null,805]
[null,806]
[null,807]
[null,808]
[null,809]
[null,810]
[null,811]
[null,812]
[null,813]
[null,814]
[null,815]
[null,816]
[null,817]
[null,818]
[null,819]
[null,820]
[null,821]
[null,822]
[null,823]
[null,824]
[null,825]
[null,826]
[null,827]
[null,828]
[null,829]
[null,830]
[null,831]
[null,832]
[null,833]
[null,834]
[null,835]
[null,836]
[null,837]
[null,838]
[null,839]
[null,840]
[null,841]
[null,842]
[null,843]
[null,844]
[null,845]
[null,846]
[null,847]
[null,848]
[null,849]
[null,850]
[null,851]
[null,852]
[null,853]
[null,854]
[null,855]
[null,856]
[null,857]
[null,858]
[null,859]
[null,860]
[null,861]
[null,862]
[null,863]
[null,864]
[null,865]
[null,866]
[null,867]
[null,868]
[null,869]
[null,870]
[null,871]
[null,872]
[null,873]
[null,874]
[null,875]
[null,876]
[null,877]
[null,878]
[null,879]
[null,880]
[null,881]
[null,882]
[null,883]
[null,884]
[null,885]
[null,886]
[null,887]
[null,888]
[null,889]
[null,890]
[null,891]
[null,892]
[null,893]
[null,894]
[null,895]
[null,896]
[null,897]
[null,898]
[null,899]
[null,900]
[null,901]
[null,902]
[null,903]
[null,904]
[null,905]
[null,906]
[null,907]
[null,908]
[null,909]
[null,910]
[null,911]
[null,912]
[null,913]
[null,914]
[null,915]
[null,916]
[null,917]
[null,918]
[null,919]
[null,920]
[null,921]
[null,922]
[null,923]
[null,924]
[null,925]
[null,926]
[null,927]
[null,928]
[null,929]
[null,930]
[null,931]
[null,932]
[null,933]
[null,934]
[null,935]
[null,936]
[null,937]
[null,938]
[null,939]
[null,940]
[null,941]
[null,942]
[null,943]
[null,944]
[null,945]
[null,946]
[null,947]
[null,948]
[null,949]
[null,950]
[null,951]
[null,952]
[null,953]
[null,954]
[null,955]
[null,956]
[null,957]
[null,958]
[null,959]
[null,960]
[null,961]
[null,962]
[null,963]
[null,964]
[null,965]
[null,966]
[null,967]
[null,968]
[null,969]
[null,970]
[null,971]
[null,972]
[null,973]
[null,974]
[null,975]
[null,976]
[null,977]
[null,978]
[null,979]
[null,980]
[null,981]
[null,982]
[null,983]
[null,984]
[null,985]
[null,986]
[null,987]
[null,988]
[null,989]
[null,990]
[null,991]
[null,992]
[null,993]
[null,994]
[null,995]
[null,996]
[null,997]
[null,998]
[null,999]
[null,1000]

{"sheet":"แบบฟอร์มที่ 5 - 5.6.1-5.6.3","index":16,"n_rows":6329,"n_cols":36,"rows_kept":6329,"cut":false,"hidden":false,"merged":[[6305,17,6308,17],[6305,18,6308,18],[6302,12,6302,14],[6323,27,6326,27],[6323,29,6326,29],[6323,31,6326,31],[6323,33,6326,33],[6323,35,6326,35],[6020,9,6022,9],[6020,8,6022,8],[6020,7,6022,7],[6020,6,6022,6],[6021,5,6022,5],[6021,4,6022,4],[6020,3,6022,3],[6020,2,6022,2],[6020,1,6022,1],[6029,19,6032,20],[6035,19,6038,20],[6041,19,6044,20],[6047,19,6050,20],[6053,19,6056,20],[6059,19,6062,20],[6065,19,6068,20],[6071,19,6074,20],[6077,19,6080,20],[6083,19,6086,20],[6089,19,6092,20],[6095,19,6098,20],[6101,19,6104,20],[6107,19,6110,20],[6113,19,6116,20],[6323,12,6323,14],[6324,12,6324,14],[6325,12,6325,14],[6326,12,6326,14],[6035,11,6040,11],[6041,11,6046,11],[6047,11,6052,11],[6053,11,6058,11],[6059,11,6064,11],[6065,11,6070,11],[6071,11,6076,11],[6077,11,6082,11],[6083,11,6088,11],[6089,11,6094,11],[6095,11,6100,11],[6101,11,6106,11],[6107,11,6112,11],[6113,11,6118,11],[6119,11,6124,11],[6125,11,6130,11],[6131,11,6136,11],[6305,12,6305,14],[6323,11,6328,11],[6293,11,6298,11],[6299,11,6304,11],[6245,12,6245,14],[6240,12,6240,14],[6241,12,6241,14],[6242,12,6242,14],[6233,11,6238,11],[6239,11,6244,11],[6185,12,6185,14],[6317,35,6320,35],[6318,12,6318,14],[6319,12,6319,14],[6320,12,6320,14],[6317,19,6320,20],[6317,1,6322,1],[6317,2,6322,2],[6317,3,6322,3],[6317,9,6322,9],[6317,12,6317,14],[6317,17,6320,17],[6317,18,6320,18],[6317,21,6320,21],[6317,22,6320,22],[6317,23,6320,23],[6317,24,6320,24],[6317,25,6320,25],[6317,26,6320,26],[6317,27,6320,27],[6317,29,6320,29],[6317,31,6320,31],[6317,11,6322,11],[6305,35,6308,35],[6306,12,6306,14],[6307,12,6307,14],[6308,12,6308,14],[6311,1,6316,1],[6311,2,6316,2],[6311,3,6316,3],[6311,9,6316,9],[6311,12,6311,14],[6311,17,6314,17],[6311,18,6314,18],[6311,21,6314,21],[6311,22,6314,22],[6311,23,6314,23],[6311,24,6314,24],[6311,25,6314,25],[6311,26,6314,26],[6311,27,6314,27],[6311,29,6314,29],[6311,31,6314,31],[6311,35,6314,35],[6312,12,6312,14],[6313,12,6313,14],[6314,12,6314,14],[6305,11,6310,11],[6311,11,6316,11],[6305,19,6308,20],[6311,19,6314,20],[6305,1,6310,1],[6305,2,6310,2],[6305,3,6310,3],[6305,9,6310,9],[6305,21,6308,21],[6305,22,6308,22],[6305,23,6308,23],[6305,24,6308,24],[6305,25,6308,25],[6305,26,6308,26],[6305,27,6308,27],[6305,29,6308,29],[6305,31,6308,31],[6293,35,6296,35],[6294,12,6294,14],[6295,12,6295,14],[6296,12,6296,14],[6299,1,6304,1],[6299,2,6304,2],[6299,3,6304,3],[6299,9,6304,9],[6299,12,6299,14],[6299,17,6302,17],[6299,18,6302,18],[6299,21,6302,21],[6299,22,6302,22],[6299,23,6302,23],[6299,24,6302,24],[6299,25,6302,25],[6299,26,6302,26],[6299,27,6302,27],[6299,29,6302,29],[6299,31,6302,31],[6299,35,6302,35],[6300,12,6300,14],[6301,12,6301,14],[6293,19,6296,20],[6299,19,6302,20],[6293,1,6298,1],[6293,2,6298,2],[6293,3,6298,3],[6293,9,6298,9],[6293,12,6293,14],[6293,17,6296,17],[6293,18,6296,18],[6293,21,6296,21],[6293,22,6296,22],[6293,23,6296,23],[6293,24,6296,24],[6293,25,6296,25],[6293,26,6296,26],[6293,27,6296,27],[6293,29,6296,29],[6293,31,6296,31],[6281,35,6284,35],[6282,12,6282,14],[6283,12,6283,14],[6284,12,6284,14],[6287,1,6292,1],[6287,2,6292,2],[6287,3,6292,3],[6287,9,6292,9],[6287,12,6287,14],[6287,17,6290,17],[6287,18,6290,18],[6287,21,6290,21],[6287,22,6290,22],[6287,23,6290,23],[6287,24,6290,24],[6287,25,6290,25],[6287,26,6290,26],[6287,27,6290,27],[6287,29,6290,29],[6287,31,6290,31],[6287,35,6290,35],[6288,12,6288,14],[6289,12,6289,14],[6290,12,6290,14],[6281,11,6286,11],[6287,11,6292,11],[6281,19,6284,20],[6287,19,6290,20],[6281,1,6286,1],[6281,2,6286,2],[6281,3,6286,3],[6281,9,6286,9],[6281,12,6281,14],[6281,17,6284,17],[6281,18,6284,18],[6281,21,6284,21],[6281,22,6284,22],[6281,23,6284,23],[6281,24,6284,24],[6281,25,6284,25],[6281,26,6284,26],[6281,27,6284,27],[6281,29,6284,29],[6281,31,6284,31],[6269,35,6272,35],[6270,12,6270,14],[6271,12,6271,14],[6272,12,6272,14],[6269,11,6274,11],[6269,19,6272,20],[6275,1,6280,1],[6275,2,6280,2],[6275,3,6280,3],[6275,9,6280,9],[6275,12,6275,14],[6275,17,6278,17],[6275,18,6278,18],[6275,21,6278,21],[6275,22,6278,22],[6275,23,6278,23],[6275,24,6278,24],[6275,25,6278,25],[6275,26,6278,26],[6275,27,6278,27],[6275,29,6278,29],[6275,31,6278,31],[6275,35,6278,35],[6276,12,6276,14],[6277,12,6277,14],[6278,12,6278,14],[6275,11,6280,11],[6275,19,6278,20],[6269,1,6274,1],[6269,2,6274,2],[6269,3,6274,3],[6269,9,6274,9],[6269,12,6269,14],[6269,17,6272,17],[6269,18,6272,18],[6269,21,6272,21],[6269,22,6272,22],[6269,23,6272,23],[6269,24,6272,24],[6269,25,6272,25],[6269,26,6272,26],[6269,27,6272,27],[6269,29,6272,29],[6269,31,6272,31],[6257,35,6260,35],[6258,12,6258,14],[6259,12,6259,14],[6260,12,6260,14],[6263,1,6268,1],[6263,2,6268,2],[6263,3,6268,3],[6263,9,6268,9],[6263,12,6263,14],[6263,17,6266,17],[6263,18,6266,18],[6263,21,6266,21],[6263,22,6266,22],[6263,23,6266,23],[6263,24,6266,24],[6263,25,6266,25],[6263,26,6266,26],[6263,27,6266,27],[6263,29,6266,29],[6263,31,6266,31],[6263,35,6266,35],[6264,12,6264,14],[6265,12,6265,14],[6266,12,6266,14],[6257,11,6262,11],[6263,11,6268,11],[6257,19,6260,20],[6263,19,6266,20],[6257,1,6262,1],[6257,2,6262,2],[6257,3,6262,3],[6257,9,6262,9],[6257,12,6257,14],[6257,17,6260,17],[6257,18,6260,18],[6257,21,6260,21],[6257,22,6260,22],[6257,23,6260,23],[6257,24,6260,24],[6257,25,6260,25],[6257,26,6260,26],[6257,27,6260,27],[6257,29,6260,29],[6257,31,6260,31],[6245,35,6248,35],[6246,12,6246,14],[6247,12,6247,14],[6248,12,6248,14],[6251,1,6256,1],[6251,2,6256,2],[6251,3,6256,3],[6251,9,6256,9],[6251,12,6251,14],[6251,17,6254,17],[6251,18,6254,18],[6251,21,6254,21],[6251,22,6254,22],[6251,23,6254,23],[6251,24,6254,24],[6251,25,6254,25],[6251,26,6254,26],[6251,27,6254,27],[6251,29,6254,29],[6251,31,6254,31],[6251,35,6254,35],[6252,12,6252,14],[6253,12,6253,14],[6254,12,6254,14],[6245,11,6250,11],[6251,11,6256,11],[6245,19,6248,20],[6251,19,6254,20],[6245,1,6250,1],[6245,2,6250,2],[6245,3,6250,3],[6245,9,6250,9],[6245,17,6248,17],[6245,18,6248,18],[6245,21,6248,21],[6245,22,6248,22],[6245,23,6248,23],[6245,24,6248,24],[6245,25,6248,25],[6245,26,6248,26],[6245,27,6248,27],[6245,29,6248,29],[6245,31,6248,31],[6233,35,6236,35],[6234,12,6234,14],[6235,12,6235,14],[6236,12,6236,14],[6239,1,6244,1],[6239,2,6244,2],[6239,3,6244,3],[6239,9,6244,9],[6239,12,6239,14],[6239,17,6242,17],[6239,18,6242,18],[6239,21,6242,21],[6239,22,6242,22],[6239,23,6242,23],[6239,24,6242,24],[6239,25,6242,25],[6239,26,6242,26],[6239,27,6242,27],[6239,29,6242,29],[6239,31,6242,31],[6239,35,6242,35],[6233,19,6236,20],[6239,19,6242,20],[6233,1,6238,1],[6233,2,6238,2],[6233,3,6238,3],[6233,9,6238,9],[6233,12,6233,14],[6233,17,6236,17],[6233,18,6236,18],[6233,21,6236,21],[6233,22,6236,22],[6233,23,6236,23],[6233,24,6236,24],[6233,25,6236,25],[6233,26,6236,26],[6233,27,6236,27],[6233,29,6236,29],[6233,31,6236,31],[6221,35,6224,35],[6222,12,6222,14],[6223,12,6223,14],[6224,12,6224,14],[6227,1,6232,1],[6227,2,6232,2],[6227,3,6232,3],[6227,9,6232,9],[6227,12,6227,14],[6227,17,6230,17],[6227,18,6230,18],[6227,21,6230,21],[6227,22,6230,22],[6227,23,6230,23],[6227,24,6230,24],[6227,25,6230,25],[6227,26,6230,26],[6227,27,6230,27],[6227,29,6230,29],[6227,31,6230,31],[6227,35,6230,35],[6228,12,6228,14],[6229,12,6229,14],[6230,12,6230,14],[6221,11,6226,11],[6227,11,6232,11],[6221,19,6224,20],[6227,19,6230,20],[6221,1,6226,1],[6221,2,6226,2],[6221,3,6226,3],[6221,9,6226,9],[6221,12,6221,14],[6221,17,6224,17],[6221,18,6224,18],[6221,21,6224,21],[6221,22,6224,22],[6221,23,6224,23],[6221,24,6224,24],[6221,25,6224,25],[6221,26,6224,26],[6221,27,6224,27],[6221,29,6224,29],[6221,31,6224,31],[6209,35,6212,35],[6210,12,6210,14],[6211,12,6211,14],[6212,12,6212,14],[6209,11,6214,11],[6209,19,6212,20],[6215,1,6220,1],[6215,2,6220,2],[6215,3,6220,3],[6215,9,6220,9],[6215,12,6215,14],[6215,17,6218,17],[6215,18,6218,18],[6215,21,6218,21],[6215,22,6218,22],[6215,23,6218,23],[6215,24,6218,24],[6215,25,6218,25],[6215,26,6218,26],[6215,27,6218,27],[6215,29,6218,29],[6215,31,6218,31],[6215,35,6218,35],[6216,12,6216,14],[6217,12,6217,14],[6218,12,6218,14],[6215,11,6220,11],[6215,19,6218,20],[6209,1,6214,1],[6209,2,6214,2],[6209,3,6214,3],[6209,9,6214,9],[6209,12,6209,14],[6209,17,6212,17],[6209,18,6212,18],[6209,21,6212,21],[6209,22,6212,22],[6209,23,6212,23],[6209,24,6212,24],[6209,25,6212,25],[6209,26,6212,26],[6209,27,6212,27],[6209,29,6212,29],[6209,31,6212,31],[6197,35,6200,35],[6198,12,6198,14],[6199,12,6199,14],[6200,12,6200,14],[6203,1,6208,1],[6203,2,6208,2],[6203,3,6208,3],[6203,9,6208,9],[6203,12,6203,14],[6203,17,6206,17],[6203,18,6206,18],[6203,21,6206,21],[6203,22,6206,22],[6203,23,6206,23],[6203,24,6206,24],[6203,25,6206,25],[6203,26,6206,26],[6203,27,6206,27],[6203,29,6206,29],[6203,31,6206,31],[6203,35,6206,35],[6204,12,6204,14],[6205,12,6205,14],[6206,12,6206,14],[6197,11,6202,11],[6203,11,6208,11],[6197,19,6200,20],[6203,19,6206,20],[6197,1,6202,1],[6197,2,6202,2],[6197,3,6202,3],[6197,9,6202,9],[6197,12,6197,14],[6197,17,6200,17],[6197,18,6200,18],[6197,21,6200,21],[6197,22,6200,22],[6197,23,6200,23],[6197,24,6200,24],[6197,25,6200,25],[6197,26,6200,26],[6197,27,6200,27],[6197,29,6200,29],[6197,31,6200,31],[6185,35,6188,35],[6186,12,6186,14],[6187,12,6187,14],[6188,12,6188,14],[6191,1,6196,1],[6191,2,6196,2],[6191,3,6196,3],[6191,9,6196,9],[6191,12,6191,14],[6191,17,6194,17],[6191,18,6194,18],[6191,21,6194,21],[6191,22,6194,22],[6191,23,6194,23],[6191,24,6194,24],[6191,25,6194,25],[6191,26,6194,26],[6191,27,6194,27],[6191,29,6194,29],[6191,31,6194,31],[6191,35,6194,35],[6192,12,6192,14],[6193,12,6193,14],[6194,12,6194,14],[6185,11,6190,11],[6191,11,6196,11],[6185,19,6188,20],[6191,19,6194,20],[6185,1,6190,1],[6185,2,6190,2],[6185,3,6190,3],[6185,9,6190,9],[6185,17,6188,17],[6185,18,6188,18],[6185,21,6188,21],[6185,22,6188,22],[6185,23,6188,23],[6185,24,6188,24],[6185,25,6188,25],[6185,26,6188,26],[6185,27,6188,27],[6185,29,6188,29],[6185,31,6188,31],[6173,35,6176,35],[6174,12,6174,14],[6175,12,6175,14],[6176,12,6176,14],[6179,1,6184,1],[6179,2,6184,2],[6179,3,6184,3],[6179,9,6184,9],[6179,12,6179,14],[6179,17,6182,17],[6179,18,6182,18],[6179,21,6182,21],[6179,22,6182,22],[6179,23,6182,23],[6179,24,6182,24],[6179,25,6182,25],[6179,26,6182,26],[6179,27,6182,27],[6179,29,6182,29],[6179,31,6182,31],[6179,35,6182,35],[6180,12,6180,14],[6181,12,6181,14],[6182,12,6182,14],[6173,11,6178,11],[6179,11,6184,11],[6173,19,6176,20],[6179,19,6182,20],[6173,1,6178,1],[6173,2,6178,2],[6173,3,6178,3],[6173,9,6178,9],[6173,12,6173,14],[6173,17,6176,17],[6173,18,6176,18],[6173,21,6176,21],[6173,22,6176,22],[6173,23,6176,23],[6173,24,6176,24],[6173,25,6176,25],[6173,26,6176,26],[6173,27,6176,27],[6173,29,6176,29],[6173,31,6176,31],[6161,35,6164,35],[6162,12,6162,14],[6163,12,6163,14],[6164,12,6164,14],[6167,1,6172,1],[6167,2,6172,2],[6167,3,6172,3],[6167,9,6172,9],[6167,12,6167,14],[6167,17,6170,17],[6167,18,6170,18],[6167,21,6170,21],[6167,22,6170,22],[6167,23,6170,23],[6167,24,6170,24],[6167,25,6170,25],[6167,26,6170,26],[6167,27,6170,27],[6167,29,6170,29],[6167,31,6170,31],[6167,35,6170,35],[6168,12,6168,14],[6169,12,6169,14],[6170,12,6170,14],[6161,11,6166,11],[6167,11,6172,11],[6161,19,6164,20],[6167,19,6170,20],[6161,1,6166,1],[6161,2,6166,2],[6161,3,6166,3],[6161,9,6166,9],[6161,12,6161,14],[6161,17,6164,17],[6161,18,6164,18],[6161,21,6164,21],[6161,22,6164,22],[6161,23,6164,23],[6161,24,6164,24],[6161,25,6164,25],[6161,26,6164,26],[6161,27,6164,27],[6161,29,6164,29],[6161,31,6164,31],[6149,35,6152,35],[6150,12,6150,14],[6151,12,6151,14],[6152,12,6152,14],[6155,1,6160,1],[6155,2,6160,2],[6155,3,6160,3],[6155,9,6160,9],[6155,12,6155,14],[6155,17,6158,17],[6155,18,6158,18],[6155,21,6158,21],[6155,22,6158,22],[6155,23,6158,23],[6155,24,6158,24],[6155,25,6158,25],[6155,26,6158,26],[6155,27,6158,27],[6155,29,6158,29],[6155,31,6158,31],[6155,35,6158,35],[6156,12,6156,14],[6157,12,6157,14],[6158,12,6158,14],[6149,11,6154,11],[6155,11,6160,11],[6149,19,6152,20],[6155,19,6158,20],[6149,1,6154,1],[6149,2,6154,2],[6149,3,6154,3],[6149,9,6154,9],[6149,12,6149,14],[6149,17,6152,17],[6149,18,6152,18],[6149,21,6152,21],[6149,22,6152,22],[6149,23,6152,23],[6149,24,6152,24],[6149,25,6152,25],[6149,26,6152,26],[6149,27,6152,27],[6149,29,6152,29],[6149,31,6152,31],[6137,35,6140,35],[6138,12,6138,14],[6139,12,6139,14],[6140,12,6140,14],[6137,11,6142,11],[6137,19,6140,20],[6143,1,6148,1],[6143,2,6148,2],[6143,3,6148,3],[6143,9,6148,9],[6143,12,6143,14],[6143,17,6146,17],[6143,18,6146,18],[6143,21,6146,21],[6143,22,6146,22],[6143,23,6146,23],[6143,24,6146,24],[6143,25,6146,25],[6143,26,6146,26],[6143,27,6146,27],[6143,29,6146,29],[6143,31,6146,31],[6143,35,6146,35],[6144,12,6144,14],[6145,12,6145,14],[6146,12,6146,14],[6143,11,6148,11],[6143,19,6146,20],[6137,1,6142,1],[6137,2,6142,2],[6137,3,6142,3],[6137,9,6142,9],[6137,12,6137,14],[6137,17,6140,17],[6137,18,6140,18],[6137,21,6140,21],[6137,22,6140,22],[6137,23,6140,23],[6137,24,6140,24],[6137,25,6140,25],[6137,26,6140,26],[6137,27,6140,27],[6137,29,6140,29],[6137,31,6140,31],[6125,35,6128,35],[6126,12,6126,14],[6127,12,6127,14],[6128,12,6128,14],[6131,1,6136,1],[6131,2,6136,2],[6131,3,6136,3],[6131,9,6136,9],[6131,12,6131,14],[6131,17,6134,17],[6131,18,6134,18],[6131,21,6134,21],[6131,22,6134,22],[6131,23,6134,23],[6131,24,6134,24],[6131,25,6134,25],[6131,26,6134,26],[6131,27,6134,27],[6131,29,6134,29],[6131,31,6134,31],[6131,35,6134,35],[6132,12,6132,14],[6133,12,6133,14],[6134,12,6134,14],[6125,19,6128,20],[6131,19,6134,20],[6125,1,6130,1],[6125,2,6130,2],[6125,3,6130,3],[6125,9,6130,9],[6125,12,6125,14],[6125,17,6128,17],[6125,18,6128,18],[6125,21,6128,21],[6125,22,6128,22],[6125,23,6128,23],[6125,24,6128,24],[6125,25,6128,25],[6125,26,6128,26],[6125,27,6128,27],[6125,29,6128,29],[6125,31,6128,31],[6113,35,6116,35],[6114,12,6114,14],[6115,12,6115,14],[6116,12,6116,14],[6119,1,6124,1],[6119,2,6124,2],[6119,3,6124,3],[6119,9,6124,9],[6119,12,6119,14],[6119,17,6122,17],[6119,18,6122,18],[6119,21,6122,21],[6119,22,6122,22],[6119,23,6122,23],[6119,24,6122,24],[6119,25,6122,25],[6119,26,6122,26],[6119,27,6122,27],[6119,29,6122,29],[6119,31,6122,31],[6119,35,6122,35],[6120,12,6120,14],[6121,12,6121,14],[6122,12,6122,14],[6113,1,6118,1],[6113,2,6118,2],[6113,3,6118,3],[6113,9,6118,9],[6113,12,6113,14],[6113,17,6116,17],[6113,18,6116,18],[6113,21,6116,21],[6113,22,6116,22],[6113,23,6116,23],[6113,24,6116,24],[6113,25,6116,25],[6113,26,6116,26],[6113,27,6116,27],[6113,29,6116,29],[6119,19,6122,20],[6113,31,6116,31],[6101,35,6104,35],[6102,12,6102,14],[6103,12,6103,14],[6104,12,6104,14],[6107,1,6112,1],[6107,2,6112,2],[6107,3,6112,3],[6107,9,6112,9],[6107,12,6107,14],[6107,17,6110,17],[6107,18,6110,18],[6107,21,6110,21],[6107,22,6110,22],[6107,23,6110,23],[6107,24,6110,24],[6107,25,6110,25],[6107,26,6110,26],[6107,27,6110,27],[6107,29,6110,29],[6107,31,6110,31],[6107,35,6110,35],[6108,12,6108,14],[6109,12,6109,14],[6110,12,6110,14],[6101,1,6106,1],[6101,2,6106,2],[6101,3,6106,3],[6101,9,6106,9],[6101,12,6101,14],[6101,17,6104,17],[6101,18,6104,18],[6101,21,6104,21],[6101,22,6104,22],[6101,23,6104,23],[6101,24,6104,24],[6101,25,6104,25],[6101,26,6104,26],[6101,27,6104,27],[6101,29,6104,29],[6101,31,6104,31],[6089,35,6092,35],[6090,12,6090,14],[6091,12,6091,14],[6092,12,6092,14],[6095,1,6100,1],[6095,2,6100,2],[6095,3,6100,3],[6095,9,6100,9],[6095,12,6095,14],[6095,17,6098,17],[6095,18,6098,18],[6095,21,6098,21],[6095,22,6098,22],[6095,23,6098,23],[6095,24,6098,24],[6095,25,6098,25],[6095,26,6098,26],[6095,27,6098,27],[6095,29,6098,29],[6095,31,6098,31],[6095,35,6098,35],[6096,12,6096,14],[6097,12,6097,14],[6098,12,6098,14],[6089,1,6094,1],[6089,2,6094,2],[6089,3,6094,3],[6089,9,6094,9],[6089,12,6089,14],[6089,17,6092,17],[6089,18,6092,18],[6089,21,6092,21],[6089,22,6092,22],[6089,23,6092,23],[6089,24,6092,24],[6089,25,6092,25],[6089,26,6092,26],[6089,27,6092,27],[6089,29,6092,29],[6089,31,6092,31],[6077,35,6080,35],[6078,12,6078,14],[6079,12,6079,14],[6080,12,6080,14],[6083,1,6088,1],[6083,2,6088,2],[6083,3,6088,3],[6083,9,6088,9],[6083,12,6083,14],[6083,17,6086,17],[6083,18,6086,18],[6083,21,6086,21],[6083,22,6086,22],[6083,23,6086,23],[6083,24,6086,24],[6083,25,6086,25],[6083,26,6086,26],[6083,27,6086,27],[6083,29,6086,29],[6083,31,6086,31],[6083,35,6086,35],[6084,12,6084,14],[6085,12,6085,14],[6086,12,6086,14],[6077,1,6082,1],[6077,2,6082,2],[6077,3,6082,3],[6077,9,6082,9],[6077,12,6077,14],[6077,17,6080,17],[6077,18,6080,18],[6077,21,6080,21],[6077,22,6080,22],[6077,23,6080,23],[6077,24,6080,24],[6077,25,6080,25],[6077,26,6080,26],[6077,27,6080,27],[6077,29,6080,29],[6077,31,6080,31],[6065,35,6068,35],[6066,12,6066,14],[6067,12,6067,14],[6068,12,6068,14],[6071,1,6076,1],[6071,2,6076,2],[6071,3,6076,3],[6071,9,6076,9],[6071,12,6071,14],[6071,17,6074,17],[6071,18,6074,18],[6071,21,6074,21],[6071,22,6074,22],[6071,23,6074,23],[6071,24,6074,24],[6071,25,6074,25],[6071,26,6074,26],[6071,27,6074,27],[6071,29,6074,29],[6071,31,6074,31],[6071,35,6074,35],[6072,12,6072,14],[6073,12,6073,14],[6074,12,6074,14],[6065,1,6070,1],[6065,2,6070,2],[6065,3,6070,3],[6065,9,6070,9],[6065,12,6065,14],[6065,17,6068,17],[6065,18,6068,18],[6065,21,6068,21],[6065,22,6068,22],[6065,23,6068,23],[6065,24,6068,24],[6065,25,6068,25],[6065,26,6068,26],[6065,27,6068,27],[6065,29,6068,29],[6065,31,6068,31],[6053,35,6056,35],[6054,12,6054,14],[6055,12,6055,14],[6056,12,6056,14],[6059,1,6064,1],[6059,2,6064,2],[6059,3,6064,3],[6059,9,6064,9],[6059,12,6059,14],[6059,17,6062,17],[6059,18,6062,18],[6059,21,6062,21],[6059,22,6062,22],[6059,23,6062,23],[6059,24,6062,24],[6059,25,6062,25],[6059,26,6062,26],[6059,27,6062,27],[6059,29,6062,29],[6059,31,6062,31],[6059,35,6062,35],[6060,12,6060,14],[6061,12,6061,14],[6062,12,6062,14]],"merged_total":5170,"flags":["merged_cut"]}
["แบบฟอร์มที่ 5 การคำนวณเงินกองทุนสำหรับความเสี่ยงด้านตลาด"]
[]
[null,"บริษัท",null,{"$f":"รายชื่อแบบฟอร์ม!C3","v":0}]
[null,"ณ วันที่",null,{"$f":"รายชื่อแบบฟอร์ม!C4","v":"00:00:00"}]
[]
[]
[null,"ตารางที่ 5.6.1 เงินกองทุนสำหรับความเสี่ยงด้านตลาดจากราคาหน่วยลงทุน ที่ไม่มีการป้องกันความเสี่ยงด้านตลาดสำหรับราคาตราสารทุน",null,null,null,null,null,null,null,"บาท"]
[null,"ลำดับที่","ชื่อหน่วยลงทุน และชื่อผู้จัดการหน่วยลงทุน","ความเสี่ยงภัยทั้งหมด","การแบ่งประเภทของเงินทุน หรือการจัดสรรสินทรัพย์",null,"มูลค่าสินทรัพย์แต่ละประเภท","ร้อยละของค่าความเสี่ยง","เงินกองทุนตามระดับความเสี่ยงแยกตามประเภทของสินทรัพย์ในหน่วยลงทุน","เงินกองทุนตามระดับ\nความเสี่ยง"]
[null,null,null,null,"ประเภท","ร้อยละของกองทุน"]
[null,1,null,null,"ตราสารทุน",null,{"$f":"D10*F10","v":0},null,{"$f":"$D10*$F10*H10","v":0},{"$f":"SUM(I10:I15)","v":0}]
[null,null,null,null,"อสังหาริมทรัพย์",null,{"$f":"D10*F11","v":0},null,{"$f":"$D10*$F11*H11","v":0}]
[null,null,null,null,"สินค้าโภคภัณฑ์",null,{"$f":"D10*F12","v":0},null,{"$f":"$D10*$F12*H12","v":0}]
[null,null,null,null,"เงินฝาก",null,{"$f":"D10*F13","v":0},null,{"$f":"$D10*$F13*H13","v":0}]
[null,null,null,null,"ตราสารหนี้",null,{"$f":"D10*F14","v":0},null,{"$f":"$D10*$F14*H14","v":0}]
[null,null,null,null,"อื่นๆ",null,{"$f":"D10*F15","v":0},null,{"$f":"$D10*$F15*H15","v":0}]
[null,2,null,null,"ตราสารทุน",null,{"$f":"D16*F16","v":0},null,{"$f":"$D16*$F16*H16","v":0},{"$f":"SUM(I16:I21)","v":0}]
[null,null,null,null,"อสังหาริมทรัพย์",null,{"$f":"D16*F17","v":0},null,{"$f":"$D16*$F17*H17","v":0}]
[null,null,null,null,"สินค้าโภคภัณฑ์",null,{"$f":"D16*F18","v":0},null,{"$f":"$D16*$F18*H18","v":0}]
[null,null,null,null,"เงินฝาก",null,{"$f":"D16*F19","v":0},null,{"$f":"$D16*$F19*H19","v":0}]
[null,null,null,null,"ตราสารหนี้",null,{"$f":"D16*F20","v":0},null,{"$f":"$D16*$F20*H20","v":0}]
[null,null,null,null,"อื่นๆ",null,{"$f":"D16*F21","v":0},null,{"$f":"$D16*$F21*H21","v":0}]
[null,3,null,null,"ตราสารทุน",null,{"$f":"D22*F22","v":0},null,{"$f":"$D22*$F22*H22","v":0},{"$f":"SUM(I22:I27)","v":0}]
[null,null,null,null,"อสังหาริมทรัพย์",null,{"$f":"D22*F23","v":0},null,{"$f":"$D22*$F23*H23","v":0}]
[null,null,null,null,"สินค้าโภคภัณฑ์",null,{"$f":"D22*F24","v":0},null,{"$f":"$D22*$F24*H24","v":0}]
[null,null,null,null,"เงินฝาก",null,{"$f":"D22*F25","v":0},null,{"$f":"$D22*$F25*H25","v":0}]
[null,null,null,null,"ตราสารหนี้",null,{"$f":"D22*F26","v":0},null,{"$f":"$D22*$F26*H26","v":0}]
[null,null,null,null,"อื่นๆ",null,{"$f":"D22*F27","v":0},null,{"$f":"$D22*$F27*H27","v":0}]
[null,4,null,null,"ตราสารทุน",null,{"$f":"D28*F28","v":0},null,{"$f":"$D28*$F28*H28","v":0},{"$f":"SUM(I28:I33)","v":0}]
[null,null,null,null,"อสังหาริมทรัพย์",null,{"$f":"D28*F29","v":0},null,{"$f":"$D28*$F29*H29","v":0}]
[null,null,null,null,"สินค้าโภคภัณฑ์",null,{"$f":"D28*F30","v":0},null,{"$f":"$D28*$F30*H30","v":0}]
[null,null,null,null,"เงินฝาก",null,{"$f":"D28*F31","v":0},null,{"$f":"$D28*$F31*H31","v":0}]
[null,null,null,null,"ตราสารหนี้",null,{"$f":"D28*F32","v":0},null,{"$f":"$D28*$F32*H32","v":0}]
[null,null,null,null,"อื่นๆ",null,{"$f":"D28*F33","v":0},null,{"$f":"$D28*$F33*H33","v":0}]
[null,5,null,null,"ตราสารทุน",null,{"$f":"D34*F34","v":0},null,{"$f":"$D34*$F34*H34","v":0},{"$f":"SUM(I34:I39)","v":0}]
[null,null,null,null,"อสังหาริมทรัพย์",null,{"$f":"D34*F35","v":0},null,{"$f":"$D34*$F35*H35","v":0}]
[null,null,null,null,"สินค้าโภคภัณฑ์",null,{"$f":"D34*F36","v":0},null,{"$f":"$D34*$F36*H36","v":0}]
[null,null,null,null,"เงินฝาก",null,{"$f":"D34*F37","v":0},null,{"$f":"$D34*$F37*H37","v":0}]
[null,null,null,null,"ตราสารหนี้",null,{"$f":"D34*F38","v":0},null,{"$f":"$D34*$F38*H38","v":0}]
[null,null,null,null,"อื่นๆ",null,{"$f":"D34*F39","v":0},null,{"$f":"$D34*$F39*H39","v":0}]
[null,6,null,null,"ตราสารทุน",null,{"$f":"D40*F40","v":0},null,{"$f":"$D40*$F40*H40","v":0},{"$f":"SUM(I40:I45)","v":0}]
[null,null,null,null,"อสังหาริมทรัพย์",null,{"$f":"D40*F41","v":0},null,{"$f":"$D40*$F41*H41","v":0}]
[null,null,null,null,"สินค้าโภคภัณฑ์",null,{"$f":"D40*F42","v":0},null,{"$f":"$D40*$F42*H42","v":0}]
[null,null,null,null,"เงินฝาก",null,{"$f":"D40*F43","v":0},null,{"$f":"$D40*$F43*H43","v":0}]
[null,null,null,null,"ตราสารหนี้",null,{"$f":"D40*F44","v":0},null,{"$f":"$D40*$F44*H44","v":0}]
[null,null,null,null,"อื่นๆ",null,{"$f":"D40*F45","v":0},null,{"$f":"$D40*$F45*H45","v":0}]
[null,7,null,null,"ตราสารทุน",null,{"$f":"D46*F46","v":0},null,{"$f":"$D46*$F46*H46","v":0},{"$f":"SUM(I46:I51)","v":0}]
[null,null,null,null,"อสังหาริมทรัพย์",null,{"$f":"D46*F47","v":0},null,{"$f":"$D46*$F47*H47","v":0}]
[null,null,null,null,"สินค้าโภคภัณฑ์",null,{"$f":"D46*F48","v":0},null,{"$f":"$D46*$F48*H48","v":0}]
[null,null,null,null,"เงินฝาก",null,{"$f":"D46*F49","v":0},null,{"$f":"$D46*$F49*H49","v":0}]
[null,null,null,null,"ตราสารหนี้",null,{"$f":"D46*F50","v":0},null,{"$f":"$D46*$F50*H50","v":0}]
[null,null,null,null,"อื่นๆ",null,{"$f":"D46*F51","v":0},null,{"$f":"$D46*$F51*H51","v":0}]
[null,8,null,null,"ตราสารทุน",null,{"$f":"D52*F52","v":0},null,{"$f":"$D52*$F52*H52","v":0},{"$f":"SUM(I52:I57)","v":0}]
[null,null,null,null,"อสังหาริมทรัพย์",null,{"$f":"D52*F53","v":0},null,{"$f":"$D52*$F53*H53","v":0}]
[null,null,null,null,"สินค้าโภคภัณฑ์",null,{"$f":"D52*F54","v":0},null,{"$f":"$D52*$F54*H54","v":0}]
[null,null,null,null,"เงินฝาก",null,{"$f":"D52*F55","v":0},null,{"$f":"$D52*$F55*H55","v":0}]
[null,null,null,null,"ตราสารหนี้",null,{"$f":"D52*F56","v":0},null,{"$f":"$D52*$F56*H56","v":0}]
[null,null,null,null,"อื่นๆ",null,{"$f":"D52*F57","v":0},null,{"$f":"$D52*$F57*H57","v":0}]
[null,9,null,null,"ตราสารทุน",null,{"$f":"D58*F58","v":0},null,{"$f":"$D58*$F58*H58","v":0},{"$f":"SUM(I58:I63)","v":0}]
[null,null,null,null,"อสังหาริมทรัพย์",null,{"$f":"D58*F59","v":0},null,{"$f":"$D58*$F59*H59","v":0}]
[null,null,null,null,"สินค้าโภคภัณฑ์",null,{"$f":"D58*F60","v":0},null,{"$f":"$D58*$F60*H60","v":0}]
[null,null,null,null,"เงินฝาก",null,{"$f":"D58*F61","v":0},null,{"$f":"$D58*$F61*H61","v":0}]
[null,null,null,null,"ตราสารหนี้",null,{"$f":"D58*F62","v":0},null,{"$f":"$D58*$F62*H62","v":0}]
[null,null,null,null,"อื่นๆ",null,{"$f":"D58*F63","v":0},null,{"$f":"$D58*$F63*H63","v":0}]
[null,10,null,null,"ตราสารทุน",null,{"$f":"D64*F64","v":0},null,{"$f":"$D64*$F64*H64","v":0},{"$f":"SUM(I64:I69)","v":0}]
[null,null,null,null,"อสังหาริมทรัพย์",null,{"$f":"D64*F65","v":0},null,{"$f":"$D64*$F65*H65","v":0}]
[null,null,null,null,"สินค้าโภคภัณฑ์",null,{"$f":"D64*F66","v":0},null,{"$f":"$D64*$F66*H66","v":0}]
[null,null,null,null,"เงินฝาก",null,{"$f":"D64*F67","v":0},null,{"$f":"$D64*$F67*H67","v":0}]
[null,null,null,null,"ตราสารหนี้",null,{"$f":"D64*F68","v":0},null,{"$f":"$D64*$F68*H68","v":0}]
[null,null,null,null,"อื่นๆ",null,{"$f":"D64*F69","v":0},null,{"$f":"$D64*$F69*H69","v":0}]
[null,11,null,null,"ตราสารทุน",null,{"$f":"D70*F70","v":0},null,{"$f":"$D70*$F70*H70","v":0},{"$f":"SUM(I70:I75)","v":0}]
[null,null,null,null,"อสังหาริมทรัพย์",null,{"$f":"D70*F71","v":0},null,{"$f":"$D70*$F71*H71","v":0}]
[null,null,null,null,"สินค้าโภคภัณฑ์",null,{"$f":"D70*F72","v":0},null,{"$f":"$D70*$F72*H72","v":0}]
[null,null,null,null,"เงินฝาก",null,{"$f":"D70*F73","v":0},null,{"$f":"$D70*$F73*H73","v":0}]
[null,null,null,null,"ตราสารหนี้",null,{"$f":"D70*F74","v":0},null,{"$f":"$D70*$F74*H74","v":0}]
[null,null,null,null,"อื่นๆ",null,{"$f":"D70*F75","v":0},null,{"$f":"$D70*$F75*H75","v":0}]
[null,12,null,null,"ตราสารทุน",null,{"$f":"D76*F76","v":0},null,{"$f":"$D76*$F76*H76","v":0},{"$f":"SUM(I76:I81)","v":0}]
[null,null,null,null,"อสังหาริมทรัพย์",null,{"$f":"D76*F77","v":0},null,{"$f":"$D76*$F77*H77","v":0}]
[null,null,null,null,"สินค้าโภคภัณฑ์",null,{"$f":"D76*F78","v":0},null,{"$f":"$D76*$F78*H78","v":0}]
[null,null,null,null,"เงินฝาก",null,{"$f":"D76*F79","v":0},null,{"$f":"$D76*$F79*H79","v":0}]
[null,null,null,null,"ตราสารหนี้",null,{"$f":"D76*F80","v":0},null,{"$f":"$D76*$F80*H80","v":0}]
[null,null,null,null,"อื่นๆ",null,{"$f":"D76*F81","v":0},null,{"$f":"$D76*$F81*H81","v":0}]
[null,13,null,null,"ตราสารทุน",null,{"$f":"D82*F82","v":0},null,{"$f":"$D82*$F82*H82","v":0},{"$f":"SUM(I82:I87)","v":0}]
[null,null,null,null,"อสังหาริมทรัพย์",null,{"$f":"D82*F83","v":0},null,{"$f":"$D82*$F83*H83","v":0}]
[null,null,null,null,"สินค้าโภคภัณฑ์",null,{"$f":"D82*F84","v":0},null,{"$f":"$D82*$F84*H84","v":0}]
[null,null,null,null,"เงินฝาก",null,{"$f":"D82*F85","v":0},null,{"$f":"$D82*$F85*H85","v":0}]
[null,null,null,null,"ตราสารหนี้",null,{"$f":"D82*F86","v":0},null,{"$f":"$D82*$F86*H86","v":0}]
[null,null,null,null,"อื่นๆ",null,{"$f":"D82*F87","v":0},null,{"$f":"$D82*$F87*H87","v":0}]
[null,14,null,null,"ตราสารทุน",null,{"$f":"D88*F88","v":0},null,{"$f":"$D88*$F88*H88","v":0},{"$f":"SUM(I88:I93)","v":0}]
[null,null,null,null,"อสังหาริมทรัพย์",null,{"$f":"D88*F89","v":0},null,{"$f":"$D88*$F89*H89","v":0}]
[null,null,null,null,"สินค้าโภคภัณฑ์",null,{"$f":"D88*F90","v":0},null,{"$f":"$D88*$F90*H90","v":0}]
[null,null,null,null,"เงินฝาก",null,{"$f":"D88*F91","v":0},null,{"$f":"$D88*$F91*H91","v":0}]
[null,null,null,null,"ตราสารหนี้",null,{"$f":"D88*F92","v":0},null,{"$f":"$D88*$F92*H92","v":0}]
[null,null,null,null,"อื่นๆ",null,{"$f":"D88*F93","v":0},null,{"$f":"$D88*$F93*H93","v":0}]
[null,15,null,null,"ตราสารทุน",null,{"$f":"D94*F94","v":0},null,{"$f":"$D94*$F94*H94","v":0},{"$f":"SUM(I94:I99)","v":0}]
[null,null,null,null,"อสังหาริมทรัพย์",null,{"$f":"D94*F95","v":0},null,{"$f":"$D94*$F95*H95","v":0}]
[null,null,null,null,"สินค้าโภคภัณฑ์",null,{"$f":"D94*F96","v":0},null,{"$f":"$D94*$F96*H96","v":0}]
[null,null,null,null,"เงินฝาก",null,{"$f":"D94*F97","v":0},null,{"$f":"$D94*$F97*H97","v":0}]
[null,null,null,null,"ตราสารหนี้",null,{"$f":"D94*F98","v":0},null,{"$f":"$D94*$F98*H98","v":0}]
[null,null,null,null,"อื่นๆ",null,{"$f":"D94*F99","v":0},null,{"$f":"$D94*$F99*H99","v":0}]
[null,16,null,null,"ตราสารทุน",null,{"$f":"D100*F100","v":0},null,{"$f":"$D100*$F100*H100","v":0},{"$f":"SUM(I100:I105)","v":0}]
[null,null,null,null,"อสังหาริมทรัพย์",null,{"$f":"D100*F101","v":0},null,{"$f":"$D100*$F101*H101","v":0}]
[null,null,null,null,"สินค้าโภคภัณฑ์",null,{"$f":"D100*F102","v":0},null,{"$f":"$D100*$F102*H102","v":0}]
[null,null,null,null,"เงินฝาก",null,{"$f":"D100*F103","v":0},null,{"$f":"$D100*$F103*H103","v":0}]
[null,null,null,null,"ตราสารหนี้",null,{"$f":"D100*F104","v":0},null,{"$f":"$D100*$F104*H104","v":0}]
[null,null,null,null,"อื่นๆ",null,{"$f":"D100*F105","v":0},null,{"$f":"$D100*$F105*H105","v":0}]
[null,17,null,null,"ตราสารทุน",null,{"$f":"D106*F106","v":0},null,{"$f":"$D106*$F106*H106","v":0},{"$f":"SUM(I106:I111)","v":0}]
[null,null,null,null,"อสังหาริมทรัพย์",null,{"$f":"D106*F107","v":0},null,{"$f":"$D106*$F107*H107","v":0}]
[null,null,null,null,"สินค้าโภคภัณฑ์",null,{"$f":"D106*F108","v":0},null,{"$f":"$D106*$F108*H108","v":0}]
[null,null,null,null,"เงินฝาก",null,{"$f":"D106*F109","v":0},null,{"$f":"$D106*$F109*H109","v":0}]
[null,null,null,null,"ตราสารหนี้",null,{"$f":"D106*F110","v":0},null,{"$f":"$D106*$F110*H110","v":0}]
[null,null,null,null,"อื่นๆ",null,{"$f":"D106*F111","v":0},null,{"$f":"$D106*$F111*H111","v":0}]
[null,18,null,null,"ตราสารทุน",null,{"$f":"D112*F112","v":0},null,{"$f":"$D112*$F112*H112","v":0},{"$f":"SUM(I112:I117)","v":0}]
[null,null,null,null,"อสังหาริมทรัพย์",null,{"$f":"D112*F113","v":0},null,{"$f":"$D112*$F113*H113","v":0}]
[null,null,null,null,"สินค้าโภคภัณฑ์",null,{"$f":"D112*F114","v":0},null,{"$f":"$D112*$F114*H114","v":0}]
[null,null,null,null,"เงินฝาก",null,{"$f":"D112*F115","v":0},null,{"$f":"$D112*$F115*H115","v":0}]
[null,null,null,null,"ตราสารหนี้",null,{"$f":"D112*F116","v":0},null,{"$f":"$D112*$F116*H116","v":0}]
[null,null,null,null,"อื่นๆ",null,{"$f":"D112*F117","v":0},null,{"$f":"$D112*$F117*H117","v":0}]
[null,19,null,null,"ตราสารทุน",null,{"$f":"D118*F118","v":0},null,{"$f":"$D118*$F118*H118","v":0},{"$f":"SUM(I118:I123)","v":0}]
[null,null,null,null,"อสังหาริมทรัพย์",null,{"$f":"D118*F119","v":0},null,{"$f":"$D118*$F119*H119","v":0}]
[null,null,null,null,"สินค้าโภคภัณฑ์",null,{"$f":"D118*F120","v":0},null,{"$f":"$D118*$F120*H120","v":0}]
[null,null,null,null,"เงินฝาก",null,{"$f":"D118*F121","v":0},null,{"$f":"$D118*$F121*H121","v":0}]
[null,null,null,null,"ตราสารหนี้",null,{"$f":"D118*F122","v":0},null,{"$f":"$D118*$F122*H122","v":0}]
[null,null,null,null,"อื่นๆ",null,{"$f":"D118*F123","v":0},null,{"$f":"$D118*$F123*H123","v":0}]
[null,20,null,null,"ตราสารทุน",null,{"$f":"D124*F124","v":0},null,{"$f":"$D124*$F124*H124","v":0},{"$f":"SUM(I124:I129)","v":0}]
[null,null,null,null,"อสังหาริมทรัพย์",null,{"$f":"D124*F125","v":0},null,{"$f":"$D124*$F125*H125","v":0}]
[null,null,null,null,"สินค้าโภคภัณฑ์",null,{"$f":"D124*F126","v":0},null,{"$f":"$D124*$F126*H126","v":0}]
[null,null,null,null,"เงินฝาก",null,{"$f":"D124*F127","v":0},null,{"$f":"$D124*$F127*H127","v":0}]
[null,null,null,null,"ตราสารหนี้",null,{"$f":"D124*F128","v":0},null,{"$f":"$D124*$F128*H128","v":0}]
[null,null,null,null,"อื่นๆ",null,{"$f":"D124*F129","v":0},null,{"$f":"$D124*$F129*H129","v":0}]
[null,21,null,null,"ตราสารทุน",null,{"$f":"D130*F130","v":0},null,{"$f":"$D130*$F130*H130","v":0},{"$f":"SUM(I130:I135)","v":0}]
[null,null,null,null,"อสังหาริมทรัพย์",null,{"$f":"D130*F131","v":0},null,{"$f":"$D130*$F131*H131","v":0}]
[null,null,null,null,"สินค้าโภคภัณฑ์",null,{"$f":"D130*F132","v":0},null,{"$f":"$D130*$F132*H132","v":0}]
[null,null,null,null,"เงินฝาก",null,{"$f":"D130*F133","v":0},null,{"$f":"$D130*$F133*H133","v":0}]
[null,null,null,null,"ตราสารหนี้",null,{"$f":"D130*F134","v":0},null,{"$f":"$D130*$F134*H134","v":0}]
[null,null,null,null,"อื่นๆ",null,{"$f":"D130*F135","v":0},null,{"$f":"$D130*$F135*H135","v":0}]
[null,22,null,null,"ตราสารทุน",null,{"$f":"D136*F136","v":0},null,{"$f":"$D136*$F136*H136","v":0},{"$f":"SUM(I136:I141)","v":0}]
[null,null,null,null,"อสังหาริมทรัพย์",null,{"$f":"D136*F137","v":0},null,{"$f":"$D136*$F137*H137","v":0}]
[null,null,null,null,"สินค้าโภคภัณฑ์",null,{"$f":"D136*F138","v":0},null,{"$f":"$D136*$F138*H138","v":0}]
[null,null,null,null,"เงินฝาก",null,{"$f":"D136*F139","v":0},null,{"$f":"$D136*$F139*H139","v":0}]
[null,null,null,null,"ตราสารหนี้",null,{"$f":"D136*F140","v":0},null,{"$f":"$D136*$F140*H140","v":0}]
[null,null,null,null,"อื่นๆ",null,{"$f":"D136*F141","v":0},null,{"$f":"$D136*$F141*H141","v":0}]
[null,23,null,null,"ตราสารทุน",null,{"$f":"D142*F142","v":0},null,{"$f":"$D142*$F142*H142","v":0},{"$f":"SUM(I142:I147)","v":0}]
[null,null,null,null,"อสังหาริมทรัพย์",null,{"$f":"D142*F143","v":0},null,{"$f":"$D142*$F143*H143","v":0}]
[null,null,null,null,"สินค้าโภคภัณฑ์",null,{"$f":"D142*F144","v":0},null,{"$f":"$D142*$F144*H144","v":0}]
[null,null,null,null,"เงินฝาก",null,{"$f":"D142*F145","v":0},null,{"$f":"$D142*$F145*H145","v":0}]
[null,null,null,null,"ตราสารหนี้",null,{"$f":"D142*F146","v":0},null,{"$f":"$D142*$F146*H146","v":0}]
[null,null,null,null,"อื่นๆ",null,{"$f":"D142*F147","v":0},null,{"$f":"$D142*$F147*H147","v":0}]
[null,24,null,null,"ตราสารทุน",null,{"$f":"D148*F148","v":0},null,{"$f":"$D148*$F148*H148","v":0},{"$f":"SUM(I148:I153)","v":0}]
[null,null,null,null,"อสังหาริมทรัพย์",null,{"$f":"D148*F149","v":0},null,{"$f":"$D148*$F149*H149","v":0}]
[null,null,null,null,"สินค้าโภคภัณฑ์",null,{"$f":"D148*F150","v":0},null,{"$f":"$D148*$F150*H150","v":0}]
[null,null,null,null,"เงินฝาก",null,{"$f":"D148*F151","v":0},null,{"$f":"$D148*$F151*H151","v":0}]
[null,null,null,null,"ตราสารหนี้",null,{"$f":"D148*F152","v":0},null,{"$f":"$D148*$F152*H152","v":0}]
[null,null,null,null,"อื่นๆ",null,{"$f":"D148*F153","v":0},null,{"$f":"$D148*$F153*H153","v":0}]
[null,25,null,null,"ตราสารทุน",null,{"$f":"D154*F154","v":0},null,{"$f":"$D154*$F154*H154","v":0},{"$f":"SUM(I154:I159)","v":0}]
[null,null,null,null,"อสังหาริมทรัพย์",null,{"$f":"D154*F155","v":0},null,{"$f":"$D154*$F155*H155","v":0}]
[null,null,null,null,"สินค้าโภคภัณฑ์",null,{"$f":"D154*F156","v":0},null,{"$f":"$D154*$F156*H156","v":0}]
[null,null,null,null,"เงินฝาก",null,{"$f":"D154*F157","v":0},null,{"$f":"$D154*$F157*H157","v":0}]
[null,null,null,null,"ตราสารหนี้",null,{"$f":"D154*F158","v":0},null,{"$f":"$D154*$F158*H158","v":0}]
[null,null,null,null,"อื่นๆ",null,{"$f":"D154*F159","v":0},null,{"$f":"$D154*$F159*H159","v":0}]
[null,26,null,null,"ตราสารทุน",null,{"$f":"D160*F160","v":0},null,{"$f":"$D160*$F160*H160","v":0},{"$f":"SUM(I160:I165)","v":0}]
[null,null,null,null,"อสังหาริมทรัพย์",null,{"$f":"D160*F161","v":0},null,{"$f":"$D160*$F161*H161","v":0}]
[null,null,null,null,"สินค้าโภคภัณฑ์",null,{"$f":"D160*F162","v":0},null,{"$f":"$D160*$F162*H162","v":0}]
[null,null,null,null,"เงินฝาก",null,{"$f":"D160*F163","v":0},null,{"$f":"$D160*$F163*H163","v":0}]
[null,null,null,null,"ตราสารหนี้",null,{"$f":"D160*F164","v":0},null,{"$f":"$D160*$F164*H164","v":0}]
[null,null,null,null,"อื่นๆ",null,{"$f":"D160*F165","v":0},null,{"$f":"$D160*$F165*H165","v":0}]
[null,27,null,null,"ตราสารทุน",null,{"$f":"D166*F166","v":0},null,{"$f":"$D166*$F166*H166","v":0},{"$f":"SUM(I166:I171)","v":0}]
[null,null,null,null,"อสังหาริมทรัพย์",null,{"$f":"D166*F167","v":0},null,{"$f":"$D166*$F167*H167","v":0}]
[null,null,null,null,"สินค้าโภคภัณฑ์",null,{"$f":"D166*F168","v":0},null,{"$f":"$D166*$F168*H168","v":0}]
[null,null,null,null,"เงินฝาก",null,{"$f":"D166*F169","v":0},null,{"$f":"$D166*$F169*H169","v":0}]
[null,null,null,null,"ตราสารหนี้",null,{"$f":"D166*F170","v":0},null,{"$f":"$D166*$F170*H170","v":0}]
[null,null,null,null,"อื่นๆ",null,{"$f":"D166*F171","v":0},null,{"$f":"$D166*$F171*H171","v":0}]
[null,28,null,null,"ตราสารทุน",null,{"$f":"D172*F172","v":0},null,{"$f":"$D172*$F172*H172","v":0},{"$f":"SUM(I172:I177)","v":0}]
[null,null,null,null,"อสังหาริมทรัพย์",null,{"$f":"D172*F173","v":0},null,{"$f":"$D172*$F173*H173","v":0}]
[null,null,null,null,"สินค้าโภคภัณฑ์",null,{"$f":"D172*F174","v":0},null,{"$f":"$D172*$F174*H174","v":0}]
[null,null,null,null,"เงินฝาก",null,{"$f":"D172*F175","v":0},null,{"$f":"$D172*$F175*H175","v":0}]
[null,null,null,null,"ตราสารหนี้",null,{"$f":"D172*F176","v":0},null,{"$f":"$D172*$F176*H176","v":0}]
[null,null,null,null,"อื่นๆ",null,{"$f":"D172*F177","v":0},null,{"$f":"$D172*$F177*H177","v":0}]
[null,29,null,null,"ตราสารทุน",null,{"$f":"D178*F178","v":0},null,{"$f":"$D178*$F178*H178","v":0},{"$f":"SUM(I178:I183)","v":0}]
[null,null,null,null,"อสังหาริมทรัพย์",null,{"$f":"D178*F179","v":0},null,{"$f":"$D178*$F179*H179","v":0}]
[null,null,null,null,"สินค้าโภคภัณฑ์",null,{"$f":"D178*F180","v":0},null,{"$f":"$D178*$F180*H180","v":0}]
[null,null,null,null,"เงินฝาก",null,{"$f":"D178*F181","v":0},null,{"$f":"$D178*$F181*H181","v":0}]
[null,null,null,null,"ตราสารหนี้",null,{"$f":"D178*F182","v":0},null,{"$f":"$D178*$F182*H182","v":0}]
[null,null,null,null,"อื่นๆ",null,{"$f":"D178*F183","v":0},null,{"$f":"$D178*$F183*H183","v":0}]
[null,30,null,null,"ตราสารทุน",null,{"$f":"D184*F184","v":0},null,{"$f":"$D184*$F184*H184","v":0},{"$f":"SUM(I184:I189)","v":0}]
[null,null,null,null,"อสังหาริมทรัพย์",null,{"$f":"D184*F185","v":0},null,{"$f":"$D184*$F185*H185","v":0}]
[null,null,null,null,"สินค้าโภคภัณฑ์",null,{"$f":"D184*F186","v":0},null,{"$f":"$D184*$F186*H186","v":0}]
[null,null,null,null,"เงินฝาก",null,{"$f":"D184*F187","v":0},null,{"$f":"$D184*$F187*H187","v":0}]
[null,null,null,null,"ตราสารหนี้",null,{"$f":"D184*F188","v":0},null,{"$f":"$D184*$F188*H188","v":0}]
[null,null,null,null,"อื่นๆ",null,{"$f":"D184*F189","v":0},null,{"$f":"$D184*$F189*H189","v":0}]
[null,31,null,null,"ตราสารทุน",null,{"$f":"D190*F190","v":0},null,{"$f":"$D190*$F190*H190","v":0},{"$f":"SUM(I190:I195)","v":0}]
[null,null,null,null,"อสังหาริมทรัพย์",null,{"$f":"D190*F191","v":0},null,{"$f":"$D190*$F191*H191","v":0}]
[null,null,null,null,"สินค้าโภคภัณฑ์",null,{"$f":"D190*F192","v":0},null,{"$f":"$D190*$F192*H192","v":0}]
[null,null,null,null,"เงินฝาก",null,{"$f":"D190*F193","v":0},null,{"$f":"$D190*$F193*H193","v":0}]
[null,null,null,null,"ตราสารหนี้",null,{"$f":"D190*F194","v":0},null,{"$f":"$D190*$F194*H194","v":0}]
[null,null,null,null,"อื่นๆ",null,{"$f":"D190*F195","v":0},null,{"$f":"$D190*$F195*H195","v":0}]
[null,32,null,null,"ตราสารทุน",null,{"$f":"D196*F196","v":0},null,{"$f":"$D196*$F196*H196","v":0},{"$f":"SUM(I196:I201)","v":0}]
[null,null,null,null,"อสังหาริมทรัพย์",null,{"$f":"D196*F197","v":0},null,{"$f":"$D196*$F197*H197","v":0}]
[null,null,null,null,"สินค้าโภคภัณฑ์",null,{"$f":"D196*F198","v":0},null,{"$f":"$D196*$F198*H198","v":0}]
[null,null,null,null,"เงินฝาก",null,{"$f":"D196*F199","v":0},null,{"$f":"$D196*$F199*H199","v":0}]
[null,null,null,null,"ตราสารหนี้",null,{"$f":"D196*F200","v":0},null,{"$f":"$D196*$F200*H200","v":0}]
[null,null,null,null,"อื่นๆ",null,{"$f":"D196*F201","v":0},null,{"$f":"$D196*$F201*H201","v":0}]
[null,33,null,null,"ตราสารทุน",null,{"$f":"D202*F202","v":0},null,{"$f":"$D202*$F202*H202","v":0},{"$f":"SUM(I202:I207)","v":0}]
[null,null,null,null,"อสังหาริมทรัพย์",null,{"$f":"D202*F203","v":0},null,{"$f":"$D202*$F203*H203","v":0}]
[null,null,null,null,"สินค้าโภคภัณฑ์",null,{"$f":"D202*F204","v":0},null,{"$f":"$D202*$F204*H204","v":0}]
[null,null,null,null,"เงินฝาก",null,{"$f":"D202*F205","v":0},null,{"$f":"$D202*$F205*H205","v":0}]
[null,null,null,null,"ตราสารหนี้",null,{"$f":"D202*F206","v":0},null,{"$f":"$D202*$F206*H206","v":0}]
[null,null,null,null,"อื่นๆ",null,{"$f":"D202*F207","v":0},null,{"$f":"$D202*$F207*H207","v":0}]
[null,34,null,null,"ตราสารทุน",null,{"$f":"D208*F208","v":0},null,{"$f":"$D208*$F208*H208","v":0},{"$f":"SUM(I208:I213)","v":0}]
[null,null,null,null,"อสังหาริมทรัพย์",null,{"$f":"D208*F209","v":0},null,{"$f":"$D208*$F209*H209","v":0}]
[null,null,null,null,"สินค้าโภคภัณฑ์",null,{"$f":"D208*F210","v":0},null,{"$f":"$D208*$F210*H210","v":0}]
[null,null,null,null,"เงินฝาก",null,{"$f":"D208*F211","v":0},null,{"$f":"$D208*$F211*H211","v":0}]
[null,null,null,null,"ตราสารหนี้",null,{"$f":"D208*F212","v":0},null,{"$f":"$D208*$F212*H212","v":0}]
[null,null,null,null,"อื่นๆ",null,{"$f":"D208*F213","v":0},null,{"$f":"$D208*$F213*H213","v":0}]
[null,35,null,null,"ตราสารทุน",null,{"$f":"D214*F214","v":0},null,{"$f":"$D214*$F214*H214","v":0},{"$f":"SUM(I214:I219)","v":0}]
[null,null,null,null,"อสังหาริมทรัพย์",null,{"$f":"D214*F215","v":0},null,{"$f":"$D214*$F215*H215","v":0}]
[null,null,null,null,"สินค้าโภคภัณฑ์",null,{"$f":"D214*F216","v":0},null,{"$f":"$D214*$F216*H216","v":0}]
[null,null,null,null,"เงินฝาก",null,{"$f":"D214*F217","v":0},null,{"$f":"$D214*$F217*H217","v":0}]
[null,null,null,null,"ตราสารหนี้",null,{"$f":"D214*F218","v":0},null,{"$f":"$D214*$F218*H218","v":0}]
[null,null,null,null,"อื่นๆ",null,{"$f":"D214*F219","v":0},null,{"$f":"$D214*$F219*H219","v":0}]
[null,36,null,null,"ตราสารทุน",null,{"$f":"D220*F220","v":0},null,{"$f":"$D220*$F220*H220","v":0},{"$f":"SUM(I220:I225)","v":0}]
[null,null,null,null,"อสังหาริมทรัพย์",null,{"$f":"D220*F221","v":0},null,{"$f":"$D220*$F221*H221","v":0}]
[null,null,null,null,"สินค้าโภคภัณฑ์",null,{"$f":"D220*F222","v":0},null,{"$f":"$D220*$F222*H222","v":0}]
[null,null,null,null,"เงินฝาก",null,{"$f":"D220*F223","v":0},null,{"$f":"$D220*$F223*H223","v":0}]
[null,null,null,null,"ตราสารหนี้",null,{"$f":"D220*F224","v":0},null,{"$f":"$D220*$F224*H224","v":0}]
[null,null,null,null,"อื่นๆ",null,{"$f":"D220*F225","v":0},null,{"$f":"$D220*$F225*H225","v":0}]
[null,37,null,null,"ตราสารทุน",null,{"$f":"D226*F226","v":0},null,{"$f":"$D226*$F226*H226","v":0},{"$f":"SUM(I226:I231)","v":0}]
[null,null,null,null,"อสังหาริมทรัพย์",null,{"$f":"D226*F227","v":0},null,{"$f":"$D226*$F227*H227","v":0}]
[null,null,null,null,"สินค้าโภคภัณฑ์",null,{"$f":"D226*F228","v":0},null,{"$f":"$D226*$F228*H228","v":0}]
[null,null,null,null,"เงินฝาก",null,{"$f":"D226*F229","v":0},null,{"$f":"$D226*$F229*H229","v":0}]
[null,null,null,null,"ตราสารหนี้",null,{"$f":"D226*F230","v":0},null,{"$f":"$D226*$F230*H230","v":0}]
[null,null,null,null,"อื่นๆ",null,{"$f":"D226*F231","v":0},null,{"$f":"$D226*$F231*H231","v":0}]
[null,38,null,null,"ตราสารทุน",null,{"$f":"D232*F232","v":0},null,{"$f":"$D232*$F232*H232","v":0},{"$f":"SUM(I232:I237)","v":0}]
[null,null,null,null,"อสังหาริมทรัพย์",null,{"$f":"D232*F233","v":0},null,{"$f":"$D232*$F233*H233","v":0}]
[null,null,null,null,"สินค้าโภคภัณฑ์",null,{"$f":"D232*F234","v":0},null,{"$f":"$D232*$F234*H234","v":0}]
[null,null,null,null,"เงินฝาก",null,{"$f":"D232*F235","v":0},null,{"$f":"$D232*$F235*H235","v":0}]
[null,null,null,null,"ตราสารหนี้",null,{"$f":"D232*F236","v":0},null,{"$f":"$D232*$F236*H236","v":0}]
[null,null,null,null,"อื่นๆ",null,{"$f":"D232*F237","v":0},null,{"$f":"$D232*$F237*H237","v":0}]
[null,39,null,null,"ตราสารทุน",null,{"$f":"D238*F238","v":0},null,{"$f":"$D238*$F238*H238","v":0},{"$f":"SUM(I238:I243)","v":0}]
[null,null,null,null,"อสังหาริมทรัพย์",null,{"$f":"D238*F239","v":0},null,{"$f":"$D238*$F239*H239","v":0}]
[null,null,null,null,"สินค้าโภคภัณฑ์",null,{"$f":"D238*F240","v":0},null,{"$f":"$D238*$F240*H240","v":0}]
[null,null,null,null,"เงินฝาก",null,{"$f":"D238*F241","v":0},null,{"$f":"$D238*$F241*H241","v":0}]
[null,null,null,null,"ตราสารหนี้",null,{"$f":"D238*F242","v":0},null,{"$f":"$D238*$F242*H242","v":0}]
[null,null,null,null,"อื่นๆ",null,{"$f":"D238*F243","v":0},null,{"$f":"$D238*$F243*H243","v":0}]
[null,40,null,null,"ตราสารทุน",null,{"$f":"D244*F244","v":0},null,{"$f":"$D244*$F244*H244","v":0},{"$f":"SUM(I244:I249)","v":0}]
[null,null,null,null,"อสังหาริมทรัพย์",null,{"$f":"D244*F245","v":0},null,{"$f":"$D244*$F245*H245","v":0}]
[null,null,null,null,"สินค้าโภคภัณฑ์",null,{"$f":"D244*F246","v":0},null,{"$f":"$D244*$F246*H246","v":0}]
[null,null,null,null,"เงินฝาก",null,{"$f":"D244*F247","v":0},null,{"$f":"$D244*$F247*H247","v":0}]
[null,null,null,null,"ตราสารหนี้",null,{"$f":"D244*F248","v":0},null,{"$f":"$D244*$F248*H248","v":0}]
[null,null,null,null,"อื่นๆ",null,{"$f":"D244*F249","v":0},null,{"$f":"$D244*$F249*H249","v":0}]
[null,41,null,null,"ตราสารทุน",null,{"$f":"D250*F250","v":0},null,{"$f":"$D250*$F250*H250","v":0},{"$f":"SUM(I250:I255)","v":0}]
[null,null,null,null,"อสังหาริมทรัพย์",null,{"$f":"D250*F251","v":0},null,{"$f":"$D250*$F251*H251","v":0}]
[null,null,null,null,"สินค้าโภคภัณฑ์",null,{"$f":"D250*F252","v":0},null,{"$f":"$D250*$F252*H252","v":0}]
[null,null,null,null,"เงินฝาก",null,{"$f":"D250*F253","v":0},null,{"$f":"$D250*$F253*H253","v":0}]
[null,null,null,null,"ตราสารหนี้",null,{"$f":"D250*F254","v":0},null,{"$f":"$D250*$F254*H254","v":0}]
[null,null,null,null,"อื่นๆ",null,{"$f":"D250*F255","v":0},null,{"$f":"$D250*$F255*H255","v":0}]
[null,42,null,null,"ตราสารทุน",null,{"$f":"D256*F256","v":0},null,{"$f":"$D256*$F256*H256","v":0},{"$f":"SUM(I256:I261)","v":0}]
[null,null,null,null,"อสังหาริมทรัพย์",null,{"$f":"D256*F257","v":0},null,{"$f":"$D256*$F257*H257","v":0}]
[null,null,null,null,"สินค้าโภคภัณฑ์",null,{"$f":"D256*F258","v":0},null,{"$f":"$D256*$F258*H258","v":0}]
[null,null,null,null,"เงินฝาก",null,{"$f":"D256*F259","v":0},null,{"$f":"$D256*$F259*H259","v":0}]
[null,null,null,null,"ตราสารหนี้",null,{"$f":"D256*F260","v":0},null,{"$f":"$D256*$F260*H260","v":0}]
[null,null,null,null,"อื่นๆ",null,{"$f":"D256*F261","v":0},null,{"$f":"$D256*$F261*H261","v":0}]
[null,43,null,null,"ตราสารทุน",null,{"$f":"D262*F262","v":0},null,{"$f":"$D262*$F262*H262","v":0},{"$f":"SUM(I262:I267)","v":0}]
[null,null,null,null,"อสังหาริมทรัพย์",null,{"$f":"D262*F263","v":0},null,{"$f":"$D262*$F263*H263","v":0}]
[null,null,null,null,"สินค้าโภคภัณฑ์",null,{"$f":"D262*F264","v":0},null,{"$f":"$D262*$F264*H264","v":0}]
[null,null,null,null,"เงินฝาก",null,{"$f":"D262*F265","v":0},null,{"$f":"$D262*$F265*H265","v":0}]
[null,null,null,null,"ตราสารหนี้",null,{"$f":"D262*F266","v":0},null,{"$f":"$D262*$F266*H266","v":0}]
[null,null,null,null,"อื่นๆ",null,{"$f":"D262*F267","v":0},null,{"$f":"$D262*$F267*H267","v":0}]
[null,44,null,null,"ตราสารทุน",null,{"$f":"D268*F268","v":0},null,{"$f":"$D268*$F268*H268","v":0},{"$f":"SUM(I268:I273)","v":0}]
[null,null,null,null,"อสังหาริมทรัพย์",null,{"$f":"D268*F269","v":0},null,{"$f":"$D268*$F269*H269","v":0}]
[null,null,null,null,"สินค้าโภคภัณฑ์",null,{"$f":"D268*F270","v":0},null,{"$f":"$D268*$F270*H270","v":0}]
[null,null,null,null,"เงินฝาก",null,{"$f":"D268*F271","v":0},null,{"$f":"$D268*$F271*H271","v":0}]
[null,null,null,null,"ตราสารหนี้",null,{"$f":"D268*F272","v":0},null,{"$f":"$D268*$F272*H272","v":0}]
[null,null,null,null,"อื่นๆ",null,{"$f":"D268*F273","v":0},null,{"$f":"$D268*$F273*H273","v":0}]
[null,45,null,null,"ตราสารทุน",null,{"$f":"D274*F274","v":0},null,{"$f":"$D274*$F274*H274","v":0},{"$f":"SUM(I274:I279)","v":0}]
[null,null,null,null,"อสังหาริมทรัพย์",null,{"$f":"D274*F275","v":0},null,{"$f":"$D274*$F275*H275","v":0}]
[null,null,null,null,"สินค้าโภคภัณฑ์",null,{"$f":"D274*F276","v":0},null,{"$f":"$D274*$F276*H276","v":0}]
[null,null,null,null,"เงินฝาก",null,{"$f":"D274*F277","v":0},null,{"$f":"$D274*$F277*H277","v":0}]
[null,null,null,null,"ตราสารหนี้",null,{"$f":"D274*F278","v":0},null,{"$f":"$D274*$F278*H278","v":0}]
[null,null,null,null,"อื่นๆ",null,{"$f":"D274*F279","v":0},null,{"$f":"$D274*$F279*H279","v":0}]
[null,46,null,null,"ตราสารทุน",null,{"$f":"D280*F280","v":0},null,{"$f":"$D280*$F280*H280","v":0},{"$f":"SUM(I280:I285)","v":0}]
[null,null,null,null,"อสังหาริมทรัพย์",null,{"$f":"D280*F281","v":0},null,{"$f":"$D280*$F281*H281","v":0}]
[null,null,null,null,"สินค้าโภคภัณฑ์",null,{"$f":"D280*F282","v":0},null,{"$f":"$D280*$F282*H282","v":0}]
[null,null,null,null,"เงินฝาก",null,{"$f":"D280*F283","v":0},null,{"$f":"$D280*$F283*H283","v":0}]
[null,null,null,null,"ตราสารหนี้",null,{"$f":"D280*F284","v":0},null,{"$f":"$D280*$F284*H284","v":0}]
[null,null,null,null,"อื่นๆ",null,{"$f":"D280*F285","v":0},null,{"$f":"$D280*$F285*H285","v":0}]
[null,47,null,null,"ตราสารทุน",null,{"$f":"D286*F286","v":0},null,{"$f":"$D286*$F286*H286","v":0},{"$f":"SUM(I286:I291)","v":0}]
[null,null,null,null,"อสังหาริมทรัพย์",null,{"$f":"D286*F287","v":0},null,{"$f":"$D286*$F287*H287","v":0}]
[null,null,null,null,"สินค้าโภคภัณฑ์",null,{"$f":"D286*F288","v":0},null,{"$f":"$D286*$F288*H288","v":0}]
[null,null,null,null,"เงินฝาก",null,{"$f":"D286*F289","v":0},null,{"$f":"$D286*$F289*H289","v":0}]
[null,null,null,null,"ตราสารหนี้",null,{"$f":"D286*F290","v":0},null,{"$f":"$D286*$F290*H290","v":0}]
[null,null,null,null,"อื่นๆ",null,{"$f":"D286*F291","v":0},null,{"$f":"$D286*$F291*H291","v":0}]
[null,48,null,null,"ตราสารทุน",null,{"$f":"D292*F292","v":0},null,{"$f":"$D292*$F292*H292","v":0},{"$f":"SUM(I292:I297)","v":0}]
[null,null,null,null,"อสังหาริมทรัพย์",null,{"$f":"D292*F293","v":0},null,{"$f":"$D292*$F293*H293","v":0}]
[null,null,null,null,"สินค้าโภคภัณฑ์",null,{"$f":"D292*F294","v":0},null,{"$f":"$D292*$F294*H294","v":0}]
[null,null,null,null,"เงินฝาก",null,{"$f":"D292*F295","v":0},null,{"$f":"$D292*$F295*H295","v":0}]
[null,null,null,null,"ตราสารหนี้",null,{"$f":"D292*F296","v":0},null,{"$f":"$D292*$F296*H296","v":0}]
[null,null,null,null,"อื่นๆ",null,{"$f":"D292*F297","v":0},null,{"$f":"$D292*$F297*H297","v":0}]
[null,49,null,null,"ตราสารทุน",null,{"$f":"D298*F298","v":0},null,{"$f":"$D298*$F298*H298","v":0},{"$f":"SUM(I298:I303)","v":0}]
[null,null,null,null,"อสังหาริมทรัพย์",null,{"$f":"D298*F299","v":0},null,{"$f":"$D298*$F299*H299","v":0}]
[null,null,null,null,"สินค้าโภคภัณฑ์",null,{"$f":"D298*F300","v":0},null,{"$f":"$D298*$F300*H300","v":0}]
[null,null,null,null,"เงินฝาก",null,{"$f":"D298*F301","v":0},null,{"$f":"$D298*$F301*H301","v":0}]
[null,null,null,null,"ตราสารหนี้",null,{"$f":"D298*F302","v":0},null,{"$f":"$D298*$F302*H302","v":0}]
[null,null,null,null,"อื่นๆ",null,{"$f":"D298*F303","v":0},null,{"$f":"$D298*$F303*H303","v":0}]
[null,50,null,null,"ตราสารทุน",null,{"$f":"D304*F304","v":0},null,{"$f":"$D304*$F304*H304","v":0},{"$f":"SUM(I304:I309)","v":0}]
[null,null,null,null,"อสังหาริมทรัพย์",null,{"$f":"D304*F305","v":0},null,{"$f":"$D304*$F305*H305","v":0}]
[null,null,null,null,"สินค้าโภคภัณฑ์",null,{"$f":"D304*F306","v":0},null,{"$f":"$D304*$F306*H306","v":0}]
[null,null,null,null,"เงินฝาก",null,{"$f":"D304*F307","v":0},null,{"$f":"$D304*$F307*H307","v":0}]
[null,null,null,null,"ตราสารหนี้",null,{"$f":"D304*F308","v":0},null,{"$f":"$D304*$F308*H308","v":0}]
[null,null,null,null,"อื่นๆ",null,{"$f":"D304*F309","v":0},null,{"$f":"$D304*$F309*H309","v":0}]
[null,51,null,null,"ตราสารทุน",null,{"$f":"D310*F310","v":0},null,{"$f":"$D310*$F310*H310","v":0},{"$f":"SUM(I310:I315)","v":0}]
[null,null,null,null,"อสังหาริมทรัพย์",null,{"$f":"D310*F311","v":0},null,{"$f":"$D310*$F311*H311","v":0}]
[null,null,null,null,"สินค้าโภคภัณฑ์",null,{"$f":"D310*F312","v":0},null,{"$f":"$D310*$F312*H312","v":0}]
[null,null,null,null,"เงินฝาก",null,{"$f":"D310*F313","v":0},null,{"$f":"$D310*$F313*H313","v":0}]
[null,null,null,null,"ตราสารหนี้",null,{"$f":"D310*F314","v":0},null,{"$f":"$D310*$F314*H314","v":0}]
[null,null,null,null,"อื่นๆ",null,{"$f":"D310*F315","v":0},null,{"$f":"$D310*$F315*H315","v":0}]
[null,52,null,null,"ตราสารทุน",null,{"$f":"D316*F316","v":0},null,{"$f":"$D316*$F316*H316","v":0},{"$f":"SUM(I316:I321)","v":0}]
[null,null,null,null,"อสังหาริมทรัพย์",null,{"$f":"D316*F317","v":0},null,{"$f":"$D316*$F317*H317","v":0}]
[null,null,null,null,"สินค้าโภคภัณฑ์",null,{"$f":"D316*F318","v":0},null,{"$f":"$D316*$F318*H318","v":0}]
[null,null,null,null,"เงินฝาก",null,{"$f":"D316*F319","v":0},null,{"$f":"$D316*$F319*H319","v":0}]
[null,null,null,null,"ตราสารหนี้",null,{"$f":"D316*F320","v":0},null,{"$f":"$D316*$F320*H320","v":0}]
[null,null,null,null,"อื่นๆ",null,{"$f":"D316*F321","v":0},null,{"$f":"$D316*$F321*H321","v":0}]
[null,53,null,null,"ตราสารทุน",null,{"$f":"D322*F322","v":0},null,{"$f":"$D322*$F322*H322","v":0},{"$f":"SUM(I322:I327)","v":0}]
[null,null,null,null,"อสังหาริมทรัพย์",null,{"$f":"D322*F323","v":0},null,{"$f":"$D322*$F323*H323","v":0}]
[null,null,null,null,"สินค้าโภคภัณฑ์",null,{"$f":"D322*F324","v":0},null,{"$f":"$D322*$F324*H324","v":0}]
[null,null,null,null,"เงินฝาก",null,{"$f":"D322*F325","v":0},null,{"$f":"$D322*$F325*H325","v":0}]
[null,null,null,null,"ตราสารหนี้",null,{"$f":"D322*F326","v":0},null,{"$f":"$D322*$F326*H326","v":0}]
[null,null,null,null,"อื่นๆ",null,{"$f":"D322*F327","v":0},null,{"$f":"$D322*$F327*H327","v":0}]
[null,54,null,null,"ตราสารทุน",null,{"$f":"D328*F328","v":0},null,{"$f":"$D328*$F328*H328","v":0},{"$f":"SUM(I328:I333)","v":0}]
[null,null,null,null,"อสังหาริมทรัพย์",null,{"$f":"D328*F329","v":0},null,{"$f":"$D328*$F329*H329","v":0}]
[null,null,null,null,"สินค้าโภคภัณฑ์",null,{"$f":"D328*F330","v":0},null,{"$f":"$D328*$F330*H330","v":0}]
[null,null,null,null,"เงินฝาก",null,{"$f":"D328*F331","v":0},null,{"$f":"$D328*$F331*H331","v":0}]
[null,null,null,null,"ตราสารหนี้",null,{"$f":"D328*F332","v":0},null,{"$f":"$D328*$F332*H332","v":0}]
[null,null,null,null,"อื่นๆ",null,{"$f":"D328*F333","v":0},null,{"$f":"$D328*$F333*H333","v":0}]
[null,55,null,null,"ตราสารทุน",null,{"$f":"D334*F334","v":0},null,{"$f":"$D334*$F334*H334","v":0},{"$f":"SUM(I334:I339)","v":0}]
[null,null,null,null,"อสังหาริมทรัพย์",null,{"$f":"D334*F335","v":0},null,{"$f":"$D334*$F335*H335","v":0}]
[null,null,null,null,"สินค้าโภคภัณฑ์",null,{"$f":"D334*F336","v":0},null,{"$f":"$D334*$F336*H336","v":0}]
[null,null,null,null,"เงินฝาก",null,{"$f":"D334*F337","v":0},null,{"$f":"$D334*$F337*H337","v":0}]
[null,null,null,null,"ตราสารหนี้",null,{"$f":"D334*F338","v":0},null,{"$f":"$D334*$F338*H338","v":0}]
[null,null,null,null,"อื่นๆ",null,{"$f":"D334*F339","v":0},null,{"$f":"$D334*$F339*H339","v":0}]
[null,56,null,null,"ตราสารทุน",null,{"$f":"D340*F340","v":0},null,{"$f":"$D340*$F340*H340","v":0},{"$f":"SUM(I340:I345)","v":0}]
[null,null,null,null,"อสังหาริมทรัพย์",null,{"$f":"D340*F341","v":0},null,{"$f":"$D340*$F341*H341","v":0}]
[null,null,null,null,"สินค้าโภคภัณฑ์",null,{"$f":"D340*F342","v":0},null,{"$f":"$D340*$F342*H342","v":0}]
[null,null,null,null,"เงินฝาก",null,{"$f":"D340*F343","v":0},null,{"$f":"$D340*$F343*H343","v":0}]
[null,null,null,null,"ตราสารหนี้",null,{"$f":"D340*F344","v":0},null,{"$f":"$D340*$F344*H344","v":0}]
[null,null,null,null,"อื่นๆ",null,{"$f":"D340*F345","v":0},null,{"$f":"$D340*$F345*H345","v":0}]
[null,57,null,null,"ตราสารทุน",null,{"$f":"D346*F346","v":0},null,{"$f":"$D346*$F346*H346","v":0},{"$f":"SUM(I346:I351)","v":0}]
[null,null,null,null,"อสังหาริมทรัพย์",null,{"$f":"D346*F347","v":0},null,{"$f":"$D346*$F347*H347","v":0}]
[null,null,null,null,"สินค้าโภคภัณฑ์",null,{"$f":"D346*F348","v":0},null,{"$f":"$D346*$F348*H348","v":0}]
[null,null,null,null,"เงินฝาก",null,{"$f":"D346*F349","v":0},null,{"$f":"$D346*$F349*H349","v":0}]
[null,null,null,null,"ตราสารหนี้",null,{"$f":"D346*F350","v":0},null,{"$f":"$D346*$F350*H350","v":0}]
[null,null,null,null,"อื่นๆ",null,{"$f":"D346*F351","v":0},null,{"$f":"$D346*$F351*H351","v":0}]
[null,58,null,null,"ตราสารทุน",null,{"$f":"D352*F352","v":0},null,{"$f":"$D352*$F352*H352","v":0},{"$f":"SUM(I352:I357)","v":0}]
[null,null,null,null,"อสังหาริมทรัพย์",null,{"$f":"D352*F353","v":0},null,{"$f":"$D352*$F353*H353","v":0}]
[null,null,null,null,"สินค้าโภคภัณฑ์",null,{"$f":"D352*F354","v":0},null,{"$f":"$D352*$F354*H354","v":0}]
[null,null,null,null,"เงินฝาก",null,{"$f":"D352*F355","v":0},null,{"$f":"$D352*$F355*H355","v":0}]
[null,null,null,null,"ตราสารหนี้",null,{"$f":"D352*F356","v":0},null,{"$f":"$D352*$F356*H356","v":0}]
[null,null,null,null,"อื่นๆ",null,{"$f":"D352*F357","v":0},null,{"$f":"$D352*$F357*H357","v":0}]
[null,59,null,null,"ตราสารทุน",null,{"$f":"D358*F358","v":0},null,{"$f":"$D358*$F358*H358","v":0},{"$f":"SUM(I358:I363)","v":0}]
[null,null,null,null,"อสังหาริมทรัพย์",null,{"$f":"D358*F359","v":0},null,{"$f":"$D358*$F359*H359","v":0}]
[null,null,null,null,"สินค้าโภคภัณฑ์",null,{"$f":"D358*F360","v":0},null,{"$f":"$D358*$F360*H360","v":0}]
[null,null,null,null,"เงินฝาก",null,{"$f":"D358*F361","v":0},null,{"$f":"$D358*$F361*H361","v":0}]
[null,null,null,null,"ตราสารหนี้",null,{"$f":"D358*F362","v":0},null,{"$f":"$D358*$F362*H362","v":0}]
[null,null,null,null,"อื่นๆ",null,{"$f":"D358*F363","v":0},null,{"$f":"$D358*$F363*H363","v":0}]
[null,60,null,null,"ตราสารทุน",null,{"$f":"D364*F364","v":0},null,{"$f":"$D364*$F364*H364","v":0},{"$f":"SUM(I364:I369)","v":0}]
[null,null,null,null,"อสังหาริมทรัพย์",null,{"$f":"D364*F365","v":0},null,{"$f":"$D364*$F365*H365","v":0}]
[null,null,null,null,"สินค้าโภคภัณฑ์",null,{"$f":"D364*F366","v":0},null,{"$f":"$D364*$F366*H366","v":0}]
[null,null,null,null,"เงินฝาก",null,{"$f":"D364*F367","v":0},null,{"$f":"$D364*$F367*H367","v":0}]
[null,null,null,null,"ตราสารหนี้",null,{"$f":"D364*F368","v":0},null,{"$f":"$D364*$F368*H368","v":0}]
[null,null,null,null,"อื่นๆ",null,{"$f":"D364*F369","v":0},null,{"$f":"$D364*$F369*H369","v":0}]
[null,61,null,null,"ตราสารทุน",null,{"$f":"D370*F370","v":0},null,{"$f":"$D370*$F370*H370","v":0},{"$f":"SUM(I370:I375)","v":0}]
[null,null,null,null,"อสังหาริมทรัพย์",null,{"$f":"D370*F371","v":0},null,{"$f":"$D370*$F371*H371","v":0}]
[null,null,null,null,"สินค้าโภคภัณฑ์",null,{"$f":"D370*F372","v":0},null,{"$f":"$D370*$F372*H372","v":0}]
[null,null,null,null,"เงินฝาก",null,{"$f":"D370*F373","v":0},null,{"$f":"$D370*$F373*H373","v":0}]
[null,null,null,null,"ตราสารหนี้",null,{"$f":"D370*F374","v":0},null,{"$f":"$D370*$F374*H374","v":0}]
[null,null,null,null,"อื่นๆ",null,{"$f":"D370*F375","v":0},null,{"$f":"$D370*$F375*H375","v":0}]
[null,62,null,null,"ตราสารทุน",null,{"$f":"D376*F376","v":0},null,{"$f":"$D376*$F376*H376","v":0},{"$f":"SUM(I376:I381)","v":0}]
[null,null,null,null,"อสังหาริมทรัพย์",null,{"$f":"D376*F377","v":0},null,{"$f":"$D376*$F377*H377","v":0}]
[null,null,null,null,"สินค้าโภคภัณฑ์",null,{"$f":"D376*F378","v":0},null,{"$f":"$D376*$F378*H378","v":0}]
[null,null,null,null,"เงินฝาก",null,{"$f":"D376*F379","v":0},null,{"$f":"$D376*$F379*H379","v":0}]
[null,null,null,null,"ตราสารหนี้",null,{"$f":"D376*F380","v":0},null,{"$f":"$D376*$F380*H380","v":0}]
[null,null,null,null,"อื่นๆ",null,{"$f":"D376*F381","v":0},null,{"$f":"$D376*$F381*H381","v":0}]
[null,63,null,null,"ตราสารทุน",null,{"$f":"D382*F382","v":0},null,{"$f":"$D382*$F382*H382","v":0},{"$f":"SUM(I382:I387)","v":0}]
[null,null,null,null,"อสังหาริมทรัพย์",null,{"$f":"D382*F383","v":0},null,{"$f":"$D382*$F383*H383","v":0}]
[null,null,null,null,"สินค้าโภคภัณฑ์",null,{"$f":"D382*F384","v":0},null,{"$f":"$D382*$F384*H384","v":0}]
[null,null,null,null,"เงินฝาก",null,{"$f":"D382*F385","v":0},null,{"$f":"$D382*$F385*H385","v":0}]
[null,null,null,null,"ตราสารหนี้",null,{"$f":"D382*F386","v":0},null,{"$f":"$D382*$F386*H386","v":0}]
[null,null,null,null,"อื่นๆ",null,{"$f":"D382*F387","v":0},null,{"$f":"$D382*$F387*H387","v":0}]
[null,64,null,null,"ตราสารทุน",null,{"$f":"D388*F388","v":0},null,{"$f":"$D388*$F388*H388","v":0},{"$f":"SUM(I388:I393)","v":0}]
[null,null,null,null,"อสังหาริมทรัพย์",null,{"$f":"D388*F389","v":0},null,{"$f":"$D388*$F389*H389","v":0}]
[null,null,null,null,"สินค้าโภคภัณฑ์",null,{"$f":"D388*F390","v":0},null,{"$f":"$D388*$F390*H390","v":0}]
[null,null,null,null,"เงินฝาก",null,{"$f":"D388*F391","v":0},null,{"$f":"$D388*$F391*H391","v":0}]
[null,null,null,null,"ตราสารหนี้",null,{"$f":"D388*F392","v":0},null,{"$f":"$D388*$F392*H392","v":0}]
[null,null,null,null,"อื่นๆ",null,{"$f":"D388*F393","v":0},null,{"$f":"$D388*$F393*H393","v":0}]
[null,65,null,null,"ตราสารทุน",null,{"$f":"D394*F394","v":0},null,{"$f":"$D394*$F394*H394","v":0},{"$f":"SUM(I394:I399)","v":0}]
[null,null,null,null,"อสังหาริมทรัพย์",null,{"$f":"D394*F395","v":0},null,{"$f":"$D394*$F395*H395","v":0}]
[null,null,null,null,"สินค้าโภคภัณฑ์",null,{"$f":"D394*F396","v":0},null,{"$f":"$D394*$F396*H396","v":0}]
[null,null,null,null,"เงินฝาก",null,{"$f":"D394*F397","v":0},null,{"$f":"$D394*$F397*H397","v":0}]
[null,null,null,null,"ตราสารหนี้",null,{"$f":"D394*F398","v":0},null,{"$f":"$D394*$F398*H398","v":0}]
[null,null,null,null,"อื่นๆ",null,{"$f":"D394*F399","v":0},null,{"$f":"$D394*$F399*H399","v":0}]
[null,66,null,null,"ตราสารทุน",null,{"$f":"D400*F400","v":0},null,{"$f":"$D400*$F400*H400","v":0},{"$f":"SUM(I400:I405)","v":0}]
[null,null,null,null,"อสังหาริมทรัพย์",null,{"$f":"D400*F401","v":0},null,{"$f":"$D400*$F401*H401","v":0}]
[null,null,null,null,"สินค้าโภคภัณฑ์",null,{"$f":"D400*F402","v":0},null,{"$f":"$D400*$F402*H402","v":0}]
[null,null,null,null,"เงินฝาก",null,{"$f":"D400*F403","v":0},null,{"$f":"$D400*$F403*H403","v":0}]
[null,null,null,null,"ตราสารหนี้",null,{"$f":"D400*F404","v":0},null,{"$f":"$D400*$F404*H404","v":0}]
[null,null,null,null,"อื่นๆ",null,{"$f":"D400*F405","v":0},null,{"$f":"$D400*$F405*H405","v":0}]
[null,67,null,null,"ตราสารทุน",null,{"$f":"D406*F406","v":0},null,{"$f":"$D406*$F406*H406","v":0},{"$f":"SUM(I406:I411)","v":0}]
[null,null,null,null,"อสังหาริมทรัพย์",null,{"$f":"D406*F407","v":0},null,{"$f":"$D406*$F407*H407","v":0}]
[null,null,null,null,"สินค้าโภคภัณฑ์",null,{"$f":"D406*F408","v":0},null,{"$f":"$D406*$F408*H408","v":0}]
[null,null,null,null,"เงินฝาก",null,{"$f":"D406*F409","v":0},null,{"$f":"$D406*$F409*H409","v":0}]
[null,null,null,null,"ตราสารหนี้",null,{"$f":"D406*F410","v":0},null,{"$f":"$D406*$F410*H410","v":0}]
[null,null,null,null,"อื่นๆ",null,{"$f":"D406*F411","v":0},null,{"$f":"$D406*$F411*H411","v":0}]
[null,68,null,null,"ตราสารทุน",null,{"$f":"D412*F412","v":0},null,{"$f":"$D412*$F412*H412","v":0},{"$f":"SUM(I412:I417)","v":0}]
[null,null,null,null,"อสังหาริมทรัพย์",null,{"$f":"D412*F413","v":0},null,{"$f":"$D412*$F413*H413","v":0}]
[null,null,null,null,"สินค้าโภคภัณฑ์",null,{"$f":"D412*F414","v":0},null,{"$f":"$D412*$F414*H414","v":0}]
[null,null,null,null,"เงินฝาก",null,{"$f":"D412*F415","v":0},null,{"$f":"$D412*$F415*H415","v":0}]
[null,null,null,null,"ตราสารหนี้",null,{"$f":"D412*F416","v":0},null,{"$f":"$D412*$F416*H416","v":0}]
[null,null,null,null,"อื่นๆ",null,{"$f":"D412*F417","v":0},null,{"$f":"$D412*$F417*H417","v":0}]
[null,69,null,null,"ตราสารทุน",null,{"$f":"D418*F418","v":0},null,{"$f":"$D418*$F418*H418","v":0},{"$f":"SUM(I418:I423)","v":0}]
[null,null,null,null,"อสังหาริมทรัพย์",null,{"$f":"D418*F419","v":0},null,{"$f":"$D418*$F419*H419","v":0}]
[null,null,null,null,"สินค้าโภคภัณฑ์",null,{"$f":"D418*F420","v":0},null,{"$f":"$D418*$F420*H420","v":0}]
[null,null,null,null,"เงินฝาก",null,{"$f":"D418*F421","v":0},null,{"$f":"$D418*$F421*H421","v":0}]
[null,null,null,null,"ตราสารหนี้",null,{"$f":"D418*F422","v":0},null,{"$f":"$D418*$F422*H422","v":0}]
[null,null,null,null,"อื่นๆ",null,{"$f":"D418*F423","v":0},null,{"$f":"$D418*$F423*H423","v":0}]
[null,70,null,null,"ตราสารทุน",null,{"$f":"D424*F424","v":0},null,{"$f":"$D424*$F424*H424","v":0},{"$f":"SUM(I424:I429)","v":0}]
[null,null,null,null,"อสังหาริมทรัพย์",null,{"$f":"D424*F425","v":0},null,{"$f":"$D424*$F425*H425","v":0}]
[null,null,null,null,"สินค้าโภคภัณฑ์",null,{"$f":"D424*F426","v":0},null,{"$f":"$D424*$F426*H426","v":0}]
[null,null,null,null,"เงินฝาก",null,{"$f":"D424*F427","v":0},null,{"$f":"$D424*$F427*H427","v":0}]
[null,null,null,null,"ตราสารหนี้",null,{"$f":"D424*F428","v":0},null,{"$f":"$D424*$F428*H428","v":0}]
[null,null,null,null,"อื่นๆ",null,{"$f":"D424*F429","v":0},null,{"$f":"$D424*$F429*H429","v":0}]
[null,71,null,null,"ตราสารทุน",null,{"$f":"D430*F430","v":0},null,{"$f":"$D430*$F430*H430","v":0},{"$f":"SUM(I430:I435)","v":0}]
[null,null,null,null,"อสังหาริมทรัพย์",null,{"$f":"D430*F431","v":0},null,{"$f":"$D430*$F431*H431","v":0}]
[null,null,null,null,"สินค้าโภคภัณฑ์",null,{"$f":"D430*F432","v":0},null,{"$f":"$D430*$F432*H432","v":0}]
[null,null,null,null,"เงินฝาก",null,{"$f":"D430*F433","v":0},null,{"$f":"$D430*$F433*H433","v":0}]
[null,null,null,null,"ตราสารหนี้",null,{"$f":"D430*F434","v":0},null,{"$f":"$D430*$F434*H434","v":0}]
[null,null,null,null,"อื่นๆ",null,{"$f":"D430*F435","v":0},null,{"$f":"$D430*$F435*H435","v":0}]
[null,72,null,null,"ตราสารทุน",null,{"$f":"D436*F436","v":0},null,{"$f":"$D436*$F436*H436","v":0},{"$f":"SUM(I436:I441)","v":0}]
[null,null,null,null,"อสังหาริมทรัพย์",null,{"$f":"D436*F437","v":0},null,{"$f":"$D436*$F437*H437","v":0}]
[null,null,null,null,"สินค้าโภคภัณฑ์",null,{"$f":"D436*F438","v":0},null,{"$f":"$D436*$F438*H438","v":0}]
[null,null,null,null,"เงินฝาก",null,{"$f":"D436*F439","v":0},null,{"$f":"$D436*$F439*H439","v":0}]
[null,null,null,null,"ตราสารหนี้",null,{"$f":"D436*F440","v":0},null,{"$f":"$D436*$F440*H440","v":0}]
[null,null,null,null,"อื่นๆ",null,{"$f":"D436*F441","v":0},null,{"$f":"$D436*$F441*H441","v":0}]
[null,73,null,null,"ตราสารทุน",null,{"$f":"D442*F442","v":0},null,{"$f":"$D442*$F442*H442","v":0},{"$f":"SUM(I442:I447)","v":0}]
[null,null,null,null,"อสังหาริมทรัพย์",null,{"$f":"D442*F443","v":0},null,{"$f":"$D442*$F443*H443","v":0}]
[null,null,null,null,"สินค้าโภคภัณฑ์",null,{"$f":"D442*F444","v":0},null,{"$f":"$D442*$F444*H444","v":0}]
[null,null,null,null,"เงินฝาก",null,{"$f":"D442*F445","v":0},null,{"$f":"$D442*$F445*H445","v":0}]
[null,null,null,null,"ตราสารหนี้",null,{"$f":"D442*F446","v":0},null,{"$f":"$D442*$F446*H446","v":0}]
[null,null,null,null,"อื่นๆ",null,{"$f":"D442*F447","v":0},null,{"$f":"$D442*$F447*H447","v":0}]
[null,74,null,null,"ตราสารทุน",null,{"$f":"D448*F448","v":0},null,{"$f":"$D448*$F448*H448","v":0},{"$f":"SUM(I448:I453)","v":0}]
[null,null,null,null,"อสังหาริมทรัพย์",null,{"$f":"D448*F449","v":0},null,{"$f":"$D448*$F449*H449","v":0}]
[null,null,null,null,"สินค้าโภคภัณฑ์",null,{"$f":"D448*F450","v":0},null,{"$f":"$D448*$F450*H450","v":0}]
[null,null,null,null,"เงินฝาก",null,{"$f":"D448*F451","v":0},null,{"$f":"$D448*$F451*H451","v":0}]
[null,null,null,null,"ตราสารหนี้",null,{"$f":"D448*F452","v":0},null,{"$f":"$D448*$F452*H452","v":0}]
[null,null,null,null,"อื่นๆ",null,{"$f":"D448*F453","v":0},null,{"$f":"$D448*$F453*H453","v":0}]
[null,75,null,null,"ตราสารทุน",null,{"$f":"D454*F454","v":0},null,{"$f":"$D454*$F454*H454","v":0},{"$f":"SUM(I454:I459)","v":0}]
[null,null,null,null,"อสังหาริมทรัพย์",null,{"$f":"D454*F455","v":0},null,{"$f":"$D454*$F455*H455","v":0}]
[null,null,null,null,"สินค้าโภคภัณฑ์",null,{"$f":"D454*F456","v":0},null,{"$f":"$D454*$F456*H456","v":0}]
[null,null,null,null,"เงินฝาก",null,{"$f":"D454*F457","v":0},null,{"$f":"$D454*$F457*H457","v":0}]
[null,null,null,null,"ตราสารหนี้",null,{"$f":"D454*F458","v":0},null,{"$f":"$D454*$F458*H458","v":0}]
[null,null,null,null,"อื่นๆ",null,{"$f":"D454*F459","v":0},null,{"$f":"$D454*$F459*H459","v":0}]
[null,76,null,null,"ตราสารทุน",null,{"$f":"D460*F460","v":0},null,{"$f":"$D460*$F460*H460","v":0},{"$f":"SUM(I460:I465)","v":0}]
[null,null,null,null,"อสังหาริมทรัพย์",null,{"$f":"D460*F461","v":0},null,{"$f":"$D460*$F461*H461","v":0}]
[null,null,null,null,"สินค้าโภคภัณฑ์",null,{"$f":"D460*F462","v":0},null,{"$f":"$D460*$F462*H462","v":0}]
[null,null,null,null,"เงินฝาก",null,{"$f":"D460*F463","v":0},null,{"$f":"$D460*$F463*H463","v":0}]
[null,null,null,null,"ตราสารหนี้",null,{"$f":"D460*F464","v":0},null,{"$f":"$D460*$F464*H464","v":0}]
[null,null,null,null,"อื่นๆ",null,{"$f":"D460*F465","v":0},null,{"$f":"$D460*$F465*H465","v":0}]
[null,77,null,null,"ตราสารทุน",null,{"$f":"D466*F466","v":0},null,{"$f":"$D466*$F466*H466","v":0},{"$f":"SUM(I466:I471)","v":0}]
[null,null,null,null,"อสังหาริมทรัพย์",null,{"$f":"D466*F467","v":0},null,{"$f":"$D466*$F467*H467","v":0}]
[null,null,null,null,"สินค้าโภคภัณฑ์",null,{"$f":"D466*F468","v":0},null,{"$f":"$D466*$F468*H468","v":0}]
[null,null,null,null,"เงินฝาก",null,{"$f":"D466*F469","v":0},null,{"$f":"$D466*$F469*H469","v":0}]
[null,null,null,null,"ตราสารหนี้",null,{"$f":"D466*F470","v":0},null,{"$f":"$D466*$F470*H470","v":0}]
[null,null,null,null,"อื่นๆ",null,{"$f":"D466*F471","v":0},null,{"$f":"$D466*$F471*H471","v":0}]
[null,78,null,null,"ตราสารทุน",null,{"$f":"D472*F472","v":0},null,{"$f":"$D472*$F472*H472","v":0},{"$f":"SUM(I472:I477)","v":0}]
[null,null,null,null,"อสังหาริมทรัพย์",null,{"$f":"D472*F473","v":0},null,{"$f":"$D472*$F473*H473","v":0}]
[null,null,null,null,"สินค้าโภคภัณฑ์",null,{"$f":"D472*F474","v":0},null,{"$f":"$D472*$F474*H474","v":0}]
[null,null,null,null,"เงินฝาก",null,{"$f":"D472*F475","v":0},null,{"$f":"$D472*$F475*H475","v":0}]
[null,null,null,null,"ตราสารหนี้",null,{"$f":"D472*F476","v":0},null,{"$f":"$D472*$F476*H476","v":0}]
[null,null,null,null,"อื่นๆ",null,{"$f":"D472*F477","v":0},null,{"$f":"$D472*$F477*H477","v":0}]
[null,79,null,null,"ตราสารทุน",null,{"$f":"D478*F478","v":0},null,{"$f":"$D478*$F478*H478","v":0},{"$f":"SUM(I478:I483)","v":0}]
[null,null,null,null,"อสังหาริมทรัพย์",null,{"$f":"D478*F479","v":0},null,{"$f":"$D478*$F479*H479","v":0}]
[null,null,null,null,"สินค้าโภคภัณฑ์",null,{"$f":"D478*F480","v":0},null,{"$f":"$D478*$F480*H480","v":0}]
[null,null,null,null,"เงินฝาก",null,{"$f":"D478*F481","v":0},null,{"$f":"$D478*$F481*H481","v":0}]
[null,null,null,null,"ตราสารหนี้",null,{"$f":"D478*F482","v":0},null,{"$f":"$D478*$F482*H482","v":0}]
[null,null,null,null,"อื่นๆ",null,{"$f":"D478*F483","v":0},null,{"$f":"$D478*$F483*H483","v":0}]
[null,80,null,null,"ตราสารทุน",null,{"$f":"D484*F484","v":0},null,{"$f":"$D484*$F484*H484","v":0},{"$f":"SUM(I484:I489)","v":0}]
[null,null,null,null,"อสังหาริมทรัพย์",null,{"$f":"D484*F485","v":0},null,{"$f":"$D484*$F485*H485","v":0}]
[null,null,null,null,"สินค้าโภคภัณฑ์",null,{"$f":"D484*F486","v":0},null,{"$f":"$D484*$F486*H486","v":0}]
[null,null,null,null,"เงินฝาก",null,{"$f":"D484*F487","v":0},null,{"$f":"$D484*$F487*H487","v":0}]
[null,null,null,null,"ตราสารหนี้",null,{"$f":"D484*F488","v":0},null,{"$f":"$D484*$F488*H488","v":0}]
[null,null,null,null,"อื่นๆ",null,{"$f":"D484*F489","v":0},null,{"$f":"$D484*$F489*H489","v":0}]
[null,81,null,null,"ตราสารทุน",null,{"$f":"D490*F490","v":0},null,{"$f":"$D490*$F490*H490","v":0},{"$f":"SUM(I490:I495)","v":0}]
[null,null,null,null,"อสังหาริมทรัพย์",null,{"$f":"D490*F491","v":0},null,{"$f":"$D490*$F491*H491","v":0}]
[null,null,null,null,"สินค้าโภคภัณฑ์",null,{"$f":"D490*F492","v":0},null,{"$f":"$D490*$F492*H492","v":0}]
[null,null,null,null,"เงินฝาก",null,{"$f":"D490*F493","v":0},null,{"$f":"$D490*$F493*H493","v":0}]
[null,null,null,null,"ตราสารหนี้",null,{"$f":"D490*F494","v":0},null,{"$f":"$D490*$F494*H494","v":0}]
[null,null,null,null,"อื่นๆ",null,{"$f":"D490*F495","v":0},null,{"$f":"$D490*$F495*H495","v":0}]
[null,82,null,null,"ตราสารทุน",null,{"$f":"D496*F496","v":0},null,{"$f":"$D496*$F496*H496","v":0},{"$f":"SUM(I496:I501)","v":0}]
[null,null,null,null,"อสังหาริมทรัพย์",null,{"$f":"D496*F497","v":0},null,{"$f":"$D496*$F497*H497","v":0}]
[null,null,null,null,"สินค้าโภคภัณฑ์",null,{"$f":"D496*F498","v":0},null,{"$f":"$D496*$F498*H498","v":0}]
[null,null,null,null,"เงินฝาก",null,{"$f":"D496*F499","v":0},null,{"$f":"$D496*$F499*H499","v":0}]
[null,null,null,null,"ตราสารหนี้",null,{"$f":"D496*F500","v":0},null,{"$f":"$D496*$F500*H500","v":0}]
[null,null,null,null,"อื่นๆ",null,{"$f":"D496*F501","v":0},null,{"$f":"$D496*$F501*H501","v":0}]
[null,83,null,null,"ตราสารทุน",null,{"$f":"D502*F502","v":0},null,{"$f":"$D502*$F502*H502","v":0},{"$f":"SUM(I502:I507)","v":0}]
[null,null,null,null,"อสังหาริมทรัพย์",null,{"$f":"D502*F503","v":0},null,{"$f":"$D502*$F503*H503","v":0}]
[null,null,null,null,"สินค้าโภคภัณฑ์",null,{"$f":"D502*F504","v":0},null,{"$f":"$D502*$F504*H504","v":0}]
[null,null,null,null,"เงินฝาก",null,{"$f":"D502*F505","v":0},null,{"$f":"$D502*$F505*H505","v":0}]
[null,null,null,null,"ตราสารหนี้",null,{"$f":"D502*F506","v":0},null,{"$f":"$D502*$F506*H506","v":0}]
[null,null,null,null,"อื่นๆ",null,{"$f":"D502*F507","v":0},null,{"$f":"$D502*$F507*H507","v":0}]
[null,84,null,null,"ตราสารทุน",null,{"$f":"D508*F508","v":0},null,{"$f":"$D508*$F508*H508","v":0},{"$f":"SUM(I508:I513)","v":0}]
[null,null,null,null,"อสังหาริมทรัพย์",null,{"$f":"D508*F509","v":0},null,{"$f":"$D508*$F509*H509","v":0}]
[null,null,null,null,"สินค้าโภคภัณฑ์",null,{"$f":"D508*F510","v":0},null,{"$f":"$D508*$F510*H510","v":0}]
[null,null,null,null,"เงินฝาก",null,{"$f":"D508*F511","v":0},null,{"$f":"$D508*$F511*H511","v":0}]
[null,null,null,null,"ตราสารหนี้",null,{"$f":"D508*F512","v":0},null,{"$f":"$D508*$F512*H512","v":0}]
[null,null,null,null,"อื่นๆ",null,{"$f":"D508*F513","v":0},null,{"$f":"$D508*$F513*H513","v":0}]
[null,85,null,null,"ตราสารทุน",null,{"$f":"D514*F514","v":0},null,{"$f":"$D514*$F514*H514","v":0},{"$f":"SUM(I514:I519)","v":0}]
[null,null,null,null,"อสังหาริมทรัพย์",null,{"$f":"D514*F515","v":0},null,{"$f":"$D514*$F515*H515","v":0}]
[null,null,null,null,"สินค้าโภคภัณฑ์",null,{"$f":"D514*F516","v":0},null,{"$f":"$D514*$F516*H516","v":0}]
[null,null,null,null,"เงินฝาก",null,{"$f":"D514*F517","v":0},null,{"$f":"$D514*$F517*H517","v":0}]
[null,null,null,null,"ตราสารหนี้",null,{"$f":"D514*F518","v":0},null,{"$f":"$D514*$F518*H518","v":0}]
[null,null,null,null,"อื่นๆ",null,{"$f":"D514*F519","v":0},null,{"$f":"$D514*$F519*H519","v":0}]
[null,86,null,null,"ตราสารทุน",null,{"$f":"D520*F520","v":0},null,{"$f":"$D520*$F520*H520","v":0},{"$f":"SUM(I520:I525)","v":0}]
[null,null,null,null,"อสังหาริมทรัพย์",null,{"$f":"D520*F521","v":0},null,{"$f":"$D520*$F521*H521","v":0}]
[null,null,null,null,"สินค้าโภคภัณฑ์",null,{"$f":"D520*F522","v":0},null,{"$f":"$D520*$F522*H522","v":0}]
[null,null,null,null,"เงินฝาก",null,{"$f":"D520*F523","v":0},null,{"$f":"$D520*$F523*H523","v":0}]
[null,null,null,null,"ตราสารหนี้",null,{"$f":"D520*F524","v":0},null,{"$f":"$D520*$F524*H524","v":0}]
[null,null,null,null,"อื่นๆ",null,{"$f":"D520*F525","v":0},null,{"$f":"$D520*$F525*H525","v":0}]
[null,87,null,null,"ตราสารทุน",null,{"$f":"D526*F526","v":0},null,{"$f":"$D526*$F526*H526","v":0},{"$f":"SUM(I526:I531)","v":0}]
[null,null,null,null,"อสังหาริมทรัพย์",null,{"$f":"D526*F527","v":0},null,{"$f":"$D526*$F527*H527","v":0}]
[null,null,null,null,"สินค้าโภคภัณฑ์",null,{"$f":"D526*F528","v":0},null,{"$f":"$D526*$F528*H528","v":0}]
[null,null,null,null,"เงินฝาก",null,{"$f":"D526*F529","v":0},null,{"$f":"$D526*$F529*H529","v":0}]
[null,null,null,null,"ตราสารหนี้",null,{"$f":"D526*F530","v":0},null,{"$f":"$D526*$F530*H530","v":0}]
[null,null,null,null,"อื่นๆ",null,{"$f":"D526*F531","v":0},null,{"$f":"$D526*$F531*H531","v":0}]
[null,88,null,null,"ตราสารทุน",null,{"$f":"D532*F532","v":0},null,{"$f":"$D532*$F532*H532","v":0},{"$f":"SUM(I532:I537)","v":0}]
[null,null,null,null,"อสังหาริมทรัพย์",null,{"$f":"D532*F533","v":0},null,{"$f":"$D532*$F533*H533","v":0}]
[null,null,null,null,"สินค้าโภคภัณฑ์",null,{"$f":"D532*F534","v":0},null,{"$f":"$D532*$F534*H534","v":0}]
[null,null,null,null,"เงินฝาก",null,{"$f":"D532*F535","v":0},null,{"$f":"$D532*$F535*H535","v":0}]
[null,null,null,null,"ตราสารหนี้",null,{"$f":"D532*F536","v":0},null,{"$f":"$D532*$F536*H536","v":0}]
[null,null,null,null,"อื่นๆ",null,{"$f":"D532*F537","v":0},null,{"$f":"$D532*$F537*H537","v":0}]
[null,89,null,null,"ตราสารทุน",null,{"$f":"D538*F538","v":0},null,{"$f":"$D538*$F538*H538","v":0},{"$f":"SUM(I538:I543)","v":0}]
[null,null,null,null,"อสังหาริมทรัพย์",null,{"$f":"D538*F539","v":0},null,{"$f":"$D538*$F539*H539","v":0}]
[null,null,null,null,"สินค้าโภคภัณฑ์",null,{"$f":"D538*F540","v":0},null,{"$f":"$D538*$F540*H540","v":0}]
[null,null,null,null,"เงินฝาก",null,{"$f":"D538*F541","v":0},null,{"$f":"$D538*$F541*H541","v":0}]
[null,null,null,null,"ตราสารหนี้",null,{"$f":"D538*F542","v":0},null,{"$f":"$D538*$F542*H542","v":0}]
[null,null,null,null,"อื่นๆ",null,{"$f":"D538*F543","v":0},null,{"$f":"$D538*$F543*H543","v":0}]
[null,90,null,null,"ตราสารทุน",null,{"$f":"D544*F544","v":0},null,{"$f":"$D544*$F544*H544","v":0},{"$f":"SUM(I544:I549)","v":0}]
[null,null,null,null,"อสังหาริมทรัพย์",null,{"$f":"D544*F545","v":0},null,{"$f":"$D544*$F545*H545","v":0}]
[null,null,null,null,"สินค้าโภคภัณฑ์",null,{"$f":"D544*F546","v":0},null,{"$f":"$D544*$F546*H546","v":0}]
[null,null,null,null,"เงินฝาก",null,{"$f":"D544*F547","v":0},null,{"$f":"$D544*$F547*H547","v":0}]
[null,null,null,null,"ตราสารหนี้",null,{"$f":"D544*F548","v":0},null,{"$f":"$D544*$F548*H548","v":0}]
[null,null,null,null,"อื่นๆ",null,{"$f":"D544*F549","v":0},null,{"$f":"$D544*$F549*H549","v":0}]
[null,91,null,null,"ตราสารทุน",null,{"$f":"D550*F550","v":0},null,{"$f":"$D550*$F550*H550","v":0},{"$f":"SUM(I550:I555)","v":0}]
[null,null,null,null,"อสังหาริมทรัพย์",null,{"$f":"D550*F551","v":0},null,{"$f":"$D550*$F551*H551","v":0}]
[null,null,null,null,"สินค้าโภคภัณฑ์",null,{"$f":"D550*F552","v":0},null,{"$f":"$D550*$F552*H552","v":0}]
[null,null,null,null,"เงินฝาก",null,{"$f":"D550*F553","v":0},null,{"$f":"$D550*$F553*H553","v":0}]
[null,null,null,null,"ตราสารหนี้",null,{"$f":"D550*F554","v":0},null,{"$f":"$D550*$F554*H554","v":0}]
[null,null,null,null,"อื่นๆ",null,{"$f":"D550*F555","v":0},null,{"$f":"$D550*$F555*H555","v":0}]
[null,92,null,null,"ตราสารทุน",null,{"$f":"D556*F556","v":0},null,{"$f":"$D556*$F556*H556","v":0},{"$f":"SUM(I556:I561)","v":0}]
[null,null,null,null,"อสังหาริมทรัพย์",null,{"$f":"D556*F557","v":0},null,{"$f":"$D556*$F557*H557","v":0}]
[null,null,null,null,"สินค้าโภคภัณฑ์",null,{"$f":"D556*F558","v":0},null,{"$f":"$D556*$F558*H558","v":0}]
[null,null,null,null,"เงินฝาก",null,{"$f":"D556*F559","v":0},null,{"$f":"$D556*$F559*H559","v":0}]
[null,null,null,null,"ตราสารหนี้",null,{"$f":"D556*F560","v":0},null,{"$f":"$D556*$F560*H560","v":0}]
[null,null,null,null,"อื่นๆ",null,{"$f":"D556*F561","v":0},null,{"$f":"$D556*$F561*H561","v":0}]
[null,93,null,null,"ตราสารทุน",null,{"$f":"D562*F562","v":0},null,{"$f":"$D562*$F562*H562","v":0},{"$f":"SUM(I562:I567)","v":0}]
[null,null,null,null,"อสังหาริมทรัพย์",null,{"$f":"D562*F563","v":0},null,{"$f":"$D562*$F563*H563","v":0}]
[null,null,null,null,"สินค้าโภคภัณฑ์",null,{"$f":"D562*F564","v":0},null,{"$f":"$D562*$F564*H564","v":0}]
[null,null,null,null,"เงินฝาก",null,{"$f":"D562*F565","v":0},null,{"$f":"$D562*$F565*H565","v":0}]
[null,null,null,null,"ตราสารหนี้",null,{"$f":"D562*F566","v":0},null,{"$f":"$D562*$F566*H566","v":0}]
[null,null,null,null,"อื่นๆ",null,{"$f":"D562*F567","v":0},null,{"$f":"$D562*$F567*H567","v":0}]
[null,94,null,null,"ตราสารทุน",null,{"$f":"D568*F568","v":0},null,{"$f":"$D568*$F568*H568","v":0},{"$f":"SUM(I568:I573)","v":0}]
[null,null,null,null,"อสังหาริมทรัพย์",null,{"$f":"D568*F569","v":0},null,{"$f":"$D568*$F569*H569","v":0}]
[null,null,null,null,"สินค้าโภคภัณฑ์",null,{"$f":"D568*F570","v":0},null,{"$f":"$D568*$F570*H570","v":0}]
[null,null,null,null,"เงินฝาก",null,{"$f":"D568*F571","v":0},null,{"$f":"$D568*$F571*H571","v":0}]
[null,null,null,null,"ตราสารหนี้",null,{"$f":"D568*F572","v":0},null,{"$f":"$D568*$F572*H572","v":0}]
[null,null,null,null,"อื่นๆ",null,{"$f":"D568*F573","v":0},null,{"$f":"$D568*$F573*H573","v":0}]
[null,95,null,null,"ตราสารทุน",null,{"$f":"D574*F574","v":0},null,{"$f":"$D574*$F574*H574","v":0},{"$f":"SUM(I574:I579)","v":0}]
[null,null,null,null,"อสังหาริมทรัพย์",null,{"$f":"D574*F575","v":0},null,{"$f":"$D574*$F575*H575","v":0}]
[null,null,null,null,"สินค้าโภคภัณฑ์",null,{"$f":"D574*F576","v":0},null,{"$f":"$D574*$F576*H576","v":0}]
[null,null,null,null,"เงินฝาก",null,{"$f":"D574*F577","v":0},null,{"$f":"$D574*$F577*H577","v":0}]
[null,null,null,null,"ตราสารหนี้",null,{"$f":"D574*F578","v":0},null,{"$f":"$D574*$F578*H578","v":0}]
[null,null,null,null,"อื่นๆ",null,{"$f":"D574*F579","v":0},null,{"$f":"$D574*$F579*H579","v":0}]
[null,96,null,null,"ตราสารทุน",null,{"$f":"D580*F580","v":0},null,{"$f":"$D580*$F580*H580","v":0},{"$f":"SUM(I580:I585)","v":0}]
[null,null,null,null,"อสังหาริมทรัพย์",null,{"$f":"D580*F581","v":0},null,{"$f":"$D580*$F581*H581","v":0}]
[null,null,null,null,"สินค้าโภคภัณฑ์",null,{"$f":"D580*F582","v":0},null,{"$f":"$D580*$F582*H582","v":0}]
[null,null,null,null,"เงินฝาก",null,{"$f":"D580*F583","v":0},null,{"$f":"$D580*$F583*H583","v":0}]
[null,null,null,null,"ตราสารหนี้",null,{"$f":"D580*F584","v":0},null,{"$f":"$D580*$F584*H584","v":0}]
[null,null,null,null,"อื่นๆ",null,{"$f":"D580*F585","v":0},null,{"$f":"$D580*$F585*H585","v":0}]
[null,97,null,null,"ตราสารทุน",null,{"$f":"D586*F586","v":0},null,{"$f":"$D586*$F586*H586","v":0},{"$f":"SUM(I586:I591)","v":0}]
[null,null,null,null,"อสังหาริมทรัพย์",null,{"$f":"D586*F587","v":0},null,{"$f":"$D586*$F587*H587","v":0}]
[null,null,null,null,"สินค้าโภคภัณฑ์",null,{"$f":"D586*F588","v":0},null,{"$f":"$D586*$F588*H588","v":0}]
[null,null,null,null,"เงินฝาก",null,{"$f":"D586*F589","v":0},null,{"$f":"$D586*$F589*H589","v":0}]
[null,null,null,null,"ตราสารหนี้",null,{"$f":"D586*F590","v":0},null,{"$f":"$D586*$F590*H590","v":0}]
[null,null,null,null,"อื่นๆ",null,{"$f":"D586*F591","v":0},null,{"$f":"$D586*$F591*H591","v":0}]
[null,98,null,null,"ตราสารทุน",null,{"$f":"D592*F592","v":0},null,{"$f":"$D592*$F592*H592","v":0},{"$f":"SUM(I592:I597)","v":0}]
[null,null,null,null,"อสังหาริมทรัพย์",null,{"$f":"D592*F593","v":0},null,{"$f":"$D592*$F593*H593","v":0}]
[null,null,null,null,"สินค้าโภคภัณฑ์",null,{"$f":"D592*F594","v":0},null,{"$f":"$D592*$F594*H594","v":0}]
[null,null,null,null,"เงินฝาก",null,{"$f":"D592*F595","v":0},null,{"$f":"$D592*$F595*H595","v":0}]
[null,null,null,null,"ตราสารหนี้",null,{"$f":"D592*F596","v":0},null,{"$f":"$D592*$F596*H596","v":0}]
[null,null,null,null,"อื่นๆ",null,{"$f":"D592*F597","v":0},null,{"$f":"$D592*$F597*H597","v":0}]
[null,99,null,null,"ตราสารทุน",null,{"$f":"D598*F598","v":0},null,{"$f":"$D598*$F598*H598","v":0},{"$f":"SUM(I598:I603)","v":0}]
[null,null,null,null,"อสังหาริมทรัพย์",null,{"$f":"D598*F599","v":0},null,{"$f":"$D598*$F599*H599","v":0}]
[null,null,null,null,"สินค้าโภคภัณฑ์",null,{"$f":"D598*F600","v":0},null,{"$f":"$D598*$F600*H600","v":0}]
[null,null,null,null,"เงินฝาก",null,{"$f":"D598*F601","v":0},null,{"$f":"$D598*$F601*H601","v":0}]
[null,null,null,null,"ตราสารหนี้",null,{"$f":"D598*F602","v":0},null,{"$f":"$D598*$F602*H602","v":0}]
[null,null,null,null,"อื่นๆ",null,{"$f":"D598*F603","v":0},null,{"$f":"$D598*$F603*H603","v":0}]
[null,100,null,null,"ตราสารทุน",null,{"$f":"D604*F604","v":0},null,{"$f":"$D604*$F604*H604","v":0},{"$f":"SUM(I604:I609)","v":0}]
[null,null,null,null,"อสังหาริมทรัพย์",null,{"$f":"D604*F605","v":0},null,{"$f":"$D604*$F605*H605","v":0}]
[null,null,null,null,"สินค้าโภคภัณฑ์",null,{"$f":"D604*F606","v":0},null,{"$f":"$D604*$F606*H606","v":0}]
[null,null,null,null,"เงินฝาก",null,{"$f":"D604*F607","v":0},null,{"$f":"$D604*$F607*H607","v":0}]
[null,null,null,null,"ตราสารหนี้",null,{"$f":"D604*F608","v":0},null,{"$f":"$D604*$F608*H608","v":0}]
[null,null,null,null,"อื่นๆ",null,{"$f":"D604*F609","v":0},null,{"$f":"$D604*$F609*H609","v":0}]
[null,101,null,null,"ตราสารทุน",null,{"$f":"D610*F610","v":0},null,{"$f":"$D610*$F610*H610","v":0},{"$f":"SUM(I610:I615)","v":0}]
[null,null,null,null,"อสังหาริมทรัพย์",null,{"$f":"D610*F611","v":0},null,{"$f":"$D610*$F611*H611","v":0}]
[null,null,null,null,"สินค้าโภคภัณฑ์",null,{"$f":"D610*F612","v":0},null,{"$f":"$D610*$F612*H612","v":0}]
[null,null,null,null,"เงินฝาก",null,{"$f":"D610*F613","v":0},null,{"$f":"$D610*$F613*H613","v":0}]
[null,null,null,null,"ตราสารหนี้",null,{"$f":"D610*F614","v":0},null,{"$f":"$D610*$F614*H614","v":0}]
[null,null,null,null,"อื่นๆ",null,{"$f":"D610*F615","v":0},null,{"$f":"$D610*$F615*H615","v":0}]
[null,102,null,null,"ตราสารทุน",null,{"$f":"D616*F616","v":0},null,{"$f":"$D616*$F616*H616","v":0},{"$f":"SUM(I616:I621)","v":0}]
[null,null,null,null,"อสังหาริมทรัพย์",null,{"$f":"D616*F617","v":0},null,{"$f":"$D616*$F617*H617","v":0}]
[null,null,null,null,"สินค้าโภคภัณฑ์",null,{"$f":"D616*F618","v":0},null,{"$f":"$D616*$F618*H618","v":0}]
[null,null,null,null,"เงินฝาก",null,{"$f":"D616*F619","v":0},null,{"$f":"$D616*$F619*H619","v":0}]
[null,null,null,null,"ตราสารหนี้",null,{"$f":"D616*F620","v":0},null,{"$f":"$D616*$F620*H620","v":0}]
[null,null,null,null,"อื่นๆ",null,{"$f":"D616*F621","v":0},null,{"$f":"$D616*$F621*H621","v":0}]
[null,103,null,null,"ตราสารทุน",null,{"$f":"D622*F622","v":0},null,{"$f":"$D622*$F622*H622","v":0},{"$f":"SUM(I622:I627)","v":0}]
[null,null,null,null,"อสังหาริมทรัพย์",null,{"$f":"D622*F623","v":0},null,{"$f":"$D622*$F623*H623","v":0}]
[null,null,null,null,"สินค้าโภคภัณฑ์",null,{"$f":"D622*F624","v":0},null,{"$f":"$D622*$F624*H624","v":0}]
[null,null,null,null,"เงินฝาก",null,{"$f":"D622*F625","v":0},null,{"$f":"$D622*$F625*H625","v":0}]
[null,null,null,null,"ตราสารหนี้",null,{"$f":"D622*F626","v":0},null,{"$f":"$D622*$F626*H626","v":0}]
[null,null,null,null,"อื่นๆ",null,{"$f":"D622*F627","v":0},null,{"$f":"$D622*$F627*H627","v":0}]
[null,104,null,null,"ตราสารทุน",null,{"$f":"D628*F628","v":0},null,{"$f":"$D628*$F628*H628","v":0},{"$f":"SUM(I628:I633)","v":0}]
[null,null,null,null,"อสังหาริมทรัพย์",null,{"$f":"D628*F629","v":0},null,{"$f":"$D628*$F629*H629","v":0}]
[null,null,null,null,"สินค้าโภคภัณฑ์",null,{"$f":"D628*F630","v":0},null,{"$f":"$D628*$F630*H630","v":0}]
[null,null,null,null,"เงินฝาก",null,{"$f":"D628*F631","v":0},null,{"$f":"$D628*$F631*H631","v":0}]
[null,null,null,null,"ตราสารหนี้",null,{"$f":"D628*F632","v":0},null,{"$f":"$D628*$F632*H632","v":0}]
[null,null,null,null,"อื่นๆ",null,{"$f":"D628*F633","v":0},null,{"$f":"$D628*$F633*H633","v":0}]
[null,105,null,null,"ตราสารทุน",null,{"$f":"D634*F634","v":0},null,{"$f":"$D634*$F634*H634","v":0},{"$f":"SUM(I634:I639)","v":0}]
[null,null,null,null,"อสังหาริมทรัพย์",null,{"$f":"D634*F635","v":0},null,{"$f":"$D634*$F635*H635","v":0}]
[null,null,null,null,"สินค้าโภคภัณฑ์",null,{"$f":"D634*F636","v":0},null,{"$f":"$D634*$F636*H636","v":0}]
[null,null,null,null,"เงินฝาก",null,{"$f":"D634*F637","v":0},null,{"$f":"$D634*$F637*H637","v":0}]
[null,null,null,null,"ตราสารหนี้",null,{"$f":"D634*F638","v":0},null,{"$f":"$D634*$F638*H638","v":0}]
[null,null,null,null,"อื่นๆ",null,{"$f":"D634*F639","v":0},null,{"$f":"$D634*$F639*H639","v":0}]
[null,106,null,null,"ตราสารทุน",null,{"$f":"D640*F640","v":0},null,{"$f":"$D640*$F640*H640","v":0},{"$f":"SUM(I640:I645)","v":0}]
[null,null,null,null,"อสังหาริมทรัพย์",null,{"$f":"D640*F641","v":0},null,{"$f":"$D640*$F641*H641","v":0}]
[null,null,null,null,"สินค้าโภคภัณฑ์",null,{"$f":"D640*F642","v":0},null,{"$f":"$D640*$F642*H642","v":0}]
[null,null,null,null,"เงินฝาก",null,{"$f":"D640*F643","v":0},null,{"$f":"$D640*$F643*H643","v":0}]
[null,null,null,null,"ตราสารหนี้",null,{"$f":"D640*F644","v":0},null,{"$f":"$D640*$F644*H644","v":0}]
[null,null,null,null,"อื่นๆ",null,{"$f":"D640*F645","v":0},null,{"$f":"$D640*$F645*H645","v":0}]
[null,107,null,null,"ตราสารทุน",null,{"$f":"D646*F646","v":0},null,{"$f":"$D646*$F646*H646","v":0},{"$f":"SUM(I646:I651)","v":0}]
[null,null,null,null,"อสังหาริมทรัพย์",null,{"$f":"D646*F647","v":0},null,{"$f":"$D646*$F647*H647","v":0}]
[null,null,null,null,"สินค้าโภคภัณฑ์",null,{"$f":"D646*F648","v":0},null,{"$f":"$D646*$F648*H648","v":0}]
[null,null,null,null,"เงินฝาก",null,{"$f":"D646*F649","v":0},null,{"$f":"$D646*$F649*H649","v":0}]
[null,null,null,null,"ตราสารหนี้",null,{"$f":"D646*F650","v":0},null,{"$f":"$D646*$F650*H650","v":0}]
[null,null,null,null,"อื่นๆ",null,{"$f":"D646*F651","v":0},null,{"$f":"$D646*$F651*H651","v":0}]
[null,108,null,null,"ตราสารทุน",null,{"$f":"D652*F652","v":0},null,{"$f":"$D652*$F652*H652","v":0},{"$f":"SUM(I652:I657)","v":0}]
[null,null,null,null,"อสังหาริมทรัพย์",null,{"$f":"D652*F653","v":0},null,{"$f":"$D652*$F653*H653","v":0}]
[null,null,null,null,"สินค้าโภคภัณฑ์",null,{"$f":"D652*F654","v":0},null,{"$f":"$D652*$F654*H654","v":0}]
[null,null,null,null,"เงินฝาก",null,{"$f":"D652*F655","v":0},null,{"$f":"$D652*$F655*H655","v":0}]
[null,null,null,null,"ตราสารหนี้",null,{"$f":"D652*F656","v":0},null,{"$f":"$D652*$F656*H656","v":0}]
[null,null,null,null,"อื่นๆ",null,{"$f":"D652*F657","v":0},null,{"$f":"$D652*$F657*H657","v":0}]
[null,109,null,null,"ตราสารทุน",null,{"$f":"D658*F658","v":0},null,{"$f":"$D658*$F658*H658","v":0},{"$f":"SUM(I658:I663)","v":0}]
[null,null,null,null,"อสังหาริมทรัพย์",null,{"$f":"D658*F659","v":0},null,{"$f":"$D658*$F659*H659","v":0}]
[null,null,null,null,"สินค้าโภคภัณฑ์",null,{"$f":"D658*F660","v":0},null,{"$f":"$D658*$F660*H660","v":0}]
[null,null,null,null,"เงินฝาก",null,{"$f":"D658*F661","v":0},null,{"$f":"$D658*$F661*H661","v":0}]
[null,null,null,null,"ตราสารหนี้",null,{"$f":"D658*F662","v":0},null,{"$f":"$D658*$F662*H662","v":0}]
[null,null,null,null,"อื่นๆ",null,{"$f":"D658*F663","v":0},null,{"$f":"$D658*$F663*H663","v":0}]
[null,110,null,null,"ตราสารทุน",null,{"$f":"D664*F664","v":0},null,{"$f":"$D664*$F664*H664","v":0},{"$f":"SUM(I664:I669)","v":0}]
[null,null,null,null,"อสังหาริมทรัพย์",null,{"$f":"D664*F665","v":0},null,{"$f":"$D664*$F665*H665","v":0}]
[null,null,null,null,"สินค้าโภคภัณฑ์",null,{"$f":"D664*F666","v":0},null,{"$f":"$D664*$F666*H666","v":0}]
[null,null,null,null,"เงินฝาก",null,{"$f":"D664*F667","v":0},null,{"$f":"$D664*$F667*H667","v":0}]
[null,null,null,null,"ตราสารหนี้",null,{"$f":"D664*F668","v":0},null,{"$f":"$D664*$F668*H668","v":0}]
[null,null,null,null,"อื่นๆ",null,{"$f":"D664*F669","v":0},null,{"$f":"$D664*$F669*H669","v":0}]
[null,111,null,null,"ตราสารทุน",null,{"$f":"D670*F670","v":0},null,{"$f":"$D670*$F670*H670","v":0},{"$f":"SUM(I670:I675)","v":0}]
[null,null,null,null,"อสังหาริมทรัพย์",null,{"$f":"D670*F671","v":0},null,{"$f":"$D670*$F671*H671","v":0}]
[null,null,null,null,"สินค้าโภคภัณฑ์",null,{"$f":"D670*F672","v":0},null,{"$f":"$D670*$F672*H672","v":0}]
[null,null,null,null,"เงินฝาก",null,{"$f":"D670*F673","v":0},null,{"$f":"$D670*$F673*H673","v":0}]
[null,null,null,null,"ตราสารหนี้",null,{"$f":"D670*F674","v":0},null,{"$f":"$D670*$F674*H674","v":0}]
[null,null,null,null,"อื่นๆ",null,{"$f":"D670*F675","v":0},null,{"$f":"$D670*$F675*H675","v":0}]
[null,112,null,null,"ตราสารทุน",null,{"$f":"D676*F676","v":0},null,{"$f":"$D676*$F676*H676","v":0},{"$f":"SUM(I676:I681)","v":0}]
[null,null,null,null,"อสังหาริมทรัพย์",null,{"$f":"D676*F677","v":0},null,{"$f":"$D676*$F677*H677","v":0}]
[null,null,null,null,"สินค้าโภคภัณฑ์",null,{"$f":"D676*F678","v":0},null,{"$f":"$D676*$F678*H678","v":0}]
[null,null,null,null,"เงินฝาก",null,{"$f":"D676*F679","v":0},null,{"$f":"$D676*$F679*H679","v":0}]
[null,null,null,null,"ตราสารหนี้",null,{"$f":"D676*F680","v":0},null,{"$f":"$D676*$F680*H680","v":0}]
[null,null,null,null,"อื่นๆ",null,{"$f":"D676*F681","v":0},null,{"$f":"$D676*$F681*H681","v":0}]
[null,113,null,null,"ตราสารทุน",null,{"$f":"D682*F682","v":0},null,{"$f":"$D682*$F682*H682","v":0},{"$f":"SUM(I682:I687)","v":0}]
[null,null,null,null,"อสังหาริมทรัพย์",null,{"$f":"D682*F683","v":0},null,{"$f":"$D682*$F683*H683","v":0}]
[null,null,null,null,"สินค้าโภคภัณฑ์",null,{"$f":"D682*F684","v":0},null,{"$f":"$D682*$F684*H684","v":0}]
[null,null,null,null,"เงินฝาก",null,{"$f":"D682*F685","v":0},null,{"$f":"$D682*$F685*H685","v":0}]
[null,null,null,null,"ตราสารหนี้",null,{"$f":"D682*F686","v":0},null,{"$f":"$D682*$F686*H686","v":0}]
[null,null,null,null,"อื่นๆ",null,{"$f":"D682*F687","v":0},null,{"$f":"$D682*$F687*H687","v":0}]
[null,114,null,null,"ตราสารทุน",null,{"$f":"D688*F688","v":0},null,{"$f":"$D688*$F688*H688","v":0},{"$f":"SUM(I688:I693)","v":0}]
[null,null,null,null,"อสังหาริมทรัพย์",null,{"$f":"D688*F689","v":0},null,{"$f":"$D688*$F689*H689","v":0}]
[null,null,null,null,"สินค้าโภคภัณฑ์",null,{"$f":"D688*F690","v":0},null,{"$f":"$D688*$F690*H690","v":0}]
[null,null,null,null,"เงินฝาก",null,{"$f":"D688*F691","v":0},null,{"$f":"$D688*$F691*H691","v":0}]
[null,null,null,null,"ตราสารหนี้",null,{"$f":"D688*F692","v":0},null,{"$f":"$D688*$F692*H692","v":0}]
[null,null,null,null,"อื่นๆ",null,{"$f":"D688*F693","v":0},null,{"$f":"$D688*$F693*H693","v":0}]
[null,115,null,null,"ตราสารทุน",null,{"$f":"D694*F694","v":0},null,{"$f":"$D694*$F694*H694","v":0},{"$f":"SUM(I694:I699)","v":0}]
[null,null,null,null,"อสังหาริมทรัพย์",null,{"$f":"D694*F695","v":0},null,{"$f":"$D694*$F695*H695","v":0}]
[null,null,null,null,"สินค้าโภคภัณฑ์",null,{"$f":"D694*F696","v":0},null,{"$f":"$D694*$F696*H696","v":0}]
[null,null,null,null,"เงินฝาก",null,{"$f":"D694*F697","v":0},null,{"$f":"$D694*$F697*H697","v":0}]
[null,null,null,null,"ตราสารหนี้",null,{"$f":"D694*F698","v":0},null,{"$f":"$D694*$F698*H698","v":0}]
[null,null,null,null,"อื่นๆ",null,{"$f":"D694*F699","v":0},null,{"$f":"$D694*$F699*H699","v":0}]
[null,116,null,null,"ตราสารทุน",null,{"$f":"D700*F700","v":0},null,{"$f":"$D700*$F700*H700","v":0},{"$f":"SUM(I700:I705)","v":0}]
[null,null,null,null,"อสังหาริมทรัพย์",null,{"$f":"D700*F701","v":0},null,{"$f":"$D700*$F701*H701","v":0}]
[null,null,null,null,"สินค้าโภคภัณฑ์",null,{"$f":"D700*F702","v":0},null,{"$f":"$D700*$F702*H702","v":0}]
[null,null,null,null,"เงินฝาก",null,{"$f":"D700*F703","v":0},null,{"$f":"$D700*$F703*H703","v":0}]
[null,null,null,null,"ตราสารหนี้",null,{"$f":"D700*F704","v":0},null,{"$f":"$D700*$F704*H704","v":0}]
[null,null,null,null,"อื่นๆ",null,{"$f":"D700*F705","v":0},null,{"$f":"$D700*$F705*H705","v":0}]
[null,117,null,null,"ตราสารทุน",null,{"$f":"D706*F706","v":0},null,{"$f":"$D706*$F706*H706","v":0},{"$f":"SUM(I706:I711)","v":0}]
[null,null,null,null,"อสังหาริมทรัพย์",null,{"$f":"D706*F707","v":0},null,{"$f":"$D706*$F707*H707","v":0}]
[null,null,null,null,"สินค้าโภคภัณฑ์",null,{"$f":"D706*F708","v":0},null,{"$f":"$D706*$F708*H708","v":0}]
[null,null,null,null,"เงินฝาก",null,{"$f":"D706*F709","v":0},null,{"$f":"$D706*$F709*H709","v":0}]
[null,null,null,null,"ตราสารหนี้",null,{"$f":"D706*F710","v":0},null,{"$f":"$D706*$F710*H710","v":0}]
[null,null,null,null,"อื่นๆ",null,{"$f":"D706*F711","v":0},null,{"$f":"$D706*$F711*H711","v":0}]
[null,118,null,null,"ตราสารทุน",null,{"$f":"D712*F712","v":0},null,{"$f":"$D712*$F712*H712","v":0},{"$f":"SUM(I712:I717)","v":0}]
[null,null,null,null,"อสังหาริมทรัพย์",null,{"$f":"D712*F713","v":0},null,{"$f":"$D712*$F713*H713","v":0}]
[null,null,null,null,"สินค้าโภคภัณฑ์",null,{"$f":"D712*F714","v":0},null,{"$f":"$D712*$F714*H714","v":0}]
[null,null,null,null,"เงินฝาก",null,{"$f":"D712*F715","v":0},null,{"$f":"$D712*$F715*H715","v":0}]
[null,null,null,null,"ตราสารหนี้",null,{"$f":"D712*F716","v":0},null,{"$f":"$D712*$F716*H716","v":0}]
[null,null,null,null,"อื่นๆ",null,{"$f":"D712*F717","v":0},null,{"$f":"$D712*$F717*H717","v":0}]
[null,119,null,null,"ตราสารทุน",null,{"$f":"D718*F718","v":0},null,{"$f":"$D718*$F718*H718","v":0},{"$f":"SUM(I718:I723)","v":0}]
[null,null,null,null,"อสังหาริมทรัพย์",null,{"$f":"D718*F719","v":0},null,{"$f":"$D718*$F719*H719","v":0}]
[null,null,null,null,"สินค้าโภคภัณฑ์",null,{"$f":"D718*F720","v":0},null,{"$f":"$D718*$F720*H720","v":0}]
[null,null,null,null,"เงินฝาก",null,{"$f":"D718*F721","v":0},null,{"$f":"$D718*$F721*H721","v":0}]
[null,null,null,null,"ตราสารหนี้",null,{"$f":"D718*F722","v":0},null,{"$f":"$D718*$F722*H722","v":0}]
[null,null,null,null,"อื่นๆ",null,{"$f":"D718*F723","v":0},null,{"$f":"$D718*$F723*H723","v":0}]
[null,120,null,null,"ตราสารทุน",null,{"$f":"D724*F724","v":0},null,{"$f":"$D724*$F724*H724","v":0},{"$f":"SUM(I724:I729)","v":0}]
[null,null,null,null,"อสังหาริมทรัพย์",null,{"$f":"D724*F725","v":0},null,{"$f":"$D724*$F725*H725","v":0}]
[null,null,null,null,"สินค้าโภคภัณฑ์",null,{"$f":"D724*F726","v":0},null,{"$f":"$D724*$F726*H726","v":0}]
[null,null,null,null,"เงินฝาก",null,{"$f":"D724*F727","v":0},null,{"$f":"$D724*$F727*H727","v":0}]
[null,null,null,null,"ตราสารหนี้",null,{"$f":"D724*F728","v":0},null,{"$f":"$D724*$F728*H728","v":0}]
[null,null,null,null,"อื่นๆ",null,{"$f":"D724*F729","v":0},null,{"$f":"$D724*$F729*H729","v":0}]
[null,121,null,null,"ตราสารทุน",null,{"$f":"D730*F730","v":0},null,{"$f":"$D730*$F730*H730","v":0},{"$f":"SUM(I730:I735)","v":0}]
[null,null,null,null,"อสังหาริมทรัพย์",null,{"$f":"D730*F731","v":0},null,{"$f":"$D730*$F731*H731","v":0}]
[null,null,null,null,"สินค้าโภคภัณฑ์",null,{"$f":"D730*F732","v":0},null,{"$f":"$D730*$F732*H732","v":0}]
[null,null,null,null,"เงินฝาก",null,{"$f":"D730*F733","v":0},null,{"$f":"$D730*$F733*H733","v":0}]
[null,null,null,null,"ตราสารหนี้",null,{"$f":"D730*F734","v":0},null,{"$f":"$D730*$F734*H734","v":0}]
[null,null,null,null,"อื่นๆ",null,{"$f":"D730*F735","v":0},null,{"$f":"$D730*$F735*H735","v":0}]
[null,122,null,null,"ตราสารทุน",null,{"$f":"D736*F736","v":0},null,{"$f":"$D736*$F736*H736","v":0},{"$f":"SUM(I736:I741)","v":0}]
[null,null,null,null,"อสังหาริมทรัพย์",null,{"$f":"D736*F737","v":0},null,{"$f":"$D736*$F737*H737","v":0}]
[null,null,null,null,"สินค้าโภคภัณฑ์",null,{"$f":"D736*F738","v":0},null,{"$f":"$D736*$F738*H738","v":0}]
[null,null,null,null,"เงินฝาก",null,{"$f":"D736*F739","v":0},null,{"$f":"$D736*$F739*H739","v":0}]
[null,null,null,null,"ตราสารหนี้",null,{"$f":"D736*F740","v":0},null,{"$f":"$D736*$F740*H740","v":0}]
[null,null,null,null,"อื่นๆ",null,{"$f":"D736*F741","v":0},null,{"$f":"$D736*$F741*H741","v":0}]
[null,123,null,null,"ตราสารทุน",null,{"$f":"D742*F742","v":0},null,{"$f":"$D742*$F742*H742","v":0},{"$f":"SUM(I742:I747)","v":0}]
[null,null,null,null,"อสังหาริมทรัพย์",null,{"$f":"D742*F743","v":0},null,{"$f":"$D742*$F743*H743","v":0}]
[null,null,null,null,"สินค้าโภคภัณฑ์",null,{"$f":"D742*F744","v":0},null,{"$f":"$D742*$F744*H744","v":0}]
[null,null,null,null,"เงินฝาก",null,{"$f":"D742*F745","v":0},null,{"$f":"$D742*$F745*H745","v":0}]
[null,null,null,null,"ตราสารหนี้",null,{"$f":"D742*F746","v":0},null,{"$f":"$D742*$F746*H746","v":0}]
[null,null,null,null,"อื่นๆ",null,{"$f":"D742*F747","v":0},null,{"$f":"$D742*$F747*H747","v":0}]
[null,124,null,null,"ตราสารทุน",null,{"$f":"D748*F748","v":0},null,{"$f":"$D748*$F748*H748","v":0},{"$f":"SUM(I748:I753)","v":0}]
[null,null,null,null,"อสังหาริมทรัพย์",null,{"$f":"D748*F749","v":0},null,{"$f":"$D748*$F749*H749","v":0}]
[null,null,null,null,"สินค้าโภคภัณฑ์",null,{"$f":"D748*F750","v":0},null,{"$f":"$D748*$F750*H750","v":0}]
[null,null,null,null,"เงินฝาก",null,{"$f":"D748*F751","v":0},null,{"$f":"$D748*$F751*H751","v":0}]
[null,null,null,null,"ตราสารหนี้",null,{"$f":"D748*F752","v":0},null,{"$f":"$D748*$F752*H752","v":0}]
[null,null,null,null,"อื่นๆ",null,{"$f":"D748*F753","v":0},null,{"$f":"$D748*$F753*H753","v":0}]
[null,125,null,null,"ตราสารทุน",null,{"$f":"D754*F754","v":0},null,{"$f":"$D754*$F754*H754","v":0},{"$f":"SUM(I754:I759)","v":0}]
[null,null,null,null,"อสังหาริมทรัพย์",null,{"$f":"D754*F755","v":0},null,{"$f":"$D754*$F755*H755","v":0}]
[null,null,null,null,"สินค้าโภคภัณฑ์",null,{"$f":"D754*F756","v":0},null,{"$f":"$D754*$F756*H756","v":0}]
[null,null,null,null,"เงินฝาก",null,{"$f":"D754*F757","v":0},null,{"$f":"$D754*$F757*H757","v":0}]
[null,null,null,null,"ตราสารหนี้",null,{"$f":"D754*F758","v":0},null,{"$f":"$D754*$F758*H758","v":0}]
[null,null,null,null,"อื่นๆ",null,{"$f":"D754*F759","v":0},null,{"$f":"$D754*$F759*H759","v":0}]
[null,126,null,null,"ตราสารทุน",null,{"$f":"D760*F760","v":0},null,{"$f":"$D760*$F760*H760","v":0},{"$f":"SUM(I760:I765)","v":0}]
[null,null,null,null,"อสังหาริมทรัพย์",null,{"$f":"D760*F761","v":0},null,{"$f":"$D760*$F761*H761","v":0}]
[null,null,null,null,"สินค้าโภคภัณฑ์",null,{"$f":"D760*F762","v":0},null,{"$f":"$D760*$F762*H762","v":0}]
[null,null,null,null,"เงินฝาก",null,{"$f":"D760*F763","v":0},null,{"$f":"$D760*$F763*H763","v":0}]
[null,null,null,null,"ตราสารหนี้",null,{"$f":"D760*F764","v":0},null,{"$f":"$D760*$F764*H764","v":0}]
[null,null,null,null,"อื่นๆ",null,{"$f":"D760*F765","v":0},null,{"$f":"$D760*$F765*H765","v":0}]
[null,127,null,null,"ตราสารทุน",null,{"$f":"D766*F766","v":0},null,{"$f":"$D766*$F766*H766","v":0},{"$f":"SUM(I766:I771)","v":0}]
[null,null,null,null,"อสังหาริมทรัพย์",null,{"$f":"D766*F767","v":0},null,{"$f":"$D766*$F767*H767","v":0}]
[null,null,null,null,"สินค้าโภคภัณฑ์",null,{"$f":"D766*F768","v":0},null,{"$f":"$D766*$F768*H768","v":0}]
[null,null,null,null,"เงินฝาก",null,{"$f":"D766*F769","v":0},null,{"$f":"$D766*$F769*H769","v":0}]
[null,null,null,null,"ตราสารหนี้",null,{"$f":"D766*F770","v":0},null,{"$f":"$D766*$F770*H770","v":0}]
[null,null,null,null,"อื่นๆ",null,{"$f":"D766*F771","v":0},null,{"$f":"$D766*$F771*H771","v":0}]
[null,128,null,null,"ตราสารทุน",null,{"$f":"D772*F772","v":0},null,{"$f":"$D772*$F772*H772","v":0},{"$f":"SUM(I772:I777)","v":0}]
[null,null,null,null,"อสังหาริมทรัพย์",null,{"$f":"D772*F773","v":0},null,{"$f":"$D772*$F773*H773","v":0}]
[null,null,null,null,"สินค้าโภคภัณฑ์",null,{"$f":"D772*F774","v":0},null,{"$f":"$D772*$F774*H774","v":0}]
[null,null,null,null,"เงินฝาก",null,{"$f":"D772*F775","v":0},null,{"$f":"$D772*$F775*H775","v":0}]
[null,null,null,null,"ตราสารหนี้",null,{"$f":"D772*F776","v":0},null,{"$f":"$D772*$F776*H776","v":0}]
[null,null,null,null,"อื่นๆ",null,{"$f":"D772*F777","v":0},null,{"$f":"$D772*$F777*H777","v":0}]
[null,129,null,null,"ตราสารทุน",null,{"$f":"D778*F778","v":0},null,{"$f":"$D778*$F778*H778","v":0},{"$f":"SUM(I778:I783)","v":0}]
[null,null,null,null,"อสังหาริมทรัพย์",null,{"$f":"D778*F779","v":0},null,{"$f":"$D778*$F779*H779","v":0}]
[null,null,null,null,"สินค้าโภคภัณฑ์",null,{"$f":"D778*F780","v":0},null,{"$f":"$D778*$F780*H780","v":0}]
[null,null,null,null,"เงินฝาก",null,{"$f":"D778*F781","v":0},null,{"$f":"$D778*$F781*H781","v":0}]
[null,null,null,null,"ตราสารหนี้",null,{"$f":"D778*F782","v":0},null,{"$f":"$D778*$F782*H782","v":0}]
[null,null,null,null,"อื่นๆ",null,{"$f":"D778*F783","v":0},null,{"$f":"$D778*$F783*H783","v":0}]
[null,130,null,null,"ตราสารทุน",null,{"$f":"D784*F784","v":0},null,{"$f":"$D784*$F784*H784","v":0},{"$f":"SUM(I784:I789)","v":0}]
[null,null,null,null,"อสังหาริมทรัพย์",null,{"$f":"D784*F785","v":0},null,{"$f":"$D784*$F785*H785","v":0}]
[null,null,null,null,"สินค้าโภคภัณฑ์",null,{"$f":"D784*F786","v":0},null,{"$f":"$D784*$F786*H786","v":0}]
[null,null,null,null,"เงินฝาก",null,{"$f":"D784*F787","v":0},null,{"$f":"$D784*$F787*H787","v":0}]
[null,null,null,null,"ตราสารหนี้",null,{"$f":"D784*F788","v":0},null,{"$f":"$D784*$F788*H788","v":0}]
[null,null,null,null,"อื่นๆ",null,{"$f":"D784*F789","v":0},null,{"$f":"$D784*$F789*H789","v":0}]
[null,131,null,null,"ตราสารทุน",null,{"$f":"D790*F790","v":0},null,{"$f":"$D790*$F790*H790","v":0},{"$f":"SUM(I790:I795)","v":0}]
[null,null,null,null,"อสังหาริมทรัพย์",null,{"$f":"D790*F791","v":0},null,{"$f":"$D790*$F791*H791","v":0}]
[null,null,null,null,"สินค้าโภคภัณฑ์",null,{"$f":"D790*F792","v":0},null,{"$f":"$D790*$F792*H792","v":0}]
[null,null,null,null,"เงินฝาก",null,{"$f":"D790*F793","v":0},null,{"$f":"$D790*$F793*H793","v":0}]
[null,null,null,null,"ตราสารหนี้",null,{"$f":"D790*F794","v":0},null,{"$f":"$D790*$F794*H794","v":0}]
[null,null,null,null,"อื่นๆ",null,{"$f":"D790*F795","v":0},null,{"$f":"$D790*$F795*H795","v":0}]
[null,132,null,null,"ตราสารทุน",null,{"$f":"D796*F796","v":0},null,{"$f":"$D796*$F796*H796","v":0},{"$f":"SUM(I796:I801)","v":0}]
[null,null,null,null,"อสังหาริมทรัพย์",null,{"$f":"D796*F797","v":0},null,{"$f":"$D796*$F797*H797","v":0}]
[null,null,null,null,"สินค้าโภคภัณฑ์",null,{"$f":"D796*F798","v":0},null,{"$f":"$D796*$F798*H798","v":0}]
[null,null,null,null,"เงินฝาก",null,{"$f":"D796*F799","v":0},null,{"$f":"$D796*$F799*H799","v":0}]
[null,null,null,null,"ตราสารหนี้",null,{"$f":"D796*F800","v":0},null,{"$f":"$D796*$F800*H800","v":0}]
[null,null,null,null,"อื่นๆ",null,{"$f":"D796*F801","v":0},null,{"$f":"$D796*$F801*H801","v":0}]
[null,133,null,null,"ตราสารทุน",null,{"$f":"D802*F802","v":0},null,{"$f":"$D802*$F802*H802","v":0},{"$f":"SUM(I802:I807)","v":0}]
[null,null,null,null,"อสังหาริมทรัพย์",null,{"$f":"D802*F803","v":0},null,{"$f":"$D802*$F803*H803","v":0}]
[null,null,null,null,"สินค้าโภคภัณฑ์",null,{"$f":"D802*F804","v":0},null,{"$f":"$D802*$F804*H804","v":0}]
[null,null,null,null,"เงินฝาก",null,{"$f":"D802*F805","v":0},null,{"$f":"$D802*$F805*H805","v":0}]
[null,null,null,null,"ตราสารหนี้",null,{"$f":"D802*F806","v":0},null,{"$f":"$D802*$F806*H806","v":0}]
[null,null,null,null,"อื่นๆ",null,{"$f":"D802*F807","v":0},null,{"$f":"$D802*$F807*H807","v":0}]
[null,134,null,null,"ตราสารทุน",null,{"$f":"D808*F808","v":0},null,{"$f":"$D808*$F808*H808","v":0},{"$f":"SUM(I808:I813)","v":0}]
[null,null,null,null,"อสังหาริมทรัพย์",null,{"$f":"D808*F809","v":0},null,{"$f":"$D808*$F809*H809","v":0}]
[null,null,null,null,"สินค้าโภคภัณฑ์",null,{"$f":"D808*F810","v":0},null,{"$f":"$D808*$F810*H810","v":0}]
[null,null,null,null,"เงินฝาก",null,{"$f":"D808*F811","v":0},null,{"$f":"$D808*$F811*H811","v":0}]
[null,null,null,null,"ตราสารหนี้",null,{"$f":"D808*F812","v":0},null,{"$f":"$D808*$F812*H812","v":0}]
[null,null,null,null,"อื่นๆ",null,{"$f":"D808*F813","v":0},null,{"$f":"$D808*$F813*H813","v":0}]
[null,135,null,null,"ตราสารทุน",null,{"$f":"D814*F814","v":0},null,{"$f":"$D814*$F814*H814","v":0},{"$f":"SUM(I814:I819)","v":0}]
[null,null,null,null,"อสังหาริมทรัพย์",null,{"$f":"D814*F815","v":0},null,{"$f":"$D814*$F815*H815","v":0}]
[null,null,null,null,"สินค้าโภคภัณฑ์",null,{"$f":"D814*F816","v":0},null,{"$f":"$D814*$F816*H816","v":0}]
[null,null,null,null,"เงินฝาก",null,{"$f":"D814*F817","v":0},null,{"$f":"$D814*$F817*H817","v":0}]
[null,null,null,null,"ตราสารหนี้",null,{"$f":"D814*F818","v":0},null,{"$f":"$D814*$F818*H818","v":0}]
[null,null,null,null,"อื่นๆ",null,{"$f":"D814*F819","v":0},null,{"$f":"$D814*$F819*H819","v":0}]
[null,136,null,null,"ตราสารทุน",null,{"$f":"D820*F820","v":0},null,{"$f":"$D820*$F820*H820","v":0},{"$f":"SUM(I820:I825)","v":0}]
[null,null,null,null,"อสังหาริมทรัพย์",null,{"$f":"D820*F821","v":0},null,{"$f":"$D820*$F821*H821","v":0}]
[null,null,null,null,"สินค้าโภคภัณฑ์",null,{"$f":"D820*F822","v":0},null,{"$f":"$D820*$F822*H822","v":0}]
[null,null,null,null,"เงินฝาก",null,{"$f":"D820*F823","v":0},null,{"$f":"$D820*$F823*H823","v":0}]
[null,null,null,null,"ตราสารหนี้",null,{"$f":"D820*F824","v":0},null,{"$f":"$D820*$F824*H824","v":0}]
[null,null,null,null,"อื่นๆ",null,{"$f":"D820*F825","v":0},null,{"$f":"$D820*$F825*H825","v":0}]
[null,137,null,null,"ตราสารทุน",null,{"$f":"D826*F826","v":0},null,{"$f":"$D826*$F826*H826","v":0},{"$f":"SUM(I826:I831)","v":0}]
[null,null,null,null,"อสังหาริมทรัพย์",null,{"$f":"D826*F827","v":0},null,{"$f":"$D826*$F827*H827","v":0}]
[null,null,null,null,"สินค้าโภคภัณฑ์",null,{"$f":"D826*F828","v":0},null,{"$f":"$D826*$F828*H828","v":0}]
[null,null,null,null,"เงินฝาก",null,{"$f":"D826*F829","v":0},null,{"$f":"$D826*$F829*H829","v":0}]
[null,null,null,null,"ตราสารหนี้",null,{"$f":"D826*F830","v":0},null,{"$f":"$D826*$F830*H830","v":0}]
[null,null,null,null,"อื่นๆ",null,{"$f":"D826*F831","v":0},null,{"$f":"$D826*$F831*H831","v":0}]
[null,138,null,null,"ตราสารทุน",null,{"$f":"D832*F832","v":0},null,{"$f":"$D832*$F832*H832","v":0},{"$f":"SUM(I832:I837)","v":0}]
[null,null,null,null,"อสังหาริมทรัพย์",null,{"$f":"D832*F833","v":0},null,{"$f":"$D832*$F833*H833","v":0}]
[null,null,null,null,"สินค้าโภคภัณฑ์",null,{"$f":"D832*F834","v":0},null,{"$f":"$D832*$F834*H834","v":0}]
[null,null,null,null,"เงินฝาก",null,{"$f":"D832*F835","v":0},null,{"$f":"$D832*$F835*H835","v":0}]
[null,null,null,null,"ตราสารหนี้",null,{"$f":"D832*F836","v":0},null,{"$f":"$D832*$F836*H836","v":0}]
[null,null,null,null,"อื่นๆ",null,{"$f":"D832*F837","v":0},null,{"$f":"$D832*$F837*H837","v":0}]
[null,139,null,null,"ตราสารทุน",null,{"$f":"D838*F838","v":0},null,{"$f":"$D838*$F838*H838","v":0},{"$f":"SUM(I838:I843)","v":0}]
[null,null,null,null,"อสังหาริมทรัพย์",null,{"$f":"D838*F839","v":0},null,{"$f":"$D838*$F839*H839","v":0}]
[null,null,null,null,"สินค้าโภคภัณฑ์",null,{"$f":"D838*F840","v":0},null,{"$f":"$D838*$F840*H840","v":0}]
[null,null,null,null,"เงินฝาก",null,{"$f":"D838*F841","v":0},null,{"$f":"$D838*$F841*H841","v":0}]
[null,null,null,null,"ตราสารหนี้",null,{"$f":"D838*F842","v":0},null,{"$f":"$D838*$F842*H842","v":0}]
[null,null,null,null,"อื่นๆ",null,{"$f":"D838*F843","v":0},null,{"$f":"$D838*$F843*H843","v":0}]
[null,140,null,null,"ตราสารทุน",null,{"$f":"D844*F844","v":0},null,{"$f":"$D844*$F844*H844","v":0},{"$f":"SUM(I844:I849)","v":0}]
[null,null,null,null,"อสังหาริมทรัพย์",null,{"$f":"D844*F845","v":0},null,{"$f":"$D844*$F845*H845","v":0}]
[null,null,null,null,"สินค้าโภคภัณฑ์",null,{"$f":"D844*F846","v":0},null,{"$f":"$D844*$F846*H846","v":0}]
[null,null,null,null,"เงินฝาก",null,{"$f":"D844*F847","v":0},null,{"$f":"$D844*$F847*H847","v":0}]
[null,null,null,null,"ตราสารหนี้",null,{"$f":"D844*F848","v":0},null,{"$f":"$D844*$F848*H848","v":0}]
[null,null,null,null,"อื่นๆ",null,{"$f":"D844*F849","v":0},null,{"$f":"$D844*$F849*H849","v":0}]
[null,141,null,null,"ตราสารทุน",null,{"$f":"D850*F850","v":0},null,{"$f":"$D850*$F850*H850","v":0},{"$f":"SUM(I850:I855)","v":0}]
[null,null,null,null,"อสังหาริมทรัพย์",null,{"$f":"D850*F851","v":0},null,{"$f":"$D850*$F851*H851","v":0}]
[null,null,null,null,"สินค้าโภคภัณฑ์",null,{"$f":"D850*F852","v":0},null,{"$f":"$D850*$F852*H852","v":0}]
[null,null,null,null,"เงินฝาก",null,{"$f":"D850*F853","v":0},null,{"$f":"$D850*$F853*H853","v":0}]
[null,null,null,null,"ตราสารหนี้",null,{"$f":"D850*F854","v":0},null,{"$f":"$D850*$F854*H854","v":0}]
[null,null,null,null,"อื่นๆ",null,{"$f":"D850*F855","v":0},null,{"$f":"$D850*$F855*H855","v":0}]
[null,142,null,null,"ตราสารทุน",null,{"$f":"D856*F856","v":0},null,{"$f":"$D856*$F856*H856","v":0},{"$f":"SUM(I856:I861)","v":0}]
[null,null,null,null,"อสังหาริมทรัพย์",null,{"$f":"D856*F857","v":0},null,{"$f":"$D856*$F857*H857","v":0}]
[null,null,null,null,"สินค้าโภคภัณฑ์",null,{"$f":"D856*F858","v":0},null,{"$f":"$D856*$F858*H858","v":0}]
[null,null,null,null,"เงินฝาก",null,{"$f":"D856*F859","v":0},null,{"$f":"$D856*$F859*H859","v":0}]
[null,null,null,null,"ตราสารหนี้",null,{"$f":"D856*F860","v":0},null,{"$f":"$D856*$F860*H860","v":0}]
[null,null,null,null,"อื่นๆ",null,{"$f":"D856*F861","v":0},null,{"$f":"$D856*$F861*H861","v":0}]
[null,143,null,null,"ตราสารทุน",null,{"$f":"D862*F862","v":0},null,{"$f":"$D862*$F862*H862","v":0},{"$f":"SUM(I862:I867)","v":0}]
[null,null,null,null,"อสังหาริมทรัพย์",null,{"$f":"D862*F863","v":0},null,{"$f":"$D862*$F863*H863","v":0}]
[null,null,null,null,"สินค้าโภคภัณฑ์",null,{"$f":"D862*F864","v":0},null,{"$f":"$D862*$F864*H864","v":0}]
[null,null,null,null,"เงินฝาก",null,{"$f":"D862*F865","v":0},null,{"$f":"$D862*$F865*H865","v":0}]
[null,null,null,null,"ตราสารหนี้",null,{"$f":"D862*F866","v":0},null,{"$f":"$D862*$F866*H866","v":0}]
[null,null,null,null,"อื่นๆ",null,{"$f":"D862*F867","v":0},null,{"$f":"$D862*$F867*H867","v":0}]
[null,144,null,null,"ตราสารทุน",null,{"$f":"D868*F868","v":0},null,{"$f":"$D868*$F868*H868","v":0},{"$f":"SUM(I868:I873)","v":0}]
[null,null,null,null,"อสังหาริมทรัพย์",null,{"$f":"D868*F869","v":0},null,{"$f":"$D868*$F869*H869","v":0}]
[null,null,null,null,"สินค้าโภคภัณฑ์",null,{"$f":"D868*F870","v":0},null,{"$f":"$D868*$F870*H870","v":0}]
[null,null,null,null,"เงินฝาก",null,{"$f":"D868*F871","v":0},null,{"$f":"$D868*$F871*H871","v":0}]
[null,null,null,null,"ตราสารหนี้",null,{"$f":"D868*F872","v":0},null,{"$f":"$D868*$F872*H872","v":0}]
[null,null,null,null,"อื่นๆ",null,{"$f":"D868*F873","v":0},null,{"$f":"$D868*$F873*H873","v":0}]
[null,145,null,null,"ตราสารทุน",null,{"$f":"D874*F874","v":0},null,{"$f":"$D874*$F874*H874","v":0},{"$f":"SUM(I874:I879)","v":0}]
[null,null,null,null,"อสังหาริมทรัพย์",null,{"$f":"D874*F875","v":0},null,{"$f":"$D874*$F875*H875","v":0}]
[null,null,null,null,"สินค้าโภคภัณฑ์",null,{"$f":"D874*F876","v":0},null,{"$f":"$D874*$F876*H876","v":0}]
[null,null,null,null,"เงินฝาก",null,{"$f":"D874*F877","v":0},null,{"$f":"$D874*$F877*H877","v":0}]
[null,null,null,null,"ตราสารหนี้",null,{"$f":"D874*F878","v":0},null,{"$f":"$D874*$F878*H878","v":0}]
[null,null,null,null,"อื่นๆ",null,{"$f":"D874*F879","v":0},null,{"$f":"$D874*$F879*H879","v":0}]
[null,146,null,null,"ตราสารทุน",null,{"$f":"D880*F880","v":0},null,{"$f":"$D880*$F880*H880","v":0},{"$f":"SUM(I880:I885)","v":0}]
[null,null,null,null,"อสังหาริมทรัพย์",null,{"$f":"D880*F881","v":0},null,{"$f":"$D880*$F881*H881","v":0}]
[null,null,null,null,"สินค้าโภคภัณฑ์",null,{"$f":"D880*F882","v":0},null,{"$f":"$D880*$F882*H882","v":0}]
[null,null,null,null,"เงินฝาก",null,{"$f":"D880*F883","v":0},null,{"$f":"$D880*$F883*H883","v":0}]
[null,null,null,null,"ตราสารหนี้",null,{"$f":"D880*F884","v":0},null,{"$f":"$D880*$F884*H884","v":0}]
[null,null,null,null,"อื่นๆ",null,{"$f":"D880*F885","v":0},null,{"$f":"$D880*$F885*H885","v":0}]
[null,147,null,null,"ตราสารทุน",null,{"$f":"D886*F886","v":0},null,{"$f":"$D886*$F886*H886","v":0},{"$f":"SUM(I886:I891)","v":0}]
[null,null,null,null,"อสังหาริมทรัพย์",null,{"$f":"D886*F887","v":0},null,{"$f":"$D886*$F887*H887","v":0}]
[null,null,null,null,"สินค้าโภคภัณฑ์",null,{"$f":"D886*F888","v":0},null,{"$f":"$D886*$F888*H888","v":0}]
[null,null,null,null,"เงินฝาก",null,{"$f":"D886*F889","v":0},null,{"$f":"$D886*$F889*H889","v":0}]
[null,null,null,null,"ตราสารหนี้",null,{"$f":"D886*F890","v":0},null,{"$f":"$D886*$F890*H890","v":0}]
[null,null,null,null,"อื่นๆ",null,{"$f":"D886*F891","v":0},null,{"$f":"$D886*$F891*H891","v":0}]
[null,148,null,null,"ตราสารทุน",null,{"$f":"D892*F892","v":0},null,{"$f":"$D892*$F892*H892","v":0},{"$f":"SUM(I892:I897)","v":0}]
[null,null,null,null,"อสังหาริมทรัพย์",null,{"$f":"D892*F893","v":0},null,{"$f":"$D892*$F893*H893","v":0}]
[null,null,null,null,"สินค้าโภคภัณฑ์",null,{"$f":"D892*F894","v":0},null,{"$f":"$D892*$F894*H894","v":0}]
[null,null,null,null,"เงินฝาก",null,{"$f":"D892*F895","v":0},null,{"$f":"$D892*$F895*H895","v":0}]
[null,null,null,null,"ตราสารหนี้",null,{"$f":"D892*F896","v":0},null,{"$f":"$D892*$F896*H896","v":0}]
[null,null,null,null,"อื่นๆ",null,{"$f":"D892*F897","v":0},null,{"$f":"$D892*$F897*H897","v":0}]
[null,149,null,null,"ตราสารทุน",null,{"$f":"D898*F898","v":0},null,{"$f":"$D898*$F898*H898","v":0},{"$f":"SUM(I898:I903)","v":0}]
[null,null,null,null,"อสังหาริมทรัพย์",null,{"$f":"D898*F899","v":0},null,{"$f":"$D898*$F899*H899","v":0}]
[null,null,null,null,"สินค้าโภคภัณฑ์",null,{"$f":"D898*F900","v":0},null,{"$f":"$D898*$F900*H900","v":0}]
[null,null,null,null,"เงินฝาก",null,{"$f":"D898*F901","v":0},null,{"$f":"$D898*$F901*H901","v":0}]
[null,null,null,null,"ตราสารหนี้",null,{"$f":"D898*F902","v":0},null,{"$f":"$D898*$F902*H902","v":0}]
[null,null,null,null,"อื่นๆ",null,{"$f":"D898*F903","v":0},null,{"$f":"$D898*$F903*H903","v":0}]
[null,150,null,null,"ตราสารทุน",null,{"$f":"D904*F904","v":0},null,{"$f":"$D904*$F904*H904","v":0},{"$f":"SUM(I904:I909)","v":0}]
[null,null,null,null,"อสังหาริมทรัพย์",null,{"$f":"D904*F905","v":0},null,{"$f":"$D904*$F905*H905","v":0}]
[null,null,null,null,"สินค้าโภคภัณฑ์",null,{"$f":"D904*F906","v":0},null,{"$f":"$D904*$F906*H906","v":0}]
[null,null,null,null,"เงินฝาก",null,{"$f":"D904*F907","v":0},null,{"$f":"$D904*$F907*H907","v":0}]
[null,null,null,null,"ตราสารหนี้",null,{"$f":"D904*F908","v":0},null,{"$f":"$D904*$F908*H908","v":0}]
[null,null,null,null,"อื่นๆ",null,{"$f":"D904*F909","v":0},null,{"$f":"$D904*$F909*H909","v":0}]
[null,151,null,null,"ตราสารทุน",null,{"$f":"D910*F910","v":0},null,{"$f":"$D910*$F910*H910","v":0},{"$f":"SUM(I910:I915)","v":0}]
[null,null,null,null,"อสังหาริมทรัพย์",null,{"$f":"D910*F911","v":0},null,{"$f":"$D910*$F911*H911","v":0}]
[null,null,null,null,"สินค้าโภคภัณฑ์",null,{"$f":"D910*F912","v":0},null,{"$f":"$D910*$F912*H912","v":0}]
[null,null,null,null,"เงินฝาก",null,{"$f":"D910*F913","v":0},null,{"$f":"$D910*$F913*H913","v":0}]
[null,null,null,null,"ตราสารหนี้",null,{"$f":"D910*F914","v":0},null,{"$f":"$D910*$F914*H914","v":0}]
[null,null,null,null,"อื่นๆ",null,{"$f":"D910*F915","v":0},null,{"$f":"$D910*$F915*H915","v":0}]
[null,152,null,null,"ตราสารทุน",null,{"$f":"D916*F916","v":0},null,{"$f":"$D916*$F916*H916","v":0},{"$f":"SUM(I916:I921)","v":0}]
[null,null,null,null,"อสังหาริมทรัพย์",null,{"$f":"D916*F917","v":0},null,{"$f":"$D916*$F917*H917","v":0}]
[null,null,null,null,"สินค้าโภคภัณฑ์",null,{"$f":"D916*F918","v":0},null,{"$f":"$D916*$F918*H918","v":0}]
[null,null,null,null,"เงินฝาก",null,{"$f":"D916*F919","v":0},null,{"$f":"$D916*$F919*H919","v":0}]
[null,null,null,null,"ตราสารหนี้",null,{"$f":"D916*F920","v":0},null,{"$f":"$D916*$F920*H920","v":0}]
[null,null,null,null,"อื่นๆ",null,{"$f":"D916*F921","v":0},null,{"$f":"$D916*$F921*H921","v":0}]
[null,153,null,null,"ตราสารทุน",null,{"$f":"D922*F922","v":0},null,{"$f":"$D922*$F922*H922","v":0},{"$f":"SUM(I922:I927)","v":0}]
[null,null,null,null,"อสังหาริมทรัพย์",null,{"$f":"D922*F923","v":0},null,{"$f":"$D922*$F923*H923","v":0}]
[null,null,null,null,"สินค้าโภคภัณฑ์",null,{"$f":"D922*F924","v":0},null,{"$f":"$D922*$F924*H924","v":0}]
[null,null,null,null,"เงินฝาก",null,{"$f":"D922*F925","v":0},null,{"$f":"$D922*$F925*H925","v":0}]
[null,null,null,null,"ตราสารหนี้",null,{"$f":"D922*F926","v":0},null,{"$f":"$D922*$F926*H926","v":0}]
[null,null,null,null,"อื่นๆ",null,{"$f":"D922*F927","v":0},null,{"$f":"$D922*$F927*H927","v":0}]
[null,154,null,null,"ตราสารทุน",null,{"$f":"D928*F928","v":0},null,{"$f":"$D928*$F928*H928","v":0},{"$f":"SUM(I928:I933)","v":0}]
[null,null,null,null,"อสังหาริมทรัพย์",null,{"$f":"D928*F929","v":0},null,{"$f":"$D928*$F929*H929","v":0}]
[null,null,null,null,"สินค้าโภคภัณฑ์",null,{"$f":"D928*F930","v":0},null,{"$f":"$D928*$F930*H930","v":0}]
[null,null,null,null,"เงินฝาก",null,{"$f":"D928*F931","v":0},null,{"$f":"$D928*$F931*H931","v":0}]
[null,null,null,null,"ตราสารหนี้",null,{"$f":"D928*F932","v":0},null,{"$f":"$D928*$F932*H932","v":0}]
[null,null,null,null,"อื่นๆ",null,{"$f":"D928*F933","v":0},null,{"$f":"$D928*$F933*H933","v":0}]
[null,155,null,null,"ตราสารทุน",null,{"$f":"D934*F934","v":0},null,{"$f":"$D934*$F934*H934","v":0},{"$f":"SUM(I934:I939)","v":0}]
[null,null,null,null,"อสังหาริมทรัพย์",null,{"$f":"D934*F935","v":0},null,{"$f":"$D934*$F935*H935","v":0}]
[null,null,null,null,"สินค้าโภคภัณฑ์",null,{"$f":"D934*F936","v":0},null,{"$f":"$D934*$F936*H936","v":0}]
[null,null,null,null,"เงินฝาก",null,{"$f":"D934*F937","v":0},null,{"$f":"$D934*$F937*H937","v":0}]
[null,null,null,null,"ตราสารหนี้",null,{"$f":"D934*F938","v":0},null,{"$f":"$D934*$F938*H938","v":0}]
[null,null,null,null,"อื่นๆ",null,{"$f":"D934*F939","v":0},null,{"$f":"$D934*$F939*H939","v":0}]
[null,156,null,null,"ตราสารทุน",null,{"$f":"D940*F940","v":0},null,{"$f":"$D940*$F940*H940","v":0},{"$f":"SUM(I940:I945)","v":0}]
[null,null,null,null,"อสังหาริมทรัพย์",null,{"$f":"D940*F941","v":0},null,{"$f":"$D940*$F941*H941","v":0}]
[null,null,null,null,"สินค้าโภคภัณฑ์",null,{"$f":"D940*F942","v":0},null,{"$f":"$D940*$F942*H942","v":0}]
[null,null,null,null,"เงินฝาก",null,{"$f":"D940*F943","v":0},null,{"$f":"$D940*$F943*H943","v":0}]
[null,null,null,null,"ตราสารหนี้",null,{"$f":"D940*F944","v":0},null,{"$f":"$D940*$F944*H944","v":0}]
[null,null,null,null,"อื่นๆ",null,{"$f":"D940*F945","v":0},null,{"$f":"$D940*$F945*H945","v":0}]
[null,157,null,null,"ตราสารทุน",null,{"$f":"D946*F946","v":0},null,{"$f":"$D946*$F946*H946","v":0},{"$f":"SUM(I946:I951)","v":0}]
[null,null,null,null,"อสังหาริมทรัพย์",null,{"$f":"D946*F947","v":0},null,{"$f":"$D946*$F947*H947","v":0}]
[null,null,null,null,"สินค้าโภคภัณฑ์",null,{"$f":"D946*F948","v":0},null,{"$f":"$D946*$F948*H948","v":0}]
[null,null,null,null,"เงินฝาก",null,{"$f":"D946*F949","v":0},null,{"$f":"$D946*$F949*H949","v":0}]
[null,null,null,null,"ตราสารหนี้",null,{"$f":"D946*F950","v":0},null,{"$f":"$D946*$F950*H950","v":0}]
[null,null,null,null,"อื่นๆ",null,{"$f":"D946*F951","v":0},null,{"$f":"$D946*$F951*H951","v":0}]
[null,158,null,null,"ตราสารทุน",null,{"$f":"D952*F952","v":0},null,{"$f":"$D952*$F952*H952","v":0},{"$f":"SUM(I952:I957)","v":0}]
[null,null,null,null,"อสังหาริมทรัพย์",null,{"$f":"D952*F953","v":0},null,{"$f":"$D952*$F953*H953","v":0}]
[null,null,null,null,"สินค้าโภคภัณฑ์",null,{"$f":"D952*F954","v":0},null,{"$f":"$D952*$F954*H954","v":0}]
[null,null,null,null,"เงินฝาก",null,{"$f":"D952*F955","v":0},null,{"$f":"$D952*$F955*H955","v":0}]
[null,null,null,null,"ตราสารหนี้",null,{"$f":"D952*F956","v":0},null,{"$f":"$D952*$F956*H956","v":0}]
[null,null,null,null,"อื่นๆ",null,{"$f":"D952*F957","v":0},null,{"$f":"$D952*$F957*H957","v":0}]
[null,159,null,null,"ตราสารทุน",null,{"$f":"D958*F958","v":0},null,{"$f":"$D958*$F958*H958","v":0},{"$f":"SUM(I958:I963)","v":0}]
[null,null,null,null,"อสังหาริมทรัพย์",null,{"$f":"D958*F959","v":0},null,{"$f":"$D958*$F959*H959","v":0}]
[null,null,null,null,"สินค้าโภคภัณฑ์",null,{"$f":"D958*F960","v":0},null,{"$f":"$D958*$F960*H960","v":0}]
[null,null,null,null,"เงินฝาก",null,{"$f":"D958*F961","v":0},null,{"$f":"$D958*$F961*H961","v":0}]
[null,null,null,null,"ตราสารหนี้",null,{"$f":"D958*F962","v":0},null,{"$f":"$D958*$F962*H962","v":0}]
[null,null,null,null,"อื่นๆ",null,{"$f":"D958*F963","v":0},null,{"$f":"$D958*$F963*H963","v":0}]
[null,160,null,null,"ตราสารทุน",null,{"$f":"D964*F964","v":0},null,{"$f":"$D964*$F964*H964","v":0},{"$f":"SUM(I964:I969)","v":0}]
[null,null,null,null,"อสังหาริมทรัพย์",null,{"$f":"D964*F965","v":0},null,{"$f":"$D964*$F965*H965","v":0}]
[null,null,null,null,"สินค้าโภคภัณฑ์",null,{"$f":"D964*F966","v":0},null,{"$f":"$D964*$F966*H966","v":0}]
[null,null,null,null,"เงินฝาก",null,{"$f":"D964*F967","v":0},null,{"$f":"$D964*$F967*H967","v":0}]
[null,null,null,null,"ตราสารหนี้",null,{"$f":"D964*F968","v":0},null,{"$f":"$D964*$F968*H968","v":0}]
[null,null,null,null,"อื่นๆ",null,{"$f":"D964*F969","v":0},null,{"$f":"$D964*$F969*H969","v":0}]
[null,161,null,null,"ตราสารทุน",null,{"$f":"D970*F970","v":0},null,{"$f":"$D970*$F970*H970","v":0},{"$f":"SUM(I970:I975)","v":0}]
[null,null,null,null,"อสังหาริมทรัพย์",null,{"$f":"D970*F971","v":0},null,{"$f":"$D970*$F971*H971","v":0}]
[null,null,null,null,"สินค้าโภคภัณฑ์",null,{"$f":"D970*F972","v":0},null,{"$f":"$D970*$F972*H972","v":0}]
[null,null,null,null,"เงินฝาก",null,{"$f":"D970*F973","v":0},null,{"$f":"$D970*$F973*H973","v":0}]
[null,null,null,null,"ตราสารหนี้",null,{"$f":"D970*F974","v":0},null,{"$f":"$D970*$F974*H974","v":0}]
[null,null,null,null,"อื่นๆ",null,{"$f":"D970*F975","v":0},null,{"$f":"$D970*$F975*H975","v":0}]
[null,162,null,null,"ตราสารทุน",null,{"$f":"D976*F976","v":0},null,{"$f":"$D976*$F976*H976","v":0},{"$f":"SUM(I976:I981)","v":0}]
[null,null,null,null,"อสังหาริมทรัพย์",null,{"$f":"D976*F977","v":0},null,{"$f":"$D976*$F977*H977","v":0}]
[null,null,null,null,"สินค้าโภคภัณฑ์",null,{"$f":"D976*F978","v":0},null,{"$f":"$D976*$F978*H978","v":0}]
[null,null,null,null,"เงินฝาก",null,{"$f":"D976*F979","v":0},null,{"$f":"$D976*$F979*H979","v":0}]
[null,null,null,null,"ตราสารหนี้",null,{"$f":"D976*F980","v":0},null,{"$f":"$D976*$F980*H980","v":0}]
[null,null,null,null,"อื่นๆ",null,{"$f":"D976*F981","v":0},null,{"$f":"$D976*$F981*H981","v":0}]
[null,163,null,null,"ตราสารทุน",null,{"$f":"D982*F982","v":0},null,{"$f":"$D982*$F982*H982","v":0},{"$f":"SUM(I982:I987)","v":0}]
[null,null,null,null,"อสังหาริมทรัพย์",null,{"$f":"D982*F983","v":0},null,{"$f":"$D982*$F983*H983","v":0}]
[null,null,null,null,"สินค้าโภคภัณฑ์",null,{"$f":"D982*F984","v":0},null,{"$f":"$D982*$F984*H984","v":0}]
[null,null,null,null,"เงินฝาก",null,{"$f":"D982*F985","v":0},null,{"$f":"$D982*$F985*H985","v":0}]
[null,null,null,null,"ตราสารหนี้",null,{"$f":"D982*F986","v":0},null,{"$f":"$D982*$F986*H986","v":0}]
[null,null,null,null,"อื่นๆ",null,{"$f":"D982*F987","v":0},null,{"$f":"$D982*$F987*H987","v":0}]
[null,164,null,null,"ตราสารทุน",null,{"$f":"D988*F988","v":0},null,{"$f":"$D988*$F988*H988","v":0},{"$f":"SUM(I988:I993)","v":0}]
[null,null,null,null,"อสังหาริมทรัพย์",null,{"$f":"D988*F989","v":0},null,{"$f":"$D988*$F989*H989","v":0}]
[null,null,null,null,"สินค้าโภคภัณฑ์",null,{"$f":"D988*F990","v":0},null,{"$f":"$D988*$F990*H990","v":0}]
[null,null,null,null,"เงินฝาก",null,{"$f":"D988*F991","v":0},null,{"$f":"$D988*$F991*H991","v":0}]
[null,null,null,null,"ตราสารหนี้",null,{"$f":"D988*F992","v":0},null,{"$f":"$D988*$F992*H992","v":0}]
[null,null,null,null,"อื่นๆ",null,{"$f":"D988*F993","v":0},null,{"$f":"$D988*$F993*H993","v":0}]
[null,165,null,null,"ตราสารทุน",null,{"$f":"D994*F994","v":0},null,{"$f":"$D994*$F994*H994","v":0},{"$f":"SUM(I994:I999)","v":0}]
[null,null,null,null,"อสังหาริมทรัพย์",null,{"$f":"D994*F995","v":0},null,{"$f":"$D994*$F995*H995","v":0}]
[null,null,null,null,"สินค้าโภคภัณฑ์",null,{"$f":"D994*F996","v":0},null,{"$f":"$D994*$F996*H996","v":0}]
[null,null,null,null,"เงินฝาก",null,{"$f":"D994*F997","v":0},null,{"$f":"$D994*$F997*H997","v":0}]
[null,null,null,null,"ตราสารหนี้",null,{"$f":"D994*F998","v":0},null,{"$f":"$D994*$F998*H998","v":0}]
[null,null,null,null,"อื่นๆ",null,{"$f":"D994*F999","v":0},null,{"$f":"$D994*$F999*H999","v":0}]
[null,166,null,null,"ตราสารทุน",null,{"$f":"D1000*F1000","v":0},null,{"$f":"$D1000*$F1000*H1000","v":0},{"$f":"SUM(I1000:I1005)","v":0}]
[null,null,null,null,"อสังหาริมทรัพย์",null,{"$f":"D1000*F1001","v":0},null,{"$f":"$D1000*$F1001*H1001","v":0}]
[null,null,null,null,"สินค้าโภคภัณฑ์",null,{"$f":"D1000*F1002","v":0},null,{"$f":"$D1000*$F1002*H1002","v":0}]
[null,null,null,null,"เงินฝาก",null,{"$f":"D1000*F1003","v":0},null,{"$f":"$D1000*$F1003*H1003","v":0}]
[null,null,null,null,"ตราสารหนี้",null,{"$f":"D1000*F1004","v":0},null,{"$f":"$D1000*$F1004*H1004","v":0}]
[null,null,null,null,"อื่นๆ",null,{"$f":"D1000*F1005","v":0},null,{"$f":"$D1000*$F1005*H1005","v":0}]
[null,167,null,null,"ตราสารทุน",null,{"$f":"D1006*F1006","v":0},null,{"$f":"$D1006*$F1006*H1006","v":0},{"$f":"SUM(I1006:I1011)","v":0}]
[null,null,null,null,"อสังหาริมทรัพย์",null,{"$f":"D1006*F1007","v":0},null,{"$f":"$D1006*$F1007*H1007","v":0}]
[null,null,null,null,"สินค้าโภคภัณฑ์",null,{"$f":"D1006*F1008","v":0},null,{"$f":"$D1006*$F1008*H1008","v":0}]
[null,null,null,null,"เงินฝาก",null,{"$f":"D1006*F1009","v":0},null,{"$f":"$D1006*$F1009*H1009","v":0}]
[null,null,null,null,"ตราสารหนี้",null,{"$f":"D1006*F1010","v":0},null,{"$f":"$D1006*$F1010*H1010","v":0}]
[null,null,null,null,"อื่นๆ",null,{"$f":"D1006*F1011","v":0},null,{"$f":"$D1006*$F1011*H1011","v":0}]
[null,168,null,null,"ตราสารทุน",null,{"$f":"D1012*F1012","v":0},null,{"$f":"$D1012*$F1012*H1012","v":0},{"$f":"SUM(I1012:I1017)","v":0}]
[null,null,null,null,"อสังหาริมทรัพย์",null,{"$f":"D1012*F1013","v":0},null,{"$f":"$D1012*$F1013*H1013","v":0}]
[null,null,null,null,"สินค้าโภคภัณฑ์",null,{"$f":"D1012*F1014","v":0},null,{"$f":"$D1012*$F1014*H1014","v":0}]
[null,null,null,null,"เงินฝาก",null,{"$f":"D1012*F1015","v":0},null,{"$f":"$D1012*$F1015*H1015","v":0}]
[null,null,null,null,"ตราสารหนี้",null,{"$f":"D1012*F1016","v":0},null,{"$f":"$D1012*$F1016*H1016","v":0}]
[null,null,null,null,"อื่นๆ",null,{"$f":"D1012*F1017","v":0},null,{"$f":"$D1012*$F1017*H1017","v":0}]
[null,169,null,null,"ตราสารทุน",null,{"$f":"D1018*F1018","v":0},null,{"$f":"$D1018*$F1018*H1018","v":0},{"$f":"SUM(I1018:I1023)","v":0}]
[null,null,null,null,"อสังหาริมทรัพย์",null,{"$f":"D1018*F1019","v":0},null,{"$f":"$D1018*$F1019*H1019","v":0}]
[null,null,null,null,"สินค้าโภคภัณฑ์",null,{"$f":"D1018*F1020","v":0},null,{"$f":"$D1018*$F1020*H1020","v":0}]
[null,null,null,null,"เงินฝาก",null,{"$f":"D1018*F1021","v":0},null,{"$f":"$D1018*$F1021*H1021","v":0}]
[null,null,null,null,"ตราสารหนี้",null,{"$f":"D1018*F1022","v":0},null,{"$f":"$D1018*$F1022*H1022","v":0}]
[null,null,null,null,"อื่นๆ",null,{"$f":"D1018*F1023","v":0},null,{"$f":"$D1018*$F1023*H1023","v":0}]
[null,170,null,null,"ตราสารทุน",null,{"$f":"D1024*F1024","v":0},null,{"$f":"$D1024*$F1024*H1024","v":0},{"$f":"SUM(I1024:I1029)","v":0}]
[null,null,null,null,"อสังหาริมทรัพย์",null,{"$f":"D1024*F1025","v":0},null,{"$f":"$D1024*$F1025*H1025","v":0}]
[null,null,null,null,"สินค้าโภคภัณฑ์",null,{"$f":"D1024*F1026","v":0},null,{"$f":"$D1024*$F1026*H1026","v":0}]
[null,null,null,null,"เงินฝาก",null,{"$f":"D1024*F1027","v":0},null,{"$f":"$D1024*$F1027*H1027","v":0}]
[null,null,null,null,"ตราสารหนี้",null,{"$f":"D1024*F1028","v":0},null,{"$f":"$D1024*$F1028*H1028","v":0}]
[null,null,null,null,"อื่นๆ",null,{"$f":"D1024*F1029","v":0},null,{"$f":"$D1024*$F1029*H1029","v":0}]
[null,171,null,null,"ตราสารทุน",null,{"$f":"D1030*F1030","v":0},null,{"$f":"$D1030*$F1030*H1030","v":0},{"$f":"SUM(I1030:I1035)","v":0}]
[null,null,null,null,"อสังหาริมทรัพย์",null,{"$f":"D1030*F1031","v":0},null,{"$f":"$D1030*$F1031*H1031","v":0}]
[null,null,null,null,"สินค้าโภคภัณฑ์",null,{"$f":"D1030*F1032","v":0},null,{"$f":"$D1030*$F1032*H1032","v":0}]
[null,null,null,null,"เงินฝาก",null,{"$f":"D1030*F1033","v":0},null,{"$f":"$D1030*$F1033*H1033","v":0}]
[null,null,null,null,"ตราสารหนี้",null,{"$f":"D1030*F1034","v":0},null,{"$f":"$D1030*$F1034*H1034","v":0}]
[null,null,null,null,"อื่นๆ",null,{"$f":"D1030*F1035","v":0},null,{"$f":"$D1030*$F1035*H1035","v":0}]
[null,172,null,null,"ตราสารทุน",null,{"$f":"D1036*F1036","v":0},null,{"$f":"$D1036*$F1036*H1036","v":0},{"$f":"SUM(I1036:I1041)","v":0}]
[null,null,null,null,"อสังหาริมทรัพย์",null,{"$f":"D1036*F1037","v":0},null,{"$f":"$D1036*$F1037*H1037","v":0}]
[null,null,null,null,"สินค้าโภคภัณฑ์",null,{"$f":"D1036*F1038","v":0},null,{"$f":"$D1036*$F1038*H1038","v":0}]
[null,null,null,null,"เงินฝาก",null,{"$f":"D1036*F1039","v":0},null,{"$f":"$D1036*$F1039*H1039","v":0}]
[null,null,null,null,"ตราสารหนี้",null,{"$f":"D1036*F1040","v":0},null,{"$f":"$D1036*$F1040*H1040","v":0}]
[null,null,null,null,"อื่นๆ",null,{"$f":"D1036*F1041","v":0},null,{"$f":"$D1036*$F1041*H1041","v":0}]
[null,173,null,null,"ตราสารทุน",null,{"$f":"D1042*F1042","v":0},null,{"$f":"$D1042*$F1042*H1042","v":0},{"$f":"SUM(I1042:I1047)","v":0}]
[null,null,null,null,"อสังหาริมทรัพย์",null,{"$f":"D1042*F1043","v":0},null,{"$f":"$D1042*$F1043*H1043","v":0}]
[null,null,null,null,"สินค้าโภคภัณฑ์",null,{"$f":"D1042*F1044","v":0},null,{"$f":"$D1042*$F1044*H1044","v":0}]
[null,null,null,null,"เงินฝาก",null,{"$f":"D1042*F1045","v":0},null,{"$f":"$D1042*$F1045*H1045","v":0}]
[null,null,null,null,"ตราสารหนี้",null,{"$f":"D1042*F1046","v":0},null,{"$f":"$D1042*$F1046*H1046","v":0}]
[null,null,null,null,"อื่นๆ",null,{"$f":"D1042*F1047","v":0},null,{"$f":"$D1042*$F1047*H1047","v":0}]
[null,174,null,null,"ตราสารทุน",null,{"$f":"D1048*F1048","v":0},null,{"$f":"$D1048*$F1048*H1048","v":0},{"$f":"SUM(I1048:I1053)","v":0}]
[null,null,null,null,"อสังหาริมทรัพย์",null,{"$f":"D1048*F1049","v":0},null,{"$f":"$D1048*$F1049*H1049","v":0}]
[null,null,null,null,"สินค้าโภคภัณฑ์",null,{"$f":"D1048*F1050","v":0},null,{"$f":"$D1048*$F1050*H1050","v":0}]
[null,null,null,null,"เงินฝาก",null,{"$f":"D1048*F1051","v":0},null,{"$f":"$D1048*$F1051*H1051","v":0}]
[null,null,null,null,"ตราสารหนี้",null,{"$f":"D1048*F1052","v":0},null,{"$f":"$D1048*$F1052*H1052","v":0}]
[null,null,null,null,"อื่นๆ",null,{"$f":"D1048*F1053","v":0},null,{"$f":"$D1048*$F1053*H1053","v":0}]
[null,175,null,null,"ตราสารทุน",null,{"$f":"D1054*F1054","v":0},null,{"$f":"$D1054*$F1054*H1054","v":0},{"$f":"SUM(I1054:I1059)","v":0}]
[null,null,null,null,"อสังหาริมทรัพย์",null,{"$f":"D1054*F1055","v":0},null,{"$f":"$D1054*$F1055*H1055","v":0}]
[null,null,null,null,"สินค้าโภคภัณฑ์",null,{"$f":"D1054*F1056","v":0},null,{"$f":"$D1054*$F1056*H1056","v":0}]
[null,null,null,null,"เงินฝาก",null,{"$f":"D1054*F1057","v":0},null,{"$f":"$D1054*$F1057*H1057","v":0}]
[null,null,null,null,"ตราสารหนี้",null,{"$f":"D1054*F1058","v":0},null,{"$f":"$D1054*$F1058*H1058","v":0}]
[null,null,null,null,"อื่นๆ",null,{"$f":"D1054*F1059","v":0},null,{"$f":"$D1054*$F1059*H1059","v":0}]
[null,176,null,null,"ตราสารทุน",null,{"$f":"D1060*F1060","v":0},null,{"$f":"$D1060*$F1060*H1060","v":0},{"$f":"SUM(I1060:I1065)","v":0}]
[null,null,null,null,"อสังหาริมทรัพย์",null,{"$f":"D1060*F1061","v":0},null,{"$f":"$D1060*$F1061*H1061","v":0}]
[null,null,null,null,"สินค้าโภคภัณฑ์",null,{"$f":"D1060*F1062","v":0},null,{"$f":"$D1060*$F1062*H1062","v":0}]
[null,null,null,null,"เงินฝาก",null,{"$f":"D1060*F1063","v":0},null,{"$f":"$D1060*$F1063*H1063","v":0}]
[null,null,null,null,"ตราสารหนี้",null,{"$f":"D1060*F1064","v":0},null,{"$f":"$D1060*$F1064*H1064","v":0}]
[null,null,null,null,"อื่นๆ",null,{"$f":"D1060*F1065","v":0},null,{"$f":"$D1060*$F1065*H1065","v":0}]
[null,177,null,null,"ตราสารทุน",null,{"$f":"D1066*F1066","v":0},null,{"$f":"$D1066*$F1066*H1066","v":0},{"$f":"SUM(I1066:I1071)","v":0}]
[null,null,null,null,"อสังหาริมทรัพย์",null,{"$f":"D1066*F1067","v":0},null,{"$f":"$D1066*$F1067*H1067","v":0}]
[null,null,null,null,"สินค้าโภคภัณฑ์",null,{"$f":"D1066*F1068","v":0},null,{"$f":"$D1066*$F1068*H1068","v":0}]
[null,null,null,null,"เงินฝาก",null,{"$f":"D1066*F1069","v":0},null,{"$f":"$D1066*$F1069*H1069","v":0}]
[null,null,null,null,"ตราสารหนี้",null,{"$f":"D1066*F1070","v":0},null,{"$f":"$D1066*$F1070*H1070","v":0}]
[null,null,null,null,"อื่นๆ",null,{"$f":"D1066*F1071","v":0},null,{"$f":"$D1066*$F1071*H1071","v":0}]
[null,178,null,null,"ตราสารทุน",null,{"$f":"D1072*F1072","v":0},null,{"$f":"$D1072*$F1072*H1072","v":0},{"$f":"SUM(I1072:I1077)","v":0}]
[null,null,null,null,"อสังหาริมทรัพย์",null,{"$f":"D1072*F1073","v":0},null,{"$f":"$D1072*$F1073*H1073","v":0}]
[null,null,null,null,"สินค้าโภคภัณฑ์",null,{"$f":"D1072*F1074","v":0},null,{"$f":"$D1072*$F1074*H1074","v":0}]
[null,null,null,null,"เงินฝาก",null,{"$f":"D1072*F1075","v":0},null,{"$f":"$D1072*$F1075*H1075","v":0}]
[null,null,null,null,"ตราสารหนี้",null,{"$f":"D1072*F1076","v":0},null,{"$f":"$D1072*$F1076*H1076","v":0}]
[null,null,null,null,"อื่นๆ",null,{"$f":"D1072*F1077","v":0},null,{"$f":"$D1072*$F1077*H1077","v":0}]
[null,179,null,null,"ตราสารทุน",null,{"$f":"D1078*F1078","v":0},null,{"$f":"$D1078*$F1078*H1078","v":0},{"$f":"SUM(I1078:I1083)","v":0}]
[null,null,null,null,"อสังหาริมทรัพย์",null,{"$f":"D1078*F1079","v":0},null,{"$f":"$D1078*$F1079*H1079","v":0}]
[null,null,null,null,"สินค้าโภคภัณฑ์",null,{"$f":"D1078*F1080","v":0},null,{"$f":"$D1078*$F1080*H1080","v":0}]
[null,null,null,null,"เงินฝาก",null,{"$f":"D1078*F1081","v":0},null,{"$f":"$D1078*$F1081*H1081","v":0}]
[null,null,null,null,"ตราสารหนี้",null,{"$f":"D1078*F1082","v":0},null,{"$f":"$D1078*$F1082*H1082","v":0}]
[null,null,null,null,"อื่นๆ",null,{"$f":"D1078*F1083","v":0},null,{"$f":"$D1078*$F1083*H1083","v":0}]
[null,180,null,null,"ตราสารทุน",null,{"$f":"D1084*F1084","v":0},null,{"$f":"$D1084*$F1084*H1084","v":0},{"$f":"SUM(I1084:I1089)","v":0}]
[null,null,null,null,"อสังหาริมทรัพย์",null,{"$f":"D1084*F1085","v":0},null,{"$f":"$D1084*$F1085*H1085","v":0}]
[null,null,null,null,"สินค้าโภคภัณฑ์",null,{"$f":"D1084*F1086","v":0},null,{"$f":"$D1084*$F1086*H1086","v":0}]
[null,null,null,null,"เงินฝาก",null,{"$f":"D1084*F1087","v":0},null,{"$f":"$D1084*$F1087*H1087","v":0}]
[null,null,null,null,"ตราสารหนี้",null,{"$f":"D1084*F1088","v":0},null,{"$f":"$D1084*$F1088*H1088","v":0}]
[null,null,null,null,"อื่นๆ",null,{"$f":"D1084*F1089","v":0},null,{"$f":"$D1084*$F1089*H1089","v":0}]
[null,181,null,null,"ตราสารทุน",null,{"$f":"D1090*F1090","v":0},null,{"$f":"$D1090*$F1090*H1090","v":0},{"$f":"SUM(I1090:I1095)","v":0}]
[null,null,null,null,"อสังหาริมทรัพย์",null,{"$f":"D1090*F1091","v":0},null,{"$f":"$D1090*$F1091*H1091","v":0}]
[null,null,null,null,"สินค้าโภคภัณฑ์",null,{"$f":"D1090*F1092","v":0},null,{"$f":"$D1090*$F1092*H1092","v":0}]
[null,null,null,null,"เงินฝาก",null,{"$f":"D1090*F1093","v":0},null,{"$f":"$D1090*$F1093*H1093","v":0}]
[null,null,null,null,"ตราสารหนี้",null,{"$f":"D1090*F1094","v":0},null,{"$f":"$D1090*$F1094*H1094","v":0}]
[null,null,null,null,"อื่นๆ",null,{"$f":"D1090*F1095","v":0},null,{"$f":"$D1090*$F1095*H1095","v":0}]
[null,182,null,null,"ตราสารทุน",null,{"$f":"D1096*F1096","v":0},null,{"$f":"$D1096*$F1096*H1096","v":0},{"$f":"SUM(I1096:I1101)","v":0}]
[null,null,null,null,"อสังหาริมทรัพย์",null,{"$f":"D1096*F1097","v":0},null,{"$f":"$D1096*$F1097*H1097","v":0}]
[null,null,null,null,"สินค้าโภคภัณฑ์",null,{"$f":"D1096*F1098","v":0},null,{"$f":"$D1096*$F1098*H1098","v":0}]
[null,null,null,null,"เงินฝาก",null,{"$f":"D1096*F1099","v":0},null,{"$f":"$D1096*$F1099*H1099","v":0}]
[null,null,null,null,"ตราสารหนี้",null,{"$f":"D1096*F1100","v":0},null,{"$f":"$D1096*$F1100*H1100","v":0}]
[null,null,null,null,"อื่นๆ",null,{"$f":"D1096*F1101","v":0},null,{"$f":"$D1096*$F1101*H1101","v":0}]
[null,183,null,null,"ตราสารทุน",null,{"$f":"D1102*F1102","v":0},null,{"$f":"$D1102*$F1102*H1102","v":0},{"$f":"SUM(I1102:I1107)","v":0}]
[null,null,null,null,"อสังหาริมทรัพย์",null,{"$f":"D1102*F1103","v":0},null,{"$f":"$D1102*$F1103*H1103","v":0}]
[null,null,null,null,"สินค้าโภคภัณฑ์",null,{"$f":"D1102*F1104","v":0},null,{"$f":"$D1102*$F1104*H1104","v":0}]
[null,null,null,null,"เงินฝาก",null,{"$f":"D1102*F1105","v":0},null,{"$f":"$D1102*$F1105*H1105","v":0}]
[null,null,null,null,"ตราสารหนี้",null,{"$f":"D1102*F1106","v":0},null,{"$f":"$D1102*$F1106*H1106","v":0}]
[null,null,null,null,"อื่นๆ",null,{"$f":"D1102*F1107","v":0},null,{"$f":"$D1102*$F1107*H1107","v":0}]
[null,184,null,null,"ตราสารทุน",null,{"$f":"D1108*F1108","v":0},null,{"$f":"$D1108*$F1108*H1108","v":0},{"$f":"SUM(I1108:I1113)","v":0}]
[null,null,null,null,"อสังหาริมทรัพย์",null,{"$f":"D1108*F1109","v":0},null,{"$f":"$D1108*$F1109*H1109","v":0}]
[null,null,null,null,"สินค้าโภคภัณฑ์",null,{"$f":"D1108*F1110","v":0},null,{"$f":"$D1108*$F1110*H1110","v":0}]
[null,null,null,null,"เงินฝาก",null,{"$f":"D1108*F1111","v":0},null,{"$f":"$D1108*$F1111*H1111","v":0}]
[null,null,null,null,"ตราสารหนี้",null,{"$f":"D1108*F1112","v":0},null,{"$f":"$D1108*$F1112*H1112","v":0}]
[null,null,null,null,"อื่นๆ",null,{"$f":"D1108*F1113","v":0},null,{"$f":"$D1108*$F1113*H1113","v":0}]
[null,185,null,null,"ตราสารทุน",null,{"$f":"D1114*F1114","v":0},null,{"$f":"$D1114*$F1114*H1114","v":0},{"$f":"SUM(I1114:I1119)","v":0}]
[null,null,null,null,"อสังหาริมทรัพย์",null,{"$f":"D1114*F1115","v":0},null,{"$f":"$D1114*$F1115*H1115","v":0}]
[null,null,null,null,"สินค้าโภคภัณฑ์",null,{"$f":"D1114*F1116","v":0},null,{"$f":"$D1114*$F1116*H1116","v":0}]
[null,null,null,null,"เงินฝาก",null,{"$f":"D1114*F1117","v":0},null,{"$f":"$D1114*$F1117*H1117","v":0}]
[null,null,null,null,"ตราสารหนี้",null,{"$f":"D1114*F1118","v":0},null,{"$f":"$D1114*$F1118*H1118","v":0}]
[null,null,null,null,"อื่นๆ",null,{"$f":"D1114*F1119","v":0},null,{"$f":"$D1114*$F1119*H1119","v":0}]
[null,186,null,null,"ตราสารทุน",null,{"$f":"D1120*F1120","v":0},null,{"$f":"$D1120*$F1120*H1120","v":0},{"$f":"SUM(I1120:I1125)","v":0}]
[null,null,null,null,"อสังหาริมทรัพย์",null,{"$f":"D1120*F1121","v":0},null,{"$f":"$D1120*$F1121*H1121","v":0}]
[null,null,null,null,"สินค้าโภคภัณฑ์",null,{"$f":"D1120*F1122","v":0},null,{"$f":"$D1120*$F1122*H1122","v":0}]
[null,null,null,null,"เงินฝาก",null,{"$f":"D1120*F1123","v":0},null,{"$f":"$D1120*$F1123*H1123","v":0}]
[null,null,null,null,"ตราสารหนี้",null,{"$f":"D1120*F1124","v":0},null,{"$f":"$D1120*$F1124*H1124","v":0}]
[null,null,null,null,"อื่นๆ",null,{"$f":"D1120*F1125","v":0},null,{"$f":"$D1120*$F1125*H1125","v":0}]
[null,187,null,null,"ตราสารทุน",null,{"$f":"D1126*F1126","v":0},null,{"$f":"$D1126*$F1126*H1126","v":0},{"$f":"SUM(I1126:I1131)","v":0}]
[null,null,null,null,"อสังหาริมทรัพย์",null,{"$f":"D1126*F1127","v":0},null,{"$f":"$D1126*$F1127*H1127","v":0}]
[null,null,null,null,"สินค้าโภคภัณฑ์",null,{"$f":"D1126*F1128","v":0},null,{"$f":"$D1126*$F1128*H1128","v":0}]
[null,null,null,null,"เงินฝาก",null,{"$f":"D1126*F1129","v":0},null,{"$f":"$D1126*$F1129*H1129","v":0}]
[null,null,null,null,"ตราสารหนี้",null,{"$f":"D1126*F1130","v":0},null,{"$f":"$D1126*$F1130*H1130","v":0}]
[null,null,null,null,"อื่นๆ",null,{"$f":"D1126*F1131","v":0},null,{"$f":"$D1126*$F1131*H1131","v":0}]
[null,188,null,null,"ตราสารทุน",null,{"$f":"D1132*F1132","v":0},null,{"$f":"$D1132*$F1132*H1132","v":0},{"$f":"SUM(I1132:I1137)","v":0}]
[null,null,null,null,"อสังหาริมทรัพย์",null,{"$f":"D1132*F1133","v":0},null,{"$f":"$D1132*$F1133*H1133","v":0}]
[null,null,null,null,"สินค้าโภคภัณฑ์",null,{"$f":"D1132*F1134","v":0},null,{"$f":"$D1132*$F1134*H1134","v":0}]
[null,null,null,null,"เงินฝาก",null,{"$f":"D1132*F1135","v":0},null,{"$f":"$D1132*$F1135*H1135","v":0}]
[null,null,null,null,"ตราสารหนี้",null,{"$f":"D1132*F1136","v":0},null,{"$f":"$D1132*$F1136*H1136","v":0}]
[null,null,null,null,"อื่นๆ",null,{"$f":"D1132*F1137","v":0},null,{"$f":"$D1132*$F1137*H1137","v":0}]
[null,189,null,null,"ตราสารทุน",null,{"$f":"D1138*F1138","v":0},null,{"$f":"$D1138*$F1138*H1138","v":0},{"$f":"SUM(I1138:I1143)","v":0}]
[null,null,null,null,"อสังหาริมทรัพย์",null,{"$f":"D1138*F1139","v":0},null,{"$f":"$D1138*$F1139*H1139","v":0}]
[null,null,null,null,"สินค้าโภคภัณฑ์",null,{"$f":"D1138*F1140","v":0},null,{"$f":"$D1138*$F1140*H1140","v":0}]
[null,null,null,null,"เงินฝาก",null,{"$f":"D1138*F1141","v":0},null,{"$f":"$D1138*$F1141*H1141","v":0}]
[null,null,null,null,"ตราสารหนี้",null,{"$f":"D1138*F1142","v":0},null,{"$f":"$D1138*$F1142*H1142","v":0}]
[null,null,null,null,"อื่นๆ",null,{"$f":"D1138*F1143","v":0},null,{"$f":"$D1138*$F1143*H1143","v":0}]
[null,190,null,null,"ตราสารทุน",null,{"$f":"D1144*F1144","v":0},null,{"$f":"$D1144*$F1144*H1144","v":0},{"$f":"SUM(I1144:I1149)","v":0}]
[null,null,null,null,"อสังหาริมทรัพย์",null,{"$f":"D1144*F1145","v":0},null,{"$f":"$D1144*$F1145*H1145","v":0}]
[null,null,null,null,"สินค้าโภคภัณฑ์",null,{"$f":"D1144*F1146","v":0},null,{"$f":"$D1144*$F1146*H1146","v":0}]
[null,null,null,null,"เงินฝาก",null,{"$f":"D1144*F1147","v":0},null,{"$f":"$D1144*$F1147*H1147","v":0}]
[null,null,null,null,"ตราสารหนี้",null,{"$f":"D1144*F1148","v":0},null,{"$f":"$D1144*$F1148*H1148","v":0}]
[null,null,null,null,"อื่นๆ",null,{"$f":"D1144*F1149","v":0},null,{"$f":"$D1144*$F1149*H1149","v":0}]
[null,191,null,null,"ตราสารทุน",null,{"$f":"D1150*F1150","v":0},null,{"$f":"$D1150*$F1150*H1150","v":0},{"$f":"SUM(I1150:I1155)","v":0}]
[null,null,null,null,"อสังหาริมทรัพย์",null,{"$f":"D1150*F1151","v":0},null,{"$f":"$D1150*$F1151*H1151","v":0}]
[null,null,null,null,"สินค้าโภคภัณฑ์",null,{"$f":"D1150*F1152","v":0},null,{"$f":"$D1150*$F1152*H1152","v":0}]
[null,null,null,null,"เงินฝาก",null,{"$f":"D1150*F1153","v":0},null,{"$f":"$D1150*$F1153*H1153","v":0}]
[null,null,null,null,"ตราสารหนี้",null,{"$f":"D1150*F1154","v":0},null,{"$f":"$D1150*$F1154*H1154","v":0}]
[null,null,null,null,"อื่นๆ",null,{"$f":"D1150*F1155","v":0},null,{"$f":"$D1150*$F1155*H1155","v":0}]
[null,192,null,null,"ตราสารทุน",null,{"$f":"D1156*F1156","v":0},null,{"$f":"$D1156*$F1156*H1156","v":0},{"$f":"SUM(I1156:I1161)","v":0}]
[null,null,null,null,"อสังหาริมทรัพย์",null,{"$f":"D1156*F1157","v":0},null,{"$f":"$D1156*$F1157*H1157","v":0}]
[null,null,null,null,"สินค้าโภคภัณฑ์",null,{"$f":"D1156*F1158","v":0},null,{"$f":"$D1156*$F1158*H1158","v":0}]
[null,null,null,null,"เงินฝาก",null,{"$f":"D1156*F1159","v":0},null,{"$f":"$D1156*$F1159*H1159","v":0}]
[null,null,null,null,"ตราสารหนี้",null,{"$f":"D1156*F1160","v":0},null,{"$f":"$D1156*$F1160*H1160","v":0}]
[null,null,null,null,"อื่นๆ",null,{"$f":"D1156*F1161","v":0},null,{"$f":"$D1156*$F1161*H1161","v":0}]
[null,193,null,null,"ตราสารทุน",null,{"$f":"D1162*F1162","v":0},null,{"$f":"$D1162*$F1162*H1162","v":0},{"$f":"SUM(I1162:I1167)","v":0}]
[null,null,null,null,"อสังหาริมทรัพย์",null,{"$f":"D1162*F1163","v":0},null,{"$f":"$D1162*$F1163*H1163","v":0}]
[null,null,null,null,"สินค้าโภคภัณฑ์",null,{"$f":"D1162*F1164","v":0},null,{"$f":"$D1162*$F1164*H1164","v":0}]
[null,null,null,null,"เงินฝาก",null,{"$f":"D1162*F1165","v":0},null,{"$f":"$D1162*$F1165*H1165","v":0}]
[null,null,null,null,"ตราสารหนี้",null,{"$f":"D1162*F1166","v":0},null,{"$f":"$D1162*$F1166*H1166","v":0}]
[null,null,null,null,"อื่นๆ",null,{"$f":"D1162*F1167","v":0},null,{"$f":"$D1162*$F1167*H1167","v":0}]
[null,194,null,null,"ตราสารทุน",null,{"$f":"D1168*F1168","v":0},null,{"$f":"$D1168*$F1168*H1168","v":0},{"$f":"SUM(I1168:I1173)","v":0}]
[null,null,null,null,"อสังหาริมทรัพย์",null,{"$f":"D1168*F1169","v":0},null,{"$f":"$D1168*$F1169*H1169","v":0}]
[null,null,null,null,"สินค้าโภคภัณฑ์",null,{"$f":"D1168*F1170","v":0},null,{"$f":"$D1168*$F1170*H1170","v":0}]
[null,null,null,null,"เงินฝาก",null,{"$f":"D1168*F1171","v":0},null,{"$f":"$D1168*$F1171*H1171","v":0}]
[null,null,null,null,"ตราสารหนี้",null,{"$f":"D1168*F1172","v":0},null,{"$f":"$D1168*$F1172*H1172","v":0}]
[null,null,null,null,"อื่นๆ",null,{"$f":"D1168*F1173","v":0},null,{"$f":"$D1168*$F1173*H1173","v":0}]
[null,195,null,null,"ตราสารทุน",null,{"$f":"D1174*F1174","v":0},null,{"$f":"$D1174*$F1174*H1174","v":0},{"$f":"SUM(I1174:I1179)","v":0}]
[null,null,null,null,"อสังหาริมทรัพย์",null,{"$f":"D1174*F1175","v":0},null,{"$f":"$D1174*$F1175*H1175","v":0}]
[null,null,null,null,"สินค้าโภคภัณฑ์",null,{"$f":"D1174*F1176","v":0},null,{"$f":"$D1174*$F1176*H1176","v":0}]
[null,null,null,null,"เงินฝาก",null,{"$f":"D1174*F1177","v":0},null,{"$f":"$D1174*$F1177*H1177","v":0}]
[null,null,null,null,"ตราสารหนี้",null,{"$f":"D1174*F1178","v":0},null,{"$f":"$D1174*$F1178*H1178","v":0}]
[null,null,null,null,"อื่นๆ",null,{"$f":"D1174*F1179","v":0},null,{"$f":"$D1174*$F1179*H1179","v":0}]
[null,196,null,null,"ตราสารทุน",null,{"$f":"D1180*F1180","v":0},null,{"$f":"$D1180*$F1180*H1180","v":0},{"$f":"SUM(I1180:I1185)","v":0}]
[null,null,null,null,"อสังหาริมทรัพย์",null,{"$f":"D1180*F1181","v":0},null,{"$f":"$D1180*$F1181*H1181","v":0}]
[null,null,null,null,"สินค้าโภคภัณฑ์",null,{"$f":"D1180*F1182","v":0},null,{"$f":"$D1180*$F1182*H1182","v":0}]
[null,null,null,null,"เงินฝาก",null,{"$f":"D1180*F1183","v":0},null,{"$f":"$D1180*$F1183*H1183","v":0}]
[null,null,null,null,"ตราสารหนี้",null,{"$f":"D1180*F1184","v":0},null,{"$f":"$D1180*$F1184*H1184","v":0}]
[null,null,null,null,"อื่นๆ",null,{"$f":"D1180*F1185","v":0},null,{"$f":"$D1180*$F1185*H1185","v":0}]
[null,197,null,null,"ตราสารทุน",null,{"$f":"D1186*F1186","v":0},null,{"$f":"$D1186*$F1186*H1186","v":0},{"$f":"SUM(I1186:I1191)","v":0}]
[null,null,null,null,"อสังหาริมทรัพย์",null,{"$f":"D1186*F1187","v":0},null,{"$f":"$D1186*$F1187*H1187","v":0}]
[null,null,null,null,"สินค้าโภคภัณฑ์",null,{"$f":"D1186*F1188","v":0},null,{"$f":"$D1186*$F1188*H1188","v":0}]
[null,null,null,null,"เงินฝาก",null,{"$f":"D1186*F1189","v":0},null,{"$f":"$D1186*$F1189*H1189","v":0}]
[null,null,null,null,"ตราสารหนี้",null,{"$f":"D1186*F1190","v":0},null,{"$f":"$D1186*$F1190*H1190","v":0}]
[null,null,null,null,"อื่นๆ",null,{"$f":"D1186*F1191","v":0},null,{"$f":"$D1186*$F1191*H1191","v":0}]
[null,198,null,null,"ตราสารทุน",null,{"$f":"D1192*F1192","v":0},null,{"$f":"$D1192*$F1192*H1192","v":0},{"$f":"SUM(I1192:I1197)","v":0}]
[null,null,null,null,"อสังหาริมทรัพย์",null,{"$f":"D1192*F1193","v":0},null,{"$f":"$D1192*$F1193*H1193","v":0}]
[null,null,null,null,"สินค้าโภคภัณฑ์",null,{"$f":"D1192*F1194","v":0},null,{"$f":"$D1192*$F1194*H1194","v":0}]
[null,null,null,null,"เงินฝาก",null,{"$f":"D1192*F1195","v":0},null,{"$f":"$D1192*$F1195*H1195","v":0}]
[null,null,null,null,"ตราสารหนี้",null,{"$f":"D1192*F1196","v":0},null,{"$f":"$D1192*$F1196*H1196","v":0}]
[null,null,null,null,"อื่นๆ",null,{"$f":"D1192*F1197","v":0},null,{"$f":"$D1192*$F1197*H1197","v":0}]
[null,199,null,null,"ตราสารทุน",null,{"$f":"D1198*F1198","v":0},null,{"$f":"$D1198*$F1198*H1198","v":0},{"$f":"SUM(I1198:I1203)","v":0}]
[null,null,null,null,"อสังหาริมทรัพย์",null,{"$f":"D1198*F1199","v":0},null,{"$f":"$D1198*$F1199*H1199","v":0}]
[null,null,null,null,"สินค้าโภคภัณฑ์",null,{"$f":"D1198*F1200","v":0},null,{"$f":"$D1198*$F1200*H1200","v":0}]
[null,null,null,null,"เงินฝาก",null,{"$f":"D1198*F1201","v":0},null,{"$f":"$D1198*$F1201*H1201","v":0}]
[null,null,null,null,"ตราสารหนี้",null,{"$f":"D1198*F1202","v":0},null,{"$f":"$D1198*$F1202*H1202","v":0}]
[null,null,null,null,"อื่นๆ",null,{"$f":"D1198*F1203","v":0},null,{"$f":"$D1198*$F1203*H1203","v":0}]
[null,200,null,null,"ตราสารทุน",null,{"$f":"D1204*F1204","v":0},null,{"$f":"$D1204*$F1204*H1204","v":0},{"$f":"SUM(I1204:I1209)","v":0}]
[null,null,null,null,"อสังหาริมทรัพย์",null,{"$f":"D1204*F1205","v":0},null,{"$f":"$D1204*$F1205*H1205","v":0}]
[null,null,null,null,"สินค้าโภคภัณฑ์",null,{"$f":"D1204*F1206","v":0},null,{"$f":"$D1204*$F1206*H1206","v":0}]
[null,null,null,null,"เงินฝาก",null,{"$f":"D1204*F1207","v":0},null,{"$f":"$D1204*$F1207*H1207","v":0}]
[null,null,null,null,"ตราสารหนี้",null,{"$f":"D1204*F1208","v":0},null,{"$f":"$D1204*$F1208*H1208","v":0}]
[null,null,null,null,"อื่นๆ",null,{"$f":"D1204*F1209","v":0},null,{"$f":"$D1204*$F1209*H1209","v":0}]
[null,201,null,null,"ตราสารทุน",null,{"$f":"D1210*F1210","v":0},null,{"$f":"$D1210*$F1210*H1210","v":0},{"$f":"SUM(I1210:I1215)","v":0}]
[null,null,null,null,"อสังหาริมทรัพย์",null,{"$f":"D1210*F1211","v":0},null,{"$f":"$D1210*$F1211*H1211","v":0}]
[null,null,null,null,"สินค้าโภคภัณฑ์",null,{"$f":"D1210*F1212","v":0},null,{"$f":"$D1210*$F1212*H1212","v":0}]
[null,null,null,null,"เงินฝาก",null,{"$f":"D1210*F1213","v":0},null,{"$f":"$D1210*$F1213*H1213","v":0}]
[null,null,null,null,"ตราสารหนี้",null,{"$f":"D1210*F1214","v":0},null,{"$f":"$D1210*$F1214*H1214","v":0}]
[null,null,null,null,"อื่นๆ",null,{"$f":"D1210*F1215","v":0},null,{"$f":"$D1210*$F1215*H1215","v":0}]
[null,202,null,null,"ตราสารทุน",null,{"$f":"D1216*F1216","v":0},null,{"$f":"$D1216*$F1216*H1216","v":0},{"$f":"SUM(I1216:I1221)","v":0}]
[null,null,null,null,"อสังหาริมทรัพย์",null,{"$f":"D1216*F1217","v":0},null,{"$f":"$D1216*$F1217*H1217","v":0}]
[null,null,null,null,"สินค้าโภคภัณฑ์",null,{"$f":"D1216*F1218","v":0},null,{"$f":"$D1216*$F1218*H1218","v":0}]
[null,null,null,null,"เงินฝาก",null,{"$f":"D1216*F1219","v":0},null,{"$f":"$D1216*$F1219*H1219","v":0}]
[null,null,null,null,"ตราสารหนี้",null,{"$f":"D1216*F1220","v":0},null,{"$f":"$D1216*$F1220*H1220","v":0}]
[null,null,null,null,"อื่นๆ",null,{"$f":"D1216*F1221","v":0},null,{"$f":"$D1216*$F1221*H1221","v":0}]
[null,203,null,null,"ตราสารทุน",null,{"$f":"D1222*F1222","v":0},null,{"$f":"$D1222*$F1222*H1222","v":0},{"$f":"SUM(I1222:I1227)","v":0}]
[null,null,null,null,"อสังหาริมทรัพย์",null,{"$f":"D1222*F1223","v":0},null,{"$f":"$D1222*$F1223*H1223","v":0}]
[null,null,null,null,"สินค้าโภคภัณฑ์",null,{"$f":"D1222*F1224","v":0},null,{"$f":"$D1222*$F1224*H1224","v":0}]
[null,null,null,null,"เงินฝาก",null,{"$f":"D1222*F1225","v":0},null,{"$f":"$D1222*$F1225*H1225","v":0}]
[null,null,null,null,"ตราสารหนี้",null,{"$f":"D1222*F1226","v":0},null,{"$f":"$D1222*$F1226*H1226","v":0}]
[null,null,null,null,"อื่นๆ",null,{"$f":"D1222*F1227","v":0},null,{"$f":"$D1222*$F1227*H1227","v":0}]
[null,204,null,null,"ตราสารทุน",null,{"$f":"D1228*F1228","v":0},null,{"$f":"$D1228*$F1228*H1228","v":0},{"$f":"SUM(I1228:I1233)","v":0}]
[null,null,null,null,"อสังหาริมทรัพย์",null,{"$f":"D1228*F1229","v":0},null,{"$f":"$D1228*$F1229*H1229","v":0}]
[null,null,null,null,"สินค้าโภคภัณฑ์",null,{"$f":"D1228*F1230","v":0},null,{"$f":"$D1228*$F1230*H1230","v":0}]
[null,null,null,null,"เงินฝาก",null,{"$f":"D1228*F1231","v":0},null,{"$f":"$D1228*$F1231*H1231","v":0}]
[null,null,null,null,"ตราสารหนี้",null,{"$f":"D1228*F1232","v":0},null,{"$f":"$D1228*$F1232*H1232","v":0}]
[null,null,null,null,"อื่นๆ",null,{"$f":"D1228*F1233","v":0},null,{"$f":"$D1228*$F1233*H1233","v":0}]
[null,205,null,null,"ตราสารทุน",null,{"$f":"D1234*F1234","v":0},null,{"$f":"$D1234*$F1234*H1234","v":0},{"$f":"SUM(I1234:I1239)","v":0}]
[null,null,null,null,"อสังหาริมทรัพย์",null,{"$f":"D1234*F1235","v":0},null,{"$f":"$D1234*$F1235*H1235","v":0}]
[null,null,null,null,"สินค้าโภคภัณฑ์",null,{"$f":"D1234*F1236","v":0},null,{"$f":"$D1234*$F1236*H1236","v":0}]
[null,null,null,null,"เงินฝาก",null,{"$f":"D1234*F1237","v":0},null,{"$f":"$D1234*$F1237*H1237","v":0}]
[null,null,null,null,"ตราสารหนี้",null,{"$f":"D1234*F1238","v":0},null,{"$f":"$D1234*$F1238*H1238","v":0}]
[null,null,null,null,"อื่นๆ",null,{"$f":"D1234*F1239","v":0},null,{"$f":"$D1234*$F1239*H1239","v":0}]
[null,206,null,null,"ตราสารทุน",null,{"$f":"D1240*F1240","v":0},null,{"$f":"$D1240*$F1240*H1240","v":0},{"$f":"SUM(I1240:I1245)","v":0}]
[null,null,null,null,"อสังหาริมทรัพย์",null,{"$f":"D1240*F1241","v":0},null,{"$f":"$D1240*$F1241*H1241","v":0}]
[null,null,null,null,"สินค้าโภคภัณฑ์",null,{"$f":"D1240*F1242","v":0},null,{"$f":"$D1240*$F1242*H1242","v":0}]
[null,null,null,null,"เงินฝาก",null,{"$f":"D1240*F1243","v":0},null,{"$f":"$D1240*$F1243*H1243","v":0}]
[null,null,null,null,"ตราสารหนี้",null,{"$f":"D1240*F1244","v":0},null,{"$f":"$D1240*$F1244*H1244","v":0}]
[null,null,null,null,"อื่นๆ",null,{"$f":"D1240*F1245","v":0},null,{"$f":"$D1240*$F1245*H1245","v":0}]
[null,207,null,null,"ตราสารทุน",null,{"$f":"D1246*F1246","v":0},null,{"$f":"$D1246*$F1246*H1246","v":0},{"$f":"SUM(I1246:I1251)","v":0}]
[null,null,null,null,"อสังหาริมทรัพย์",null,{"$f":"D1246*F1247","v":0},null,{"$f":"$D1246*$F1247*H1247","v":0}]
[null,null,null,null,"สินค้าโภคภัณฑ์",null,{"$f":"D1246*F1248","v":0},null,{"$f":"$D1246*$F1248*H1248","v":0}]
[null,null,null,null,"เงินฝาก",null,{"$f":"D1246*F1249","v":0},null,{"$f":"$D1246*$F1249*H1249","v":0}]
[null,null,null,null,"ตราสารหนี้",null,{"$f":"D1246*F1250","v":0},null,{"$f":"$D1246*$F1250*H1250","v":0}]
[null,null,null,null,"อื่นๆ",null,{"$f":"D1246*F1251","v":0},null,{"$f":"$D1246*$F1251*H1251","v":0}]
[null,208,null,null,"ตราสารทุน",null,{"$f":"D1252*F1252","v":0},null,{"$f":"$D1252*$F1252*H1252","v":0},{"$f":"SUM(I1252:I1257)","v":0}]
[null,null,null,null,"อสังหาริมทรัพย์",null,{"$f":"D1252*F1253","v":0},null,{"$f":"$D1252*$F1253*H1253","v":0}]
[null,null,null,null,"สินค้าโภคภัณฑ์",null,{"$f":"D1252*F1254","v":0},null,{"$f":"$D1252*$F1254*H1254","v":0}]
[null,null,null,null,"เงินฝาก",null,{"$f":"D1252*F1255","v":0},null,{"$f":"$D1252*$F1255*H1255","v":0}]
[null,null,null,null,"ตราสารหนี้",null,{"$f":"D1252*F1256","v":0},null,{"$f":"$D1252*$F1256*H1256","v":0}]
[null,null,null,null,"อื่นๆ",null,{"$f":"D1252*F1257","v":0},null,{"$f":"$D1252*$F1257*H1257","v":0}]
[null,209,null,null,"ตราสารทุน",null,{"$f":"D1258*F1258","v":0},null,{"$f":"$D1258*$F1258*H1258","v":0},{"$f":"SUM(I1258:I1263)","v":0}]
[null,null,null,null,"อสังหาริมทรัพย์",null,{"$f":"D1258*F1259","v":0},null,{"$f":"$D1258*$F1259*H1259","v":0}]
[null,null,null,null,"สินค้าโภคภัณฑ์",null,{"$f":"D1258*F1260","v":0},null,{"$f":"$D1258*$F1260*H1260","v":0}]
[null,null,null,null,"เงินฝาก",null,{"$f":"D1258*F1261","v":0},null,{"$f":"$D1258*$F1261*H1261","v":0}]
[null,null,null,null,"ตราสารหนี้",null,{"$f":"D1258*F1262","v":0},null,{"$f":"$D1258*$F1262*H1262","v":0}]
[null,null,null,null,"อื่นๆ",null,{"$f":"D1258*F1263","v":0},null,{"$f":"$D1258*$F1263*H1263","v":0}]
[null,210,null,null,"ตราสารทุน",null,{"$f":"D1264*F1264","v":0},null,{"$f":"$D1264*$F1264*H1264","v":0},{"$f":"SUM(I1264:I1269)","v":0}]
[null,null,null,null,"อสังหาริมทรัพย์",null,{"$f":"D1264*F1265","v":0},null,{"$f":"$D1264*$F1265*H1265","v":0}]
[null,null,null,null,"สินค้าโภคภัณฑ์",null,{"$f":"D1264*F1266","v":0},null,{"$f":"$D1264*$F1266*H1266","v":0}]
[null,null,null,null,"เงินฝาก",null,{"$f":"D1264*F1267","v":0},null,{"$f":"$D1264*$F1267*H1267","v":0}]
[null,null,null,null,"ตราสารหนี้",null,{"$f":"D1264*F1268","v":0},null,{"$f":"$D1264*$F1268*H1268","v":0}]
[null,null,null,null,"อื่นๆ",null,{"$f":"D1264*F1269","v":0},null,{"$f":"$D1264*$F1269*H1269","v":0}]
[null,211,null,null,"ตราสารทุน",null,{"$f":"D1270*F1270","v":0},null,{"$f":"$D1270*$F1270*H1270","v":0},{"$f":"SUM(I1270:I1275)","v":0}]
[null,null,null,null,"อสังหาริมทรัพย์",null,{"$f":"D1270*F1271","v":0},null,{"$f":"$D1270*$F1271*H1271","v":0}]
[null,null,null,null,"สินค้าโภคภัณฑ์",null,{"$f":"D1270*F1272","v":0},null,{"$f":"$D1270*$F1272*H1272","v":0}]
[null,null,null,null,"เงินฝาก",null,{"$f":"D1270*F1273","v":0},null,{"$f":"$D1270*$F1273*H1273","v":0}]
[null,null,null,null,"ตราสารหนี้",null,{"$f":"D1270*F1274","v":0},null,{"$f":"$D1270*$F1274*H1274","v":0}]
[null,null,null,null,"อื่นๆ",null,{"$f":"D1270*F1275","v":0},null,{"$f":"$D1270*$F1275*H1275","v":0}]
[null,212,null,null,"ตราสารทุน",null,{"$f":"D1276*F1276","v":0},null,{"$f":"$D1276*$F1276*H1276","v":0},{"$f":"SUM(I1276:I1281)","v":0}]
[null,null,null,null,"อสังหาริมทรัพย์",null,{"$f":"D1276*F1277","v":0},null,{"$f":"$D1276*$F1277*H1277","v":0}]
[null,null,null,null,"สินค้าโภคภัณฑ์",null,{"$f":"D1276*F1278","v":0},null,{"$f":"$D1276*$F1278*H1278","v":0}]
[null,null,null,null,"เงินฝาก",null,{"$f":"D1276*F1279","v":0},null,{"$f":"$D1276*$F1279*H1279","v":0}]
[null,null,null,null,"ตราสารหนี้",null,{"$f":"D1276*F1280","v":0},null,{"$f":"$D1276*$F1280*H1280","v":0}]
[null,null,null,null,"อื่นๆ",null,{"$f":"D1276*F1281","v":0},null,{"$f":"$D1276*$F1281*H1281","v":0}]
[null,213,null,null,"ตราสารทุน",null,{"$f":"D1282*F1282","v":0},null,{"$f":"$D1282*$F1282*H1282","v":0},{"$f":"SUM(I1282:I1287)","v":0}]
[null,null,null,null,"อสังหาริมทรัพย์",null,{"$f":"D1282*F1283","v":0},null,{"$f":"$D1282*$F1283*H1283","v":0}]
[null,null,null,null,"สินค้าโภคภัณฑ์",null,{"$f":"D1282*F1284","v":0},null,{"$f":"$D1282*$F1284*H1284","v":0}]
[null,null,null,null,"เงินฝาก",null,{"$f":"D1282*F1285","v":0},null,{"$f":"$D1282*$F1285*H1285","v":0}]
[null,null,null,null,"ตราสารหนี้",null,{"$f":"D1282*F1286","v":0},null,{"$f":"$D1282*$F1286*H1286","v":0}]
[null,null,null,null,"อื่นๆ",null,{"$f":"D1282*F1287","v":0},null,{"$f":"$D1282*$F1287*H1287","v":0}]
[null,214,null,null,"ตราสารทุน",null,{"$f":"D1288*F1288","v":0},null,{"$f":"$D1288*$F1288*H1288","v":0},{"$f":"SUM(I1288:I1293)","v":0}]
[null,null,null,null,"อสังหาริมทรัพย์",null,{"$f":"D1288*F1289","v":0},null,{"$f":"$D1288*$F1289*H1289","v":0}]
[null,null,null,null,"สินค้าโภคภัณฑ์",null,{"$f":"D1288*F1290","v":0},null,{"$f":"$D1288*$F1290*H1290","v":0}]
[null,null,null,null,"เงินฝาก",null,{"$f":"D1288*F1291","v":0},null,{"$f":"$D1288*$F1291*H1291","v":0}]
[null,null,null,null,"ตราสารหนี้",null,{"$f":"D1288*F1292","v":0},null,{"$f":"$D1288*$F1292*H1292","v":0}]
[null,null,null,null,"อื่นๆ",null,{"$f":"D1288*F1293","v":0},null,{"$f":"$D1288*$F1293*H1293","v":0}]
[null,215,null,null,"ตราสารทุน",null,{"$f":"D1294*F1294","v":0},null,{"$f":"$D1294*$F1294*H1294","v":0},{"$f":"SUM(I1294:I1299)","v":0}]
[null,null,null,null,"อสังหาริมทรัพย์",null,{"$f":"D1294*F1295","v":0},null,{"$f":"$D1294*$F1295*H1295","v":0}]
[null,null,null,null,"สินค้าโภคภัณฑ์",null,{"$f":"D1294*F1296","v":0},null,{"$f":"$D1294*$F1296*H1296","v":0}]
[null,null,null,null,"เงินฝาก",null,{"$f":"D1294*F1297","v":0},null,{"$f":"$D1294*$F1297*H1297","v":0}]
[null,null,null,null,"ตราสารหนี้",null,{"$f":"D1294*F1298","v":0},null,{"$f":"$D1294*$F1298*H1298","v":0}]
[null,null,null,null,"อื่นๆ",null,{"$f":"D1294*F1299","v":0},null,{"$f":"$D1294*$F1299*H1299","v":0}]
[null,216,null,null,"ตราสารทุน",null,{"$f":"D1300*F1300","v":0},null,{"$f":"$D1300*$F1300*H1300","v":0},{"$f":"SUM(I1300:I1305)","v":0}]
[null,null,null,null,"อสังหาริมทรัพย์",null,{"$f":"D1300*F1301","v":0},null,{"$f":"$D1300*$F1301*H1301","v":0}]
[null,null,null,null,"สินค้าโภคภัณฑ์",null,{"$f":"D1300*F1302","v":0},null,{"$f":"$D1300*$F1302*H1302","v":0}]
[null,null,null,null,"เงินฝาก",null,{"$f":"D1300*F1303","v":0},null,{"$f":"$D1300*$F1303*H1303","v":0}]
[null,null,null,null,"ตราสารหนี้",null,{"$f":"D1300*F1304","v":0},null,{"$f":"$D1300*$F1304*H1304","v":0}]
[null,null,null,null,"อื่นๆ",null,{"$f":"D1300*F1305","v":0},null,{"$f":"$D1300*$F1305*H1305","v":0}]
[null,217,null,null,"ตราสารทุน",null,{"$f":"D1306*F1306","v":0},null,{"$f":"$D1306*$F1306*H1306","v":0},{"$f":"SUM(I1306:I1311)","v":0}]
[null,null,null,null,"อสังหาริมทรัพย์",null,{"$f":"D1306*F1307","v":0},null,{"$f":"$D1306*$F1307*H1307","v":0}]
[null,null,null,null,"สินค้าโภคภัณฑ์",null,{"$f":"D1306*F1308","v":0},null,{"$f":"$D1306*$F1308*H1308","v":0}]
[null,null,null,null,"เงินฝาก",null,{"$f":"D1306*F1309","v":0},null,{"$f":"$D1306*$F1309*H1309","v":0}]
[null,null,null,null,"ตราสารหนี้",null,{"$f":"D1306*F1310","v":0},null,{"$f":"$D1306*$F1310*H1310","v":0}]
[null,null,null,null,"อื่นๆ",null,{"$f":"D1306*F1311","v":0},null,{"$f":"$D1306*$F1311*H1311","v":0}]
[null,218,null,null,"ตราสารทุน",null,{"$f":"D1312*F1312","v":0},null,{"$f":"$D1312*$F1312*H1312","v":0},{"$f":"SUM(I1312:I1317)","v":0}]
[null,null,null,null,"อสังหาริมทรัพย์",null,{"$f":"D1312*F1313","v":0},null,{"$f":"$D1312*$F1313*H1313","v":0}]
[null,null,null,null,"สินค้าโภคภัณฑ์",null,{"$f":"D1312*F1314","v":0},null,{"$f":"$D1312*$F1314*H1314","v":0}]
[null,null,null,null,"เงินฝาก",null,{"$f":"D1312*F1315","v":0},null,{"$f":"$D1312*$F1315*H1315","v":0}]
[null,null,null,null,"ตราสารหนี้",null,{"$f":"D1312*F1316","v":0},null,{"$f":"$D1312*$F1316*H1316","v":0}]
[null,null,null,null,"อื่นๆ",null,{"$f":"D1312*F1317","v":0},null,{"$f":"$D1312*$F1317*H1317","v":0}]
[null,219,null,null,"ตราสารทุน",null,{"$f":"D1318*F1318","v":0},null,{"$f":"$D1318*$F1318*H1318","v":0},{"$f":"SUM(I1318:I1323)","v":0}]
[null,null,null,null,"อสังหาริมทรัพย์",null,{"$f":"D1318*F1319","v":0},null,{"$f":"$D1318*$F1319*H1319","v":0}]
[null,null,null,null,"สินค้าโภคภัณฑ์",null,{"$f":"D1318*F1320","v":0},null,{"$f":"$D1318*$F1320*H1320","v":0}]
[null,null,null,null,"เงินฝาก",null,{"$f":"D1318*F1321","v":0},null,{"$f":"$D1318*$F1321*H1321","v":0}]
[null,null,null,null,"ตราสารหนี้",null,{"$f":"D1318*F1322","v":0},null,{"$f":"$D1318*$F1322*H1322","v":0}]
[null,null,null,null,"อื่นๆ",null,{"$f":"D1318*F1323","v":0},null,{"$f":"$D1318*$F1323*H1323","v":0}]
[null,220,null,null,"ตราสารทุน",null,{"$f":"D1324*F1324","v":0},null,{"$f":"$D1324*$F1324*H1324","v":0},{"$f":"SUM(I1324:I1329)","v":0}]
[null,null,null,null,"อสังหาริมทรัพย์",null,{"$f":"D1324*F1325","v":0},null,{"$f":"$D1324*$F1325*H1325","v":0}]
[null,null,null,null,"สินค้าโภคภัณฑ์",null,{"$f":"D1324*F1326","v":0},null,{"$f":"$D1324*$F1326*H1326","v":0}]
[null,null,null,null,"เงินฝาก",null,{"$f":"D1324*F1327","v":0},null,{"$f":"$D1324*$F1327*H1327","v":0}]
[null,null,null,null,"ตราสารหนี้",null,{"$f":"D1324*F1328","v":0},null,{"$f":"$D1324*$F1328*H1328","v":0}]
[null,null,null,null,"อื่นๆ",null,{"$f":"D1324*F1329","v":0},null,{"$f":"$D1324*$F1329*H1329","v":0}]
[null,221,null,null,"ตราสารทุน",null,{"$f":"D1330*F1330","v":0},null,{"$f":"$D1330*$F1330*H1330","v":0},{"$f":"SUM(I1330:I1335)","v":0}]
[null,null,null,null,"อสังหาริมทรัพย์",null,{"$f":"D1330*F1331","v":0},null,{"$f":"$D1330*$F1331*H1331","v":0}]
[null,null,null,null,"สินค้าโภคภัณฑ์",null,{"$f":"D1330*F1332","v":0},null,{"$f":"$D1330*$F1332*H1332","v":0}]
[null,null,null,null,"เงินฝาก",null,{"$f":"D1330*F1333","v":0},null,{"$f":"$D1330*$F1333*H1333","v":0}]
[null,null,null,null,"ตราสารหนี้",null,{"$f":"D1330*F1334","v":0},null,{"$f":"$D1330*$F1334*H1334","v":0}]
[null,null,null,null,"อื่นๆ",null,{"$f":"D1330*F1335","v":0},null,{"$f":"$D1330*$F1335*H1335","v":0}]
[null,222,null,null,"ตราสารทุน",null,{"$f":"D1336*F1336","v":0},null,{"$f":"$D1336*$F1336*H1336","v":0},{"$f":"SUM(I1336:I1341)","v":0}]
[null,null,null,null,"อสังหาริมทรัพย์",null,{"$f":"D1336*F1337","v":0},null,{"$f":"$D1336*$F1337*H1337","v":0}]
[null,null,null,null,"สินค้าโภคภัณฑ์",null,{"$f":"D1336*F1338","v":0},null,{"$f":"$D1336*$F1338*H1338","v":0}]
[null,null,null,null,"เงินฝาก",null,{"$f":"D1336*F1339","v":0},null,{"$f":"$D1336*$F1339*H1339","v":0}]
[null,null,null,null,"ตราสารหนี้",null,{"$f":"D1336*F1340","v":0},null,{"$f":"$D1336*$F1340*H1340","v":0}]
[null,null,null,null,"อื่นๆ",null,{"$f":"D1336*F1341","v":0},null,{"$f":"$D1336*$F1341*H1341","v":0}]
[null,223,null,null,"ตราสารทุน",null,{"$f":"D1342*F1342","v":0},null,{"$f":"$D1342*$F1342*H1342","v":0},{"$f":"SUM(I1342:I1347)","v":0}]
[null,null,null,null,"อสังหาริมทรัพย์",null,{"$f":"D1342*F1343","v":0},null,{"$f":"$D1342*$F1343*H1343","v":0}]
[null,null,null,null,"สินค้าโภคภัณฑ์",null,{"$f":"D1342*F1344","v":0},null,{"$f":"$D1342*$F1344*H1344","v":0}]
[null,null,null,null,"เงินฝาก",null,{"$f":"D1342*F1345","v":0},null,{"$f":"$D1342*$F1345*H1345","v":0}]
[null,null,null,null,"ตราสารหนี้",null,{"$f":"D1342*F1346","v":0},null,{"$f":"$D1342*$F1346*H1346","v":0}]
[null,null,null,null,"อื่นๆ",null,{"$f":"D1342*F1347","v":0},null,{"$f":"$D1342*$F1347*H1347","v":0}]
[null,224,null,null,"ตราสารทุน",null,{"$f":"D1348*F1348","v":0},null,{"$f":"$D1348*$F1348*H1348","v":0},{"$f":"SUM(I1348:I1353)","v":0}]
[null,null,null,null,"อสังหาริมทรัพย์",null,{"$f":"D1348*F1349","v":0},null,{"$f":"$D1348*$F1349*H1349","v":0}]
[null,null,null,null,"สินค้าโภคภัณฑ์",null,{"$f":"D1348*F1350","v":0},null,{"$f":"$D1348*$F1350*H1350","v":0}]
[null,null,null,null,"เงินฝาก",null,{"$f":"D1348*F1351","v":0},null,{"$f":"$D1348*$F1351*H1351","v":0}]
[null,null,null,null,"ตราสารหนี้",null,{"$f":"D1348*F1352","v":0},null,{"$f":"$D1348*$F1352*H1352","v":0}]
[null,null,null,null,"อื่นๆ",null,{"$f":"D1348*F1353","v":0},null,{"$f":"$D1348*$F1353*H1353","v":0}]
[null,225,null,null,"ตราสารทุน",null,{"$f":"D1354*F1354","v":0},null,{"$f":"$D1354*$F1354*H1354","v":0},{"$f":"SUM(I1354:I1359)","v":0}]
[null,null,null,null,"อสังหาริมทรัพย์",null,{"$f":"D1354*F1355","v":0},null,{"$f":"$D1354*$F1355*H1355","v":0}]
[null,null,null,null,"สินค้าโภคภัณฑ์",null,{"$f":"D1354*F1356","v":0},null,{"$f":"$D1354*$F1356*H1356","v":0}]
[null,null,null,null,"เงินฝาก",null,{"$f":"D1354*F1357","v":0},null,{"$f":"$D1354*$F1357*H1357","v":0}]
[null,null,null,null,"ตราสารหนี้",null,{"$f":"D1354*F1358","v":0},null,{"$f":"$D1354*$F1358*H1358","v":0}]
[null,null,null,null,"อื่นๆ",null,{"$f":"D1354*F1359","v":0},null,{"$f":"$D1354*$F1359*H1359","v":0}]
[null,226,null,null,"ตราสารทุน",null,{"$f":"D1360*F1360","v":0},null,{"$f":"$D1360*$F1360*H1360","v":0},{"$f":"SUM(I1360:I1365)","v":0}]
[null,null,null,null,"อสังหาริมทรัพย์",null,{"$f":"D1360*F1361","v":0},null,{"$f":"$D1360*$F1361*H1361","v":0}]
[null,null,null,null,"สินค้าโภคภัณฑ์",null,{"$f":"D1360*F1362","v":0},null,{"$f":"$D1360*$F1362*H1362","v":0}]
[null,null,null,null,"เงินฝาก",null,{"$f":"D1360*F1363","v":0},null,{"$f":"$D1360*$F1363*H1363","v":0}]
[null,null,null,null,"ตราสารหนี้",null,{"$f":"D1360*F1364","v":0},null,{"$f":"$D1360*$F1364*H1364","v":0}]
[null,null,null,null,"อื่นๆ",null,{"$f":"D1360*F1365","v":0},null,{"$f":"$D1360*$F1365*H1365","v":0}]
[null,227,null,null,"ตราสารทุน",null,{"$f":"D1366*F1366","v":0},null,{"$f":"$D1366*$F1366*H1366","v":0},{"$f":"SUM(I1366:I1371)","v":0}]
[null,null,null,null,"อสังหาริมทรัพย์",null,{"$f":"D1366*F1367","v":0},null,{"$f":"$D1366*$F1367*H1367","v":0}]
[null,null,null,null,"สินค้าโภคภัณฑ์",null,{"$f":"D1366*F1368","v":0},null,{"$f":"$D1366*$F1368*H1368","v":0}]
[null,null,null,null,"เงินฝาก",null,{"$f":"D1366*F1369","v":0},null,{"$f":"$D1366*$F1369*H1369","v":0}]
[null,null,null,null,"ตราสารหนี้",null,{"$f":"D1366*F1370","v":0},null,{"$f":"$D1366*$F1370*H1370","v":0}]
[null,null,null,null,"อื่นๆ",null,{"$f":"D1366*F1371","v":0},null,{"$f":"$D1366*$F1371*H1371","v":0}]
[null,228,null,null,"ตราสารทุน",null,{"$f":"D1372*F1372","v":0},null,{"$f":"$D1372*$F1372*H1372","v":0},{"$f":"SUM(I1372:I1377)","v":0}]
[null,null,null,null,"อสังหาริมทรัพย์",null,{"$f":"D1372*F1373","v":0},null,{"$f":"$D1372*$F1373*H1373","v":0}]
[null,null,null,null,"สินค้าโภคภัณฑ์",null,{"$f":"D1372*F1374","v":0},null,{"$f":"$D1372*$F1374*H1374","v":0}]
[null,null,null,null,"เงินฝาก",null,{"$f":"D1372*F1375","v":0},null,{"$f":"$D1372*$F1375*H1375","v":0}]
[null,null,null,null,"ตราสารหนี้",null,{"$f":"D1372*F1376","v":0},null,{"$f":"$D1372*$F1376*H1376","v":0}]
[null,null,null,null,"อื่นๆ",null,{"$f":"D1372*F1377","v":0},null,{"$f":"$D1372*$F1377*H1377","v":0}]
[null,229,null,null,"ตราสารทุน",null,{"$f":"D1378*F1378","v":0},null,{"$f":"$D1378*$F1378*H1378","v":0},{"$f":"SUM(I1378:I1383)","v":0}]
[null,null,null,null,"อสังหาริมทรัพย์",null,{"$f":"D1378*F1379","v":0},null,{"$f":"$D1378*$F1379*H1379","v":0}]
[null,null,null,null,"สินค้าโภคภัณฑ์",null,{"$f":"D1378*F1380","v":0},null,{"$f":"$D1378*$F1380*H1380","v":0}]
[null,null,null,null,"เงินฝาก",null,{"$f":"D1378*F1381","v":0},null,{"$f":"$D1378*$F1381*H1381","v":0}]
[null,null,null,null,"ตราสารหนี้",null,{"$f":"D1378*F1382","v":0},null,{"$f":"$D1378*$F1382*H1382","v":0}]
[null,null,null,null,"อื่นๆ",null,{"$f":"D1378*F1383","v":0},null,{"$f":"$D1378*$F1383*H1383","v":0}]
[null,230,null,null,"ตราสารทุน",null,{"$f":"D1384*F1384","v":0},null,{"$f":"$D1384*$F1384*H1384","v":0},{"$f":"SUM(I1384:I1389)","v":0}]
[null,null,null,null,"อสังหาริมทรัพย์",null,{"$f":"D1384*F1385","v":0},null,{"$f":"$D1384*$F1385*H1385","v":0}]
[null,null,null,null,"สินค้าโภคภัณฑ์",null,{"$f":"D1384*F1386","v":0},null,{"$f":"$D1384*$F1386*H1386","v":0}]
[null,null,null,null,"เงินฝาก",null,{"$f":"D1384*F1387","v":0},null,{"$f":"$D1384*$F1387*H1387","v":0}]
[null,null,null,null,"ตราสารหนี้",null,{"$f":"D1384*F1388","v":0},null,{"$f":"$D1384*$F1388*H1388","v":0}]
[null,null,null,null,"อื่นๆ",null,{"$f":"D1384*F1389","v":0},null,{"$f":"$D1384*$F1389*H1389","v":0}]
[null,231,null,null,"ตราสารทุน",null,{"$f":"D1390*F1390","v":0},null,{"$f":"$D1390*$F1390*H1390","v":0},{"$f":"SUM(I1390:I1395)","v":0}]
[null,null,null,null,"อสังหาริมทรัพย์",null,{"$f":"D1390*F1391","v":0},null,{"$f":"$D1390*$F1391*H1391","v":0}]
[null,null,null,null,"สินค้าโภคภัณฑ์",null,{"$f":"D1390*F1392","v":0},null,{"$f":"$D1390*$F1392*H1392","v":0}]
[null,null,null,null,"เงินฝาก",null,{"$f":"D1390*F1393","v":0},null,{"$f":"$D1390*$F1393*H1393","v":0}]
[null,null,null,null,"ตราสารหนี้",null,{"$f":"D1390*F1394","v":0},null,{"$f":"$D1390*$F1394*H1394","v":0}]
[null,null,null,null,"อื่นๆ",null,{"$f":"D1390*F1395","v":0},null,{"$f":"$D1390*$F1395*H1395","v":0}]
[null,232,null,null,"ตราสารทุน",null,{"$f":"D1396*F1396","v":0},null,{"$f":"$D1396*$F1396*H1396","v":0},{"$f":"SUM(I1396:I1401)","v":0}]
[null,null,null,null,"อสังหาริมทรัพย์",null,{"$f":"D1396*F1397","v":0},null,{"$f":"$D1396*$F1397*H1397","v":0}]
[null,null,null,null,"สินค้าโภคภัณฑ์",null,{"$f":"D1396*F1398","v":0},null,{"$f":"$D1396*$F1398*H1398","v":0}]
[null,null,null,null,"เงินฝาก",null,{"$f":"D1396*F1399","v":0},null,{"$f":"$D1396*$F1399*H1399","v":0}]
[null,null,null,null,"ตราสารหนี้",null,{"$f":"D1396*F1400","v":0},null,{"$f":"$D1396*$F1400*H1400","v":0}]
[null,null,null,null,"อื่นๆ",null,{"$f":"D1396*F1401","v":0},null,{"$f":"$D1396*$F1401*H1401","v":0}]
[null,233,null,null,"ตราสารทุน",null,{"$f":"D1402*F1402","v":0},null,{"$f":"$D1402*$F1402*H1402","v":0},{"$f":"SUM(I1402:I1407)","v":0}]
[null,null,null,null,"อสังหาริมทรัพย์",null,{"$f":"D1402*F1403","v":0},null,{"$f":"$D1402*$F1403*H1403","v":0}]
[null,null,null,null,"สินค้าโภคภัณฑ์",null,{"$f":"D1402*F1404","v":0},null,{"$f":"$D1402*$F1404*H1404","v":0}]
[null,null,null,null,"เงินฝาก",null,{"$f":"D1402*F1405","v":0},null,{"$f":"$D1402*$F1405*H1405","v":0}]
[null,null,null,null,"ตราสารหนี้",null,{"$f":"D1402*F1406","v":0},null,{"$f":"$D1402*$F1406*H1406","v":0}]
[null,null,null,null,"อื่นๆ",null,{"$f":"D1402*F1407","v":0},null,{"$f":"$D1402*$F1407*H1407","v":0}]
[null,234,null,null,"ตราสารทุน",null,{"$f":"D1408*F1408","v":0},null,{"$f":"$D1408*$F1408*H1408","v":0},{"$f":"SUM(I1408:I1413)","v":0}]
[null,null,null,null,"อสังหาริมทรัพย์",null,{"$f":"D1408*F1409","v":0},null,{"$f":"$D1408*$F1409*H1409","v":0}]
[null,null,null,null,"สินค้าโภคภัณฑ์",null,{"$f":"D1408*F1410","v":0},null,{"$f":"$D1408*$F1410*H1410","v":0}]
[null,null,null,null,"เงินฝาก",null,{"$f":"D1408*F1411","v":0},null,{"$f":"$D1408*$F1411*H1411","v":0}]
[null,null,null,null,"ตราสารหนี้",null,{"$f":"D1408*F1412","v":0},null,{"$f":"$D1408*$F1412*H1412","v":0}]
[null,null,null,null,"อื่นๆ",null,{"$f":"D1408*F1413","v":0},null,{"$f":"$D1408*$F1413*H1413","v":0}]
[null,235,null,null,"ตราสารทุน",null,{"$f":"D1414*F1414","v":0},null,{"$f":"$D1414*$F1414*H1414","v":0},{"$f":"SUM(I1414:I1419)","v":0}]
[null,null,null,null,"อสังหาริมทรัพย์",null,{"$f":"D1414*F1415","v":0},null,{"$f":"$D1414*$F1415*H1415","v":0}]
[null,null,null,null,"สินค้าโภคภัณฑ์",null,{"$f":"D1414*F1416","v":0},null,{"$f":"$D1414*$F1416*H1416","v":0}]
[null,null,null,null,"เงินฝาก",null,{"$f":"D1414*F1417","v":0},null,{"$f":"$D1414*$F1417*H1417","v":0}]
[null,null,null,null,"ตราสารหนี้",null,{"$f":"D1414*F1418","v":0},null,{"$f":"$D1414*$F1418*H1418","v":0}]
[null,null,null,null,"อื่นๆ",null,{"$f":"D1414*F1419","v":0},null,{"$f":"$D1414*$F1419*H1419","v":0}]
[null,236,null,null,"ตราสารทุน",null,{"$f":"D1420*F1420","v":0},null,{"$f":"$D1420*$F1420*H1420","v":0},{"$f":"SUM(I1420:I1425)","v":0}]
[null,null,null,null,"อสังหาริมทรัพย์",null,{"$f":"D1420*F1421","v":0},null,{"$f":"$D1420*$F1421*H1421","v":0}]
[null,null,null,null,"สินค้าโภคภัณฑ์",null,{"$f":"D1420*F1422","v":0},null,{"$f":"$D1420*$F1422*H1422","v":0}]
[null,null,null,null,"เงินฝาก",null,{"$f":"D1420*F1423","v":0},null,{"$f":"$D1420*$F1423*H1423","v":0}]
[null,null,null,null,"ตราสารหนี้",null,{"$f":"D1420*F1424","v":0},null,{"$f":"$D1420*$F1424*H1424","v":0}]
[null,null,null,null,"อื่นๆ",null,{"$f":"D1420*F1425","v":0},null,{"$f":"$D1420*$F1425*H1425","v":0}]
[null,237,null,null,"ตราสารทุน",null,{"$f":"D1426*F1426","v":0},null,{"$f":"$D1426*$F1426*H1426","v":0},{"$f":"SUM(I1426:I1431)","v":0}]
[null,null,null,null,"อสังหาริมทรัพย์",null,{"$f":"D1426*F1427","v":0},null,{"$f":"$D1426*$F1427*H1427","v":0}]
[null,null,null,null,"สินค้าโภคภัณฑ์",null,{"$f":"D1426*F1428","v":0},null,{"$f":"$D1426*$F1428*H1428","v":0}]
[null,null,null,null,"เงินฝาก",null,{"$f":"D1426*F1429","v":0},null,{"$f":"$D1426*$F1429*H1429","v":0}]
[null,null,null,null,"ตราสารหนี้",null,{"$f":"D1426*F1430","v":0},null,{"$f":"$D1426*$F1430*H1430","v":0}]
[null,null,null,null,"อื่นๆ",null,{"$f":"D1426*F1431","v":0},null,{"$f":"$D1426*$F1431*H1431","v":0}]
[null,238,null,null,"ตราสารทุน",null,{"$f":"D1432*F1432","v":0},null,{"$f":"$D1432*$F1432*H1432","v":0},{"$f":"SUM(I1432:I1437)","v":0}]
[null,null,null,null,"อสังหาริมทรัพย์",null,{"$f":"D1432*F1433","v":0},null,{"$f":"$D1432*$F1433*H1433","v":0}]
[null,null,null,null,"สินค้าโภคภัณฑ์",null,{"$f":"D1432*F1434","v":0},null,{"$f":"$D1432*$F1434*H1434","v":0}]
[null,null,null,null,"เงินฝาก",null,{"$f":"D1432*F1435","v":0},null,{"$f":"$D1432*$F1435*H1435","v":0}]
[null,null,null,null,"ตราสารหนี้",null,{"$f":"D1432*F1436","v":0},null,{"$f":"$D1432*$F1436*H1436","v":0}]
[null,null,null,null,"อื่นๆ",null,{"$f":"D1432*F1437","v":0},null,{"$f":"$D1432*$F1437*H1437","v":0}]
[null,239,null,null,"ตราสารทุน",null,{"$f":"D1438*F1438","v":0},null,{"$f":"$D1438*$F1438*H1438","v":0},{"$f":"SUM(I1438:I1443)","v":0}]
[null,null,null,null,"อสังหาริมทรัพย์",null,{"$f":"D1438*F1439","v":0},null,{"$f":"$D1438*$F1439*H1439","v":0}]
[null,null,null,null,"สินค้าโภคภัณฑ์",null,{"$f":"D1438*F1440","v":0},null,{"$f":"$D1438*$F1440*H1440","v":0}]
[null,null,null,null,"เงินฝาก",null,{"$f":"D1438*F1441","v":0},null,{"$f":"$D1438*$F1441*H1441","v":0}]
[null,null,null,null,"ตราสารหนี้",null,{"$f":"D1438*F1442","v":0},null,{"$f":"$D1438*$F1442*H1442","v":0}]
[null,null,null,null,"อื่นๆ",null,{"$f":"D1438*F1443","v":0},null,{"$f":"$D1438*$F1443*H1443","v":0}]
[null,240,null,null,"ตราสารทุน",null,{"$f":"D1444*F1444","v":0},null,{"$f":"$D1444*$F1444*H1444","v":0},{"$f":"SUM(I1444:I1449)","v":0}]
[null,null,null,null,"อสังหาริมทรัพย์",null,{"$f":"D1444*F1445","v":0},null,{"$f":"$D1444*$F1445*H1445","v":0}]
[null,null,null,null,"สินค้าโภคภัณฑ์",null,{"$f":"D1444*F1446","v":0},null,{"$f":"$D1444*$F1446*H1446","v":0}]
[null,null,null,null,"เงินฝาก",null,{"$f":"D1444*F1447","v":0},null,{"$f":"$D1444*$F1447*H1447","v":0}]
[null,null,null,null,"ตราสารหนี้",null,{"$f":"D1444*F1448","v":0},null,{"$f":"$D1444*$F1448*H1448","v":0}]
[null,null,null,null,"อื่นๆ",null,{"$f":"D1444*F1449","v":0},null,{"$f":"$D1444*$F1449*H1449","v":0}]
[null,241,null,null,"ตราสารทุน",null,{"$f":"D1450*F1450","v":0},null,{"$f":"$D1450*$F1450*H1450","v":0},{"$f":"SUM(I1450:I1455)","v":0}]
[null,null,null,null,"อสังหาริมทรัพย์",null,{"$f":"D1450*F1451","v":0},null,{"$f":"$D1450*$F1451*H1451","v":0}]
[null,null,null,null,"สินค้าโภคภัณฑ์",null,{"$f":"D1450*F1452","v":0},null,{"$f":"$D1450*$F1452*H1452","v":0}]
[null,null,null,null,"เงินฝาก",null,{"$f":"D1450*F1453","v":0},null,{"$f":"$D1450*$F1453*H1453","v":0}]
[null,null,null,null,"ตราสารหนี้",null,{"$f":"D1450*F1454","v":0},null,{"$f":"$D1450*$F1454*H1454","v":0}]
[null,null,null,null,"อื่นๆ",null,{"$f":"D1450*F1455","v":0},null,{"$f":"$D1450*$F1455*H1455","v":0}]
[null,242,null,null,"ตราสารทุน",null,{"$f":"D1456*F1456","v":0},null,{"$f":"$D1456*$F1456*H1456","v":0},{"$f":"SUM(I1456:I1461)","v":0}]
[null,null,null,null,"อสังหาริมทรัพย์",null,{"$f":"D1456*F1457","v":0},null,{"$f":"$D1456*$F1457*H1457","v":0}]
[null,null,null,null,"สินค้าโภคภัณฑ์",null,{"$f":"D1456*F1458","v":0},null,{"$f":"$D1456*$F1458*H1458","v":0}]
[null,null,null,null,"เงินฝาก",null,{"$f":"D1456*F1459","v":0},null,{"$f":"$D1456*$F1459*H1459","v":0}]
[null,null,null,null,"ตราสารหนี้",null,{"$f":"D1456*F1460","v":0},null,{"$f":"$D1456*$F1460*H1460","v":0}]
[null,null,null,null,"อื่นๆ",null,{"$f":"D1456*F1461","v":0},null,{"$f":"$D1456*$F1461*H1461","v":0}]
[null,243,null,null,"ตราสารทุน",null,{"$f":"D1462*F1462","v":0},null,{"$f":"$D1462*$F1462*H1462","v":0},{"$f":"SUM(I1462:I1467)","v":0}]
[null,null,null,null,"อสังหาริมทรัพย์",null,{"$f":"D1462*F1463","v":0},null,{"$f":"$D1462*$F1463*H1463","v":0}]
[null,null,null,null,"สินค้าโภคภัณฑ์",null,{"$f":"D1462*F1464","v":0},null,{"$f":"$D1462*$F1464*H1464","v":0}]
[null,null,null,null,"เงินฝาก",null,{"$f":"D1462*F1465","v":0},null,{"$f":"$D1462*$F1465*H1465","v":0}]
[null,null,null,null,"ตราสารหนี้",null,{"$f":"D1462*F1466","v":0},null,{"$f":"$D1462*$F1466*H1466","v":0}]
[null,null,null,null,"อื่นๆ",null,{"$f":"D1462*F1467","v":0},null,{"$f":"$D1462*$F1467*H1467","v":0}]
[null,244,null,null,"ตราสารทุน",null,{"$f":"D1468*F1468","v":0},null,{"$f":"$D1468*$F1468*H1468","v":0},{"$f":"SUM(I1468:I1473)","v":0}]
[null,null,null,null,"อสังหาริมทรัพย์",null,{"$f":"D1468*F1469","v":0},null,{"$f":"$D1468*$F1469*H1469","v":0}]
[null,null,null,null,"สินค้าโภคภัณฑ์",null,{"$f":"D1468*F1470","v":0},null,{"$f":"$D1468*$F1470*H1470","v":0}]
[null,null,null,null,"เงินฝาก",null,{"$f":"D1468*F1471","v":0},null,{"$f":"$D1468*$F1471*H1471","v":0}]
[null,null,null,null,"ตราสารหนี้",null,{"$f":"D1468*F1472","v":0},null,{"$f":"$D1468*$F1472*H1472","v":0}]
[null,null,null,null,"อื่นๆ",null,{"$f":"D1468*F1473","v":0},null,{"$f":"$D1468*$F1473*H1473","v":0}]
[null,245,null,null,"ตราสารทุน",null,{"$f":"D1474*F1474","v":0},null,{"$f":"$D1474*$F1474*H1474","v":0},{"$f":"SUM(I1474:I1479)","v":0}]
[null,null,null,null,"อสังหาริมทรัพย์",null,{"$f":"D1474*F1475","v":0},null,{"$f":"$D1474*$F1475*H1475","v":0}]
[null,null,null,null,"สินค้าโภคภัณฑ์",null,{"$f":"D1474*F1476","v":0},null,{"$f":"$D1474*$F1476*H1476","v":0}]
[null,null,null,null,"เงินฝาก",null,{"$f":"D1474*F1477","v":0},null,{"$f":"$D1474*$F1477*H1477","v":0}]
[null,null,null,null,"ตราสารหนี้",null,{"$f":"D1474*F1478","v":0},null,{"$f":"$D1474*$F1478*H1478","v":0}]
[null,null,null,null,"อื่นๆ",null,{"$f":"D1474*F1479","v":0},null,{"$f":"$D1474*$F1479*H1479","v":0}]
[null,246,null,null,"ตราสารทุน",null,{"$f":"D1480*F1480","v":0},null,{"$f":"$D1480*$F1480*H1480","v":0},{"$f":"SUM(I1480:I1485)","v":0}]
[null,null,null,null,"อสังหาริมทรัพย์",null,{"$f":"D1480*F1481","v":0},null,{"$f":"$D1480*$F1481*H1481","v":0}]
[null,null,null,null,"สินค้าโภคภัณฑ์",null,{"$f":"D1480*F1482","v":0},null,{"$f":"$D1480*$F1482*H1482","v":0}]
[null,null,null,null,"เงินฝาก",null,{"$f":"D1480*F1483","v":0},null,{"$f":"$D1480*$F1483*H1483","v":0}]
[null,null,null,null,"ตราสารหนี้",null,{"$f":"D1480*F1484","v":0},null,{"$f":"$D1480*$F1484*H1484","v":0}]
[null,null,null,null,"อื่นๆ",null,{"$f":"D1480*F1485","v":0},null,{"$f":"$D1480*$F1485*H1485","v":0}]
[null,247,null,null,"ตราสารทุน",null,{"$f":"D1486*F1486","v":0},null,{"$f":"$D1486*$F1486*H1486","v":0},{"$f":"SUM(I1486:I1491)","v":0}]
[null,null,null,null,"อสังหาริมทรัพย์",null,{"$f":"D1486*F1487","v":0},null,{"$f":"$D1486*$F1487*H1487","v":0}]
[null,null,null,null,"สินค้าโภคภัณฑ์",null,{"$f":"D1486*F1488","v":0},null,{"$f":"$D1486*$F1488*H1488","v":0}]
[null,null,null,null,"เงินฝาก",null,{"$f":"D1486*F1489","v":0},null,{"$f":"$D1486*$F1489*H1489","v":0}]
[null,null,null,null,"ตราสารหนี้",null,{"$f":"D1486*F1490","v":0},null,{"$f":"$D1486*$F1490*H1490","v":0}]
[null,null,null,null,"อื่นๆ",null,{"$f":"D1486*F1491","v":0},null,{"$f":"$D1486*$F1491*H1491","v":0}]
[null,248,null,null,"ตราสารทุน",null,{"$f":"D1492*F1492","v":0},null,{"$f":"$D1492*$F1492*H1492","v":0},{"$f":"SUM(I1492:I1497)","v":0}]
[null,null,null,null,"อสังหาริมทรัพย์",null,{"$f":"D1492*F1493","v":0},null,{"$f":"$D1492*$F1493*H1493","v":0}]
[null,null,null,null,"สินค้าโภคภัณฑ์",null,{"$f":"D1492*F1494","v":0},null,{"$f":"$D1492*$F1494*H1494","v":0}]
[null,null,null,null,"เงินฝาก",null,{"$f":"D1492*F1495","v":0},null,{"$f":"$D1492*$F1495*H1495","v":0}]
[null,null,null,null,"ตราสารหนี้",null,{"$f":"D1492*F1496","v":0},null,{"$f":"$D1492*$F1496*H1496","v":0}]
[null,null,null,null,"อื่นๆ",null,{"$f":"D1492*F1497","v":0},null,{"$f":"$D1492*$F1497*H1497","v":0}]
[null,249,null,null,"ตราสารทุน",null,{"$f":"D1498*F1498","v":0},null,{"$f":"$D1498*$F1498*H1498","v":0},{"$f":"SUM(I1498:I1503)","v":0}]
[null,null,null,null,"อสังหาริมทรัพย์",null,{"$f":"D1498*F1499","v":0},null,{"$f":"$D1498*$F1499*H1499","v":0}]
[null,null,null,null,"สินค้าโภคภัณฑ์",null,{"$f":"D1498*F1500","v":0},null,{"$f":"$D1498*$F1500*H1500","v":0}]
[null,null,null,null,"เงินฝาก",null,{"$f":"D1498*F1501","v":0},null,{"$f":"$D1498*$F1501*H1501","v":0}]
[null,null,null,null,"ตราสารหนี้",null,{"$f":"D1498*F1502","v":0},null,{"$f":"$D1498*$F1502*H1502","v":0}]
[null,null,null,null,"อื่นๆ",null,{"$f":"D1498*F1503","v":0},null,{"$f":"$D1498*$F1503*H1503","v":0}]
[null,250,null,null,"ตราสารทุน",null,{"$f":"D1504*F1504","v":0},null,{"$f":"$D1504*$F1504*H1504","v":0},{"$f":"SUM(I1504:I1509)","v":0}]
[null,null,null,null,"อสังหาริมทรัพย์",null,{"$f":"D1504*F1505","v":0},null,{"$f":"$D1504*$F1505*H1505","v":0}]
[null,null,null,null,"สินค้าโภคภัณฑ์",null,{"$f":"D1504*F1506","v":0},null,{"$f":"$D1504*$F1506*H1506","v":0}]
[null,null,null,null,"เงินฝาก",null,{"$f":"D1504*F1507","v":0},null,{"$f":"$D1504*$F1507*H1507","v":0}]
[null,null,null,null,"ตราสารหนี้",null,{"$f":"D1504*F1508","v":0},null,{"$f":"$D1504*$F1508*H1508","v":0}]
[null,null,null,null,"อื่นๆ",null,{"$f":"D1504*F1509","v":0},null,{"$f":"$D1504*$F1509*H1509","v":0}]
[null,251,null,null,"ตราสารทุน",null,{"$f":"D1510*F1510","v":0},null,{"$f":"$D1510*$F1510*H1510","v":0},{"$f":"SUM(I1510:I1515)","v":0}]
[null,null,null,null,"อสังหาริมทรัพย์",null,{"$f":"D1510*F1511","v":0},null,{"$f":"$D1510*$F1511*H1511","v":0}]
[null,null,null,null,"สินค้าโภคภัณฑ์",null,{"$f":"D1510*F1512","v":0},null,{"$f":"$D1510*$F1512*H1512","v":0}]
[null,null,null,null,"เงินฝาก",null,{"$f":"D1510*F1513","v":0},null,{"$f":"$D1510*$F1513*H1513","v":0}]
[null,null,null,null,"ตราสารหนี้",null,{"$f":"D1510*F1514","v":0},null,{"$f":"$D1510*$F1514*H1514","v":0}]
[null,null,null,null,"อื่นๆ",null,{"$f":"D1510*F1515","v":0},null,{"$f":"$D1510*$F1515*H1515","v":0}]
[null,252,null,null,"ตราสารทุน",null,{"$f":"D1516*F1516","v":0},null,{"$f":"$D1516*$F1516*H1516","v":0},{"$f":"SUM(I1516:I1521)","v":0}]
[null,null,null,null,"อสังหาริมทรัพย์",null,{"$f":"D1516*F1517","v":0},null,{"$f":"$D1516*$F1517*H1517","v":0}]
[null,null,null,null,"สินค้าโภคภัณฑ์",null,{"$f":"D1516*F1518","v":0},null,{"$f":"$D1516*$F1518*H1518","v":0}]
[null,null,null,null,"เงินฝาก",null,{"$f":"D1516*F1519","v":0},null,{"$f":"$D1516*$F1519*H1519","v":0}]
[null,null,null,null,"ตราสารหนี้",null,{"$f":"D1516*F1520","v":0},null,{"$f":"$D1516*$F1520*H1520","v":0}]
[null,null,null,null,"อื่นๆ",null,{"$f":"D1516*F1521","v":0},null,{"$f":"$D1516*$F1521*H1521","v":0}]
[null,253,null,null,"ตราสารทุน",null,{"$f":"D1522*F1522","v":0},null,{"$f":"$D1522*$F1522*H1522","v":0},{"$f":"SUM(I1522:I1527)","v":0}]
[null,null,null,null,"อสังหาริมทรัพย์",null,{"$f":"D1522*F1523","v":0},null,{"$f":"$D1522*$F1523*H1523","v":0}]
[null,null,null,null,"สินค้าโภคภัณฑ์",null,{"$f":"D1522*F1524","v":0},null,{"$f":"$D1522*$F1524*H1524","v":0}]
[null,null,null,null,"เงินฝาก",null,{"$f":"D1522*F1525","v":0},null,{"$f":"$D1522*$F1525*H1525","v":0}]
[null,null,null,null,"ตราสารหนี้",null,{"$f":"D1522*F1526","v":0},null,{"$f":"$D1522*$F1526*H1526","v":0}]
[null,null,null,null,"อื่นๆ",null,{"$f":"D1522*F1527","v":0},null,{"$f":"$D1522*$F1527*H1527","v":0}]
[null,254,null,null,"ตราสารทุน",null,{"$f":"D1528*F1528","v":0},null,{"$f":"$D1528*$F1528*H1528","v":0},{"$f":"SUM(I1528:I1533)","v":0}]
[null,null,null,null,"อสังหาริมทรัพย์",null,{"$f":"D1528*F1529","v":0},null,{"$f":"$D1528*$F1529*H1529","v":0}]
[null,null,null,null,"สินค้าโภคภัณฑ์",null,{"$f":"D1528*F1530","v":0},null,{"$f":"$D1528*$F1530*H1530","v":0}]
[null,null,null,null,"เงินฝาก",null,{"$f":"D1528*F1531","v":0},null,{"$f":"$D1528*$F1531*H1531","v":0}]
[null,null,null,null,"ตราสารหนี้",null,{"$f":"D1528*F1532","v":0},null,{"$f":"$D1528*$F1532*H1532","v":0}]
[null,null,null,null,"อื่นๆ",null,{"$f":"D1528*F1533","v":0},null,{"$f":"$D1528*$F1533*H1533","v":0}]
[null,255,null,null,"ตราสารทุน",null,{"$f":"D1534*F1534","v":0},null,{"$f":"$D1534*$F1534*H1534","v":0},{"$f":"SUM(I1534:I1539)","v":0}]
[null,null,null,null,"อสังหาริมทรัพย์",null,{"$f":"D1534*F1535","v":0},null,{"$f":"$D1534*$F1535*H1535","v":0}]
[null,null,null,null,"สินค้าโภคภัณฑ์",null,{"$f":"D1534*F1536","v":0},null,{"$f":"$D1534*$F1536*H1536","v":0}]
[null,null,null,null,"เงินฝาก",null,{"$f":"D1534*F1537","v":0},null,{"$f":"$D1534*$F1537*H1537","v":0}]
[null,null,null,null,"ตราสารหนี้",null,{"$f":"D1534*F1538","v":0},null,{"$f":"$D1534*$F1538*H1538","v":0}]
[null,null,null,null,"อื่นๆ",null,{"$f":"D1534*F1539","v":0},null,{"$f":"$D1534*$F1539*H1539","v":0}]
[null,256,null,null,"ตราสารทุน",null,{"$f":"D1540*F1540","v":0},null,{"$f":"$D1540*$F1540*H1540","v":0},{"$f":"SUM(I1540:I1545)","v":0}]
[null,null,null,null,"อสังหาริมทรัพย์",null,{"$f":"D1540*F1541","v":0},null,{"$f":"$D1540*$F1541*H1541","v":0}]
[null,null,null,null,"สินค้าโภคภัณฑ์",null,{"$f":"D1540*F1542","v":0},null,{"$f":"$D1540*$F1542*H1542","v":0}]
[null,null,null,null,"เงินฝาก",null,{"$f":"D1540*F1543","v":0},null,{"$f":"$D1540*$F1543*H1543","v":0}]
[null,null,null,null,"ตราสารหนี้",null,{"$f":"D1540*F1544","v":0},null,{"$f":"$D1540*$F1544*H1544","v":0}]
[null,null,null,null,"อื่นๆ",null,{"$f":"D1540*F1545","v":0},null,{"$f":"$D1540*$F1545*H1545","v":0}]
[null,257,null,null,"ตราสารทุน",null,{"$f":"D1546*F1546","v":0},null,{"$f":"$D1546*$F1546*H1546","v":0},{"$f":"SUM(I1546:I1551)","v":0}]
[null,null,null,null,"อสังหาริมทรัพย์",null,{"$f":"D1546*F1547","v":0},null,{"$f":"$D1546*$F1547*H1547","v":0}]
[null,null,null,null,"สินค้าโภคภัณฑ์",null,{"$f":"D1546*F1548","v":0},null,{"$f":"$D1546*$F1548*H1548","v":0}]
[null,null,null,null,"เงินฝาก",null,{"$f":"D1546*F1549","v":0},null,{"$f":"$D1546*$F1549*H1549","v":0}]
[null,null,null,null,"ตราสารหนี้",null,{"$f":"D1546*F1550","v":0},null,{"$f":"$D1546*$F1550*H1550","v":0}]
[null,null,null,null,"อื่นๆ",null,{"$f":"D1546*F1551","v":0},null,{"$f":"$D1546*$F1551*H1551","v":0}]
[null,258,null,null,"ตราสารทุน",null,{"$f":"D1552*F1552","v":0},null,{"$f":"$D1552*$F1552*H1552","v":0},{"$f":"SUM(I1552:I1557)","v":0}]
[null,null,null,null,"อสังหาริมทรัพย์",null,{"$f":"D1552*F1553","v":0},null,{"$f":"$D1552*$F1553*H1553","v":0}]
[null,null,null,null,"สินค้าโภคภัณฑ์",null,{"$f":"D1552*F1554","v":0},null,{"$f":"$D1552*$F1554*H1554","v":0}]
[null,null,null,null,"เงินฝาก",null,{"$f":"D1552*F1555","v":0},null,{"$f":"$D1552*$F1555*H1555","v":0}]
[null,null,null,null,"ตราสารหนี้",null,{"$f":"D1552*F1556","v":0},null,{"$f":"$D1552*$F1556*H1556","v":0}]
[null,null,null,null,"อื่นๆ",null,{"$f":"D1552*F1557","v":0},null,{"$f":"$D1552*$F1557*H1557","v":0}]
[null,259,null,null,"ตราสารทุน",null,{"$f":"D1558*F1558","v":0},null,{"$f":"$D1558*$F1558*H1558","v":0},{"$f":"SUM(I1558:I1563)","v":0}]
[null,null,null,null,"อสังหาริมทรัพย์",null,{"$f":"D1558*F1559","v":0},null,{"$f":"$D1558*$F1559*H1559","v":0}]
[null,null,null,null,"สินค้าโภคภัณฑ์",null,{"$f":"D1558*F1560","v":0},null,{"$f":"$D1558*$F1560*H1560","v":0}]
[null,null,null,null,"เงินฝาก",null,{"$f":"D1558*F1561","v":0},null,{"$f":"$D1558*$F1561*H1561","v":0}]
[null,null,null,null,"ตราสารหนี้",null,{"$f":"D1558*F1562","v":0},null,{"$f":"$D1558*$F1562*H1562","v":0}]
[null,null,null,null,"อื่นๆ",null,{"$f":"D1558*F1563","v":0},null,{"$f":"$D1558*$F1563*H1563","v":0}]
[null,260,null,null,"ตราสารทุน",null,{"$f":"D1564*F1564","v":0},null,{"$f":"$D1564*$F1564*H1564","v":0},{"$f":"SUM(I1564:I1569)","v":0}]
[null,null,null,null,"อสังหาริมทรัพย์",null,{"$f":"D1564*F1565","v":0},null,{"$f":"$D1564*$F1565*H1565","v":0}]
[null,null,null,null,"สินค้าโภคภัณฑ์",null,{"$f":"D1564*F1566","v":0},null,{"$f":"$D1564*$F1566*H1566","v":0}]
[null,null,null,null,"เงินฝาก",null,{"$f":"D1564*F1567","v":0},null,{"$f":"$D1564*$F1567*H1567","v":0}]
[null,null,null,null,"ตราสารหนี้",null,{"$f":"D1564*F1568","v":0},null,{"$f":"$D1564*$F1568*H1568","v":0}]
[null,null,null,null,"อื่นๆ",null,{"$f":"D1564*F1569","v":0},null,{"$f":"$D1564*$F1569*H1569","v":0}]
[null,261,null,null,"ตราสารทุน",null,{"$f":"D1570*F1570","v":0},null,{"$f":"$D1570*$F1570*H1570","v":0},{"$f":"SUM(I1570:I1575)","v":0}]
[null,null,null,null,"อสังหาริมทรัพย์",null,{"$f":"D1570*F1571","v":0},null,{"$f":"$D1570*$F1571*H1571","v":0}]
[null,null,null,null,"สินค้าโภคภัณฑ์",null,{"$f":"D1570*F1572","v":0},null,{"$f":"$D1570*$F1572*H1572","v":0}]
[null,null,null,null,"เงินฝาก",null,{"$f":"D1570*F1573","v":0},null,{"$f":"$D1570*$F1573*H1573","v":0}]
[null,null,null,null,"ตราสารหนี้",null,{"$f":"D1570*F1574","v":0},null,{"$f":"$D1570*$F1574*H1574","v":0}]
[null,null,null,null,"อื่นๆ",null,{"$f":"D1570*F1575","v":0},null,{"$f":"$D1570*$F1575*H1575","v":0}]
[null,262,null,null,"ตราสารทุน",null,{"$f":"D1576*F1576","v":0},null,{"$f":"$D1576*$F1576*H1576","v":0},{"$f":"SUM(I1576:I1581)","v":0}]
[null,null,null,null,"อสังหาริมทรัพย์",null,{"$f":"D1576*F1577","v":0},null,{"$f":"$D1576*$F1577*H1577","v":0}]
[null,null,null,null,"สินค้าโภคภัณฑ์",null,{"$f":"D1576*F1578","v":0},null,{"$f":"$D1576*$F1578*H1578","v":0}]
[null,null,null,null,"เงินฝาก",null,{"$f":"D1576*F1579","v":0},null,{"$f":"$D1576*$F1579*H1579","v":0}]
[null,null,null,null,"ตราสารหนี้",null,{"$f":"D1576*F1580","v":0},null,{"$f":"$D1576*$F1580*H1580","v":0}]
[null,null,null,null,"อื่นๆ",null,{"$f":"D1576*F1581","v":0},null,{"$f":"$D1576*$F1581*H1581","v":0}]
[null,263,null,null,"ตราสารทุน",null,{"$f":"D1582*F1582","v":0},null,{"$f":"$D1582*$F1582*H1582","v":0},{"$f":"SUM(I1582:I1587)","v":0}]
[null,null,null,null,"อสังหาริมทรัพย์",null,{"$f":"D1582*F1583","v":0},null,{"$f":"$D1582*$F1583*H1583","v":0}]
[null,null,null,null,"สินค้าโภคภัณฑ์",null,{"$f":"D1582*F1584","v":0},null,{"$f":"$D1582*$F1584*H1584","v":0}]
[null,null,null,null,"เงินฝาก",null,{"$f":"D1582*F1585","v":0},null,{"$f":"$D1582*$F1585*H1585","v":0}]
[null,null,null,null,"ตราสารหนี้",null,{"$f":"D1582*F1586","v":0},null,{"$f":"$D1582*$F1586*H1586","v":0}]
[null,null,null,null,"อื่นๆ",null,{"$f":"D1582*F1587","v":0},null,{"$f":"$D1582*$F1587*H1587","v":0}]
[null,264,null,null,"ตราสารทุน",null,{"$f":"D1588*F1588","v":0},null,{"$f":"$D1588*$F1588*H1588","v":0},{"$f":"SUM(I1588:I1593)","v":0}]
[null,null,null,null,"อสังหาริมทรัพย์",null,{"$f":"D1588*F1589","v":0},null,{"$f":"$D1588*$F1589*H1589","v":0}]
[null,null,null,null,"สินค้าโภคภัณฑ์",null,{"$f":"D1588*F1590","v":0},null,{"$f":"$D1588*$F1590*H1590","v":0}]
[null,null,null,null,"เงินฝาก",null,{"$f":"D1588*F1591","v":0},null,{"$f":"$D1588*$F1591*H1591","v":0}]
[null,null,null,null,"ตราสารหนี้",null,{"$f":"D1588*F1592","v":0},null,{"$f":"$D1588*$F1592*H1592","v":0}]
[null,null,null,null,"อื่นๆ",null,{"$f":"D1588*F1593","v":0},null,{"$f":"$D1588*$F1593*H1593","v":0}]
[null,265,null,null,"ตราสารทุน",null,{"$f":"D1594*F1594","v":0},null,{"$f":"$D1594*$F1594*H1594","v":0},{"$f":"SUM(I1594:I1599)","v":0}]
[null,null,null,null,"อสังหาริมทรัพย์",null,{"$f":"D1594*F1595","v":0},null,{"$f":"$D1594*$F1595*H1595","v":0}]
[null,null,null,null,"สินค้าโภคภัณฑ์",null,{"$f":"D1594*F1596","v":0},null,{"$f":"$D1594*$F1596*H1596","v":0}]
[null,null,null,null,"เงินฝาก",null,{"$f":"D1594*F1597","v":0},null,{"$f":"$D1594*$F1597*H1597","v":0}]
[null,null,null,null,"ตราสารหนี้",null,{"$f":"D1594*F1598","v":0},null,{"$f":"$D1594*$F1598*H1598","v":0}]
[null,null,null,null,"อื่นๆ",null,{"$f":"D1594*F1599","v":0},null,{"$f":"$D1594*$F1599*H1599","v":0}]
[null,266,null,null,"ตราสารทุน",null,{"$f":"D1600*F1600","v":0},null,{"$f":"$D1600*$F1600*H1600","v":0},{"$f":"SUM(I1600:I1605)","v":0}]
[null,null,null,null,"อสังหาริมทรัพย์",null,{"$f":"D1600*F1601","v":0},null,{"$f":"$D1600*$F1601*H1601","v":0}]
[null,null,null,null,"สินค้าโภคภัณฑ์",null,{"$f":"D1600*F1602","v":0},null,{"$f":"$D1600*$F1602*H1602","v":0}]
[null,null,null,null,"เงินฝาก",null,{"$f":"D1600*F1603","v":0},null,{"$f":"$D1600*$F1603*H1603","v":0}]
[null,null,null,null,"ตราสารหนี้",null,{"$f":"D1600*F1604","v":0},null,{"$f":"$D1600*$F1604*H1604","v":0}]
[null,null,null,null,"อื่นๆ",null,{"$f":"D1600*F1605","v":0},null,{"$f":"$D1600*$F1605*H1605","v":0}]
[null,267,null,null,"ตราสารทุน",null,{"$f":"D1606*F1606","v":0},null,{"$f":"$D1606*$F1606*H1606","v":0},{"$f":"SUM(I1606:I1611)","v":0}]
[null,null,null,null,"อสังหาริมทรัพย์",null,{"$f":"D1606*F1607","v":0},null,{"$f":"$D1606*$F1607*H1607","v":0}]
[null,null,null,null,"สินค้าโภคภัณฑ์",null,{"$f":"D1606*F1608","v":0},null,{"$f":"$D1606*$F1608*H1608","v":0}]
[null,null,null,null,"เงินฝาก",null,{"$f":"D1606*F1609","v":0},null,{"$f":"$D1606*$F1609*H1609","v":0}]
[null,null,null,null,"ตราสารหนี้",null,{"$f":"D1606*F1610","v":0},null,{"$f":"$D1606*$F1610*H1610","v":0}]
[null,null,null,null,"อื่นๆ",null,{"$f":"D1606*F1611","v":0},null,{"$f":"$D1606*$F1611*H1611","v":0}]
[null,268,null,null,"ตราสารทุน",null,{"$f":"D1612*F1612","v":0},null,{"$f":"$D1612*$F1612*H1612","v":0},{"$f":"SUM(I1612:I1617)","v":0}]
[null,null,null,null,"อสังหาริมทรัพย์",null,{"$f":"D1612*F1613","v":0},null,{"$f":"$D1612*$F1613*H1613","v":0}]
[null,null,null,null,"สินค้าโภคภัณฑ์",null,{"$f":"D1612*F1614","v":0},null,{"$f":"$D1612*$F1614*H1614","v":0}]
[null,null,null,null,"เงินฝาก",null,{"$f":"D1612*F1615","v":0},null,{"$f":"$D1612*$F1615*H1615","v":0}]
[null,null,null,null,"ตราสารหนี้",null,{"$f":"D1612*F1616","v":0},null,{"$f":"$D1612*$F1616*H1616","v":0}]
[null,null,null,null,"อื่นๆ",null,{"$f":"D1612*F1617","v":0},null,{"$f":"$D1612*$F1617*H1617","v":0}]
[null,269,null,null,"ตราสารทุน",null,{"$f":"D1618*F1618","v":0},null,{"$f":"$D1618*$F1618*H1618","v":0},{"$f":"SUM(I1618:I1623)","v":0}]
[null,null,null,null,"อสังหาริมทรัพย์",null,{"$f":"D1618*F1619","v":0},null,{"$f":"$D1618*$F1619*H1619","v":0}]
[null,null,null,null,"สินค้าโภคภัณฑ์",null,{"$f":"D1618*F1620","v":0},null,{"$f":"$D1618*$F1620*H1620","v":0}]
[null,null,null,null,"เงินฝาก",null,{"$f":"D1618*F1621","v":0},null,{"$f":"$D1618*$F1621*H1621","v":0}]
[null,null,null,null,"ตราสารหนี้",null,{"$f":"D1618*F1622","v":0},null,{"$f":"$D1618*$F1622*H1622","v":0}]
[null,null,null,null,"อื่นๆ",null,{"$f":"D1618*F1623","v":0},null,{"$f":"$D1618*$F1623*H1623","v":0}]
[null,270,null,null,"ตราสารทุน",null,{"$f":"D1624*F1624","v":0},null,{"$f":"$D1624*$F1624*H1624","v":0},{"$f":"SUM(I1624:I1629)","v":0}]
[null,null,null,null,"อสังหาริมทรัพย์",null,{"$f":"D1624*F1625","v":0},null,{"$f":"$D1624*$F1625*H1625","v":0}]
[null,null,null,null,"สินค้าโภคภัณฑ์",null,{"$f":"D1624*F1626","v":0},null,{"$f":"$D1624*$F1626*H1626","v":0}]
[null,null,null,null,"เงินฝาก",null,{"$f":"D1624*F1627","v":0},null,{"$f":"$D1624*$F1627*H1627","v":0}]
[null,null,null,null,"ตราสารหนี้",null,{"$f":"D1624*F1628","v":0},null,{"$f":"$D1624*$F1628*H1628","v":0}]
[null,null,null,null,"อื่นๆ",null,{"$f":"D1624*F1629","v":0},null,{"$f":"$D1624*$F1629*H1629","v":0}]
[null,271,null,null,"ตราสารทุน",null,{"$f":"D1630*F1630","v":0},null,{"$f":"$D1630*$F1630*H1630","v":0},{"$f":"SUM(I1630:I1635)","v":0}]
[null,null,null,null,"อสังหาริมทรัพย์",null,{"$f":"D1630*F1631","v":0},null,{"$f":"$D1630*$F1631*H1631","v":0}]
[null,null,null,null,"สินค้าโภคภัณฑ์",null,{"$f":"D1630*F1632","v":0},null,{"$f":"$D1630*$F1632*H1632","v":0}]
[null,null,null,null,"เงินฝาก",null,{"$f":"D1630*F1633","v":0},null,{"$f":"$D1630*$F1633*H1633","v":0}]
[null,null,null,null,"ตราสารหนี้",null,{"$f":"D1630*F1634","v":0},null,{"$f":"$D1630*$F1634*H1634","v":0}]
[null,null,null,null,"อื่นๆ",null,{"$f":"D1630*F1635","v":0},null,{"$f":"$D1630*$F1635*H1635","v":0}]
[null,272,null,null,"ตราสารทุน",null,{"$f":"D1636*F1636","v":0},null,{"$f":"$D1636*$F1636*H1636","v":0},{"$f":"SUM(I1636:I1641)","v":0}]
[null,null,null,null,"อสังหาริมทรัพย์",null,{"$f":"D1636*F1637","v":0},null,{"$f":"$D1636*$F1637*H1637","v":0}]
[null,null,null,null,"สินค้าโภคภัณฑ์",null,{"$f":"D1636*F1638","v":0},null,{"$f":"$D1636*$F1638*H1638","v":0}]
[null,null,null,null,"เงินฝาก",null,{"$f":"D1636*F1639","v":0},null,{"$f":"$D1636*$F1639*H1639","v":0}]
[null,null,null,null,"ตราสารหนี้",null,{"$f":"D1636*F1640","v":0},null,{"$f":"$D1636*$F1640*H1640","v":0}]
[null,null,null,null,"อื่นๆ",null,{"$f":"D1636*F1641","v":0},null,{"$f":"$D1636*$F1641*H1641","v":0}]
[null,273,null,null,"ตราสารทุน",null,{"$f":"D1642*F1642","v":0},null,{"$f":"$D1642*$F1642*H1642","v":0},{"$f":"SUM(I1642:I1647)","v":0}]
[null,null,null,null,"อสังหาริมทรัพย์",null,{"$f":"D1642*F1643","v":0},null,{"$f":"$D1642*$F1643*H1643","v":0}]
[null,null,null,null,"สินค้าโภคภัณฑ์",null,{"$f":"D1642*F1644","v":0},null,{"$f":"$D1642*$F1644*H1644","v":0}]
[null,null,null,null,"เงินฝาก",null,{"$f":"D1642*F1645","v":0},null,{"$f":"$D1642*$F1645*H1645","v":0}]
[null,null,null,null,"ตราสารหนี้",null,{"$f":"D1642*F1646","v":0},null,{"$f":"$D1642*$F1646*H1646","v":0}]
[null,null,null,null,"อื่นๆ",null,{"$f":"D1642*F1647","v":0},null,{"$f":"$D1642*$F1647*H1647","v":0}]
[null,274,null,null,"ตราสารทุน",null,{"$f":"D1648*F1648","v":0},null,{"$f":"$D1648*$F1648*H1648","v":0},{"$f":"SUM(I1648:I1653)","v":0}]
[null,null,null,null,"อสังหาริมทรัพย์",null,{"$f":"D1648*F1649","v":0},null,{"$f":"$D1648*$F1649*H1649","v":0}]
[null,null,null,null,"สินค้าโภคภัณฑ์",null,{"$f":"D1648*F1650","v":0},null,{"$f":"$D1648*$F1650*H1650","v":0}]
[null,null,null,null,"เงินฝาก",null,{"$f":"D1648*F1651","v":0},null,{"$f":"$D1648*$F1651*H1651","v":0}]
[null,null,null,null,"ตราสารหนี้",null,{"$f":"D1648*F1652","v":0},null,{"$f":"$D1648*$F1652*H1652","v":0}]
[null,null,null,null,"อื่นๆ",null,{"$f":"D1648*F1653","v":0},null,{"$f":"$D1648*$F1653*H1653","v":0}]
[null,275,null,null,"ตราสารทุน",null,{"$f":"D1654*F1654","v":0},null,{"$f":"$D1654*$F1654*H1654","v":0},{"$f":"SUM(I1654:I1659)","v":0}]
[null,null,null,null,"อสังหาริมทรัพย์",null,{"$f":"D1654*F1655","v":0},null,{"$f":"$D1654*$F1655*H1655","v":0}]
[null,null,null,null,"สินค้าโภคภัณฑ์",null,{"$f":"D1654*F1656","v":0},null,{"$f":"$D1654*$F1656*H1656","v":0}]
[null,null,null,null,"เงินฝาก",null,{"$f":"D1654*F1657","v":0},null,{"$f":"$D1654*$F1657*H1657","v":0}]
[null,null,null,null,"ตราสารหนี้",null,{"$f":"D1654*F1658","v":0},null,{"$f":"$D1654*$F1658*H1658","v":0}]
[null,null,null,null,"อื่นๆ",null,{"$f":"D1654*F1659","v":0},null,{"$f":"$D1654*$F1659*H1659","v":0}]
[null,276,null,null,"ตราสารทุน",null,{"$f":"D1660*F1660","v":0},null,{"$f":"$D1660*$F1660*H1660","v":0},{"$f":"SUM(I1660:I1665)","v":0}]
[null,null,null,null,"อสังหาริมทรัพย์",null,{"$f":"D1660*F1661","v":0},null,{"$f":"$D1660*$F1661*H1661","v":0}]
[null,null,null,null,"สินค้าโภคภัณฑ์",null,{"$f":"D1660*F1662","v":0},null,{"$f":"$D1660*$F1662*H1662","v":0}]
[null,null,null,null,"เงินฝาก",null,{"$f":"D1660*F1663","v":0},null,{"$f":"$D1660*$F1663*H1663","v":0}]
[null,null,null,null,"ตราสารหนี้",null,{"$f":"D1660*F1664","v":0},null,{"$f":"$D1660*$F1664*H1664","v":0}]
[null,null,null,null,"อื่นๆ",null,{"$f":"D1660*F1665","v":0},null,{"$f":"$D1660*$F1665*H1665","v":0}]
[null,277,null,null,"ตราสารทุน",null,{"$f":"D1666*F1666","v":0},null,{"$f":"$D1666*$F1666*H1666","v":0},{"$f":"SUM(I1666:I1671)","v":0}]
[null,null,null,null,"อสังหาริมทรัพย์",null,{"$f":"D1666*F1667","v":0},null,{"$f":"$D1666*$F1667*H1667","v":0}]
[null,null,null,null,"สินค้าโภคภัณฑ์",null,{"$f":"D1666*F1668","v":0},null,{"$f":"$D1666*$F1668*H1668","v":0}]
[null,null,null,null,"เงินฝาก",null,{"$f":"D1666*F1669","v":0},null,{"$f":"$D1666*$F1669*H1669","v":0}]
[null,null,null,null,"ตราสารหนี้",null,{"$f":"D1666*F1670","v":0},null,{"$f":"$D1666*$F1670*H1670","v":0}]
[null,null,null,null,"อื่นๆ",null,{"$f":"D1666*F1671","v":0},null,{"$f":"$D1666*$F1671*H1671","v":0}]
[null,278,null,null,"ตราสารทุน",null,{"$f":"D1672*F1672","v":0},null,{"$f":"$D1672*$F1672*H1672","v":0},{"$f":"SUM(I1672:I1677)","v":0}]
[null,null,null,null,"อสังหาริมทรัพย์",null,{"$f":"D1672*F1673","v":0},null,{"$f":"$D1672*$F1673*H1673","v":0}]
[null,null,null,null,"สินค้าโภคภัณฑ์",null,{"$f":"D1672*F1674","v":0},null,{"$f":"$D1672*$F1674*H1674","v":0}]
[null,null,null,null,"เงินฝาก",null,{"$f":"D1672*F1675","v":0},null,{"$f":"$D1672*$F1675*H1675","v":0}]
[null,null,null,null,"ตราสารหนี้",null,{"$f":"D1672*F1676","v":0},null,{"$f":"$D1672*$F1676*H1676","v":0}]
[null,null,null,null,"อื่นๆ",null,{"$f":"D1672*F1677","v":0},null,{"$f":"$D1672*$F1677*H1677","v":0}]
[null,279,null,null,"ตราสารทุน",null,{"$f":"D1678*F1678","v":0},null,{"$f":"$D1678*$F1678*H1678","v":0},{"$f":"SUM(I1678:I1683)","v":0}]
[null,null,null,null,"อสังหาริมทรัพย์",null,{"$f":"D1678*F1679","v":0},null,{"$f":"$D1678*$F1679*H1679","v":0}]
[null,null,null,null,"สินค้าโภคภัณฑ์",null,{"$f":"D1678*F1680","v":0},null,{"$f":"$D1678*$F1680*H1680","v":0}]
[null,null,null,null,"เงินฝาก",null,{"$f":"D1678*F1681","v":0},null,{"$f":"$D1678*$F1681*H1681","v":0}]
[null,null,null,null,"ตราสารหนี้",null,{"$f":"D1678*F1682","v":0},null,{"$f":"$D1678*$F1682*H1682","v":0}]
[null,null,null,null,"อื่นๆ",null,{"$f":"D1678*F1683","v":0},null,{"$f":"$D1678*$F1683*H1683","v":0}]
[null,280,null,null,"ตราสารทุน",null,{"$f":"D1684*F1684","v":0},null,{"$f":"$D1684*$F1684*H1684","v":0},{"$f":"SUM(I1684:I1689)","v":0}]
[null,null,null,null,"อสังหาริมทรัพย์",null,{"$f":"D1684*F1685","v":0},null,{"$f":"$D1684*$F1685*H1685","v":0}]
[null,null,null,null,"สินค้าโภคภัณฑ์",null,{"$f":"D1684*F1686","v":0},null,{"$f":"$D1684*$F1686*H1686","v":0}]
[null,null,null,null,"เงินฝาก",null,{"$f":"D1684*F1687","v":0},null,{"$f":"$D1684*$F1687*H1687","v":0}]
[null,null,null,null,"ตราสารหนี้",null,{"$f":"D1684*F1688","v":0},null,{"$f":"$D1684*$F1688*H1688","v":0}]
[null,null,null,null,"อื่นๆ",null,{"$f":"D1684*F1689","v":0},null,{"$f":"$D1684*$F1689*H1689","v":0}]
[null,281,null,null,"ตราสารทุน",null,{"$f":"D1690*F1690","v":0},null,{"$f":"$D1690*$F1690*H1690","v":0},{"$f":"SUM(I1690:I1695)","v":0}]
[null,null,null,null,"อสังหาริมทรัพย์",null,{"$f":"D1690*F1691","v":0},null,{"$f":"$D1690*$F1691*H1691","v":0}]
[null,null,null,null,"สินค้าโภคภัณฑ์",null,{"$f":"D1690*F1692","v":0},null,{"$f":"$D1690*$F1692*H1692","v":0}]
[null,null,null,null,"เงินฝาก",null,{"$f":"D1690*F1693","v":0},null,{"$f":"$D1690*$F1693*H1693","v":0}]
[null,null,null,null,"ตราสารหนี้",null,{"$f":"D1690*F1694","v":0},null,{"$f":"$D1690*$F1694*H1694","v":0}]
[null,null,null,null,"อื่นๆ",null,{"$f":"D1690*F1695","v":0},null,{"$f":"$D1690*$F1695*H1695","v":0}]
[null,282,null,null,"ตราสารทุน",null,{"$f":"D1696*F1696","v":0},null,{"$f":"$D1696*$F1696*H1696","v":0},{"$f":"SUM(I1696:I1701)","v":0}]
[null,null,null,null,"อสังหาริมทรัพย์",null,{"$f":"D1696*F1697","v":0},null,{"$f":"$D1696*$F1697*H1697","v":0}]
[null,null,null,null,"สินค้าโภคภัณฑ์",null,{"$f":"D1696*F1698","v":0},null,{"$f":"$D1696*$F1698*H1698","v":0}]
[null,null,null,null,"เงินฝาก",null,{"$f":"D1696*F1699","v":0},null,{"$f":"$D1696*$F1699*H1699","v":0}]
[null,null,null,null,"ตราสารหนี้",null,{"$f":"D1696*F1700","v":0},null,{"$f":"$D1696*$F1700*H1700","v":0}]
[null,null,null,null,"อื่นๆ",null,{"$f":"D1696*F1701","v":0},null,{"$f":"$D1696*$F1701*H1701","v":0}]
[null,283,null,null,"ตราสารทุน",null,{"$f":"D1702*F1702","v":0},null,{"$f":"$D1702*$F1702*H1702","v":0},{"$f":"SUM(I1702:I1707)","v":0}]
[null,null,null,null,"อสังหาริมทรัพย์",null,{"$f":"D1702*F1703","v":0},null,{"$f":"$D1702*$F1703*H1703","v":0}]
[null,null,null,null,"สินค้าโภคภัณฑ์",null,{"$f":"D1702*F1704","v":0},null,{"$f":"$D1702*$F1704*H1704","v":0}]
[null,null,null,null,"เงินฝาก",null,{"$f":"D1702*F1705","v":0},null,{"$f":"$D1702*$F1705*H1705","v":0}]
[null,null,null,null,"ตราสารหนี้",null,{"$f":"D1702*F1706","v":0},null,{"$f":"$D1702*$F1706*H1706","v":0}]
[null,null,null,null,"อื่นๆ",null,{"$f":"D1702*F1707","v":0},null,{"$f":"$D1702*$F1707*H1707","v":0}]
[null,284,null,null,"ตราสารทุน",null,{"$f":"D1708*F1708","v":0},null,{"$f":"$D1708*$F1708*H1708","v":0},{"$f":"SUM(I1708:I1713)","v":0}]
[null,null,null,null,"อสังหาริมทรัพย์",null,{"$f":"D1708*F1709","v":0},null,{"$f":"$D1708*$F1709*H1709","v":0}]
[null,null,null,null,"สินค้าโภคภัณฑ์",null,{"$f":"D1708*F1710","v":0},null,{"$f":"$D1708*$F1710*H1710","v":0}]
[null,null,null,null,"เงินฝาก",null,{"$f":"D1708*F1711","v":0},null,{"$f":"$D1708*$F1711*H1711","v":0}]
[null,null,null,null,"ตราสารหนี้",null,{"$f":"D1708*F1712","v":0},null,{"$f":"$D1708*$F1712*H1712","v":0}]
[null,null,null,null,"อื่นๆ",null,{"$f":"D1708*F1713","v":0},null,{"$f":"$D1708*$F1713*H1713","v":0}]
[null,285,null,null,"ตราสารทุน",null,{"$f":"D1714*F1714","v":0},null,{"$f":"$D1714*$F1714*H1714","v":0},{"$f":"SUM(I1714:I1719)","v":0}]
[null,null,null,null,"อสังหาริมทรัพย์",null,{"$f":"D1714*F1715","v":0},null,{"$f":"$D1714*$F1715*H1715","v":0}]
[null,null,null,null,"สินค้าโภคภัณฑ์",null,{"$f":"D1714*F1716","v":0},null,{"$f":"$D1714*$F1716*H1716","v":0}]
[null,null,null,null,"เงินฝาก",null,{"$f":"D1714*F1717","v":0},null,{"$f":"$D1714*$F1717*H1717","v":0}]
[null,null,null,null,"ตราสารหนี้",null,{"$f":"D1714*F1718","v":0},null,{"$f":"$D1714*$F1718*H1718","v":0}]
[null,null,null,null,"อื่นๆ",null,{"$f":"D1714*F1719","v":0},null,{"$f":"$D1714*$F1719*H1719","v":0}]
[null,286,null,null,"ตราสารทุน",null,{"$f":"D1720*F1720","v":0},null,{"$f":"$D1720*$F1720*H1720","v":0},{"$f":"SUM(I1720:I1725)","v":0}]
[null,null,null,null,"อสังหาริมทรัพย์",null,{"$f":"D1720*F1721","v":0},null,{"$f":"$D1720*$F1721*H1721","v":0}]
[null,null,null,null,"สินค้าโภคภัณฑ์",null,{"$f":"D1720*F1722","v":0},null,{"$f":"$D1720*$F1722*H1722","v":0}]
[null,null,null,null,"เงินฝาก",null,{"$f":"D1720*F1723","v":0},null,{"$f":"$D1720*$F1723*H1723","v":0}]
[null,null,null,null,"ตราสารหนี้",null,{"$f":"D1720*F1724","v":0},null,{"$f":"$D1720*$F1724*H1724","v":0}]
[null,null,null,null,"อื่นๆ",null,{"$f":"D1720*F1725","v":0},null,{"$f":"$D1720*$F1725*H1725","v":0}]
[null,287,null,null,"ตราสารทุน",null,{"$f":"D1726*F1726","v":0},null,{"$f":"$D1726*$F1726*H1726","v":0},{"$f":"SUM(I1726:I1731)","v":0}]
[null,null,null,null,"อสังหาริมทรัพย์",null,{"$f":"D1726*F1727","v":0},null,{"$f":"$D1726*$F1727*H1727","v":0}]
[null,null,null,null,"สินค้าโภคภัณฑ์",null,{"$f":"D1726*F1728","v":0},null,{"$f":"$D1726*$F1728*H1728","v":0}]
[null,null,null,null,"เงินฝาก",null,{"$f":"D1726*F1729","v":0},null,{"$f":"$D1726*$F1729*H1729","v":0}]
[null,null,null,null,"ตราสารหนี้",null,{"$f":"D1726*F1730","v":0},null,{"$f":"$D1726*$F1730*H1730","v":0}]
[null,null,null,null,"อื่นๆ",null,{"$f":"D1726*F1731","v":0},null,{"$f":"$D1726*$F1731*H1731","v":0}]
[null,288,null,null,"ตราสารทุน",null,{"$f":"D1732*F1732","v":0},null,{"$f":"$D1732*$F1732*H1732","v":0},{"$f":"SUM(I1732:I1737)","v":0}]
[null,null,null,null,"อสังหาริมทรัพย์",null,{"$f":"D1732*F1733","v":0},null,{"$f":"$D1732*$F1733*H1733","v":0}]
[null,null,null,null,"สินค้าโภคภัณฑ์",null,{"$f":"D1732*F1734","v":0},null,{"$f":"$D1732*$F1734*H1734","v":0}]
[null,null,null,null,"เงินฝาก",null,{"$f":"D1732*F1735","v":0},null,{"$f":"$D1732*$F1735*H1735","v":0}]
[null,null,null,null,"ตราสารหนี้",null,{"$f":"D1732*F1736","v":0},null,{"$f":"$D1732*$F1736*H1736","v":0}]
[null,null,null,null,"อื่นๆ",null,{"$f":"D1732*F1737","v":0},null,{"$f":"$D1732*$F1737*H1737","v":0}]
[null,289,null,null,"ตราสารทุน",null,{"$f":"D1738*F1738","v":0},null,{"$f":"$D1738*$F1738*H1738","v":0},{"$f":"SUM(I1738:I1743)","v":0}]
[null,null,null,null,"อสังหาริมทรัพย์",null,{"$f":"D1738*F1739","v":0},null,{"$f":"$D1738*$F1739*H1739","v":0}]
[null,null,null,null,"สินค้าโภคภัณฑ์",null,{"$f":"D1738*F1740","v":0},null,{"$f":"$D1738*$F1740*H1740","v":0}]
[null,null,null,null,"เงินฝาก",null,{"$f":"D1738*F1741","v":0},null,{"$f":"$D1738*$F1741*H1741","v":0}]
[null,null,null,null,"ตราสารหนี้",null,{"$f":"D1738*F1742","v":0},null,{"$f":"$D1738*$F1742*H1742","v":0}]
[null,null,null,null,"อื่นๆ",null,{"$f":"D1738*F1743","v":0},null,{"$f":"$D1738*$F1743*H1743","v":0}]
[null,290,null,null,"ตราสารทุน",null,{"$f":"D1744*F1744","v":0},null,{"$f":"$D1744*$F1744*H1744","v":0},{"$f":"SUM(I1744:I1749)","v":0}]
[null,null,null,null,"อสังหาริมทรัพย์",null,{"$f":"D1744*F1745","v":0},null,{"$f":"$D1744*$F1745*H1745","v":0}]
[null,null,null,null,"สินค้าโภคภัณฑ์",null,{"$f":"D1744*F1746","v":0},null,{"$f":"$D1744*$F1746*H1746","v":0}]
[null,null,null,null,"เงินฝาก",null,{"$f":"D1744*F1747","v":0},null,{"$f":"$D1744*$F1747*H1747","v":0}]
[null,null,null,null,"ตราสารหนี้",null,{"$f":"D1744*F1748","v":0},null,{"$f":"$D1744*$F1748*H1748","v":0}]
[null,null,null,null,"อื่นๆ",null,{"$f":"D1744*F1749","v":0},null,{"$f":"$D1744*$F1749*H1749","v":0}]
[null,291,null,null,"ตราสารทุน",null,{"$f":"D1750*F1750","v":0},null,{"$f":"$D1750*$F1750*H1750","v":0},{"$f":"SUM(I1750:I1755)","v":0}]
[null,null,null,null,"อสังหาริมทรัพย์",null,{"$f":"D1750*F1751","v":0},null,{"$f":"$D1750*$F1751*H1751","v":0}]
[null,null,null,null,"สินค้าโภคภัณฑ์",null,{"$f":"D1750*F1752","v":0},null,{"$f":"$D1750*$F1752*H1752","v":0}]
[null,null,null,null,"เงินฝาก",null,{"$f":"D1750*F1753","v":0},null,{"$f":"$D1750*$F1753*H1753","v":0}]
[null,null,null,null,"ตราสารหนี้",null,{"$f":"D1750*F1754","v":0},null,{"$f":"$D1750*$F1754*H1754","v":0}]
[null,null,null,null,"อื่นๆ",null,{"$f":"D1750*F1755","v":0},null,{"$f":"$D1750*$F1755*H1755","v":0}]
[null,292,null,null,"ตราสารทุน",null,{"$f":"D1756*F1756","v":0},null,{"$f":"$D1756*$F1756*H1756","v":0},{"$f":"SUM(I1756:I1761)","v":0}]
[null,null,null,null,"อสังหาริมทรัพย์",null,{"$f":"D1756*F1757","v":0},null,{"$f":"$D1756*$F1757*H1757","v":0}]
[null,null,null,null,"สินค้าโภคภัณฑ์",null,{"$f":"D1756*F1758","v":0},null,{"$f":"$D1756*$F1758*H1758","v":0}]
[null,null,null,null,"เงินฝาก",null,{"$f":"D1756*F1759","v":0},null,{"$f":"$D1756*$F1759*H1759","v":0}]
[null,null,null,null,"ตราสารหนี้",null,{"$f":"D1756*F1760","v":0},null,{"$f":"$D1756*$F1760*H1760","v":0}]
[null,null,null,null,"อื่นๆ",null,{"$f":"D1756*F1761","v":0},null,{"$f":"$D1756*$F1761*H1761","v":0}]
[null,293,null,null,"ตราสารทุน",null,{"$f":"D1762*F1762","v":0},null,{"$f":"$D1762*$F1762*H1762","v":0},{"$f":"SUM(I1762:I1767)","v":0}]
[null,null,null,null,"อสังหาริมทรัพย์",null,{"$f":"D1762*F1763","v":0},null,{"$f":"$D1762*$F1763*H1763","v":0}]
[null,null,null,null,"สินค้าโภคภัณฑ์",null,{"$f":"D1762*F1764","v":0},null,{"$f":"$D1762*$F1764*H1764","v":0}]
[null,null,null,null,"เงินฝาก",null,{"$f":"D1762*F1765","v":0},null,{"$f":"$D1762*$F1765*H1765","v":0}]
[null,null,null,null,"ตราสารหนี้",null,{"$f":"D1762*F1766","v":0},null,{"$f":"$D1762*$F1766*H1766","v":0}]
[null,null,null,null,"อื่นๆ",null,{"$f":"D1762*F1767","v":0},null,{"$f":"$D1762*$F1767*H1767","v":0}]
[null,294,null,null,"ตราสารทุน",null,{"$f":"D1768*F1768","v":0},null,{"$f":"$D1768*$F1768*H1768","v":0},{"$f":"SUM(I1768:I1773)","v":0}]
[null,null,null,null,"อสังหาริมทรัพย์",null,{"$f":"D1768*F1769","v":0},null,{"$f":"$D1768*$F1769*H1769","v":0}]
[null,null,null,null,"สินค้าโภคภัณฑ์",null,{"$f":"D1768*F1770","v":0},null,{"$f":"$D1768*$F1770*H1770","v":0}]
[null,null,null,null,"เงินฝาก",null,{"$f":"D1768*F1771","v":0},null,{"$f":"$D1768*$F1771*H1771","v":0}]
[null,null,null,null,"ตราสารหนี้",null,{"$f":"D1768*F1772","v":0},null,{"$f":"$D1768*$F1772*H1772","v":0}]
[null,null,null,null,"อื่นๆ",null,{"$f":"D1768*F1773","v":0},null,{"$f":"$D1768*$F1773*H1773","v":0}]
[null,295,null,null,"ตราสารทุน",null,{"$f":"D1774*F1774","v":0},null,{"$f":"$D1774*$F1774*H1774","v":0},{"$f":"SUM(I1774:I1779)","v":0}]
[null,null,null,null,"อสังหาริมทรัพย์",null,{"$f":"D1774*F1775","v":0},null,{"$f":"$D1774*$F1775*H1775","v":0}]
[null,null,null,null,"สินค้าโภคภัณฑ์",null,{"$f":"D1774*F1776","v":0},null,{"$f":"$D1774*$F1776*H1776","v":0}]
[null,null,null,null,"เงินฝาก",null,{"$f":"D1774*F1777","v":0},null,{"$f":"$D1774*$F1777*H1777","v":0}]
[null,null,null,null,"ตราสารหนี้",null,{"$f":"D1774*F1778","v":0},null,{"$f":"$D1774*$F1778*H1778","v":0}]
[null,null,null,null,"อื่นๆ",null,{"$f":"D1774*F1779","v":0},null,{"$f":"$D1774*$F1779*H1779","v":0}]
[null,296,null,null,"ตราสารทุน",null,{"$f":"D1780*F1780","v":0},null,{"$f":"$D1780*$F1780*H1780","v":0},{"$f":"SUM(I1780:I1785)","v":0}]
[null,null,null,null,"อสังหาริมทรัพย์",null,{"$f":"D1780*F1781","v":0},null,{"$f":"$D1780*$F1781*H1781","v":0}]
[null,null,null,null,"สินค้าโภคภัณฑ์",null,{"$f":"D1780*F1782","v":0},null,{"$f":"$D1780*$F1782*H1782","v":0}]
[null,null,null,null,"เงินฝาก",null,{"$f":"D1780*F1783","v":0},null,{"$f":"$D1780*$F1783*H1783","v":0}]
[null,null,null,null,"ตราสารหนี้",null,{"$f":"D1780*F1784","v":0},null,{"$f":"$D1780*$F1784*H1784","v":0}]
[null,null,null,null,"อื่นๆ",null,{"$f":"D1780*F1785","v":0},null,{"$f":"$D1780*$F1785*H1785","v":0}]
[null,297,null,null,"ตราสารทุน",null,{"$f":"D1786*F1786","v":0},null,{"$f":"$D1786*$F1786*H1786","v":0},{"$f":"SUM(I1786:I1791)","v":0}]
[null,null,null,null,"อสังหาริมทรัพย์",null,{"$f":"D1786*F1787","v":0},null,{"$f":"$D1786*$F1787*H1787","v":0}]
[null,null,null,null,"สินค้าโภคภัณฑ์",null,{"$f":"D1786*F1788","v":0},null,{"$f":"$D1786*$F1788*H1788","v":0}]
[null,null,null,null,"เงินฝาก",null,{"$f":"D1786*F1789","v":0},null,{"$f":"$D1786*$F1789*H1789","v":0}]
[null,null,null,null,"ตราสารหนี้",null,{"$f":"D1786*F1790","v":0},null,{"$f":"$D1786*$F1790*H1790","v":0}]
[null,null,null,null,"อื่นๆ",null,{"$f":"D1786*F1791","v":0},null,{"$f":"$D1786*$F1791*H1791","v":0}]
[null,298,null,null,"ตราสารทุน",null,{"$f":"D1792*F1792","v":0},null,{"$f":"$D1792*$F1792*H1792","v":0},{"$f":"SUM(I1792:I1797)","v":0}]
[null,null,null,null,"อสังหาริมทรัพย์",null,{"$f":"D1792*F1793","v":0},null,{"$f":"$D1792*$F1793*H1793","v":0}]
[null,null,null,null,"สินค้าโภคภัณฑ์",null,{"$f":"D1792*F1794","v":0},null,{"$f":"$D1792*$F1794*H1794","v":0}]
[null,null,null,null,"เงินฝาก",null,{"$f":"D1792*F1795","v":0},null,{"$f":"$D1792*$F1795*H1795","v":0}]
[null,null,null,null,"ตราสารหนี้",null,{"$f":"D1792*F1796","v":0},null,{"$f":"$D1792*$F1796*H1796","v":0}]
[null,null,null,null,"อื่นๆ",null,{"$f":"D1792*F1797","v":0},null,{"$f":"$D1792*$F1797*H1797","v":0}]
[null,299,null,null,"ตราสารทุน",null,{"$f":"D1798*F1798","v":0},null,{"$f":"$D1798*$F1798*H1798","v":0},{"$f":"SUM(I1798:I1803)","v":0}]
[null,null,null,null,"อสังหาริมทรัพย์",null,{"$f":"D1798*F1799","v":0},null,{"$f":"$D1798*$F1799*H1799","v":0}]
[null,null,null,null,"สินค้าโภคภัณฑ์",null,{"$f":"D1798*F1800","v":0},null,{"$f":"$D1798*$F1800*H1800","v":0}]
[null,null,null,null,"เงินฝาก",null,{"$f":"D1798*F1801","v":0},null,{"$f":"$D1798*$F1801*H1801","v":0}]
[null,null,null,null,"ตราสารหนี้",null,{"$f":"D1798*F1802","v":0},null,{"$f":"$D1798*$F1802*H1802","v":0}]
[null,null,null,null,"อื่นๆ",null,{"$f":"D1798*F1803","v":0},null,{"$f":"$D1798*$F1803*H1803","v":0}]
[null,300,null,null,"ตราสารทุน",null,{"$f":"D1804*F1804","v":0},null,{"$f":"$D1804*$F1804*H1804","v":0},{"$f":"SUM(I1804:I1809)","v":0}]
[null,null,null,null,"อสังหาริมทรัพย์",null,{"$f":"D1804*F1805","v":0},null,{"$f":"$D1804*$F1805*H1805","v":0}]
[null,null,null,null,"สินค้าโภคภัณฑ์",null,{"$f":"D1804*F1806","v":0},null,{"$f":"$D1804*$F1806*H1806","v":0}]
[null,null,null,null,"เงินฝาก",null,{"$f":"D1804*F1807","v":0},null,{"$f":"$D1804*$F1807*H1807","v":0}]
[null,null,null,null,"ตราสารหนี้",null,{"$f":"D1804*F1808","v":0},null,{"$f":"$D1804*$F1808*H1808","v":0}]
[null,null,null,null,"อื่นๆ",null,{"$f":"D1804*F1809","v":0},null,{"$f":"$D1804*$F1809*H1809","v":0}]
[null,301,null,null,"ตราสารทุน",null,{"$f":"D1810*F1810","v":0},null,{"$f":"$D1810*$F1810*H1810","v":0},{"$f":"SUM(I1810:I1815)","v":0}]
[null,null,null,null,"อสังหาริมทรัพย์",null,{"$f":"D1810*F1811","v":0},null,{"$f":"$D1810*$F1811*H1811","v":0}]
[null,null,null,null,"สินค้าโภคภัณฑ์",null,{"$f":"D1810*F1812","v":0},null,{"$f":"$D1810*$F1812*H1812","v":0}]
[null,null,null,null,"เงินฝาก",null,{"$f":"D1810*F1813","v":0},null,{"$f":"$D1810*$F1813*H1813","v":0}]
[null,null,null,null,"ตราสารหนี้",null,{"$f":"D1810*F1814","v":0},null,{"$f":"$D1810*$F1814*H1814","v":0}]
[null,null,null,null,"อื่นๆ",null,{"$f":"D1810*F1815","v":0},null,{"$f":"$D1810*$F1815*H1815","v":0}]
[null,302,null,null,"ตราสารทุน",null,{"$f":"D1816*F1816","v":0},null,{"$f":"$D1816*$F1816*H1816","v":0},{"$f":"SUM(I1816:I1821)","v":0}]
[null,null,null,null,"อสังหาริมทรัพย์",null,{"$f":"D1816*F1817","v":0},null,{"$f":"$D1816*$F1817*H1817","v":0}]
[null,null,null,null,"สินค้าโภคภัณฑ์",null,{"$f":"D1816*F1818","v":0},null,{"$f":"$D1816*$F1818*H1818","v":0}]
[null,null,null,null,"เงินฝาก",null,{"$f":"D1816*F1819","v":0},null,{"$f":"$D1816*$F1819*H1819","v":0}]
[null,null,null,null,"ตราสารหนี้",null,{"$f":"D1816*F1820","v":0},null,{"$f":"$D1816*$F1820*H1820","v":0}]
[null,null,null,null,"อื่นๆ",null,{"$f":"D1816*F1821","v":0},null,{"$f":"$D1816*$F1821*H1821","v":0}]
[null,303,null,null,"ตราสารทุน",null,{"$f":"D1822*F1822","v":0},null,{"$f":"$D1822*$F1822*H1822","v":0},{"$f":"SUM(I1822:I1827)","v":0}]
[null,null,null,null,"อสังหาริมทรัพย์",null,{"$f":"D1822*F1823","v":0},null,{"$f":"$D1822*$F1823*H1823","v":0}]
[null,null,null,null,"สินค้าโภคภัณฑ์",null,{"$f":"D1822*F1824","v":0},null,{"$f":"$D1822*$F1824*H1824","v":0}]
[null,null,null,null,"เงินฝาก",null,{"$f":"D1822*F1825","v":0},null,{"$f":"$D1822*$F1825*H1825","v":0}]
[null,null,null,null,"ตราสารหนี้",null,{"$f":"D1822*F1826","v":0},null,{"$f":"$D1822*$F1826*H1826","v":0}]
[null,null,null,null,"อื่นๆ",null,{"$f":"D1822*F1827","v":0},null,{"$f":"$D1822*$F1827*H1827","v":0}]
[null,304,null,null,"ตราสารทุน",null,{"$f":"D1828*F1828","v":0},null,{"$f":"$D1828*$F1828*H1828","v":0},{"$f":"SUM(I1828:I1833)","v":0}]
[null,null,null,null,"อสังหาริมทรัพย์",null,{"$f":"D1828*F1829","v":0},null,{"$f":"$D1828*$F1829*H1829","v":0}]
[null,null,null,null,"สินค้าโภคภัณฑ์",null,{"$f":"D1828*F1830","v":0},null,{"$f":"$D1828*$F1830*H1830","v":0}]
[null,null,null,null,"เงินฝาก",null,{"$f":"D1828*F1831","v":0},null,{"$f":"$D1828*$F1831*H1831","v":0}]
[null,null,null,null,"ตราสารหนี้",null,{"$f":"D1828*F1832","v":0},null,{"$f":"$D1828*$F1832*H1832","v":0}]
[null,null,null,null,"อื่นๆ",null,{"$f":"D1828*F1833","v":0},null,{"$f":"$D1828*$F1833*H1833","v":0}]
[null,305,null,null,"ตราสารทุน",null,{"$f":"D1834*F1834","v":0},null,{"$f":"$D1834*$F1834*H1834","v":0},{"$f":"SUM(I1834:I1839)","v":0}]
[null,null,null,null,"อสังหาริมทรัพย์",null,{"$f":"D1834*F1835","v":0},null,{"$f":"$D1834*$F1835*H1835","v":0}]
[null,null,null,null,"สินค้าโภคภัณฑ์",null,{"$f":"D1834*F1836","v":0},null,{"$f":"$D1834*$F1836*H1836","v":0}]
[null,null,null,null,"เงินฝาก",null,{"$f":"D1834*F1837","v":0},null,{"$f":"$D1834*$F1837*H1837","v":0}]
[null,null,null,null,"ตราสารหนี้",null,{"$f":"D1834*F1838","v":0},null,{"$f":"$D1834*$F1838*H1838","v":0}]
[null,null,null,null,"อื่นๆ",null,{"$f":"D1834*F1839","v":0},null,{"$f":"$D1834*$F1839*H1839","v":0}]
[null,306,null,null,"ตราสารทุน",null,{"$f":"D1840*F1840","v":0},null,{"$f":"$D1840*$F1840*H1840","v":0},{"$f":"SUM(I1840:I1845)","v":0}]
[null,null,null,null,"อสังหาริมทรัพย์",null,{"$f":"D1840*F1841","v":0},null,{"$f":"$D1840*$F1841*H1841","v":0}]
[null,null,null,null,"สินค้าโภคภัณฑ์",null,{"$f":"D1840*F1842","v":0},null,{"$f":"$D1840*$F1842*H1842","v":0}]
[null,null,null,null,"เงินฝาก",null,{"$f":"D1840*F1843","v":0},null,{"$f":"$D1840*$F1843*H1843","v":0}]
[null,null,null,null,"ตราสารหนี้",null,{"$f":"D1840*F1844","v":0},null,{"$f":"$D1840*$F1844*H1844","v":0}]
[null,null,null,null,"อื่นๆ",null,{"$f":"D1840*F1845","v":0},null,{"$f":"$D1840*$F1845*H1845","v":0}]
[null,307,null,null,"ตราสารทุน",null,{"$f":"D1846*F1846","v":0},null,{"$f":"$D1846*$F1846*H1846","v":0},{"$f":"SUM(I1846:I1851)","v":0}]
[null,null,null,null,"อสังหาริมทรัพย์",null,{"$f":"D1846*F1847","v":0},null,{"$f":"$D1846*$F1847*H1847","v":0}]
[null,null,null,null,"สินค้าโภคภัณฑ์",null,{"$f":"D1846*F1848","v":0},null,{"$f":"$D1846*$F1848*H1848","v":0}]
[null,null,null,null,"เงินฝาก",null,{"$f":"D1846*F1849","v":0},null,{"$f":"$D1846*$F1849*H1849","v":0}]
[null,null,null,null,"ตราสารหนี้",null,{"$f":"D1846*F1850","v":0},null,{"$f":"$D1846*$F1850*H1850","v":0}]
[null,null,null,null,"อื่นๆ",null,{"$f":"D1846*F1851","v":0},null,{"$f":"$D1846*$F1851*H1851","v":0}]
[null,308,null,null,"ตราสารทุน",null,{"$f":"D1852*F1852","v":0},null,{"$f":"$D1852*$F1852*H1852","v":0},{"$f":"SUM(I1852:I1857)","v":0}]
[null,null,null,null,"อสังหาริมทรัพย์",null,{"$f":"D1852*F1853","v":0},null,{"$f":"$D1852*$F1853*H1853","v":0}]
[null,null,null,null,"สินค้าโภคภัณฑ์",null,{"$f":"D1852*F1854","v":0},null,{"$f":"$D1852*$F1854*H1854","v":0}]
[null,null,null,null,"เงินฝาก",null,{"$f":"D1852*F1855","v":0},null,{"$f":"$D1852*$F1855*H1855","v":0}]
[null,null,null,null,"ตราสารหนี้",null,{"$f":"D1852*F1856","v":0},null,{"$f":"$D1852*$F1856*H1856","v":0}]
[null,null,null,null,"อื่นๆ",null,{"$f":"D1852*F1857","v":0},null,{"$f":"$D1852*$F1857*H1857","v":0}]
[null,309,null,null,"ตราสารทุน",null,{"$f":"D1858*F1858","v":0},null,{"$f":"$D1858*$F1858*H1858","v":0},{"$f":"SUM(I1858:I1863)","v":0}]
[null,null,null,null,"อสังหาริมทรัพย์",null,{"$f":"D1858*F1859","v":0},null,{"$f":"$D1858*$F1859*H1859","v":0}]
[null,null,null,null,"สินค้าโภคภัณฑ์",null,{"$f":"D1858*F1860","v":0},null,{"$f":"$D1858*$F1860*H1860","v":0}]
[null,null,null,null,"เงินฝาก",null,{"$f":"D1858*F1861","v":0},null,{"$f":"$D1858*$F1861*H1861","v":0}]
[null,null,null,null,"ตราสารหนี้",null,{"$f":"D1858*F1862","v":0},null,{"$f":"$D1858*$F1862*H1862","v":0}]
[null,null,null,null,"อื่นๆ",null,{"$f":"D1858*F1863","v":0},null,{"$f":"$D1858*$F1863*H1863","v":0}]
[null,310,null,null,"ตราสารทุน",null,{"$f":"D1864*F1864","v":0},null,{"$f":"$D1864*$F1864*H1864","v":0},{"$f":"SUM(I1864:I1869)","v":0}]
[null,null,null,null,"อสังหาริมทรัพย์",null,{"$f":"D1864*F1865","v":0},null,{"$f":"$D1864*$F1865*H1865","v":0}]
[null,null,null,null,"สินค้าโภคภัณฑ์",null,{"$f":"D1864*F1866","v":0},null,{"$f":"$D1864*$F1866*H1866","v":0}]
[null,null,null,null,"เงินฝาก",null,{"$f":"D1864*F1867","v":0},null,{"$f":"$D1864*$F1867*H1867","v":0}]
[null,null,null,null,"ตราสารหนี้",null,{"$f":"D1864*F1868","v":0},null,{"$f":"$D1864*$F1868*H1868","v":0}]
[null,null,null,null,"อื่นๆ",null,{"$f":"D1864*F1869","v":0},null,{"$f":"$D1864*$F1869*H1869","v":0}]
[null,311,null,null,"ตราสารทุน",null,{"$f":"D1870*F1870","v":0},null,{"$f":"$D1870*$F1870*H1870","v":0},{"$f":"SUM(I1870:I1875)","v":0}]
[null,null,null,null,"อสังหาริมทรัพย์",null,{"$f":"D1870*F1871","v":0},null,{"$f":"$D1870*$F1871*H1871","v":0}]
[null,null,null,null,"สินค้าโภคภัณฑ์",null,{"$f":"D1870*F1872","v":0},null,{"$f":"$D1870*$F1872*H1872","v":0}]
[null,null,null,null,"เงินฝาก",null,{"$f":"D1870*F1873","v":0},null,{"$f":"$D1870*$F1873*H1873","v":0}]
[null,null,null,null,"ตราสารหนี้",null,{"$f":"D1870*F1874","v":0},null,{"$f":"$D1870*$F1874*H1874","v":0}]
[null,null,null,null,"อื่นๆ",null,{"$f":"D1870*F1875","v":0},null,{"$f":"$D1870*$F1875*H1875","v":0}]
[null,312,null,null,"ตราสารทุน",null,{"$f":"D1876*F1876","v":0},null,{"$f":"$D1876*$F1876*H1876","v":0},{"$f":"SUM(I1876:I1881)","v":0}]
[null,null,null,null,"อสังหาริมทรัพย์",null,{"$f":"D1876*F1877","v":0},null,{"$f":"$D1876*$F1877*H1877","v":0}]
[null,null,null,null,"สินค้าโภคภัณฑ์",null,{"$f":"D1876*F1878","v":0},null,{"$f":"$D1876*$F1878*H1878","v":0}]
[null,null,null,null,"เงินฝาก",null,{"$f":"D1876*F1879","v":0},null,{"$f":"$D1876*$F1879*H1879","v":0}]
[null,null,null,null,"ตราสารหนี้",null,{"$f":"D1876*F1880","v":0},null,{"$f":"$D1876*$F1880*H1880","v":0}]
[null,null,null,null,"อื่นๆ",null,{"$f":"D1876*F1881","v":0},null,{"$f":"$D1876*$F1881*H1881","v":0}]
[null,313,null,null,"ตราสารทุน",null,{"$f":"D1882*F1882","v":0},null,{"$f":"$D1882*$F1882*H1882","v":0},{"$f":"SUM(I1882:I1887)","v":0}]
[null,null,null,null,"อสังหาริมทรัพย์",null,{"$f":"D1882*F1883","v":0},null,{"$f":"$D1882*$F1883*H1883","v":0}]
[null,null,null,null,"สินค้าโภคภัณฑ์",null,{"$f":"D1882*F1884","v":0},null,{"$f":"$D1882*$F1884*H1884","v":0}]
[null,null,null,null,"เงินฝาก",null,{"$f":"D1882*F1885","v":0},null,{"$f":"$D1882*$F1885*H1885","v":0}]
[null,null,null,null,"ตราสารหนี้",null,{"$f":"D1882*F1886","v":0},null,{"$f":"$D1882*$F1886*H1886","v":0}]
[null,null,null,null,"อื่นๆ",null,{"$f":"D1882*F1887","v":0},null,{"$f":"$D1882*$F1887*H1887","v":0}]
[null,314,null,null,"ตราสารทุน",null,{"$f":"D1888*F1888","v":0},null,{"$f":"$D1888*$F1888*H1888","v":0},{"$f":"SUM(I1888:I1893)","v":0}]
[null,null,null,null,"อสังหาริมทรัพย์",null,{"$f":"D1888*F1889","v":0},null,{"$f":"$D1888*$F1889*H1889","v":0}]
[null,null,null,null,"สินค้าโภคภัณฑ์",null,{"$f":"D1888*F1890","v":0},null,{"$f":"$D1888*$F1890*H1890","v":0}]
[null,null,null,null,"เงินฝาก",null,{"$f":"D1888*F1891","v":0},null,{"$f":"$D1888*$F1891*H1891","v":0}]
[null,null,null,null,"ตราสารหนี้",null,{"$f":"D1888*F1892","v":0},null,{"$f":"$D1888*$F1892*H1892","v":0}]
[null,null,null,null,"อื่นๆ",null,{"$f":"D1888*F1893","v":0},null,{"$f":"$D1888*$F1893*H1893","v":0}]
[null,315,null,null,"ตราสารทุน",null,{"$f":"D1894*F1894","v":0},null,{"$f":"$D1894*$F1894*H1894","v":0},{"$f":"SUM(I1894:I1899)","v":0}]
[null,null,null,null,"อสังหาริมทรัพย์",null,{"$f":"D1894*F1895","v":0},null,{"$f":"$D1894*$F1895*H1895","v":0}]
[null,null,null,null,"สินค้าโภคภัณฑ์",null,{"$f":"D1894*F1896","v":0},null,{"$f":"$D1894*$F1896*H1896","v":0}]
[null,null,null,null,"เงินฝาก",null,{"$f":"D1894*F1897","v":0},null,{"$f":"$D1894*$F1897*H1897","v":0}]
[null,null,null,null,"ตราสารหนี้",null,{"$f":"D1894*F1898","v":0},null,{"$f":"$D1894*$F1898*H1898","v":0}]
[null,null,null,null,"อื่นๆ",null,{"$f":"D1894*F1899","v":0},null,{"$f":"$D1894*$F1899*H1899","v":0}]
[null,316,null,null,"ตราสารทุน",null,{"$f":"D1900*F1900","v":0},null,{"$f":"$D1900*$F1900*H1900","v":0},{"$f":"SUM(I1900:I1905)","v":0}]
[null,null,null,null,"อสังหาริมทรัพย์",null,{"$f":"D1900*F1901","v":0},null,{"$f":"$D1900*$F1901*H1901","v":0}]
[null,null,null,null,"สินค้าโภคภัณฑ์",null,{"$f":"D1900*F1902","v":0},null,{"$f":"$D1900*$F1902*H1902","v":0}]
[null,null,null,null,"เงินฝาก",null,{"$f":"D1900*F1903","v":0},null,{"$f":"$D1900*$F1903*H1903","v":0}]
[null,null,null,null,"ตราสารหนี้",null,{"$f":"D1900*F1904","v":0},null,{"$f":"$D1900*$F1904*H1904","v":0}]
[null,null,null,null,"อื่นๆ",null,{"$f":"D1900*F1905","v":0},null,{"$f":"$D1900*$F1905*H1905","v":0}]
[null,317,null,null,"ตราสารทุน",null,{"$f":"D1906*F1906","v":0},null,{"$f":"$D1906*$F1906*H1906","v":0},{"$f":"SUM(I1906:I1911)","v":0}]
[null,null,null,null,"อสังหาริมทรัพย์",null,{"$f":"D1906*F1907","v":0},null,{"$f":"$D1906*$F1907*H1907","v":0}]
[null,null,null,null,"สินค้าโภคภัณฑ์",null,{"$f":"D1906*F1908","v":0},null,{"$f":"$D1906*$F1908*H1908","v":0}]
[null,null,null,null,"เงินฝาก",null,{"$f":"D1906*F1909","v":0},null,{"$f":"$D1906*$F1909*H1909","v":0}]
[null,null,null,null,"ตราสารหนี้",null,{"$f":"D1906*F1910","v":0},null,{"$f":"$D1906*$F1910*H1910","v":0}]
[null,null,null,null,"อื่นๆ",null,{"$f":"D1906*F1911","v":0},null,{"$f":"$D1906*$F1911*H1911","v":0}]
[null,318,null,null,"ตราสารทุน",null,{"$f":"D1912*F1912","v":0},null,{"$f":"$D1912*$F1912*H1912","v":0},{"$f":"SUM(I1912:I1917)","v":0}]
[null,null,null,null,"อสังหาริมทรัพย์",null,{"$f":"D1912*F1913","v":0},null,{"$f":"$D1912*$F1913*H1913","v":0}]
[null,null,null,null,"สินค้าโภคภัณฑ์",null,{"$f":"D1912*F1914","v":0},null,{"$f":"$D1912*$F1914*H1914","v":0}]
[null,null,null,null,"เงินฝาก",null,{"$f":"D1912*F1915","v":0},null,{"$f":"$D1912*$F1915*H1915","v":0}]
[null,null,null,null,"ตราสารหนี้",null,{"$f":"D1912*F1916","v":0},null,{"$f":"$D1912*$F1916*H1916","v":0}]
[null,null,null,null,"อื่นๆ",null,{"$f":"D1912*F1917","v":0},null,{"$f":"$D1912*$F1917*H1917","v":0}]
[null,319,null,null,"ตราสารทุน",null,{"$f":"D1918*F1918","v":0},null,{"$f":"$D1918*$F1918*H1918","v":0},{"$f":"SUM(I1918:I1923)","v":0}]
[null,null,null,null,"อสังหาริมทรัพย์",null,{"$f":"D1918*F1919","v":0},null,{"$f":"$D1918*$F1919*H1919","v":0}]
[null,null,null,null,"สินค้าโภคภัณฑ์",null,{"$f":"D1918*F1920","v":0},null,{"$f":"$D1918*$F1920*H1920","v":0}]
[null,null,null,null,"เงินฝาก",null,{"$f":"D1918*F1921","v":0},null,{"$f":"$D1918*$F1921*H1921","v":0}]
[null,null,null,null,"ตราสารหนี้",null,{"$f":"D1918*F1922","v":0},null,{"$f":"$D1918*$F1922*H1922","v":0}]
[null,null,null,null,"อื่นๆ",null,{"$f":"D1918*F1923","v":0},null,{"$f":"$D1918*$F1923*H1923","v":0}]
[null,320,null,null,"ตราสารทุน",null,{"$f":"D1924*F1924","v":0},null,{"$f":"$D1924*$F1924*H1924","v":0},{"$f":"SUM(I1924:I1929)","v":0}]
[null,null,null,null,"อสังหาริมทรัพย์",null,{"$f":"D1924*F1925","v":0},null,{"$f":"$D1924*$F1925*H1925","v":0}]
[null,null,null,null,"สินค้าโภคภัณฑ์",null,{"$f":"D1924*F1926","v":0},null,{"$f":"$D1924*$F1926*H1926","v":0}]
[null,null,null,null,"เงินฝาก",null,{"$f":"D1924*F1927","v":0},null,{"$f":"$D1924*$F1927*H1927","v":0}]
[null,null,null,null,"ตราสารหนี้",null,{"$f":"D1924*F1928","v":0},null,{"$f":"$D1924*$F1928*H1928","v":0}]
[null,null,null,null,"อื่นๆ",null,{"$f":"D1924*F1929","v":0},null,{"$f":"$D1924*$F1929*H1929","v":0}]
[null,321,null,null,"ตราสารทุน",null,{"$f":"D1930*F1930","v":0},null,{"$f":"$D1930*$F1930*H1930","v":0},{"$f":"SUM(I1930:I1935)","v":0}]
[null,null,null,null,"อสังหาริมทรัพย์",null,{"$f":"D1930*F1931","v":0},null,{"$f":"$D1930*$F1931*H1931","v":0}]
[null,null,null,null,"สินค้าโภคภัณฑ์",null,{"$f":"D1930*F1932","v":0},null,{"$f":"$D1930*$F1932*H1932","v":0}]
[null,null,null,null,"เงินฝาก",null,{"$f":"D1930*F1933","v":0},null,{"$f":"$D1930*$F1933*H1933","v":0}]
[null,null,null,null,"ตราสารหนี้",null,{"$f":"D1930*F1934","v":0},null,{"$f":"$D1930*$F1934*H1934","v":0}]
[null,null,null,null,"อื่นๆ",null,{"$f":"D1930*F1935","v":0},null,{"$f":"$D1930*$F1935*H1935","v":0}]
[null,322,null,null,"ตราสารทุน",null,{"$f":"D1936*F1936","v":0},null,{"$f":"$D1936*$F1936*H1936","v":0},{"$f":"SUM(I1936:I1941)","v":0}]
[null,null,null,null,"อสังหาริมทรัพย์",null,{"$f":"D1936*F1937","v":0},null,{"$f":"$D1936*$F1937*H1937","v":0}]
[null,null,null,null,"สินค้าโภคภัณฑ์",null,{"$f":"D1936*F1938","v":0},null,{"$f":"$D1936*$F1938*H1938","v":0}]
[null,null,null,null,"เงินฝาก",null,{"$f":"D1936*F1939","v":0},null,{"$f":"$D1936*$F1939*H1939","v":0}]
[null,null,null,null,"ตราสารหนี้",null,{"$f":"D1936*F1940","v":0},null,{"$f":"$D1936*$F1940*H1940","v":0}]
[null,null,null,null,"อื่นๆ",null,{"$f":"D1936*F1941","v":0},null,{"$f":"$D1936*$F1941*H1941","v":0}]
[null,323,null,null,"ตราสารทุน",null,{"$f":"D1942*F1942","v":0},null,{"$f":"$D1942*$F1942*H1942","v":0},{"$f":"SUM(I1942:I1947)","v":0}]
[null,null,null,null,"อสังหาริมทรัพย์",null,{"$f":"D1942*F1943","v":0},null,{"$f":"$D1942*$F1943*H1943","v":0}]
[null,null,null,null,"สินค้าโภคภัณฑ์",null,{"$f":"D1942*F1944","v":0},null,{"$f":"$D1942*$F1944*H1944","v":0}]
[null,null,null,null,"เงินฝาก",null,{"$f":"D1942*F1945","v":0},null,{"$f":"$D1942*$F1945*H1945","v":0}]
[null,null,null,null,"ตราสารหนี้",null,{"$f":"D1942*F1946","v":0},null,{"$f":"$D1942*$F1946*H1946","v":0}]
[null,null,null,null,"อื่นๆ",null,{"$f":"D1942*F1947","v":0},null,{"$f":"$D1942*$F1947*H1947","v":0}]
[null,324,null,null,"ตราสารทุน",null,{"$f":"D1948*F1948","v":0},null,{"$f":"$D1948*$F1948*H1948","v":0},{"$f":"SUM(I1948:I1953)","v":0}]
[null,null,null,null,"อสังหาริมทรัพย์",null,{"$f":"D1948*F1949","v":0},null,{"$f":"$D1948*$F1949*H1949","v":0}]
[null,null,null,null,"สินค้าโภคภัณฑ์",null,{"$f":"D1948*F1950","v":0},null,{"$f":"$D1948*$F1950*H1950","v":0}]
[null,null,null,null,"เงินฝาก",null,{"$f":"D1948*F1951","v":0},null,{"$f":"$D1948*$F1951*H1951","v":0}]
[null,null,null,null,"ตราสารหนี้",null,{"$f":"D1948*F1952","v":0},null,{"$f":"$D1948*$F1952*H1952","v":0}]
[null,null,null,null,"อื่นๆ",null,{"$f":"D1948*F1953","v":0},null,{"$f":"$D1948*$F1953*H1953","v":0}]
[null,325,null,null,"ตราสารทุน",null,{"$f":"D1954*F1954","v":0},null,{"$f":"$D1954*$F1954*H1954","v":0},{"$f":"SUM(I1954:I1959)","v":0}]
[null,null,null,null,"อสังหาริมทรัพย์",null,{"$f":"D1954*F1955","v":0},null,{"$f":"$D1954*$F1955*H1955","v":0}]
[null,null,null,null,"สินค้าโภคภัณฑ์",null,{"$f":"D1954*F1956","v":0},null,{"$f":"$D1954*$F1956*H1956","v":0}]
[null,null,null,null,"เงินฝาก",null,{"$f":"D1954*F1957","v":0},null,{"$f":"$D1954*$F1957*H1957","v":0}]
[null,null,null,null,"ตราสารหนี้",null,{"$f":"D1954*F1958","v":0},null,{"$f":"$D1954*$F1958*H1958","v":0}]
[null,null,null,null,"อื่นๆ",null,{"$f":"D1954*F1959","v":0},null,{"$f":"$D1954*$F1959*H1959","v":0}]
[null,326,null,null,"ตราสารทุน",null,{"$f":"D1960*F1960","v":0},null,{"$f":"$D1960*$F1960*H1960","v":0},{"$f":"SUM(I1960:I1965)","v":0}]
[null,null,null,null,"อสังหาริมทรัพย์",null,{"$f":"D1960*F1961","v":0},null,{"$f":"$D1960*$F1961*H1961","v":0}]
[null,null,null,null,"สินค้าโภคภัณฑ์",null,{"$f":"D1960*F1962","v":0},null,{"$f":"$D1960*$F1962*H1962","v":0}]
[null,null,null,null,"เงินฝาก",null,{"$f":"D1960*F1963","v":0},null,{"$f":"$D1960*$F1963*H1963","v":0}]
[null,null,null,null,"ตราสารหนี้",null,{"$f":"D1960*F1964","v":0},null,{"$f":"$D1960*$F1964*H1964","v":0}]
[null,null,null,null,"อื่นๆ",null,{"$f":"D1960*F1965","v":0},null,{"$f":"$D1960*$F1965*H1965","v":0}]
[null,327,null,null,"ตราสารทุน",null,{"$f":"D1966*F1966","v":0},null,{"$f":"$D1966*$F1966*H1966","v":0},{"$f":"SUM(I1966:I1971)","v":0}]
[null,null,null,null,"อสังหาริมทรัพย์",null,{"$f":"D1966*F1967","v":0},null,{"$f":"$D1966*$F1967*H1967","v":0}]
[null,null,null,null,"สินค้าโภคภัณฑ์",null,{"$f":"D1966*F1968","v":0},null,{"$f":"$D1966*$F1968*H1968","v":0}]
[null,null,null,null,"เงินฝาก",null,{"$f":"D1966*F1969","v":0},null,{"$f":"$D1966*$F1969*H1969","v":0}]
[null,null,null,null,"ตราสารหนี้",null,{"$f":"D1966*F1970","v":0},null,{"$f":"$D1966*$F1970*H1970","v":0}]
[null,null,null,null,"อื่นๆ",null,{"$f":"D1966*F1971","v":0},null,{"$f":"$D1966*$F1971*H1971","v":0}]
[null,328,null,null,"ตราสารทุน",null,{"$f":"D1972*F1972","v":0},null,{"$f":"$D1972*$F1972*H1972","v":0},{"$f":"SUM(I1972:I1977)","v":0}]
[null,null,null,null,"อสังหาริมทรัพย์",null,{"$f":"D1972*F1973","v":0},null,{"$f":"$D1972*$F1973*H1973","v":0}]
[null,null,null,null,"สินค้าโภคภัณฑ์",null,{"$f":"D1972*F1974","v":0},null,{"$f":"$D1972*$F1974*H1974","v":0}]
[null,null,null,null,"เงินฝาก",null,{"$f":"D1972*F1975","v":0},null,{"$f":"$D1972*$F1975*H1975","v":0}]
[null,null,null,null,"ตราสารหนี้",null,{"$f":"D1972*F1976","v":0},null,{"$f":"$D1972*$F1976*H1976","v":0}]
[null,null,null,null,"อื่นๆ",null,{"$f":"D1972*F1977","v":0},null,{"$f":"$D1972*$F1977*H1977","v":0}]
[null,329,null,null,"ตราสารทุน",null,{"$f":"D1978*F1978","v":0},null,{"$f":"$D1978*$F1978*H1978","v":0},{"$f":"SUM(I1978:I1983)","v":0}]
[null,null,null,null,"อสังหาริมทรัพย์",null,{"$f":"D1978*F1979","v":0},null,{"$f":"$D1978*$F1979*H1979","v":0}]
[null,null,null,null,"สินค้าโภคภัณฑ์",null,{"$f":"D1978*F1980","v":0},null,{"$f":"$D1978*$F1980*H1980","v":0}]
[null,null,null,null,"เงินฝาก",null,{"$f":"D1978*F1981","v":0},null,{"$f":"$D1978*$F1981*H1981","v":0}]
[null,null,null,null,"ตราสารหนี้",null,{"$f":"D1978*F1982","v":0},null,{"$f":"$D1978*$F1982*H1982","v":0}]
[null,null,null,null,"อื่นๆ",null,{"$f":"D1978*F1983","v":0},null,{"$f":"$D1978*$F1983*H1983","v":0}]
[null,330,null,null,"ตราสารทุน",null,{"$f":"D1984*F1984","v":0},null,{"$f":"$D1984*$F1984*H1984","v":0},{"$f":"SUM(I1984:I1989)","v":0}]
[null,null,null,null,"อสังหาริมทรัพย์",null,{"$f":"D1984*F1985","v":0},null,{"$f":"$D1984*$F1985*H1985","v":0}]
[null,null,null,null,"สินค้าโภคภัณฑ์",null,{"$f":"D1984*F1986","v":0},null,{"$f":"$D1984*$F1986*H1986","v":0}]
[null,null,null,null,"เงินฝาก",null,{"$f":"D1984*F1987","v":0},null,{"$f":"$D1984*$F1987*H1987","v":0}]
[null,null,null,null,"ตราสารหนี้",null,{"$f":"D1984*F1988","v":0},null,{"$f":"$D1984*$F1988*H1988","v":0}]
[null,null,null,null,"อื่นๆ",null,{"$f":"D1984*F1989","v":0},null,{"$f":"$D1984*$F1989*H1989","v":0}]
[null,331,null,null,"ตราสารทุน",null,{"$f":"D1990*F1990","v":0},null,{"$f":"$D1990*$F1990*H1990","v":0},{"$f":"SUM(I1990:I1995)","v":0}]
[null,null,null,null,"อสังหาริมทรัพย์",null,{"$f":"D1990*F1991","v":0},null,{"$f":"$D1990*$F1991*H1991","v":0}]
[null,null,null,null,"สินค้าโภคภัณฑ์",null,{"$f":"D1990*F1992","v":0},null,{"$f":"$D1990*$F1992*H1992","v":0}]
[null,null,null,null,"เงินฝาก",null,{"$f":"D1990*F1993","v":0},null,{"$f":"$D1990*$F1993*H1993","v":0}]
[null,null,null,null,"ตราสารหนี้",null,{"$f":"D1990*F1994","v":0},null,{"$f":"$D1990*$F1994*H1994","v":0}]
[null,null,null,null,"อื่นๆ",null,{"$f":"D1990*F1995","v":0},null,{"$f":"$D1990*$F1995*H1995","v":0}]
[null,332,null,null,"ตราสารทุน",null,{"$f":"D1996*F1996","v":0},null,{"$f":"$D1996*$F1996*H1996","v":0},{"$f":"SUM(I1996:I2001)","v":0}]
[null,null,null,null,"อสังหาริมทรัพย์",null,{"$f":"D1996*F1997","v":0},null,{"$f":"$D1996*$F1997*H1997","v":0}]
[null,null,null,null,"สินค้าโภคภัณฑ์",null,{"$f":"D1996*F1998","v":0},null,{"$f":"$D1996*$F1998*H1998","v":0}]
[null,null,null,null,"เงินฝาก",null,{"$f":"D1996*F1999","v":0},null,{"$f":"$D1996*$F1999*H1999","v":0}]
[null,null,null,null,"ตราสารหนี้",null,{"$f":"D1996*F2000","v":0},null,{"$f":"$D1996*$F2000*H2000","v":0}]
[null,null,null,null,"อื่นๆ",null,{"$f":"D1996*F2001","v":0},null,{"$f":"$D1996*$F2001*H2001","v":0}]
[null,333,null,null,"ตราสารทุน",null,{"$f":"D2002*F2002","v":0},null,{"$f":"$D2002*$F2002*H2002","v":0},{"$f":"SUM(I2002:I2007)","v":0}]
[null,null,null,null,"อสังหาริมทรัพย์",null,{"$f":"D2002*F2003","v":0},null,{"$f":"$D2002*$F2003*H2003","v":0}]
[null,null,null,null,"สินค้าโภคภัณฑ์",null,{"$f":"D2002*F2004","v":0},null,{"$f":"$D2002*$F2004*H2004","v":0}]
[null,null,null,null,"เงินฝาก",null,{"$f":"D2002*F2005","v":0},null,{"$f":"$D2002*$F2005*H2005","v":0}]
[null,null,null,null,"ตราสารหนี้",null,{"$f":"D2002*F2006","v":0},null,{"$f":"$D2002*$F2006*H2006","v":0}]
[null,null,null,null,"อื่นๆ",null,{"$f":"D2002*F2007","v":0},null,{"$f":"$D2002*$F2007*H2007","v":0}]
[null,334,null,null,"ตราสารทุน",null,{"$f":"D2008*F2008","v":0},null,{"$f":"$D2008*$F2008*H2008","v":0},{"$f":"SUM(I2008:I2013)","v":0}]
[null,null,null,null,"อสังหาริมทรัพย์",null,{"$f":"D2008*F2009","v":0},null,{"$f":"$D2008*$F2009*H2009","v":0}]
[null,null,null,null,"สินค้าโภคภัณฑ์",null,{"$f":"D2008*F2010","v":0},null,{"$f":"$D2008*$F2010*H2010","v":0}]
[null,null,null,null,"เงินฝาก",null,{"$f":"D2008*F2011","v":0},null,{"$f":"$D2008*$F2011*H2011","v":0}]
[null,null,null,null,"ตราสารหนี้",null,{"$f":"D2008*F2012","v":0},null,{"$f":"$D2008*$F2012*H2012","v":0}]
[null,null,null,null,"อื่นๆ",null,{"$f":"D2008*F2013","v":0},null,{"$f":"$D2008*$F2013*H2013","v":0}]
[null,335,null,null,"ตราสารทุน",null,{"$f":"D2014*F2014","v":0},null,{"$f":"$D2014*$F2014*H2014","v":0},{"$f":"SUM(I2014:I2019)","v":0}]
[null,null,null,null,"อสังหาริมทรัพย์",null,{"$f":"D2014*F2015","v":0},null,{"$f":"$D2014*$F2015*H2015","v":0}]
[null,null,null,null,"สินค้าโภคภัณฑ์",null,{"$f":"D2014*F2016","v":0},null,{"$f":"$D2014*$F2016*H2016","v":0}]
[null,null,null,null,"เงินฝาก",null,{"$f":"D2014*F2017","v":0},null,{"$f":"$D2014*$F2017*H2017","v":0}]
[null,null,null,null,"ตราสารหนี้",null,{"$f":"D2014*F2018","v":0},null,{"$f":"$D2014*$F2018*H2018","v":0}]
[null,null,null,null,"อื่นๆ",null,{"$f":"D2014*F2019","v":0},null,{"$f":"$D2014*$F2019*H2019","v":0}]
[null,336,null,null,"ตราสารทุน",null,{"$f":"D2020*F2020","v":0},null,{"$f":"$D2020*$F2020*H2020","v":0},{"$f":"SUM(I2020:I2025)","v":0}]
[null,null,null,null,"อสังหาริมทรัพย์",null,{"$f":"D2020*F2021","v":0},null,{"$f":"$D2020*$F2021*H2021","v":0}]
[null,null,null,null,"สินค้าโภคภัณฑ์",null,{"$f":"D2020*F2022","v":0},null,{"$f":"$D2020*$F2022*H2022","v":0}]
[null,null,null,null,"เงินฝาก",null,{"$f":"D2020*F2023","v":0},null,{"$f":"$D2020*$F2023*H2023","v":0}]
[null,null,null,null,"ตราสารหนี้",null,{"$f":"D2020*F2024","v":0},null,{"$f":"$D2020*$F2024*H2024","v":0}]
[null,null,null,null,"อื่นๆ",null,{"$f":"D2020*F2025","v":0},null,{"$f":"$D2020*$F2025*H2025","v":0}]
[null,337,null,null,"ตราสารทุน",null,{"$f":"D2026*F2026","v":0},null,{"$f":"$D2026*$F2026*H2026","v":0},{"$f":"SUM(I2026:I2031)","v":0}]
[null,null,null,null,"อสังหาริมทรัพย์",null,{"$f":"D2026*F2027","v":0},null,{"$f":"$D2026*$F2027*H2027","v":0}]
[null,null,null,null,"สินค้าโภคภัณฑ์",null,{"$f":"D2026*F2028","v":0},null,{"$f":"$D2026*$F2028*H2028","v":0}]
[null,null,null,null,"เงินฝาก",null,{"$f":"D2026*F2029","v":0},null,{"$f":"$D2026*$F2029*H2029","v":0}]
[null,null,null,null,"ตราสารหนี้",null,{"$f":"D2026*F2030","v":0},null,{"$f":"$D2026*$F2030*H2030","v":0}]
[null,null,null,null,"อื่นๆ",null,{"$f":"D2026*F2031","v":0},null,{"$f":"$D2026*$F2031*H2031","v":0}]
[null,338,null,null,"ตราสารทุน",null,{"$f":"D2032*F2032","v":0},null,{"$f":"$D2032*$F2032*H2032","v":0},{"$f":"SUM(I2032:I2037)","v":0}]
[null,null,null,null,"อสังหาริมทรัพย์",null,{"$f":"D2032*F2033","v":0},null,{"$f":"$D2032*$F2033*H2033","v":0}]
[null,null,null,null,"สินค้าโภคภัณฑ์",null,{"$f":"D2032*F2034","v":0},null,{"$f":"$D2032*$F2034*H2034","v":0}]
[null,null,null,null,"เงินฝาก",null,{"$f":"D2032*F2035","v":0},null,{"$f":"$D2032*$F2035*H2035","v":0}]
[null,null,null,null,"ตราสารหนี้",null,{"$f":"D2032*F2036","v":0},null,{"$f":"$D2032*$F2036*H2036","v":0}]
[null,null,null,null,"อื่นๆ",null,{"$f":"D2032*F2037","v":0},null,{"$f":"$D2032*$F2037*H2037","v":0}]
[null,339,null,null,"ตราสารทุน",null,{"$f":"D2038*F2038","v":0},null,{"$f":"$D2038*$F2038*H2038","v":0},{"$f":"SUM(I2038:I2043)","v":0}]
[null,null,null,null,"อสังหาริมทรัพย์",null,{"$f":"D2038*F2039","v":0},null,{"$f":"$D2038*$F2039*H2039","v":0}]
[null,null,null,null,"สินค้าโภคภัณฑ์",null,{"$f":"D2038*F2040","v":0},null,{"$f":"$D2038*$F2040*H2040","v":0}]
[null,null,null,null,"เงินฝาก",null,{"$f":"D2038*F2041","v":0},null,{"$f":"$D2038*$F2041*H2041","v":0}]
[null,null,null,null,"ตราสารหนี้",null,{"$f":"D2038*F2042","v":0},null,{"$f":"$D2038*$F2042*H2042","v":0}]
[null,null,null,null,"อื่นๆ",null,{"$f":"D2038*F2043","v":0},null,{"$f":"$D2038*$F2043*H2043","v":0}]
[null,340,null,null,"ตราสารทุน",null,{"$f":"D2044*F2044","v":0},null,{"$f":"$D2044*$F2044*H2044","v":0},{"$f":"SUM(I2044:I2049)","v":0}]
[null,null,null,null,"อสังหาริมทรัพย์",null,{"$f":"D2044*F2045","v":0},null,{"$f":"$D2044*$F2045*H2045","v":0}]
[null,null,null,null,"สินค้าโภคภัณฑ์",null,{"$f":"D2044*F2046","v":0},null,{"$f":"$D2044*$F2046*H2046","v":0}]
[null,null,null,null,"เงินฝาก",null,{"$f":"D2044*F2047","v":0},null,{"$f":"$D2044*$F2047*H2047","v":0}]
[null,null,null,null,"ตราสารหนี้",null,{"$f":"D2044*F2048","v":0},null,{"$f":"$D2044*$F2048*H2048","v":0}]
[null,null,null,null,"อื่นๆ",null,{"$f":"D2044*F2049","v":0},null,{"$f":"$D2044*$F2049*H2049","v":0}]
[null,341,null,null,"ตราสารทุน",null,{"$f":"D2050*F2050","v":0},null,{"$f":"$D2050*$F2050*H2050","v":0},{"$f":"SUM(I2050:I2055)","v":0}]
[null,null,null,null,"อสังหาริมทรัพย์",null,{"$f":"D2050*F2051","v":0},null,{"$f":"$D2050*$F2051*H2051","v":0}]
[null,null,null,null,"สินค้าโภคภัณฑ์",null,{"$f":"D2050*F2052","v":0},null,{"$f":"$D2050*$F2052*H2052","v":0}]
[null,null,null,null,"เงินฝาก",null,{"$f":"D2050*F2053","v":0},null,{"$f":"$D2050*$F2053*H2053","v":0}]
[null,null,null,null,"ตราสารหนี้",null,{"$f":"D2050*F2054","v":0},null,{"$f":"$D2050*$F2054*H2054","v":0}]
[null,null,null,null,"อื่นๆ",null,{"$f":"D2050*F2055","v":0},null,{"$f":"$D2050*$F2055*H2055","v":0}]
[null,342,null,null,"ตราสารทุน",null,{"$f":"D2056*F2056","v":0},null,{"$f":"$D2056*$F2056*H2056","v":0},{"$f":"SUM(I2056:I2061)","v":0}]
[null,null,null,null,"อสังหาริมทรัพย์",null,{"$f":"D2056*F2057","v":0},null,{"$f":"$D2056*$F2057*H2057","v":0}]
[null,null,null,null,"สินค้าโภคภัณฑ์",null,{"$f":"D2056*F2058","v":0},null,{"$f":"$D2056*$F2058*H2058","v":0}]
[null,null,null,null,"เงินฝาก",null,{"$f":"D2056*F2059","v":0},null,{"$f":"$D2056*$F2059*H2059","v":0}]
[null,null,null,null,"ตราสารหนี้",null,{"$f":"D2056*F2060","v":0},null,{"$f":"$D2056*$F2060*H2060","v":0}]
[null,null,null,null,"อื่นๆ",null,{"$f":"D2056*F2061","v":0},null,{"$f":"$D2056*$F2061*H2061","v":0}]
[null,343,null,null,"ตราสารทุน",null,{"$f":"D2062*F2062","v":0},null,{"$f":"$D2062*$F2062*H2062","v":0},{"$f":"SUM(I2062:I2067)","v":0}]
[null,null,null,null,"อสังหาริมทรัพย์",null,{"$f":"D2062*F2063","v":0},null,{"$f":"$D2062*$F2063*H2063","v":0}]
[null,null,null,null,"สินค้าโภคภัณฑ์",null,{"$f":"D2062*F2064","v":0},null,{"$f":"$D2062*$F2064*H2064","v":0}]
[null,null,null,null,"เงินฝาก",null,{"$f":"D2062*F2065","v":0},null,{"$f":"$D2062*$F2065*H2065","v":0}]
[null,null,null,null,"ตราสารหนี้",null,{"$f":"D2062*F2066","v":0},null,{"$f":"$D2062*$F2066*H2066","v":0}]
[null,null,null,null,"อื่นๆ",null,{"$f":"D2062*F2067","v":0},null,{"$f":"$D2062*$F2067*H2067","v":0}]
[null,344,null,null,"ตราสารทุน",null,{"$f":"D2068*F2068","v":0},null,{"$f":"$D2068*$F2068*H2068","v":0},{"$f":"SUM(I2068:I2073)","v":0}]
[null,null,null,null,"อสังหาริมทรัพย์",null,{"$f":"D2068*F2069","v":0},null,{"$f":"$D2068*$F2069*H2069","v":0}]
[null,null,null,null,"สินค้าโภคภัณฑ์",null,{"$f":"D2068*F2070","v":0},null,{"$f":"$D2068*$F2070*H2070","v":0}]
[null,null,null,null,"เงินฝาก",null,{"$f":"D2068*F2071","v":0},null,{"$f":"$D2068*$F2071*H2071","v":0}]
[null,null,null,null,"ตราสารหนี้",null,{"$f":"D2068*F2072","v":0},null,{"$f":"$D2068*$F2072*H2072","v":0}]
[null,null,null,null,"อื่นๆ",null,{"$f":"D2068*F2073","v":0},null,{"$f":"$D2068*$F2073*H2073","v":0}]
[null,345,null,null,"ตราสารทุน",null,{"$f":"D2074*F2074","v":0},null,{"$f":"$D2074*$F2074*H2074","v":0},{"$f":"SUM(I2074:I2079)","v":0}]
[null,null,null,null,"อสังหาริมทรัพย์",null,{"$f":"D2074*F2075","v":0},null,{"$f":"$D2074*$F2075*H2075","v":0}]
[null,null,null,null,"สินค้าโภคภัณฑ์",null,{"$f":"D2074*F2076","v":0},null,{"$f":"$D2074*$F2076*H2076","v":0}]
[null,null,null,null,"เงินฝาก",null,{"$f":"D2074*F2077","v":0},null,{"$f":"$D2074*$F2077*H2077","v":0}]
[null,null,null,null,"ตราสารหนี้",null,{"$f":"D2074*F2078","v":0},null,{"$f":"$D2074*$F2078*H2078","v":0}]
[null,null,null,null,"อื่นๆ",null,{"$f":"D2074*F2079","v":0},null,{"$f":"$D2074*$F2079*H2079","v":0}]
[null,346,null,null,"ตราสารทุน",null,{"$f":"D2080*F2080","v":0},null,{"$f":"$D2080*$F2080*H2080","v":0},{"$f":"SUM(I2080:I2085)","v":0}]
[null,null,null,null,"อสังหาริมทรัพย์",null,{"$f":"D2080*F2081","v":0},null,{"$f":"$D2080*$F2081*H2081","v":0}]
[null,null,null,null,"สินค้าโภคภัณฑ์",null,{"$f":"D2080*F2082","v":0},null,{"$f":"$D2080*$F2082*H2082","v":0}]
[null,null,null,null,"เงินฝาก",null,{"$f":"D2080*F2083","v":0},null,{"$f":"$D2080*$F2083*H2083","v":0}]
[null,null,null,null,"ตราสารหนี้",null,{"$f":"D2080*F2084","v":0},null,{"$f":"$D2080*$F2084*H2084","v":0}]
[null,null,null,null,"อื่นๆ",null,{"$f":"D2080*F2085","v":0},null,{"$f":"$D2080*$F2085*H2085","v":0}]
[null,347,null,null,"ตราสารทุน",null,{"$f":"D2086*F2086","v":0},null,{"$f":"$D2086*$F2086*H2086","v":0},{"$f":"SUM(I2086:I2091)","v":0}]
[null,null,null,null,"อสังหาริมทรัพย์",null,{"$f":"D2086*F2087","v":0},null,{"$f":"$D2086*$F2087*H2087","v":0}]
[null,null,null,null,"สินค้าโภคภัณฑ์",null,{"$f":"D2086*F2088","v":0},null,{"$f":"$D2086*$F2088*H2088","v":0}]
[null,null,null,null,"เงินฝาก",null,{"$f":"D2086*F2089","v":0},null,{"$f":"$D2086*$F2089*H2089","v":0}]
[null,null,null,null,"ตราสารหนี้",null,{"$f":"D2086*F2090","v":0},null,{"$f":"$D2086*$F2090*H2090","v":0}]
[null,null,null,null,"อื่นๆ",null,{"$f":"D2086*F2091","v":0},null,{"$f":"$D2086*$F2091*H2091","v":0}]
[null,348,null,null,"ตราสารทุน",null,{"$f":"D2092*F2092","v":0},null,{"$f":"$D2092*$F2092*H2092","v":0},{"$f":"SUM(I2092:I2097)","v":0}]
[null,null,null,null,"อสังหาริมทรัพย์",null,{"$f":"D2092*F2093","v":0},null,{"$f":"$D2092*$F2093*H2093","v":0}]
[null,null,null,null,"สินค้าโภคภัณฑ์",null,{"$f":"D2092*F2094","v":0},null,{"$f":"$D2092*$F2094*H2094","v":0}]
[null,null,null,null,"เงินฝาก",null,{"$f":"D2092*F2095","v":0},null,{"$f":"$D2092*$F2095*H2095","v":0}]
[null,null,null,null,"ตราสารหนี้",null,{"$f":"D2092*F2096","v":0},null,{"$f":"$D2092*$F2096*H2096","v":0}]
[null,null,null,null,"อื่นๆ",null,{"$f":"D2092*F2097","v":0},null,{"$f":"$D2092*$F2097*H2097","v":0}]
[null,349,null,null,"ตราสารทุน",null,{"$f":"D2098*F2098","v":0},null,{"$f":"$D2098*$F2098*H2098","v":0},{"$f":"SUM(I2098:I2103)","v":0}]
[null,null,null,null,"อสังหาริมทรัพย์",null,{"$f":"D2098*F2099","v":0},null,{"$f":"$D2098*$F2099*H2099","v":0}]
[null,null,null,null,"สินค้าโภคภัณฑ์",null,{"$f":"D2098*F2100","v":0},null,{"$f":"$D2098*$F2100*H2100","v":0}]
[null,null,null,null,"เงินฝาก",null,{"$f":"D2098*F2101","v":0},null,{"$f":"$D2098*$F2101*H2101","v":0}]
[null,null,null,null,"ตราสารหนี้",null,{"$f":"D2098*F2102","v":0},null,{"$f":"$D2098*$F2102*H2102","v":0}]
[null,null,null,null,"อื่นๆ",null,{"$f":"D2098*F2103","v":0},null,{"$f":"$D2098*$F2103*H2103","v":0}]
[null,350,null,null,"ตราสารทุน",null,{"$f":"D2104*F2104","v":0},null,{"$f":"$D2104*$F2104*H2104","v":0},{"$f":"SUM(I2104:I2109)","v":0}]
[null,null,null,null,"อสังหาริมทรัพย์",null,{"$f":"D2104*F2105","v":0},null,{"$f":"$D2104*$F2105*H2105","v":0}]
[null,null,null,null,"สินค้าโภคภัณฑ์",null,{"$f":"D2104*F2106","v":0},null,{"$f":"$D2104*$F2106*H2106","v":0}]
[null,null,null,null,"เงินฝาก",null,{"$f":"D2104*F2107","v":0},null,{"$f":"$D2104*$F2107*H2107","v":0}]
[null,null,null,null,"ตราสารหนี้",null,{"$f":"D2104*F2108","v":0},null,{"$f":"$D2104*$F2108*H2108","v":0}]
[null,null,null,null,"อื่นๆ",null,{"$f":"D2104*F2109","v":0},null,{"$f":"$D2104*$F2109*H2109","v":0}]
[null,351,null,null,"ตราสารทุน",null,{"$f":"D2110*F2110","v":0},null,{"$f":"$D2110*$F2110*H2110","v":0},{"$f":"SUM(I2110:I2115)","v":0}]
[null,null,null,null,"อสังหาริมทรัพย์",null,{"$f":"D2110*F2111","v":0},null,{"$f":"$D2110*$F2111*H2111","v":0}]
[null,null,null,null,"สินค้าโภคภัณฑ์",null,{"$f":"D2110*F2112","v":0},null,{"$f":"$D2110*$F2112*H2112","v":0}]
[null,null,null,null,"เงินฝาก",null,{"$f":"D2110*F2113","v":0},null,{"$f":"$D2110*$F2113*H2113","v":0}]
[null,null,null,null,"ตราสารหนี้",null,{"$f":"D2110*F2114","v":0},null,{"$f":"$D2110*$F2114*H2114","v":0}]
[null,null,null,null,"อื่นๆ",null,{"$f":"D2110*F2115","v":0},null,{"$f":"$D2110*$F2115*H2115","v":0}]
[null,352,null,null,"ตราสารทุน",null,{"$f":"D2116*F2116","v":0},null,{"$f":"$D2116*$F2116*H2116","v":0},{"$f":"SUM(I2116:I2121)","v":0}]
[null,null,null,null,"อสังหาริมทรัพย์",null,{"$f":"D2116*F2117","v":0},null,{"$f":"$D2116*$F2117*H2117","v":0}]
[null,null,null,null,"สินค้าโภคภัณฑ์",null,{"$f":"D2116*F2118","v":0},null,{"$f":"$D2116*$F2118*H2118","v":0}]
[null,null,null,null,"เงินฝาก",null,{"$f":"D2116*F2119","v":0},null,{"$f":"$D2116*$F2119*H2119","v":0}]
[null,null,null,null,"ตราสารหนี้",null,{"$f":"D2116*F2120","v":0},null,{"$f":"$D2116*$F2120*H2120","v":0}]
[null,null,null,null,"อื่นๆ",null,{"$f":"D2116*F2121","v":0},null,{"$f":"$D2116*$F2121*H2121","v":0}]
[null,353,null,null,"ตราสารทุน",null,{"$f":"D2122*F2122","v":0},null,{"$f":"$D2122*$F2122*H2122","v":0},{"$f":"SUM(I2122:I2127)","v":0}]
[null,null,null,null,"อสังหาริมทรัพย์",null,{"$f":"D2122*F2123","v":0},null,{"$f":"$D2122*$F2123*H2123","v":0}]
[null,null,null,null,"สินค้าโภคภัณฑ์",null,{"$f":"D2122*F2124","v":0},null,{"$f":"$D2122*$F2124*H2124","v":0}]
[null,null,null,null,"เงินฝาก",null,{"$f":"D2122*F2125","v":0},null,{"$f":"$D2122*$F2125*H2125","v":0}]
[null,null,null,null,"ตราสารหนี้",null,{"$f":"D2122*F2126","v":0},null,{"$f":"$D2122*$F2126*H2126","v":0}]
[null,null,null,null,"อื่นๆ",null,{"$f":"D2122*F2127","v":0},null,{"$f":"$D2122*$F2127*H2127","v":0}]
[null,354,null,null,"ตราสารทุน",null,{"$f":"D2128*F2128","v":0},null,{"$f":"$D2128*$F2128*H2128","v":0},{"$f":"SUM(I2128:I2133)","v":0}]
[null,null,null,null,"อสังหาริมทรัพย์",null,{"$f":"D2128*F2129","v":0},null,{"$f":"$D2128*$F2129*H2129","v":0}]
[null,null,null,null,"สินค้าโภคภัณฑ์",null,{"$f":"D2128*F2130","v":0},null,{"$f":"$D2128*$F2130*H2130","v":0}]
[null,null,null,null,"เงินฝาก",null,{"$f":"D2128*F2131","v":0},null,{"$f":"$D2128*$F2131*H2131","v":0}]
[null,null,null,null,"ตราสารหนี้",null,{"$f":"D2128*F2132","v":0},null,{"$f":"$D2128*$F2132*H2132","v":0}]
[null,null,null,null,"อื่นๆ",null,{"$f":"D2128*F2133","v":0},null,{"$f":"$D2128*$F2133*H2133","v":0}]
[null,355,null,null,"ตราสารทุน",null,{"$f":"D2134*F2134","v":0},null,{"$f":"$D2134*$F2134*H2134","v":0},{"$f":"SUM(I2134:I2139)","v":0}]
[null,null,null,null,"อสังหาริมทรัพย์",null,{"$f":"D2134*F2135","v":0},null,{"$f":"$D2134*$F2135*H2135","v":0}]
[null,null,null,null,"สินค้าโภคภัณฑ์",null,{"$f":"D2134*F2136","v":0},null,{"$f":"$D2134*$F2136*H2136","v":0}]
[null,null,null,null,"เงินฝาก",null,{"$f":"D2134*F2137","v":0},null,{"$f":"$D2134*$F2137*H2137","v":0}]
[null,null,null,null,"ตราสารหนี้",null,{"$f":"D2134*F2138","v":0},null,{"$f":"$D2134*$F2138*H2138","v":0}]
[null,null,null,null,"อื่นๆ",null,{"$f":"D2134*F2139","v":0},null,{"$f":"$D2134*$F2139*H2139","v":0}]
[null,356,null,null,"ตราสารทุน",null,{"$f":"D2140*F2140","v":0},null,{"$f":"$D2140*$F2140*H2140","v":0},{"$f":"SUM(I2140:I2145)","v":0}]
[null,null,null,null,"อสังหาริมทรัพย์",null,{"$f":"D2140*F2141","v":0},null,{"$f":"$D2140*$F2141*H2141","v":0}]
[null,null,null,null,"สินค้าโภคภัณฑ์",null,{"$f":"D2140*F2142","v":0},null,{"$f":"$D2140*$F2142*H2142","v":0}]
[null,null,null,null,"เงินฝาก",null,{"$f":"D2140*F2143","v":0},null,{"$f":"$D2140*$F2143*H2143","v":0}]
[null,null,null,null,"ตราสารหนี้",null,{"$f":"D2140*F2144","v":0},null,{"$f":"$D2140*$F2144*H2144","v":0}]
[null,null,null,null,"อื่นๆ",null,{"$f":"D2140*F2145","v":0},null,{"$f":"$D2140*$F2145*H2145","v":0}]
[null,357,null,null,"ตราสารทุน",null,{"$f":"D2146*F2146","v":0},null,{"$f":"$D2146*$F2146*H2146","v":0},{"$f":"SUM(I2146:I2151)","v":0}]
[null,null,null,null,"อสังหาริมทรัพย์",null,{"$f":"D2146*F2147","v":0},null,{"$f":"$D2146*$F2147*H2147","v":0}]
[null,null,null,null,"สินค้าโภคภัณฑ์",null,{"$f":"D2146*F2148","v":0},null,{"$f":"$D2146*$F2148*H2148","v":0}]
[null,null,null,null,"เงินฝาก",null,{"$f":"D2146*F2149","v":0},null,{"$f":"$D2146*$F2149*H2149","v":0}]
[null,null,null,null,"ตราสารหนี้",null,{"$f":"D2146*F2150","v":0},null,{"$f":"$D2146*$F2150*H2150","v":0}]
[null,null,null,null,"อื่นๆ",null,{"$f":"D2146*F2151","v":0},null,{"$f":"$D2146*$F2151*H2151","v":0}]
[null,358,null,null,"ตราสารทุน",null,{"$f":"D2152*F2152","v":0},null,{"$f":"$D2152*$F2152*H2152","v":0},{"$f":"SUM(I2152:I2157)","v":0}]
[null,null,null,null,"อสังหาริมทรัพย์",null,{"$f":"D2152*F2153","v":0},null,{"$f":"$D2152*$F2153*H2153","v":0}]
[null,null,null,null,"สินค้าโภคภัณฑ์",null,{"$f":"D2152*F2154","v":0},null,{"$f":"$D2152*$F2154*H2154","v":0}]
[null,null,null,null,"เงินฝาก",null,{"$f":"D2152*F2155","v":0},null,{"$f":"$D2152*$F2155*H2155","v":0}]
[null,null,null,null,"ตราสารหนี้",null,{"$f":"D2152*F2156","v":0},null,{"$f":"$D2152*$F2156*H2156","v":0}]
[null,null,null,null,"อื่นๆ",null,{"$f":"D2152*F2157","v":0},null,{"$f":"$D2152*$F2157*H2157","v":0}]
[null,359,null,null,"ตราสารทุน",null,{"$f":"D2158*F2158","v":0},null,{"$f":"$D2158*$F2158*H2158","v":0},{"$f":"SUM(I2158:I2163)","v":0}]
[null,null,null,null,"อสังหาริมทรัพย์",null,{"$f":"D2158*F2159","v":0},null,{"$f":"$D2158*$F2159*H2159","v":0}]
[null,null,null,null,"สินค้าโภคภัณฑ์",null,{"$f":"D2158*F2160","v":0},null,{"$f":"$D2158*$F2160*H2160","v":0}]
[null,null,null,null,"เงินฝาก",null,{"$f":"D2158*F2161","v":0},null,{"$f":"$D2158*$F2161*H2161","v":0}]
[null,null,null,null,"ตราสารหนี้",null,{"$f":"D2158*F2162","v":0},null,{"$f":"$D2158*$F2162*H2162","v":0}]
[null,null,null,null,"อื่นๆ",null,{"$f":"D2158*F2163","v":0},null,{"$f":"$D2158*$F2163*H2163","v":0}]
[null,360,null,null,"ตราสารทุน",null,{"$f":"D2164*F2164","v":0},null,{"$f":"$D2164*$F2164*H2164","v":0},{"$f":"SUM(I2164:I2169)","v":0}]
[null,null,null,null,"อสังหาริมทรัพย์",null,{"$f":"D2164*F2165","v":0},null,{"$f":"$D2164*$F2165*H2165","v":0}]
[null,null,null,null,"สินค้าโภคภัณฑ์",null,{"$f":"D2164*F2166","v":0},null,{"$f":"$D2164*$F2166*H2166","v":0}]
[null,null,null,null,"เงินฝาก",null,{"$f":"D2164*F2167","v":0},null,{"$f":"$D2164*$F2167*H2167","v":0}]
[null,null,null,null,"ตราสารหนี้",null,{"$f":"D2164*F2168","v":0},null,{"$f":"$D2164*$F2168*H2168","v":0}]
[null,null,null,null,"อื่นๆ",null,{"$f":"D2164*F2169","v":0},null,{"$f":"$D2164*$F2169*H2169","v":0}]
[null,361,null,null,"ตราสารทุน",null,{"$f":"D2170*F2170","v":0},null,{"$f":"$D2170*$F2170*H2170","v":0},{"$f":"SUM(I2170:I2175)","v":0}]
[null,null,null,null,"อสังหาริมทรัพย์",null,{"$f":"D2170*F2171","v":0},null,{"$f":"$D2170*$F2171*H2171","v":0}]
[null,null,null,null,"สินค้าโภคภัณฑ์",null,{"$f":"D2170*F2172","v":0},null,{"$f":"$D2170*$F2172*H2172","v":0}]
[null,null,null,null,"เงินฝาก",null,{"$f":"D2170*F2173","v":0},null,{"$f":"$D2170*$F2173*H2173","v":0}]
[null,null,null,null,"ตราสารหนี้",null,{"$f":"D2170*F2174","v":0},null,{"$f":"$D2170*$F2174*H2174","v":0}]
[null,null,null,null,"อื่นๆ",null,{"$f":"D2170*F2175","v":0},null,{"$f":"$D2170*$F2175*H2175","v":0}]
[null,362,null,null,"ตราสารทุน",null,{"$f":"D2176*F2176","v":0},null,{"$f":"$D2176*$F2176*H2176","v":0},{"$f":"SUM(I2176:I2181)","v":0}]
[null,null,null,null,"อสังหาริมทรัพย์",null,{"$f":"D2176*F2177","v":0},null,{"$f":"$D2176*$F2177*H2177","v":0}]
[null,null,null,null,"สินค้าโภคภัณฑ์",null,{"$f":"D2176*F2178","v":0},null,{"$f":"$D2176*$F2178*H2178","v":0}]
[null,null,null,null,"เงินฝาก",null,{"$f":"D2176*F2179","v":0},null,{"$f":"$D2176*$F2179*H2179","v":0}]
[null,null,null,null,"ตราสารหนี้",null,{"$f":"D2176*F2180","v":0},null,{"$f":"$D2176*$F2180*H2180","v":0}]
[null,null,null,null,"อื่นๆ",null,{"$f":"D2176*F2181","v":0},null,{"$f":"$D2176*$F2181*H2181","v":0}]
[null,363,null,null,"ตราสารทุน",null,{"$f":"D2182*F2182","v":0},null,{"$f":"$D2182*$F2182*H2182","v":0},{"$f":"SUM(I2182:I2187)","v":0}]
[null,null,null,null,"อสังหาริมทรัพย์",null,{"$f":"D2182*F2183","v":0},null,{"$f":"$D2182*$F2183*H2183","v":0}]
[null,null,null,null,"สินค้าโภคภัณฑ์",null,{"$f":"D2182*F2184","v":0},null,{"$f":"$D2182*$F2184*H2184","v":0}]
[null,null,null,null,"เงินฝาก",null,{"$f":"D2182*F2185","v":0},null,{"$f":"$D2182*$F2185*H2185","v":0}]
[null,null,null,null,"ตราสารหนี้",null,{"$f":"D2182*F2186","v":0},null,{"$f":"$D2182*$F2186*H2186","v":0}]
[null,null,null,null,"อื่นๆ",null,{"$f":"D2182*F2187","v":0},null,{"$f":"$D2182*$F2187*H2187","v":0}]
[null,364,null,null,"ตราสารทุน",null,{"$f":"D2188*F2188","v":0},null,{"$f":"$D2188*$F2188*H2188","v":0},{"$f":"SUM(I2188:I2193)","v":0}]
[null,null,null,null,"อสังหาริมทรัพย์",null,{"$f":"D2188*F2189","v":0},null,{"$f":"$D2188*$F2189*H2189","v":0}]
[null,null,null,null,"สินค้าโภคภัณฑ์",null,{"$f":"D2188*F2190","v":0},null,{"$f":"$D2188*$F2190*H2190","v":0}]
[null,null,null,null,"เงินฝาก",null,{"$f":"D2188*F2191","v":0},null,{"$f":"$D2188*$F2191*H2191","v":0}]
[null,null,null,null,"ตราสารหนี้",null,{"$f":"D2188*F2192","v":0},null,{"$f":"$D2188*$F2192*H2192","v":0}]
[null,null,null,null,"อื่นๆ",null,{"$f":"D2188*F2193","v":0},null,{"$f":"$D2188*$F2193*H2193","v":0}]
[null,365,null,null,"ตราสารทุน",null,{"$f":"D2194*F2194","v":0},null,{"$f":"$D2194*$F2194*H2194","v":0},{"$f":"SUM(I2194:I2199)","v":0}]
[null,null,null,null,"อสังหาริมทรัพย์",null,{"$f":"D2194*F2195","v":0},null,{"$f":"$D2194*$F2195*H2195","v":0}]
[null,null,null,null,"สินค้าโภคภัณฑ์",null,{"$f":"D2194*F2196","v":0},null,{"$f":"$D2194*$F2196*H2196","v":0}]
[null,null,null,null,"เงินฝาก",null,{"$f":"D2194*F2197","v":0},null,{"$f":"$D2194*$F2197*H2197","v":0}]
[null,null,null,null,"ตราสารหนี้",null,{"$f":"D2194*F2198","v":0},null,{"$f":"$D2194*$F2198*H2198","v":0}]
[null,null,null,null,"อื่นๆ",null,{"$f":"D2194*F2199","v":0},null,{"$f":"$D2194*$F2199*H2199","v":0}]
[null,366,null,null,"ตราสารทุน",null,{"$f":"D2200*F2200","v":0},null,{"$f":"$D2200*$F2200*H2200","v":0},{"$f":"SUM(I2200:I2205)","v":0}]
[null,null,null,null,"อสังหาริมทรัพย์",null,{"$f":"D2200*F2201","v":0},null,{"$f":"$D2200*$F2201*H2201","v":0}]
[null,null,null,null,"สินค้าโภคภัณฑ์",null,{"$f":"D2200*F2202","v":0},null,{"$f":"$D2200*$F2202*H2202","v":0}]
[null,null,null,null,"เงินฝาก",null,{"$f":"D2200*F2203","v":0},null,{"$f":"$D2200*$F2203*H2203","v":0}]
[null,null,null,null,"ตราสารหนี้",null,{"$f":"D2200*F2204","v":0},null,{"$f":"$D2200*$F2204*H2204","v":0}]
[null,null,null,null,"อื่นๆ",null,{"$f":"D2200*F2205","v":0},null,{"$f":"$D2200*$F2205*H2205","v":0}]
[null,367,null,null,"ตราสารทุน",null,{"$f":"D2206*F2206","v":0},null,{"$f":"$D2206*$F2206*H2206","v":0},{"$f":"SUM(I2206:I2211)","v":0}]
[null,null,null,null,"อสังหาริมทรัพย์",null,{"$f":"D2206*F2207","v":0},null,{"$f":"$D2206*$F2207*H2207","v":0}]
[null,null,null,null,"สินค้าโภคภัณฑ์",null,{"$f":"D2206*F2208","v":0},null,{"$f":"$D2206*$F2208*H2208","v":0}]
[null,null,null,null,"เงินฝาก",null,{"$f":"D2206*F2209","v":0},null,{"$f":"$D2206*$F2209*H2209","v":0}]
[null,null,null,null,"ตราสารหนี้",null,{"$f":"D2206*F2210","v":0},null,{"$f":"$D2206*$F2210*H2210","v":0}]
[null,null,null,null,"อื่นๆ",null,{"$f":"D2206*F2211","v":0},null,{"$f":"$D2206*$F2211*H2211","v":0}]
[null,368,null,null,"ตราสารทุน",null,{"$f":"D2212*F2212","v":0},null,{"$f":"$D2212*$F2212*H2212","v":0},{"$f":"SUM(I2212:I2217)","v":0}]
[null,null,null,null,"อสังหาริมทรัพย์",null,{"$f":"D2212*F2213","v":0},null,{"$f":"$D2212*$F2213*H2213","v":0}]
[null,null,null,null,"สินค้าโภคภัณฑ์",null,{"$f":"D2212*F2214","v":0},null,{"$f":"$D2212*$F2214*H2214","v":0}]
[null,null,null,null,"เงินฝาก",null,{"$f":"D2212*F2215","v":0},null,{"$f":"$D2212*$F2215*H2215","v":0}]
[null,null,null,null,"ตราสารหนี้",null,{"$f":"D2212*F2216","v":0},null,{"$f":"$D2212*$F2216*H2216","v":0}]
[null,null,null,null,"อื่นๆ",null,{"$f":"D2212*F2217","v":0},null,{"$f":"$D2212*$F2217*H2217","v":0}]
[null,369,null,null,"ตราสารทุน",null,{"$f":"D2218*F2218","v":0},null,{"$f":"$D2218*$F2218*H2218","v":0},{"$f":"SUM(I2218:I2223)","v":0}]
[null,null,null,null,"อสังหาริมทรัพย์",null,{"$f":"D2218*F2219","v":0},null,{"$f":"$D2218*$F2219*H2219","v":0}]
[null,null,null,null,"สินค้าโภคภัณฑ์",null,{"$f":"D2218*F2220","v":0},null,{"$f":"$D2218*$F2220*H2220","v":0}]
[null,null,null,null,"เงินฝาก",null,{"$f":"D2218*F2221","v":0},null,{"$f":"$D2218*$F2221*H2221","v":0}]
[null,null,null,null,"ตราสารหนี้",null,{"$f":"D2218*F2222","v":0},null,{"$f":"$D2218*$F2222*H2222","v":0}]
[null,null,null,null,"อื่นๆ",null,{"$f":"D2218*F2223","v":0},null,{"$f":"$D2218*$F2223*H2223","v":0}]
[null,370,null,null,"ตราสารทุน",null,{"$f":"D2224*F2224","v":0},null,{"$f":"$D2224*$F2224*H2224","v":0},{"$f":"SUM(I2224:I2229)","v":0}]
[null,null,null,null,"อสังหาริมทรัพย์",null,{"$f":"D2224*F2225","v":0},null,{"$f":"$D2224*$F2225*H2225","v":0}]
[null,null,null,null,"สินค้าโภคภัณฑ์",null,{"$f":"D2224*F2226","v":0},null,{"$f":"$D2224*$F2226*H2226","v":0}]
[null,null,null,null,"เงินฝาก",null,{"$f":"D2224*F2227","v":0},null,{"$f":"$D2224*$F2227*H2227","v":0}]
[null,null,null,null,"ตราสารหนี้",null,{"$f":"D2224*F2228","v":0},null,{"$f":"$D2224*$F2228*H2228","v":0}]
[null,null,null,null,"อื่นๆ",null,{"$f":"D2224*F2229","v":0},null,{"$f":"$D2224*$F2229*H2229","v":0}]
[null,371,null,null,"ตราสารทุน",null,{"$f":"D2230*F2230","v":0},null,{"$f":"$D2230*$F2230*H2230","v":0},{"$f":"SUM(I2230:I2235)","v":0}]
[null,null,null,null,"อสังหาริมทรัพย์",null,{"$f":"D2230*F2231","v":0},null,{"$f":"$D2230*$F2231*H2231","v":0}]
[null,null,null,null,"สินค้าโภคภัณฑ์",null,{"$f":"D2230*F2232","v":0},null,{"$f":"$D2230*$F2232*H2232","v":0}]
[null,null,null,null,"เงินฝาก",null,{"$f":"D2230*F2233","v":0},null,{"$f":"$D2230*$F2233*H2233","v":0}]
[null,null,null,null,"ตราสารหนี้",null,{"$f":"D2230*F2234","v":0},null,{"$f":"$D2230*$F2234*H2234","v":0}]
[null,null,null,null,"อื่นๆ",null,{"$f":"D2230*F2235","v":0},null,{"$f":"$D2230*$F2235*H2235","v":0}]
[null,372,null,null,"ตราสารทุน",null,{"$f":"D2236*F2236","v":0},null,{"$f":"$D2236*$F2236*H2236","v":0},{"$f":"SUM(I2236:I2241)","v":0}]
[null,null,null,null,"อสังหาริมทรัพย์",null,{"$f":"D2236*F2237","v":0},null,{"$f":"$D2236*$F2237*H2237","v":0}]
[null,null,null,null,"สินค้าโภคภัณฑ์",null,{"$f":"D2236*F2238","v":0},null,{"$f":"$D2236*$F2238*H2238","v":0}]
[null,null,null,null,"เงินฝาก",null,{"$f":"D2236*F2239","v":0},null,{"$f":"$D2236*$F2239*H2239","v":0}]
[null,null,null,null,"ตราสารหนี้",null,{"$f":"D2236*F2240","v":0},null,{"$f":"$D2236*$F2240*H2240","v":0}]
[null,null,null,null,"อื่นๆ",null,{"$f":"D2236*F2241","v":0},null,{"$f":"$D2236*$F2241*H2241","v":0}]
[null,373,null,null,"ตราสารทุน",null,{"$f":"D2242*F2242","v":0},null,{"$f":"$D2242*$F2242*H2242","v":0},{"$f":"SUM(I2242:I2247)","v":0}]
[null,null,null,null,"อสังหาริมทรัพย์",null,{"$f":"D2242*F2243","v":0},null,{"$f":"$D2242*$F2243*H2243","v":0}]
[null,null,null,null,"สินค้าโภคภัณฑ์",null,{"$f":"D2242*F2244","v":0},null,{"$f":"$D2242*$F2244*H2244","v":0}]
[null,null,null,null,"เงินฝาก",null,{"$f":"D2242*F2245","v":0},null,{"$f":"$D2242*$F2245*H2245","v":0}]
[null,null,null,null,"ตราสารหนี้",null,{"$f":"D2242*F2246","v":0},null,{"$f":"$D2242*$F2246*H2246","v":0}]
[null,null,null,null,"อื่นๆ",null,{"$f":"D2242*F2247","v":0},null,{"$f":"$D2242*$F2247*H2247","v":0}]
[null,374,null,null,"ตราสารทุน",null,{"$f":"D2248*F2248","v":0},null,{"$f":"$D2248*$F2248*H2248","v":0},{"$f":"SUM(I2248:I2253)","v":0}]
[null,null,null,null,"อสังหาริมทรัพย์",null,{"$f":"D2248*F2249","v":0},null,{"$f":"$D2248*$F2249*H2249","v":0}]
[null,null,null,null,"สินค้าโภคภัณฑ์",null,{"$f":"D2248*F2250","v":0},null,{"$f":"$D2248*$F2250*H2250","v":0}]
[null,null,null,null,"เงินฝาก",null,{"$f":"D2248*F2251","v":0},null,{"$f":"$D2248*$F2251*H2251","v":0}]
[null,null,null,null,"ตราสารหนี้",null,{"$f":"D2248*F2252","v":0},null,{"$f":"$D2248*$F2252*H2252","v":0}]
[null,null,null,null,"อื่นๆ",null,{"$f":"D2248*F2253","v":0},null,{"$f":"$D2248*$F2253*H2253","v":0}]
[null,375,null,null,"ตราสารทุน",null,{"$f":"D2254*F2254","v":0},null,{"$f":"$D2254*$F2254*H2254","v":0},{"$f":"SUM(I2254:I2259)","v":0}]
[null,null,null,null,"อสังหาริมทรัพย์",null,{"$f":"D2254*F2255","v":0},null,{"$f":"$D2254*$F2255*H2255","v":0}]
[null,null,null,null,"สินค้าโภคภัณฑ์",null,{"$f":"D2254*F2256","v":0},null,{"$f":"$D2254*$F2256*H2256","v":0}]
[null,null,null,null,"เงินฝาก",null,{"$f":"D2254*F2257","v":0},null,{"$f":"$D2254*$F2257*H2257","v":0}]
[null,null,null,null,"ตราสารหนี้",null,{"$f":"D2254*F2258","v":0},null,{"$f":"$D2254*$F2258*H2258","v":0}]
[null,null,null,null,"อื่นๆ",null,{"$f":"D2254*F2259","v":0},null,{"$f":"$D2254*$F2259*H2259","v":0}]
[null,376,null,null,"ตราสารทุน",null,{"$f":"D2260*F2260","v":0},null,{"$f":"$D2260*$F2260*H2260","v":0},{"$f":"SUM(I2260:I2265)","v":0}]
[null,null,null,null,"อสังหาริมทรัพย์",null,{"$f":"D2260*F2261","v":0},null,{"$f":"$D2260*$F2261*H2261","v":0}]
[null,null,null,null,"สินค้าโภคภัณฑ์",null,{"$f":"D2260*F2262","v":0},null,{"$f":"$D2260*$F2262*H2262","v":0}]
[null,null,null,null,"เงินฝาก",null,{"$f":"D2260*F2263","v":0},null,{"$f":"$D2260*$F2263*H2263","v":0}]
[null,null,null,null,"ตราสารหนี้",null,{"$f":"D2260*F2264","v":0},null,{"$f":"$D2260*$F2264*H2264","v":0}]
[null,null,null,null,"อื่นๆ",null,{"$f":"D2260*F2265","v":0},null,{"$f":"$D2260*$F2265*H2265","v":0}]
[null,377,null,null,"ตราสารทุน",null,{"$f":"D2266*F2266","v":0},null,{"$f":"$D2266*$F2266*H2266","v":0},{"$f":"SUM(I2266:I2271)","v":0}]
[null,null,null,null,"อสังหาริมทรัพย์",null,{"$f":"D2266*F2267","v":0},null,{"$f":"$D2266*$F2267*H2267","v":0}]
[null,null,null,null,"สินค้าโภคภัณฑ์",null,{"$f":"D2266*F2268","v":0},null,{"$f":"$D2266*$F2268*H2268","v":0}]
[null,null,null,null,"เงินฝาก",null,{"$f":"D2266*F2269","v":0},null,{"$f":"$D2266*$F2269*H2269","v":0}]
[null,null,null,null,"ตราสารหนี้",null,{"$f":"D2266*F2270","v":0},null,{"$f":"$D2266*$F2270*H2270","v":0}]
[null,null,null,null,"อื่นๆ",null,{"$f":"D2266*F2271","v":0},null,{"$f":"$D2266*$F2271*H2271","v":0}]
[null,378,null,null,"ตราสารทุน",null,{"$f":"D2272*F2272","v":0},null,{"$f":"$D2272*$F2272*H2272","v":0},{"$f":"SUM(I2272:I2277)","v":0}]
[null,null,null,null,"อสังหาริมทรัพย์",null,{"$f":"D2272*F2273","v":0},null,{"$f":"$D2272*$F2273*H2273","v":0}]
[null,null,null,null,"สินค้าโภคภัณฑ์",null,{"$f":"D2272*F2274","v":0},null,{"$f":"$D2272*$F2274*H2274","v":0}]
[null,null,null,null,"เงินฝาก",null,{"$f":"D2272*F2275","v":0},null,{"$f":"$D2272*$F2275*H2275","v":0}]
[null,null,null,null,"ตราสารหนี้",null,{"$f":"D2272*F2276","v":0},null,{"$f":"$D2272*$F2276*H2276","v":0}]
[null,null,null,null,"อื่นๆ",null,{"$f":"D2272*F2277","v":0},null,{"$f":"$D2272*$F2277*H2277","v":0}]
[null,379,null,null,"ตราสารทุน",null,{"$f":"D2278*F2278","v":0},null,{"$f":"$D2278*$F2278*H2278","v":0},{"$f":"SUM(I2278:I2283)","v":0}]
[null,null,null,null,"อสังหาริมทรัพย์",null,{"$f":"D2278*F2279","v":0},null,{"$f":"$D2278*$F2279*H2279","v":0}]
[null,null,null,null,"สินค้าโภคภัณฑ์",null,{"$f":"D2278*F2280","v":0},null,{"$f":"$D2278*$F2280*H2280","v":0}]
[null,null,null,null,"เงินฝาก",null,{"$f":"D2278*F2281","v":0},null,{"$f":"$D2278*$F2281*H2281","v":0}]
[null,null,null,null,"ตราสารหนี้",null,{"$f":"D2278*F2282","v":0},null,{"$f":"$D2278*$F2282*H2282","v":0}]
[null,null,null,null,"อื่นๆ",null,{"$f":"D2278*F2283","v":0},null,{"$f":"$D2278*$F2283*H2283","v":0}]
[null,380,null,null,"ตราสารทุน",null,{"$f":"D2284*F2284","v":0},null,{"$f":"$D2284*$F2284*H2284","v":0},{"$f":"SUM(I2284:I2289)","v":0}]
[null,null,null,null,"อสังหาริมทรัพย์",null,{"$f":"D2284*F2285","v":0},null,{"$f":"$D2284*$F2285*H2285","v":0}]
[null,null,null,null,"สินค้าโภคภัณฑ์",null,{"$f":"D2284*F2286","v":0},null,{"$f":"$D2284*$F2286*H2286","v":0}]
[null,null,null,null,"เงินฝาก",null,{"$f":"D2284*F2287","v":0},null,{"$f":"$D2284*$F2287*H2287","v":0}]
[null,null,null,null,"ตราสารหนี้",null,{"$f":"D2284*F2288","v":0},null,{"$f":"$D2284*$F2288*H2288","v":0}]
[null,null,null,null,"อื่นๆ",null,{"$f":"D2284*F2289","v":0},null,{"$f":"$D2284*$F2289*H2289","v":0}]
[null,381,null,null,"ตราสารทุน",null,{"$f":"D2290*F2290","v":0},null,{"$f":"$D2290*$F2290*H2290","v":0},{"$f":"SUM(I2290:I2295)","v":0}]
[null,null,null,null,"อสังหาริมทรัพย์",null,{"$f":"D2290*F2291","v":0},null,{"$f":"$D2290*$F2291*H2291","v":0}]
[null,null,null,null,"สินค้าโภคภัณฑ์",null,{"$f":"D2290*F2292","v":0},null,{"$f":"$D2290*$F2292*H2292","v":0}]
[null,null,null,null,"เงินฝาก",null,{"$f":"D2290*F2293","v":0},null,{"$f":"$D2290*$F2293*H2293","v":0}]
[null,null,null,null,"ตราสารหนี้",null,{"$f":"D2290*F2294","v":0},null,{"$f":"$D2290*$F2294*H2294","v":0}]
[null,null,null,null,"อื่นๆ",null,{"$f":"D2290*F2295","v":0},null,{"$f":"$D2290*$F2295*H2295","v":0}]
[null,382,null,null,"ตราสารทุน",null,{"$f":"D2296*F2296","v":0},null,{"$f":"$D2296*$F2296*H2296","v":0},{"$f":"SUM(I2296:I2301)","v":0}]
[null,null,null,null,"อสังหาริมทรัพย์",null,{"$f":"D2296*F2297","v":0},null,{"$f":"$D2296*$F2297*H2297","v":0}]
[null,null,null,null,"สินค้าโภคภัณฑ์",null,{"$f":"D2296*F2298","v":0},null,{"$f":"$D2296*$F2298*H2298","v":0}]
[null,null,null,null,"เงินฝาก",null,{"$f":"D2296*F2299","v":0},null,{"$f":"$D2296*$F2299*H2299","v":0}]
[null,null,null,null,"ตราสารหนี้",null,{"$f":"D2296*F2300","v":0},null,{"$f":"$D2296*$F2300*H2300","v":0}]
[null,null,null,null,"อื่นๆ",null,{"$f":"D2296*F2301","v":0},null,{"$f":"$D2296*$F2301*H2301","v":0}]
[null,383,null,null,"ตราสารทุน",null,{"$f":"D2302*F2302","v":0},null,{"$f":"$D2302*$F2302*H2302","v":0},{"$f":"SUM(I2302:I2307)","v":0}]
[null,null,null,null,"อสังหาริมทรัพย์",null,{"$f":"D2302*F2303","v":0},null,{"$f":"$D2302*$F2303*H2303","v":0}]
[null,null,null,null,"สินค้าโภคภัณฑ์",null,{"$f":"D2302*F2304","v":0},null,{"$f":"$D2302*$F2304*H2304","v":0}]
[null,null,null,null,"เงินฝาก",null,{"$f":"D2302*F2305","v":0},null,{"$f":"$D2302*$F2305*H2305","v":0}]
[null,null,null,null,"ตราสารหนี้",null,{"$f":"D2302*F2306","v":0},null,{"$f":"$D2302*$F2306*H2306","v":0}]
[null,null,null,null,"อื่นๆ",null,{"$f":"D2302*F2307","v":0},null,{"$f":"$D2302*$F2307*H2307","v":0}]
[null,384,null,null,"ตราสารทุน",null,{"$f":"D2308*F2308","v":0},null,{"$f":"$D2308*$F2308*H2308","v":0},{"$f":"SUM(I2308:I2313)","v":0}]
[null,null,null,null,"อสังหาริมทรัพย์",null,{"$f":"D2308*F2309","v":0},null,{"$f":"$D2308*$F2309*H2309","v":0}]
[null,null,null,null,"สินค้าโภคภัณฑ์",null,{"$f":"D2308*F2310","v":0},null,{"$f":"$D2308*$F2310*H2310","v":0}]
[null,null,null,null,"เงินฝาก",null,{"$f":"D2308*F2311","v":0},null,{"$f":"$D2308*$F2311*H2311","v":0}]
[null,null,null,null,"ตราสารหนี้",null,{"$f":"D2308*F2312","v":0},null,{"$f":"$D2308*$F2312*H2312","v":0}]
[null,null,null,null,"อื่นๆ",null,{"$f":"D2308*F2313","v":0},null,{"$f":"$D2308*$F2313*H2313","v":0}]
[null,385,null,null,"ตราสารทุน",null,{"$f":"D2314*F2314","v":0},null,{"$f":"$D2314*$F2314*H2314","v":0},{"$f":"SUM(I2314:I2319)","v":0}]
[null,null,null,null,"อสังหาริมทรัพย์",null,{"$f":"D2314*F2315","v":0},null,{"$f":"$D2314*$F2315*H2315","v":0}]
[null,null,null,null,"สินค้าโภคภัณฑ์",null,{"$f":"D2314*F2316","v":0},null,{"$f":"$D2314*$F2316*H2316","v":0}]
[null,null,null,null,"เงินฝาก",null,{"$f":"D2314*F2317","v":0},null,{"$f":"$D2314*$F2317*H2317","v":0}]
[null,null,null,null,"ตราสารหนี้",null,{"$f":"D2314*F2318","v":0},null,{"$f":"$D2314*$F2318*H2318","v":0}]
[null,null,null,null,"อื่นๆ",null,{"$f":"D2314*F2319","v":0},null,{"$f":"$D2314*$F2319*H2319","v":0}]
[null,386,null,null,"ตราสารทุน",null,{"$f":"D2320*F2320","v":0},null,{"$f":"$D2320*$F2320*H2320","v":0},{"$f":"SUM(I2320:I2325)","v":0}]
[null,null,null,null,"อสังหาริมทรัพย์",null,{"$f":"D2320*F2321","v":0},null,{"$f":"$D2320*$F2321*H2321","v":0}]
[null,null,null,null,"สินค้าโภคภัณฑ์",null,{"$f":"D2320*F2322","v":0},null,{"$f":"$D2320*$F2322*H2322","v":0}]
[null,null,null,null,"เงินฝาก",null,{"$f":"D2320*F2323","v":0},null,{"$f":"$D2320*$F2323*H2323","v":0}]
[null,null,null,null,"ตราสารหนี้",null,{"$f":"D2320*F2324","v":0},null,{"$f":"$D2320*$F2324*H2324","v":0}]
[null,null,null,null,"อื่นๆ",null,{"$f":"D2320*F2325","v":0},null,{"$f":"$D2320*$F2325*H2325","v":0}]
[null,387,null,null,"ตราสารทุน",null,{"$f":"D2326*F2326","v":0},null,{"$f":"$D2326*$F2326*H2326","v":0},{"$f":"SUM(I2326:I2331)","v":0}]
[null,null,null,null,"อสังหาริมทรัพย์",null,{"$f":"D2326*F2327","v":0},null,{"$f":"$D2326*$F2327*H2327","v":0}]
[null,null,null,null,"สินค้าโภคภัณฑ์",null,{"$f":"D2326*F2328","v":0},null,{"$f":"$D2326*$F2328*H2328","v":0}]
[null,null,null,null,"เงินฝาก",null,{"$f":"D2326*F2329","v":0},null,{"$f":"$D2326*$F2329*H2329","v":0}]
[null,null,null,null,"ตราสารหนี้",null,{"$f":"D2326*F2330","v":0},null,{"$f":"$D2326*$F2330*H2330","v":0}]
[null,null,null,null,"อื่นๆ",null,{"$f":"D2326*F2331","v":0},null,{"$f":"$D2326*$F2331*H2331","v":0}]
[null,388,null,null,"ตราสารทุน",null,{"$f":"D2332*F2332","v":0},null,{"$f":"$D2332*$F2332*H2332","v":0},{"$f":"SUM(I2332:I2337)","v":0}]
[null,null,null,null,"อสังหาริมทรัพย์",null,{"$f":"D2332*F2333","v":0},null,{"$f":"$D2332*$F2333*H2333","v":0}]
[null,null,null,null,"สินค้าโภคภัณฑ์",null,{"$f":"D2332*F2334","v":0},null,{"$f":"$D2332*$F2334*H2334","v":0}]
[null,null,null,null,"เงินฝาก",null,{"$f":"D2332*F2335","v":0},null,{"$f":"$D2332*$F2335*H2335","v":0}]
[null,null,null,null,"ตราสารหนี้",null,{"$f":"D2332*F2336","v":0},null,{"$f":"$D2332*$F2336*H2336","v":0}]
[null,null,null,null,"อื่นๆ",null,{"$f":"D2332*F2337","v":0},null,{"$f":"$D2332*$F2337*H2337","v":0}]
[null,389,null,null,"ตราสารทุน",null,{"$f":"D2338*F2338","v":0},null,{"$f":"$D2338*$F2338*H2338","v":0},{"$f":"SUM(I2338:I2343)","v":0}]
[null,null,null,null,"อสังหาริมทรัพย์",null,{"$f":"D2338*F2339","v":0},null,{"$f":"$D2338*$F2339*H2339","v":0}]
[null,null,null,null,"สินค้าโภคภัณฑ์",null,{"$f":"D2338*F2340","v":0},null,{"$f":"$D2338*$F2340*H2340","v":0}]
[null,null,null,null,"เงินฝาก",null,{"$f":"D2338*F2341","v":0},null,{"$f":"$D2338*$F2341*H2341","v":0}]
[null,null,null,null,"ตราสารหนี้",null,{"$f":"D2338*F2342","v":0},null,{"$f":"$D2338*$F2342*H2342","v":0}]
[null,null,null,null,"อื่นๆ",null,{"$f":"D2338*F2343","v":0},null,{"$f":"$D2338*$F2343*H2343","v":0}]
[null,390,null,null,"ตราสารทุน",null,{"$f":"D2344*F2344","v":0},null,{"$f":"$D2344*$F2344*H2344","v":0},{"$f":"SUM(I2344:I2349)","v":0}]
[null,null,null,null,"อสังหาริมทรัพย์",null,{"$f":"D2344*F2345","v":0},null,{"$f":"$D2344*$F2345*H2345","v":0}]
[null,null,null,null,"สินค้าโภคภัณฑ์",null,{"$f":"D2344*F2346","v":0},null,{"$f":"$D2344*$F2346*H2346","v":0}]
[null,null,null,null,"เงินฝาก",null,{"$f":"D2344*F2347","v":0},null,{"$f":"$D2344*$F2347*H2347","v":0}]
[null,null,null,null,"ตราสารหนี้",null,{"$f":"D2344*F2348","v":0},null,{"$f":"$D2344*$F2348*H2348","v":0}]
[null,null,null,null,"อื่นๆ",null,{"$f":"D2344*F2349","v":0},null,{"$f":"$D2344*$F2349*H2349","v":0}]
[null,391,null,null,"ตราสารทุน",null,{"$f":"D2350*F2350","v":0},null,{"$f":"$D2350*$F2350*H2350","v":0},{"$f":"SUM(I2350:I2355)","v":0}]
[null,null,null,null,"อสังหาริมทรัพย์",null,{"$f":"D2350*F2351","v":0},null,{"$f":"$D2350*$F2351*H2351","v":0}]
[null,null,null,null,"สินค้าโภคภัณฑ์",null,{"$f":"D2350*F2352","v":0},null,{"$f":"$D2350*$F2352*H2352","v":0}]
[null,null,null,null,"เงินฝาก",null,{"$f":"D2350*F2353","v":0},null,{"$f":"$D2350*$F2353*H2353","v":0}]
[null,null,null,null,"ตราสารหนี้",null,{"$f":"D2350*F2354","v":0},null,{"$f":"$D2350*$F2354*H2354","v":0}]
[null,null,null,null,"อื่นๆ",null,{"$f":"D2350*F2355","v":0},null,{"$f":"$D2350*$F2355*H2355","v":0}]
[null,392,null,null,"ตราสารทุน",null,{"$f":"D2356*F2356","v":0},null,{"$f":"$D2356*$F2356*H2356","v":0},{"$f":"SUM(I2356:I2361)","v":0}]
[null,null,null,null,"อสังหาริมทรัพย์",null,{"$f":"D2356*F2357","v":0},null,{"$f":"$D2356*$F2357*H2357","v":0}]
[null,null,null,null,"สินค้าโภคภัณฑ์",null,{"$f":"D2356*F2358","v":0},null,{"$f":"$D2356*$F2358*H2358","v":0}]
[null,null,null,null,"เงินฝาก",null,{"$f":"D2356*F2359","v":0},null,{"$f":"$D2356*$F2359*H2359","v":0}]
[null,null,null,null,"ตราสารหนี้",null,{"$f":"D2356*F2360","v":0},null,{"$f":"$D2356*$F2360*H2360","v":0}]
[null,null,null,null,"อื่นๆ",null,{"$f":"D2356*F2361","v":0},null,{"$f":"$D2356*$F2361*H2361","v":0}]
[null,393,null,null,"ตราสารทุน",null,{"$f":"D2362*F2362","v":0},null,{"$f":"$D2362*$F2362*H2362","v":0},{"$f":"SUM(I2362:I2367)","v":0}]
[null,null,null,null,"อสังหาริมทรัพย์",null,{"$f":"D2362*F2363","v":0},null,{"$f":"$D2362*$F2363*H2363","v":0}]
[null,null,null,null,"สินค้าโภคภัณฑ์",null,{"$f":"D2362*F2364","v":0},null,{"$f":"$D2362*$F2364*H2364","v":0}]
[null,null,null,null,"เงินฝาก",null,{"$f":"D2362*F2365","v":0},null,{"$f":"$D2362*$F2365*H2365","v":0}]
[null,null,null,null,"ตราสารหนี้",null,{"$f":"D2362*F2366","v":0},null,{"$f":"$D2362*$F2366*H2366","v":0}]
[null,null,null,null,"อื่นๆ",null,{"$f":"D2362*F2367","v":0},null,{"$f":"$D2362*$F2367*H2367","v":0}]
[null,394,null,null,"ตราสารทุน",null,{"$f":"D2368*F2368","v":0},null,{"$f":"$D2368*$F2368*H2368","v":0},{"$f":"SUM(I2368:I2373)","v":0}]
[null,null,null,null,"อสังหาริมทรัพย์",null,{"$f":"D2368*F2369","v":0},null,{"$f":"$D2368*$F2369*H2369","v":0}]
[null,null,null,null,"สินค้าโภคภัณฑ์",null,{"$f":"D2368*F2370","v":0},null,{"$f":"$D2368*$F2370*H2370","v":0}]
[null,null,null,null,"เงินฝาก",null,{"$f":"D2368*F2371","v":0},null,{"$f":"$D2368*$F2371*H2371","v":0}]
[null,null,null,null,"ตราสารหนี้",null,{"$f":"D2368*F2372","v":0},null,{"$f":"$D2368*$F2372*H2372","v":0}]
[null,null,null,null,"อื่นๆ",null,{"$f":"D2368*F2373","v":0},null,{"$f":"$D2368*$F2373*H2373","v":0}]
[null,395,null,null,"ตราสารทุน",null,{"$f":"D2374*F2374","v":0},null,{"$f":"$D2374*$F2374*H2374","v":0},{"$f":"SUM(I2374:I2379)","v":0}]
[null,null,null,null,"อสังหาริมทรัพย์",null,{"$f":"D2374*F2375","v":0},null,{"$f":"$D2374*$F2375*H2375","v":0}]
[null,null,null,null,"สินค้าโภคภัณฑ์",null,{"$f":"D2374*F2376","v":0},null,{"$f":"$D2374*$F2376*H2376","v":0}]
[null,null,null,null,"เงินฝาก",null,{"$f":"D2374*F2377","v":0},null,{"$f":"$D2374*$F2377*H2377","v":0}]
[null,null,null,null,"ตราสารหนี้",null,{"$f":"D2374*F2378","v":0},null,{"$f":"$D2374*$F2378*H2378","v":0}]
[null,null,null,null,"อื่นๆ",null,{"$f":"D2374*F2379","v":0},null,{"$f":"$D2374*$F2379*H2379","v":0}]
[null,396,null,null,"ตราสารทุน",null,{"$f":"D2380*F2380","v":0},null,{"$f":"$D2380*$F2380*H2380","v":0},{"$f":"SUM(I2380:I2385)","v":0}]
[null,null,null,null,"อสังหาริมทรัพย์",null,{"$f":"D2380*F2381","v":0},null,{"$f":"$D2380*$F2381*H2381","v":0}]
[null,null,null,null,"สินค้าโภคภัณฑ์",null,{"$f":"D2380*F2382","v":0},null,{"$f":"$D2380*$F2382*H2382","v":0}]
[null,null,null,null,"เงินฝาก",null,{"$f":"D2380*F2383","v":0},null,{"$f":"$D2380*$F2383*H2383","v":0}]
[null,null,null,null,"ตราสารหนี้",null,{"$f":"D2380*F2384","v":0},null,{"$f":"$D2380*$F2384*H2384","v":0}]
[null,null,null,null,"อื่นๆ",null,{"$f":"D2380*F2385","v":0},null,{"$f":"$D2380*$F2385*H2385","v":0}]
[null,397,null,null,"ตราสารทุน",null,{"$f":"D2386*F2386","v":0},null,{"$f":"$D2386*$F2386*H2386","v":0},{"$f":"SUM(I2386:I2391)","v":0}]
[null,null,null,null,"อสังหาริมทรัพย์",null,{"$f":"D2386*F2387","v":0},null,{"$f":"$D2386*$F2387*H2387","v":0}]
[null,null,null,null,"สินค้าโภคภัณฑ์",null,{"$f":"D2386*F2388","v":0},null,{"$f":"$D2386*$F2388*H2388","v":0}]
[null,null,null,null,"เงินฝาก",null,{"$f":"D2386*F2389","v":0},null,{"$f":"$D2386*$F2389*H2389","v":0}]
[null,null,null,null,"ตราสารหนี้",null,{"$f":"D2386*F2390","v":0},null,{"$f":"$D2386*$F2390*H2390","v":0}]
[null,null,null,null,"อื่นๆ",null,{"$f":"D2386*F2391","v":0},null,{"$f":"$D2386*$F2391*H2391","v":0}]
[null,398,null,null,"ตราสารทุน",null,{"$f":"D2392*F2392","v":0},null,{"$f":"$D2392*$F2392*H2392","v":0},{"$f":"SUM(I2392:I2397)","v":0}]
[null,null,null,null,"อสังหาริมทรัพย์",null,{"$f":"D2392*F2393","v":0},null,{"$f":"$D2392*$F2393*H2393","v":0}]
[null,null,null,null,"สินค้าโภคภัณฑ์",null,{"$f":"D2392*F2394","v":0},null,{"$f":"$D2392*$F2394*H2394","v":0}]
[null,null,null,null,"เงินฝาก",null,{"$f":"D2392*F2395","v":0},null,{"$f":"$D2392*$F2395*H2395","v":0}]
[null,null,null,null,"ตราสารหนี้",null,{"$f":"D2392*F2396","v":0},null,{"$f":"$D2392*$F2396*H2396","v":0}]
[null,null,null,null,"อื่นๆ",null,{"$f":"D2392*F2397","v":0},null,{"$f":"$D2392*$F2397*H2397","v":0}]
[null,399,null,null,"ตราสารทุน",null,{"$f":"D2398*F2398","v":0},null,{"$f":"$D2398*$F2398*H2398","v":0},{"$f":"SUM(I2398:I2403)","v":0}]
[null,null,null,null,"อสังหาริมทรัพย์",null,{"$f":"D2398*F2399","v":0},null,{"$f":"$D2398*$F2399*H2399","v":0}]
[null,null,null,null,"สินค้าโภคภัณฑ์",null,{"$f":"D2398*F2400","v":0},null,{"$f":"$D2398*$F2400*H2400","v":0}]
[null,null,null,null,"เงินฝาก",null,{"$f":"D2398*F2401","v":0},null,{"$f":"$D2398*$F2401*H2401","v":0}]
[null,null,null,null,"ตราสารหนี้",null,{"$f":"D2398*F2402","v":0},null,{"$f":"$D2398*$F2402*H2402","v":0}]
[null,null,null,null,"อื่นๆ",null,{"$f":"D2398*F2403","v":0},null,{"$f":"$D2398*$F2403*H2403","v":0}]
[null,400,null,null,"ตราสารทุน",null,{"$f":"D2404*F2404","v":0},null,{"$f":"$D2404*$F2404*H2404","v":0},{"$f":"SUM(I2404:I2409)","v":0}]
[null,null,null,null,"อสังหาริมทรัพย์",null,{"$f":"D2404*F2405","v":0},null,{"$f":"$D2404*$F2405*H2405","v":0}]
[null,null,null,null,"สินค้าโภคภัณฑ์",null,{"$f":"D2404*F2406","v":0},null,{"$f":"$D2404*$F2406*H2406","v":0}]
[null,null,null,null,"เงินฝาก",null,{"$f":"D2404*F2407","v":0},null,{"$f":"$D2404*$F2407*H2407","v":0}]
[null,null,null,null,"ตราสารหนี้",null,{"$f":"D2404*F2408","v":0},null,{"$f":"$D2404*$F2408*H2408","v":0}]
[null,null,null,null,"อื่นๆ",null,{"$f":"D2404*F2409","v":0},null,{"$f":"$D2404*$F2409*H2409","v":0}]
[null,401,null,null,"ตราสารทุน",null,{"$f":"D2410*F2410","v":0},null,{"$f":"$D2410*$F2410*H2410","v":0},{"$f":"SUM(I2410:I2415)","v":0}]
[null,null,null,null,"อสังหาริมทรัพย์",null,{"$f":"D2410*F2411","v":0},null,{"$f":"$D2410*$F2411*H2411","v":0}]
[null,null,null,null,"สินค้าโภคภัณฑ์",null,{"$f":"D2410*F2412","v":0},null,{"$f":"$D2410*$F2412*H2412","v":0}]
[null,null,null,null,"เงินฝาก",null,{"$f":"D2410*F2413","v":0},null,{"$f":"$D2410*$F2413*H2413","v":0}]
[null,null,null,null,"ตราสารหนี้",null,{"$f":"D2410*F2414","v":0},null,{"$f":"$D2410*$F2414*H2414","v":0}]
[null,null,null,null,"อื่นๆ",null,{"$f":"D2410*F2415","v":0},null,{"$f":"$D2410*$F2415*H2415","v":0}]
[null,402,null,null,"ตราสารทุน",null,{"$f":"D2416*F2416","v":0},null,{"$f":"$D2416*$F2416*H2416","v":0},{"$f":"SUM(I2416:I2421)","v":0}]
[null,null,null,null,"อสังหาริมทรัพย์",null,{"$f":"D2416*F2417","v":0},null,{"$f":"$D2416*$F2417*H2417","v":0}]
[null,null,null,null,"สินค้าโภคภัณฑ์",null,{"$f":"D2416*F2418","v":0},null,{"$f":"$D2416*$F2418*H2418","v":0}]
[null,null,null,null,"เงินฝาก",null,{"$f":"D2416*F2419","v":0},null,{"$f":"$D2416*$F2419*H2419","v":0}]
[null,null,null,null,"ตราสารหนี้",null,{"$f":"D2416*F2420","v":0},null,{"$f":"$D2416*$F2420*H2420","v":0}]
[null,null,null,null,"อื่นๆ",null,{"$f":"D2416*F2421","v":0},null,{"$f":"$D2416*$F2421*H2421","v":0}]
[null,403,null,null,"ตราสารทุน",null,{"$f":"D2422*F2422","v":0},null,{"$f":"$D2422*$F2422*H2422","v":0},{"$f":"SUM(I2422:I2427)","v":0}]
[null,null,null,null,"อสังหาริมทรัพย์",null,{"$f":"D2422*F2423","v":0},null,{"$f":"$D2422*$F2423*H2423","v":0}]
[null,null,null,null,"สินค้าโภคภัณฑ์",null,{"$f":"D2422*F2424","v":0},null,{"$f":"$D2422*$F2424*H2424","v":0}]
[null,null,null,null,"เงินฝาก",null,{"$f":"D2422*F2425","v":0},null,{"$f":"$D2422*$F2425*H2425","v":0}]
[null,null,null,null,"ตราสารหนี้",null,{"$f":"D2422*F2426","v":0},null,{"$f":"$D2422*$F2426*H2426","v":0}]
[null,null,null,null,"อื่นๆ",null,{"$f":"D2422*F2427","v":0},null,{"$f":"$D2422*$F2427*H2427","v":0}]
[null,404,null,null,"ตราสารทุน",null,{"$f":"D2428*F2428","v":0},null,{"$f":"$D2428*$F2428*H2428","v":0},{"$f":"SUM(I2428:I2433)","v":0}]
[null,null,null,null,"อสังหาริมทรัพย์",null,{"$f":"D2428*F2429","v":0},null,{"$f":"$D2428*$F2429*H2429","v":0}]
[null,null,null,null,"สินค้าโภคภัณฑ์",null,{"$f":"D2428*F2430","v":0},null,{"$f":"$D2428*$F2430*H2430","v":0}]
[null,null,null,null,"เงินฝาก",null,{"$f":"D2428*F2431","v":0},null,{"$f":"$D2428*$F2431*H2431","v":0}]
[null,null,null,null,"ตราสารหนี้",null,{"$f":"D2428*F2432","v":0},null,{"$f":"$D2428*$F2432*H2432","v":0}]
[null,null,null,null,"อื่นๆ",null,{"$f":"D2428*F2433","v":0},null,{"$f":"$D2428*$F2433*H2433","v":0}]
[null,405,null,null,"ตราสารทุน",null,{"$f":"D2434*F2434","v":0},null,{"$f":"$D2434*$F2434*H2434","v":0},{"$f":"SUM(I2434:I2439)","v":0}]
[null,null,null,null,"อสังหาริมทรัพย์",null,{"$f":"D2434*F2435","v":0},null,{"$f":"$D2434*$F2435*H2435","v":0}]
[null,null,null,null,"สินค้าโภคภัณฑ์",null,{"$f":"D2434*F2436","v":0},null,{"$f":"$D2434*$F2436*H2436","v":0}]
[null,null,null,null,"เงินฝาก",null,{"$f":"D2434*F2437","v":0},null,{"$f":"$D2434*$F2437*H2437","v":0}]
[null,null,null,null,"ตราสารหนี้",null,{"$f":"D2434*F2438","v":0},null,{"$f":"$D2434*$F2438*H2438","v":0}]
[null,null,null,null,"อื่นๆ",null,{"$f":"D2434*F2439","v":0},null,{"$f":"$D2434*$F2439*H2439","v":0}]
[null,406,null,null,"ตราสารทุน",null,{"$f":"D2440*F2440","v":0},null,{"$f":"$D2440*$F2440*H2440","v":0},{"$f":"SUM(I2440:I2445)","v":0}]
[null,null,null,null,"อสังหาริมทรัพย์",null,{"$f":"D2440*F2441","v":0},null,{"$f":"$D2440*$F2441*H2441","v":0}]
[null,null,null,null,"สินค้าโภคภัณฑ์",null,{"$f":"D2440*F2442","v":0},null,{"$f":"$D2440*$F2442*H2442","v":0}]
[null,null,null,null,"เงินฝาก",null,{"$f":"D2440*F2443","v":0},null,{"$f":"$D2440*$F2443*H2443","v":0}]
[null,null,null,null,"ตราสารหนี้",null,{"$f":"D2440*F2444","v":0},null,{"$f":"$D2440*$F2444*H2444","v":0}]
[null,null,null,null,"อื่นๆ",null,{"$f":"D2440*F2445","v":0},null,{"$f":"$D2440*$F2445*H2445","v":0}]
[null,407,null,null,"ตราสารทุน",null,{"$f":"D2446*F2446","v":0},null,{"$f":"$D2446*$F2446*H2446","v":0},{"$f":"SUM(I2446:I2451)","v":0}]
[null,null,null,null,"อสังหาริมทรัพย์",null,{"$f":"D2446*F2447","v":0},null,{"$f":"$D2446*$F2447*H2447","v":0}]
[null,null,null,null,"สินค้าโภคภัณฑ์",null,{"$f":"D2446*F2448","v":0},null,{"$f":"$D2446*$F2448*H2448","v":0}]
[null,null,null,null,"เงินฝาก",null,{"$f":"D2446*F2449","v":0},null,{"$f":"$D2446*$F2449*H2449","v":0}]
[null,null,null,null,"ตราสารหนี้",null,{"$f":"D2446*F2450","v":0},null,{"$f":"$D2446*$F2450*H2450","v":0}]
[null,null,null,null,"อื่นๆ",null,{"$f":"D2446*F2451","v":0},null,{"$f":"$D2446*$F2451*H2451","v":0}]
[null,408,null,null,"ตราสารทุน",null,{"$f":"D2452*F2452","v":0},null,{"$f":"$D2452*$F2452*H2452","v":0},{"$f":"SUM(I2452:I2457)","v":0}]
[null,null,null,null,"อสังหาริมทรัพย์",null,{"$f":"D2452*F2453","v":0},null,{"$f":"$D2452*$F2453*H2453","v":0}]
[null,null,null,null,"สินค้าโภคภัณฑ์",null,{"$f":"D2452*F2454","v":0},null,{"$f":"$D2452*$F2454*H2454","v":0}]
[null,null,null,null,"เงินฝาก",null,{"$f":"D2452*F2455","v":0},null,{"$f":"$D2452*$F2455*H2455","v":0}]
[null,null,null,null,"ตราสารหนี้",null,{"$f":"D2452*F2456","v":0},null,{"$f":"$D2452*$F2456*H2456","v":0}]
[null,null,null,null,"อื่นๆ",null,{"$f":"D2452*F2457","v":0},null,{"$f":"$D2452*$F2457*H2457","v":0}]
[null,409,null,null,"ตราสารทุน",null,{"$f":"D2458*F2458","v":0},null,{"$f":"$D2458*$F2458*H2458","v":0},{"$f":"SUM(I2458:I2463)","v":0}]
[null,null,null,null,"อสังหาริมทรัพย์",null,{"$f":"D2458*F2459","v":0},null,{"$f":"$D2458*$F2459*H2459","v":0}]
[null,null,null,null,"สินค้าโภคภัณฑ์",null,{"$f":"D2458*F2460","v":0},null,{"$f":"$D2458*$F2460*H2460","v":0}]
[null,null,null,null,"เงินฝาก",null,{"$f":"D2458*F2461","v":0},null,{"$f":"$D2458*$F2461*H2461","v":0}]
[null,null,null,null,"ตราสารหนี้",null,{"$f":"D2458*F2462","v":0},null,{"$f":"$D2458*$F2462*H2462","v":0}]
[null,null,null,null,"อื่นๆ",null,{"$f":"D2458*F2463","v":0},null,{"$f":"$D2458*$F2463*H2463","v":0}]
[null,410,null,null,"ตราสารทุน",null,{"$f":"D2464*F2464","v":0},null,{"$f":"$D2464*$F2464*H2464","v":0},{"$f":"SUM(I2464:I2469)","v":0}]
[null,null,null,null,"อสังหาริมทรัพย์",null,{"$f":"D2464*F2465","v":0},null,{"$f":"$D2464*$F2465*H2465","v":0}]
[null,null,null,null,"สินค้าโภคภัณฑ์",null,{"$f":"D2464*F2466","v":0},null,{"$f":"$D2464*$F2466*H2466","v":0}]
[null,null,null,null,"เงินฝาก",null,{"$f":"D2464*F2467","v":0},null,{"$f":"$D2464*$F2467*H2467","v":0}]
[null,null,null,null,"ตราสารหนี้",null,{"$f":"D2464*F2468","v":0},null,{"$f":"$D2464*$F2468*H2468","v":0}]
[null,null,null,null,"อื่นๆ",null,{"$f":"D2464*F2469","v":0},null,{"$f":"$D2464*$F2469*H2469","v":0}]
[null,411,null,null,"ตราสารทุน",null,{"$f":"D2470*F2470","v":0},null,{"$f":"$D2470*$F2470*H2470","v":0},{"$f":"SUM(I2470:I2475)","v":0}]
[null,null,null,null,"อสังหาริมทรัพย์",null,{"$f":"D2470*F2471","v":0},null,{"$f":"$D2470*$F2471*H2471","v":0}]
[null,null,null,null,"สินค้าโภคภัณฑ์",null,{"$f":"D2470*F2472","v":0},null,{"$f":"$D2470*$F2472*H2472","v":0}]
[null,null,null,null,"เงินฝาก",null,{"$f":"D2470*F2473","v":0},null,{"$f":"$D2470*$F2473*H2473","v":0}]
[null,null,null,null,"ตราสารหนี้",null,{"$f":"D2470*F2474","v":0},null,{"$f":"$D2470*$F2474*H2474","v":0}]
[null,null,null,null,"อื่นๆ",null,{"$f":"D2470*F2475","v":0},null,{"$f":"$D2470*$F2475*H2475","v":0}]
[null,412,null,null,"ตราสารทุน",null,{"$f":"D2476*F2476","v":0},null,{"$f":"$D2476*$F2476*H2476","v":0},{"$f":"SUM(I2476:I2481)","v":0}]
[null,null,null,null,"อสังหาริมทรัพย์",null,{"$f":"D2476*F2477","v":0},null,{"$f":"$D2476*$F2477*H2477","v":0}]
[null,null,null,null,"สินค้าโภคภัณฑ์",null,{"$f":"D2476*F2478","v":0},null,{"$f":"$D2476*$F2478*H2478","v":0}]
[null,null,null,null,"เงินฝาก",null,{"$f":"D2476*F2479","v":0},null,{"$f":"$D2476*$F2479*H2479","v":0}]
[null,null,null,null,"ตราสารหนี้",null,{"$f":"D2476*F2480","v":0},null,{"$f":"$D2476*$F2480*H2480","v":0}]
[null,null,null,null,"อื่นๆ",null,{"$f":"D2476*F2481","v":0},null,{"$f":"$D2476*$F2481*H2481","v":0}]
[null,413,null,null,"ตราสารทุน",null,{"$f":"D2482*F2482","v":0},null,{"$f":"$D2482*$F2482*H2482","v":0},{"$f":"SUM(I2482:I2487)","v":0}]
[null,null,null,null,"อสังหาริมทรัพย์",null,{"$f":"D2482*F2483","v":0},null,{"$f":"$D2482*$F2483*H2483","v":0}]
[null,null,null,null,"สินค้าโภคภัณฑ์",null,{"$f":"D2482*F2484","v":0},null,{"$f":"$D2482*$F2484*H2484","v":0}]
[null,null,null,null,"เงินฝาก",null,{"$f":"D2482*F2485","v":0},null,{"$f":"$D2482*$F2485*H2485","v":0}]
[null,null,null,null,"ตราสารหนี้",null,{"$f":"D2482*F2486","v":0},null,{"$f":"$D2482*$F2486*H2486","v":0}]
[null,null,null,null,"อื่นๆ",null,{"$f":"D2482*F2487","v":0},null,{"$f":"$D2482*$F2487*H2487","v":0}]
[null,414,null,null,"ตราสารทุน",null,{"$f":"D2488*F2488","v":0},null,{"$f":"$D2488*$F2488*H2488","v":0},{"$f":"SUM(I2488:I2493)","v":0}]
[null,null,null,null,"อสังหาริมทรัพย์",null,{"$f":"D2488*F2489","v":0},null,{"$f":"$D2488*$F2489*H2489","v":0}]
[null,null,null,null,"สินค้าโภคภัณฑ์",null,{"$f":"D2488*F2490","v":0},null,{"$f":"$D2488*$F2490*H2490","v":0}]
[null,null,null,null,"เงินฝาก",null,{"$f":"D2488*F2491","v":0},null,{"$f":"$D2488*$F2491*H2491","v":0}]
[null,null,null,null,"ตราสารหนี้",null,{"$f":"D2488*F2492","v":0},null,{"$f":"$D2488*$F2492*H2492","v":0}]
[null,null,null,null,"อื่นๆ",null,{"$f":"D2488*F2493","v":0},null,{"$f":"$D2488*$F2493*H2493","v":0}]
[null,415,null,null,"ตราสารทุน",null,{"$f":"D2494*F2494","v":0},null,{"$f":"$D2494*$F2494*H2494","v":0},{"$f":"SUM(I2494:I2499)","v":0}]
[null,null,null,null,"อสังหาริมทรัพย์",null,{"$f":"D2494*F2495","v":0},null,{"$f":"$D2494*$F2495*H2495","v":0}]
[null,null,null,null,"สินค้าโภคภัณฑ์",null,{"$f":"D2494*F2496","v":0},null,{"$f":"$D2494*$F2496*H2496","v":0}]
[null,null,null,null,"เงินฝาก",null,{"$f":"D2494*F2497","v":0},null,{"$f":"$D2494*$F2497*H2497","v":0}]
[null,null,null,null,"ตราสารหนี้",null,{"$f":"D2494*F2498","v":0},null,{"$f":"$D2494*$F2498*H2498","v":0}]
[null,null,null,null,"อื่นๆ",null,{"$f":"D2494*F2499","v":0},null,{"$f":"$D2494*$F2499*H2499","v":0}]
[null,416,null,null,"ตราสารทุน",null,{"$f":"D2500*F2500","v":0},null,{"$f":"$D2500*$F2500*H2500","v":0},{"$f":"SUM(I2500:I2505)","v":0}]
[null,null,null,null,"อสังหาริมทรัพย์",null,{"$f":"D2500*F2501","v":0},null,{"$f":"$D2500*$F2501*H2501","v":0}]
[null,null,null,null,"สินค้าโภคภัณฑ์",null,{"$f":"D2500*F2502","v":0},null,{"$f":"$D2500*$F2502*H2502","v":0}]
[null,null,null,null,"เงินฝาก",null,{"$f":"D2500*F2503","v":0},null,{"$f":"$D2500*$F2503*H2503","v":0}]
[null,null,null,null,"ตราสารหนี้",null,{"$f":"D2500*F2504","v":0},null,{"$f":"$D2500*$F2504*H2504","v":0}]
[null,null,null,null,"อื่นๆ",null,{"$f":"D2500*F2505","v":0},null,{"$f":"$D2500*$F2505*H2505","v":0}]
[null,417,null,null,"ตราสารทุน",null,{"$f":"D2506*F2506","v":0},null,{"$f":"$D2506*$F2506*H2506","v":0},{"$f":"SUM(I2506:I2511)","v":0}]
[null,null,null,null,"อสังหาริมทรัพย์",null,{"$f":"D2506*F2507","v":0},null,{"$f":"$D2506*$F2507*H2507","v":0}]
[null,null,null,null,"สินค้าโภคภัณฑ์",null,{"$f":"D2506*F2508","v":0},null,{"$f":"$D2506*$F2508*H2508","v":0}]
[null,null,null,null,"เงินฝาก",null,{"$f":"D2506*F2509","v":0},null,{"$f":"$D2506*$F2509*H2509","v":0}]
[null,null,null,null,"ตราสารหนี้",null,{"$f":"D2506*F2510","v":0},null,{"$f":"$D2506*$F2510*H2510","v":0}]
[null,null,null,null,"อื่นๆ",null,{"$f":"D2506*F2511","v":0},null,{"$f":"$D2506*$F2511*H2511","v":0}]
[null,418,null,null,"ตราสารทุน",null,{"$f":"D2512*F2512","v":0},null,{"$f":"$D2512*$F2512*H2512","v":0},{"$f":"SUM(I2512:I2517)","v":0}]
[null,null,null,null,"อสังหาริมทรัพย์",null,{"$f":"D2512*F2513","v":0},null,{"$f":"$D2512*$F2513*H2513","v":0}]
[null,null,null,null,"สินค้าโภคภัณฑ์",null,{"$f":"D2512*F2514","v":0},null,{"$f":"$D2512*$F2514*H2514","v":0}]
[null,null,null,null,"เงินฝาก",null,{"$f":"D2512*F2515","v":0},null,{"$f":"$D2512*$F2515*H2515","v":0}]
[null,null,null,null,"ตราสารหนี้",null,{"$f":"D2512*F2516","v":0},null,{"$f":"$D2512*$F2516*H2516","v":0}]
[null,null,null,null,"อื่นๆ",null,{"$f":"D2512*F2517","v":0},null,{"$f":"$D2512*$F2517*H2517","v":0}]
[null,419,null,null,"ตราสารทุน",null,{"$f":"D2518*F2518","v":0},null,{"$f":"$D2518*$F2518*H2518","v":0},{"$f":"SUM(I2518:I2523)","v":0}]
[null,null,null,null,"อสังหาริมทรัพย์",null,{"$f":"D2518*F2519","v":0},null,{"$f":"$D2518*$F2519*H2519","v":0}]
[null,null,null,null,"สินค้าโภคภัณฑ์",null,{"$f":"D2518*F2520","v":0},null,{"$f":"$D2518*$F2520*H2520","v":0}]
[null,null,null,null,"เงินฝาก",null,{"$f":"D2518*F2521","v":0},null,{"$f":"$D2518*$F2521*H2521","v":0}]
[null,null,null,null,"ตราสารหนี้",null,{"$f":"D2518*F2522","v":0},null,{"$f":"$D2518*$F2522*H2522","v":0}]
[null,null,null,null,"อื่นๆ",null,{"$f":"D2518*F2523","v":0},null,{"$f":"$D2518*$F2523*H2523","v":0}]
[null,420,null,null,"ตราสารทุน",null,{"$f":"D2524*F2524","v":0},null,{"$f":"$D2524*$F2524*H2524","v":0},{"$f":"SUM(I2524:I2529)","v":0}]
[null,null,null,null,"อสังหาริมทรัพย์",null,{"$f":"D2524*F2525","v":0},null,{"$f":"$D2524*$F2525*H2525","v":0}]
[null,null,null,null,"สินค้าโภคภัณฑ์",null,{"$f":"D2524*F2526","v":0},null,{"$f":"$D2524*$F2526*H2526","v":0}]
[null,null,null,null,"เงินฝาก",null,{"$f":"D2524*F2527","v":0},null,{"$f":"$D2524*$F2527*H2527","v":0}]
[null,null,null,null,"ตราสารหนี้",null,{"$f":"D2524*F2528","v":0},null,{"$f":"$D2524*$F2528*H2528","v":0}]
[null,null,null,null,"อื่นๆ",null,{"$f":"D2524*F2529","v":0},null,{"$f":"$D2524*$F2529*H2529","v":0}]
[null,421,null,null,"ตราสารทุน",null,{"$f":"D2530*F2530","v":0},null,{"$f":"$D2530*$F2530*H2530","v":0},{"$f":"SUM(I2530:I2535)","v":0}]
[null,null,null,null,"อสังหาริมทรัพย์",null,{"$f":"D2530*F2531","v":0},null,{"$f":"$D2530*$F2531*H2531","v":0}]
[null,null,null,null,"สินค้าโภคภัณฑ์",null,{"$f":"D2530*F2532","v":0},null,{"$f":"$D2530*$F2532*H2532","v":0}]
[null,null,null,null,"เงินฝาก",null,{"$f":"D2530*F2533","v":0},null,{"$f":"$D2530*$F2533*H2533","v":0}]
[null,null,null,null,"ตราสารหนี้",null,{"$f":"D2530*F2534","v":0},null,{"$f":"$D2530*$F2534*H2534","v":0}]
[null,null,null,null,"อื่นๆ",null,{"$f":"D2530*F2535","v":0},null,{"$f":"$D2530*$F2535*H2535","v":0}]
[null,422,null,null,"ตราสารทุน",null,{"$f":"D2536*F2536","v":0},null,{"$f":"$D2536*$F2536*H2536","v":0},{"$f":"SUM(I2536:I2541)","v":0}]
[null,null,null,null,"อสังหาริมทรัพย์",null,{"$f":"D2536*F2537","v":0},null,{"$f":"$D2536*$F2537*H2537","v":0}]
[null,null,null,null,"สินค้าโภคภัณฑ์",null,{"$f":"D2536*F2538","v":0},null,{"$f":"$D2536*$F2538*H2538","v":0}]
[null,null,null,null,"เงินฝาก",null,{"$f":"D2536*F2539","v":0},null,{"$f":"$D2536*$F2539*H2539","v":0}]
[null,null,null,null,"ตราสารหนี้",null,{"$f":"D2536*F2540","v":0},null,{"$f":"$D2536*$F2540*H2540","v":0}]
[null,null,null,null,"อื่นๆ",null,{"$f":"D2536*F2541","v":0},null,{"$f":"$D2536*$F2541*H2541","v":0}]
[null,423,null,null,"ตราสารทุน",null,{"$f":"D2542*F2542","v":0},null,{"$f":"$D2542*$F2542*H2542","v":0},{"$f":"SUM(I2542:I2547)","v":0}]
[null,null,null,null,"อสังหาริมทรัพย์",null,{"$f":"D2542*F2543","v":0},null,{"$f":"$D2542*$F2543*H2543","v":0}]
[null,null,null,null,"สินค้าโภคภัณฑ์",null,{"$f":"D2542*F2544","v":0},null,{"$f":"$D2542*$F2544*H2544","v":0}]
[null,null,null,null,"เงินฝาก",null,{"$f":"D2542*F2545","v":0},null,{"$f":"$D2542*$F2545*H2545","v":0}]
[null,null,null,null,"ตราสารหนี้",null,{"$f":"D2542*F2546","v":0},null,{"$f":"$D2542*$F2546*H2546","v":0}]
[null,null,null,null,"อื่นๆ",null,{"$f":"D2542*F2547","v":0},null,{"$f":"$D2542*$F2547*H2547","v":0}]
[null,424,null,null,"ตราสารทุน",null,{"$f":"D2548*F2548","v":0},null,{"$f":"$D2548*$F2548*H2548","v":0},{"$f":"SUM(I2548:I2553)","v":0}]
[null,null,null,null,"อสังหาริมทรัพย์",null,{"$f":"D2548*F2549","v":0},null,{"$f":"$D2548*$F2549*H2549","v":0}]
[null,null,null,null,"สินค้าโภคภัณฑ์",null,{"$f":"D2548*F2550","v":0},null,{"$f":"$D2548*$F2550*H2550","v":0}]
[null,null,null,null,"เงินฝาก",null,{"$f":"D2548*F2551","v":0},null,{"$f":"$D2548*$F2551*H2551","v":0}]
[null,null,null,null,"ตราสารหนี้",null,{"$f":"D2548*F2552","v":0},null,{"$f":"$D2548*$F2552*H2552","v":0}]
[null,null,null,null,"อื่นๆ",null,{"$f":"D2548*F2553","v":0},null,{"$f":"$D2548*$F2553*H2553","v":0}]
[null,425,null,null,"ตราสารทุน",null,{"$f":"D2554*F2554","v":0},null,{"$f":"$D2554*$F2554*H2554","v":0},{"$f":"SUM(I2554:I2559)","v":0}]
[null,null,null,null,"อสังหาริมทรัพย์",null,{"$f":"D2554*F2555","v":0},null,{"$f":"$D2554*$F2555*H2555","v":0}]
[null,null,null,null,"สินค้าโภคภัณฑ์",null,{"$f":"D2554*F2556","v":0},null,{"$f":"$D2554*$F2556*H2556","v":0}]
[null,null,null,null,"เงินฝาก",null,{"$f":"D2554*F2557","v":0},null,{"$f":"$D2554*$F2557*H2557","v":0}]
[null,null,null,null,"ตราสารหนี้",null,{"$f":"D2554*F2558","v":0},null,{"$f":"$D2554*$F2558*H2558","v":0}]
[null,null,null,null,"อื่นๆ",null,{"$f":"D2554*F2559","v":0},null,{"$f":"$D2554*$F2559*H2559","v":0}]
[null,426,null,null,"ตราสารทุน",null,{"$f":"D2560*F2560","v":0},null,{"$f":"$D2560*$F2560*H2560","v":0},{"$f":"SUM(I2560:I2565)","v":0}]
[null,null,null,null,"อสังหาริมทรัพย์",null,{"$f":"D2560*F2561","v":0},null,{"$f":"$D2560*$F2561*H2561","v":0}]
[null,null,null,null,"สินค้าโภคภัณฑ์",null,{"$f":"D2560*F2562","v":0},null,{"$f":"$D2560*$F2562*H2562","v":0}]
[null,null,null,null,"เงินฝาก",null,{"$f":"D2560*F2563","v":0},null,{"$f":"$D2560*$F2563*H2563","v":0}]
[null,null,null,null,"ตราสารหนี้",null,{"$f":"D2560*F2564","v":0},null,{"$f":"$D2560*$F2564*H2564","v":0}]
[null,null,null,null,"อื่นๆ",null,{"$f":"D2560*F2565","v":0},null,{"$f":"$D2560*$F2565*H2565","v":0}]
[null,427,null,null,"ตราสารทุน",null,{"$f":"D2566*F2566","v":0},null,{"$f":"$D2566*$F2566*H2566","v":0},{"$f":"SUM(I2566:I2571)","v":0}]
[null,null,null,null,"อสังหาริมทรัพย์",null,{"$f":"D2566*F2567","v":0},null,{"$f":"$D2566*$F2567*H2567","v":0}]
[null,null,null,null,"สินค้าโภคภัณฑ์",null,{"$f":"D2566*F2568","v":0},null,{"$f":"$D2566*$F2568*H2568","v":0}]
[null,null,null,null,"เงินฝาก",null,{"$f":"D2566*F2569","v":0},null,{"$f":"$D2566*$F2569*H2569","v":0}]
[null,null,null,null,"ตราสารหนี้",null,{"$f":"D2566*F2570","v":0},null,{"$f":"$D2566*$F2570*H2570","v":0}]
[null,null,null,null,"อื่นๆ",null,{"$f":"D2566*F2571","v":0},null,{"$f":"$D2566*$F2571*H2571","v":0}]
[null,428,null,null,"ตราสารทุน",null,{"$f":"D2572*F2572","v":0},null,{"$f":"$D2572*$F2572*H2572","v":0},{"$f":"SUM(I2572:I2577)","v":0}]
[null,null,null,null,"อสังหาริมทรัพย์",null,{"$f":"D2572*F2573","v":0},null,{"$f":"$D2572*$F2573*H2573","v":0}]
[null,null,null,null,"สินค้าโภคภัณฑ์",null,{"$f":"D2572*F2574","v":0},null,{"$f":"$D2572*$F2574*H2574","v":0}]
[null,null,null,null,"เงินฝาก",null,{"$f":"D2572*F2575","v":0},null,{"$f":"$D2572*$F2575*H2575","v":0}]
[null,null,null,null,"ตราสารหนี้",null,{"$f":"D2572*F2576","v":0},null,{"$f":"$D2572*$F2576*H2576","v":0}]
[null,null,null,null,"อื่นๆ",null,{"$f":"D2572*F2577","v":0},null,{"$f":"$D2572*$F2577*H2577","v":0}]
[null,429,null,null,"ตราสารทุน",null,{"$f":"D2578*F2578","v":0},null,{"$f":"$D2578*$F2578*H2578","v":0},{"$f":"SUM(I2578:I2583)","v":0}]
[null,null,null,null,"อสังหาริมทรัพย์",null,{"$f":"D2578*F2579","v":0},null,{"$f":"$D2578*$F2579*H2579","v":0}]
[null,null,null,null,"สินค้าโภคภัณฑ์",null,{"$f":"D2578*F2580","v":0},null,{"$f":"$D2578*$F2580*H2580","v":0}]
[null,null,null,null,"เงินฝาก",null,{"$f":"D2578*F2581","v":0},null,{"$f":"$D2578*$F2581*H2581","v":0}]
[null,null,null,null,"ตราสารหนี้",null,{"$f":"D2578*F2582","v":0},null,{"$f":"$D2578*$F2582*H2582","v":0}]
[null,null,null,null,"อื่นๆ",null,{"$f":"D2578*F2583","v":0},null,{"$f":"$D2578*$F2583*H2583","v":0}]
[null,430,null,null,"ตราสารทุน",null,{"$f":"D2584*F2584","v":0},null,{"$f":"$D2584*$F2584*H2584","v":0},{"$f":"SUM(I2584:I2589)","v":0}]
[null,null,null,null,"อสังหาริมทรัพย์",null,{"$f":"D2584*F2585","v":0},null,{"$f":"$D2584*$F2585*H2585","v":0}]
[null,null,null,null,"สินค้าโภคภัณฑ์",null,{"$f":"D2584*F2586","v":0},null,{"$f":"$D2584*$F2586*H2586","v":0}]
[null,null,null,null,"เงินฝาก",null,{"$f":"D2584*F2587","v":0},null,{"$f":"$D2584*$F2587*H2587","v":0}]
[null,null,null,null,"ตราสารหนี้",null,{"$f":"D2584*F2588","v":0},null,{"$f":"$D2584*$F2588*H2588","v":0}]
[null,null,null,null,"อื่นๆ",null,{"$f":"D2584*F2589","v":0},null,{"$f":"$D2584*$F2589*H2589","v":0}]
[null,431,null,null,"ตราสารทุน",null,{"$f":"D2590*F2590","v":0},null,{"$f":"$D2590*$F2590*H2590","v":0},{"$f":"SUM(I2590:I2595)","v":0}]
[null,null,null,null,"อสังหาริมทรัพย์",null,{"$f":"D2590*F2591","v":0},null,{"$f":"$D2590*$F2591*H2591","v":0}]
[null,null,null,null,"สินค้าโภคภัณฑ์",null,{"$f":"D2590*F2592","v":0},null,{"$f":"$D2590*$F2592*H2592","v":0}]
[null,null,null,null,"เงินฝาก",null,{"$f":"D2590*F2593","v":0},null,{"$f":"$D2590*$F2593*H2593","v":0}]
[null,null,null,null,"ตราสารหนี้",null,{"$f":"D2590*F2594","v":0},null,{"$f":"$D2590*$F2594*H2594","v":0}]
[null,null,null,null,"อื่นๆ",null,{"$f":"D2590*F2595","v":0},null,{"$f":"$D2590*$F2595*H2595","v":0}]
[null,432,null,null,"ตราสารทุน",null,{"$f":"D2596*F2596","v":0},null,{"$f":"$D2596*$F2596*H2596","v":0},{"$f":"SUM(I2596:I2601)","v":0}]
[null,null,null,null,"อสังหาริมทรัพย์",null,{"$f":"D2596*F2597","v":0},null,{"$f":"$D2596*$F2597*H2597","v":0}]
[null,null,null,null,"สินค้าโภคภัณฑ์",null,{"$f":"D2596*F2598","v":0},null,{"$f":"$D2596*$F2598*H2598","v":0}]
[null,null,null,null,"เงินฝาก",null,{"$f":"D2596*F2599","v":0},null,{"$f":"$D2596*$F2599*H2599","v":0}]
[null,null,null,null,"ตราสารหนี้",null,{"$f":"D2596*F2600","v":0},null,{"$f":"$D2596*$F2600*H2600","v":0}]
[null,null,null,null,"อื่นๆ",null,{"$f":"D2596*F2601","v":0},null,{"$f":"$D2596*$F2601*H2601","v":0}]
[null,433,null,null,"ตราสารทุน",null,{"$f":"D2602*F2602","v":0},null,{"$f":"$D2602*$F2602*H2602","v":0},{"$f":"SUM(I2602:I2607)","v":0}]
[null,null,null,null,"อสังหาริมทรัพย์",null,{"$f":"D2602*F2603","v":0},null,{"$f":"$D2602*$F2603*H2603","v":0}]
[null,null,null,null,"สินค้าโภคภัณฑ์",null,{"$f":"D2602*F2604","v":0},null,{"$f":"$D2602*$F2604*H2604","v":0}]
[null,null,null,null,"เงินฝาก",null,{"$f":"D2602*F2605","v":0},null,{"$f":"$D2602*$F2605*H2605","v":0}]
[null,null,null,null,"ตราสารหนี้",null,{"$f":"D2602*F2606","v":0},null,{"$f":"$D2602*$F2606*H2606","v":0}]
[null,null,null,null,"อื่นๆ",null,{"$f":"D2602*F2607","v":0},null,{"$f":"$D2602*$F2607*H2607","v":0}]
[null,434,null,null,"ตราสารทุน",null,{"$f":"D2608*F2608","v":0},null,{"$f":"$D2608*$F2608*H2608","v":0},{"$f":"SUM(I2608:I2613)","v":0}]
[null,null,null,null,"อสังหาริมทรัพย์",null,{"$f":"D2608*F2609","v":0},null,{"$f":"$D2608*$F2609*H2609","v":0}]
[null,null,null,null,"สินค้าโภคภัณฑ์",null,{"$f":"D2608*F2610","v":0},null,{"$f":"$D2608*$F2610*H2610","v":0}]
[null,null,null,null,"เงินฝาก",null,{"$f":"D2608*F2611","v":0},null,{"$f":"$D2608*$F2611*H2611","v":0}]
[null,null,null,null,"ตราสารหนี้",null,{"$f":"D2608*F2612","v":0},null,{"$f":"$D2608*$F2612*H2612","v":0}]
[null,null,null,null,"อื่นๆ",null,{"$f":"D2608*F2613","v":0},null,{"$f":"$D2608*$F2613*H2613","v":0}]
[null,435,null,null,"ตราสารทุน",null,{"$f":"D2614*F2614","v":0},null,{"$f":"$D2614*$F2614*H2614","v":0},{"$f":"SUM(I2614:I2619)","v":0}]
[null,null,null,null,"อสังหาริมทรัพย์",null,{"$f":"D2614*F2615","v":0},null,{"$f":"$D2614*$F2615*H2615","v":0}]
[null,null,null,null,"สินค้าโภคภัณฑ์",null,{"$f":"D2614*F2616","v":0},null,{"$f":"$D2614*$F2616*H2616","v":0}]
[null,null,null,null,"เงินฝาก",null,{"$f":"D2614*F2617","v":0},null,{"$f":"$D2614*$F2617*H2617","v":0}]
[null,null,null,null,"ตราสารหนี้",null,{"$f":"D2614*F2618","v":0},null,{"$f":"$D2614*$F2618*H2618","v":0}]
[null,null,null,null,"อื่นๆ",null,{"$f":"D2614*F2619","v":0},null,{"$f":"$D2614*$F2619*H2619","v":0}]
[null,436,null,null,"ตราสารทุน",null,{"$f":"D2620*F2620","v":0},null,{"$f":"$D2620*$F2620*H2620","v":0},{"$f":"SUM(I2620:I2625)","v":0}]
[null,null,null,null,"อสังหาริมทรัพย์",null,{"$f":"D2620*F2621","v":0},null,{"$f":"$D2620*$F2621*H2621","v":0}]
[null,null,null,null,"สินค้าโภคภัณฑ์",null,{"$f":"D2620*F2622","v":0},null,{"$f":"$D2620*$F2622*H2622","v":0}]
[null,null,null,null,"เงินฝาก",null,{"$f":"D2620*F2623","v":0},null,{"$f":"$D2620*$F2623*H2623","v":0}]
[null,null,null,null,"ตราสารหนี้",null,{"$f":"D2620*F2624","v":0},null,{"$f":"$D2620*$F2624*H2624","v":0}]
[null,null,null,null,"อื่นๆ",null,{"$f":"D2620*F2625","v":0},null,{"$f":"$D2620*$F2625*H2625","v":0}]
[null,437,null,null,"ตราสารทุน",null,{"$f":"D2626*F2626","v":0},null,{"$f":"$D2626*$F2626*H2626","v":0},{"$f":"SUM(I2626:I2631)","v":0}]
[null,null,null,null,"อสังหาริมทรัพย์",null,{"$f":"D2626*F2627","v":0},null,{"$f":"$D2626*$F2627*H2627","v":0}]
[null,null,null,null,"สินค้าโภคภัณฑ์",null,{"$f":"D2626*F2628","v":0},null,{"$f":"$D2626*$F2628*H2628","v":0}]
[null,null,null,null,"เงินฝาก",null,{"$f":"D2626*F2629","v":0},null,{"$f":"$D2626*$F2629*H2629","v":0}]
[null,null,null,null,"ตราสารหนี้",null,{"$f":"D2626*F2630","v":0},null,{"$f":"$D2626*$F2630*H2630","v":0}]
[null,null,null,null,"อื่นๆ",null,{"$f":"D2626*F2631","v":0},null,{"$f":"$D2626*$F2631*H2631","v":0}]
[null,438,null,null,"ตราสารทุน",null,{"$f":"D2632*F2632","v":0},null,{"$f":"$D2632*$F2632*H2632","v":0},{"$f":"SUM(I2632:I2637)","v":0}]
[null,null,null,null,"อสังหาริมทรัพย์",null,{"$f":"D2632*F2633","v":0},null,{"$f":"$D2632*$F2633*H2633","v":0}]
[null,null,null,null,"สินค้าโภคภัณฑ์",null,{"$f":"D2632*F2634","v":0},null,{"$f":"$D2632*$F2634*H2634","v":0}]
[null,null,null,null,"เงินฝาก",null,{"$f":"D2632*F2635","v":0},null,{"$f":"$D2632*$F2635*H2635","v":0}]
[null,null,null,null,"ตราสารหนี้",null,{"$f":"D2632*F2636","v":0},null,{"$f":"$D2632*$F2636*H2636","v":0}]
[null,null,null,null,"อื่นๆ",null,{"$f":"D2632*F2637","v":0},null,{"$f":"$D2632*$F2637*H2637","v":0}]
[null,439,null,null,"ตราสารทุน",null,{"$f":"D2638*F2638","v":0},null,{"$f":"$D2638*$F2638*H2638","v":0},{"$f":"SUM(I2638:I2643)","v":0}]
[null,null,null,null,"อสังหาริมทรัพย์",null,{"$f":"D2638*F2639","v":0},null,{"$f":"$D2638*$F2639*H2639","v":0}]
[null,null,null,null,"สินค้าโภคภัณฑ์",null,{"$f":"D2638*F2640","v":0},null,{"$f":"$D2638*$F2640*H2640","v":0}]
[null,null,null,null,"เงินฝาก",null,{"$f":"D2638*F2641","v":0},null,{"$f":"$D2638*$F2641*H2641","v":0}]
[null,null,null,null,"ตราสารหนี้",null,{"$f":"D2638*F2642","v":0},null,{"$f":"$D2638*$F2642*H2642","v":0}]
[null,null,null,null,"อื่นๆ",null,{"$f":"D2638*F2643","v":0},null,{"$f":"$D2638*$F2643*H2643","v":0}]
[null,440,null,null,"ตราสารทุน",null,{"$f":"D2644*F2644","v":0},null,{"$f":"$D2644*$F2644*H2644","v":0},{"$f":"SUM(I2644:I2649)","v":0}]
[null,null,null,null,"อสังหาริมทรัพย์",null,{"$f":"D2644*F2645","v":0},null,{"$f":"$D2644*$F2645*H2645","v":0}]
[null,null,null,null,"สินค้าโภคภัณฑ์",null,{"$f":"D2644*F2646","v":0},null,{"$f":"$D2644*$F2646*H2646","v":0}]
[null,null,null,null,"เงินฝาก",null,{"$f":"D2644*F2647","v":0},null,{"$f":"$D2644*$F2647*H2647","v":0}]
[null,null,null,null,"ตราสารหนี้",null,{"$f":"D2644*F2648","v":0},null,{"$f":"$D2644*$F2648*H2648","v":0}]
[null,null,null,null,"อื่นๆ",null,{"$f":"D2644*F2649","v":0},null,{"$f":"$D2644*$F2649*H2649","v":0}]
[null,441,null,null,"ตราสารทุน",null,{"$f":"D2650*F2650","v":0},null,{"$f":"$D2650*$F2650*H2650","v":0},{"$f":"SUM(I2650:I2655)","v":0}]
[null,null,null,null,"อสังหาริมทรัพย์",null,{"$f":"D2650*F2651","v":0},null,{"$f":"$D2650*$F2651*H2651","v":0}]
[null,null,null,null,"สินค้าโภคภัณฑ์",null,{"$f":"D2650*F2652","v":0},null,{"$f":"$D2650*$F2652*H2652","v":0}]
[null,null,null,null,"เงินฝาก",null,{"$f":"D2650*F2653","v":0},null,{"$f":"$D2650*$F2653*H2653","v":0}]
[null,null,null,null,"ตราสารหนี้",null,{"$f":"D2650*F2654","v":0},null,{"$f":"$D2650*$F2654*H2654","v":0}]
[null,null,null,null,"อื่นๆ",null,{"$f":"D2650*F2655","v":0},null,{"$f":"$D2650*$F2655*H2655","v":0}]
[null,442,null,null,"ตราสารทุน",null,{"$f":"D2656*F2656","v":0},null,{"$f":"$D2656*$F2656*H2656","v":0},{"$f":"SUM(I2656:I2661)","v":0}]
[null,null,null,null,"อสังหาริมทรัพย์",null,{"$f":"D2656*F2657","v":0},null,{"$f":"$D2656*$F2657*H2657","v":0}]
[null,null,null,null,"สินค้าโภคภัณฑ์",null,{"$f":"D2656*F2658","v":0},null,{"$f":"$D2656*$F2658*H2658","v":0}]
[null,null,null,null,"เงินฝาก",null,{"$f":"D2656*F2659","v":0},null,{"$f":"$D2656*$F2659*H2659","v":0}]
[null,null,null,null,"ตราสารหนี้",null,{"$f":"D2656*F2660","v":0},null,{"$f":"$D2656*$F2660*H2660","v":0}]
[null,null,null,null,"อื่นๆ",null,{"$f":"D2656*F2661","v":0},null,{"$f":"$D2656*$F2661*H2661","v":0}]
[null,443,null,null,"ตราสารทุน",null,{"$f":"D2662*F2662","v":0},null,{"$f":"$D2662*$F2662*H2662","v":0},{"$f":"SUM(I2662:I2667)","v":0}]
[null,null,null,null,"อสังหาริมทรัพย์",null,{"$f":"D2662*F2663","v":0},null,{"$f":"$D2662*$F2663*H2663","v":0}]
[null,null,null,null,"สินค้าโภคภัณฑ์",null,{"$f":"D2662*F2664","v":0},null,{"$f":"$D2662*$F2664*H2664","v":0}]
[null,null,null,null,"เงินฝาก",null,{"$f":"D2662*F2665","v":0},null,{"$f":"$D2662*$F2665*H2665","v":0}]
[null,null,null,null,"ตราสารหนี้",null,{"$f":"D2662*F2666","v":0},null,{"$f":"$D2662*$F2666*H2666","v":0}]
[null,null,null,null,"อื่นๆ",null,{"$f":"D2662*F2667","v":0},null,{"$f":"$D2662*$F2667*H2667","v":0}]
[null,444,null,null,"ตราสารทุน",null,{"$f":"D2668*F2668","v":0},null,{"$f":"$D2668*$F2668*H2668","v":0},{"$f":"SUM(I2668:I2673)","v":0}]
[null,null,null,null,"อสังหาริมทรัพย์",null,{"$f":"D2668*F2669","v":0},null,{"$f":"$D2668*$F2669*H2669","v":0}]
[null,null,null,null,"สินค้าโภคภัณฑ์",null,{"$f":"D2668*F2670","v":0},null,{"$f":"$D2668*$F2670*H2670","v":0}]
[null,null,null,null,"เงินฝาก",null,{"$f":"D2668*F2671","v":0},null,{"$f":"$D2668*$F2671*H2671","v":0}]
[null,null,null,null,"ตราสารหนี้",null,{"$f":"D2668*F2672","v":0},null,{"$f":"$D2668*$F2672*H2672","v":0}]
[null,null,null,null,"อื่นๆ",null,{"$f":"D2668*F2673","v":0},null,{"$f":"$D2668*$F2673*H2673","v":0}]
[null,445,null,null,"ตราสารทุน",null,{"$f":"D2674*F2674","v":0},null,{"$f":"$D2674*$F2674*H2674","v":0},{"$f":"SUM(I2674:I2679)","v":0}]
[null,null,null,null,"อสังหาริมทรัพย์",null,{"$f":"D2674*F2675","v":0},null,{"$f":"$D2674*$F2675*H2675","v":0}]
[null,null,null,null,"สินค้าโภคภัณฑ์",null,{"$f":"D2674*F2676","v":0},null,{"$f":"$D2674*$F2676*H2676","v":0}]
[null,null,null,null,"เงินฝาก",null,{"$f":"D2674*F2677","v":0},null,{"$f":"$D2674*$F2677*H2677","v":0}]
[null,null,null,null,"ตราสารหนี้",null,{"$f":"D2674*F2678","v":0},null,{"$f":"$D2674*$F2678*H2678","v":0}]
[null,null,null,null,"อื่นๆ",null,{"$f":"D2674*F2679","v":0},null,{"$f":"$D2674*$F2679*H2679","v":0}]
[null,446,null,null,"ตราสารทุน",null,{"$f":"D2680*F2680","v":0},null,{"$f":"$D2680*$F2680*H2680","v":0},{"$f":"SUM(I2680:I2685)","v":0}]
[null,null,null,null,"อสังหาริมทรัพย์",null,{"$f":"D2680*F2681","v":0},null,{"$f":"$D2680*$F2681*H2681","v":0}]
[null,null,null,null,"สินค้าโภคภัณฑ์",null,{"$f":"D2680*F2682","v":0},null,{"$f":"$D2680*$F2682*H2682","v":0}]
[null,null,null,null,"เงินฝาก",null,{"$f":"D2680*F2683","v":0},null,{"$f":"$D2680*$F2683*H2683","v":0}]
[null,null,null,null,"ตราสารหนี้",null,{"$f":"D2680*F2684","v":0},null,{"$f":"$D2680*$F2684*H2684","v":0}]
[null,null,null,null,"อื่นๆ",null,{"$f":"D2680*F2685","v":0},null,{"$f":"$D2680*$F2685*H2685","v":0}]
[null,447,null,null,"ตราสารทุน",null,{"$f":"D2686*F2686","v":0},null,{"$f":"$D2686*$F2686*H2686","v":0},{"$f":"SUM(I2686:I2691)","v":0}]
[null,null,null,null,"อสังหาริมทรัพย์",null,{"$f":"D2686*F2687","v":0},null,{"$f":"$D2686*$F2687*H2687","v":0}]
[null,null,null,null,"สินค้าโภคภัณฑ์",null,{"$f":"D2686*F2688","v":0},null,{"$f":"$D2686*$F2688*H2688","v":0}]
[null,null,null,null,"เงินฝาก",null,{"$f":"D2686*F2689","v":0},null,{"$f":"$D2686*$F2689*H2689","v":0}]
[null,null,null,null,"ตราสารหนี้",null,{"$f":"D2686*F2690","v":0},null,{"$f":"$D2686*$F2690*H2690","v":0}]
[null,null,null,null,"อื่นๆ",null,{"$f":"D2686*F2691","v":0},null,{"$f":"$D2686*$F2691*H2691","v":0}]
[null,448,null,null,"ตราสารทุน",null,{"$f":"D2692*F2692","v":0},null,{"$f":"$D2692*$F2692*H2692","v":0},{"$f":"SUM(I2692:I2697)","v":0}]
[null,null,null,null,"อสังหาริมทรัพย์",null,{"$f":"D2692*F2693","v":0},null,{"$f":"$D2692*$F2693*H2693","v":0}]
[null,null,null,null,"สินค้าโภคภัณฑ์",null,{"$f":"D2692*F2694","v":0},null,{"$f":"$D2692*$F2694*H2694","v":0}]
[null,null,null,null,"เงินฝาก",null,{"$f":"D2692*F2695","v":0},null,{"$f":"$D2692*$F2695*H2695","v":0}]
[null,null,null,null,"ตราสารหนี้",null,{"$f":"D2692*F2696","v":0},null,{"$f":"$D2692*$F2696*H2696","v":0}]
[null,null,null,null,"อื่นๆ",null,{"$f":"D2692*F2697","v":0},null,{"$f":"$D2692*$F2697*H2697","v":0}]
[null,449,null,null,"ตราสารทุน",null,{"$f":"D2698*F2698","v":0},null,{"$f":"$D2698*$F2698*H2698","v":0},{"$f":"SUM(I2698:I2703)","v":0}]
[null,null,null,null,"อสังหาริมทรัพย์",null,{"$f":"D2698*F2699","v":0},null,{"$f":"$D2698*$F2699*H2699","v":0}]
[null,null,null,null,"สินค้าโภคภัณฑ์",null,{"$f":"D2698*F2700","v":0},null,{"$f":"$D2698*$F2700*H2700","v":0}]
[null,null,null,null,"เงินฝาก",null,{"$f":"D2698*F2701","v":0},null,{"$f":"$D2698*$F2701*H2701","v":0}]
[null,null,null,null,"ตราสารหนี้",null,{"$f":"D2698*F2702","v":0},null,{"$f":"$D2698*$F2702*H2702","v":0}]
[null,null,null,null,"อื่นๆ",null,{"$f":"D2698*F2703","v":0},null,{"$f":"$D2698*$F2703*H2703","v":0}]
[null,450,null,null,"ตราสารทุน",null,{"$f":"D2704*F2704","v":0},null,{"$f":"$D2704*$F2704*H2704","v":0},{"$f":"SUM(I2704:I2709)","v":0}]
[null,null,null,null,"อสังหาริมทรัพย์",null,{"$f":"D2704*F2705","v":0},null,{"$f":"$D2704*$F2705*H2705","v":0}]
[null,null,null,null,"สินค้าโภคภัณฑ์",null,{"$f":"D2704*F2706","v":0},null,{"$f":"$D2704*$F2706*H2706","v":0}]
[null,null,null,null,"เงินฝาก",null,{"$f":"D2704*F2707","v":0},null,{"$f":"$D2704*$F2707*H2707","v":0}]
[null,null,null,null,"ตราสารหนี้",null,{"$f":"D2704*F2708","v":0},null,{"$f":"$D2704*$F2708*H2708","v":0}]
[null,null,null,null,"อื่นๆ",null,{"$f":"D2704*F2709","v":0},null,{"$f":"$D2704*$F2709*H2709","v":0}]
[null,451,null,null,"ตราสารทุน",null,{"$f":"D2710*F2710","v":0},null,{"$f":"$D2710*$F2710*H2710","v":0},{"$f":"SUM(I2710:I2715)","v":0}]
[null,null,null,null,"อสังหาริมทรัพย์",null,{"$f":"D2710*F2711","v":0},null,{"$f":"$D2710*$F2711*H2711","v":0}]
[null,null,null,null,"สินค้าโภคภัณฑ์",null,{"$f":"D2710*F2712","v":0},null,{"$f":"$D2710*$F2712*H2712","v":0}]
[null,null,null,null,"เงินฝาก",null,{"$f":"D2710*F2713","v":0},null,{"$f":"$D2710*$F2713*H2713","v":0}]
[null,null,null,null,"ตราสารหนี้",null,{"$f":"D2710*F2714","v":0},null,{"$f":"$D2710*$F2714*H2714","v":0}]
[null,null,null,null,"อื่นๆ",null,{"$f":"D2710*F2715","v":0},null,{"$f":"$D2710*$F2715*H2715","v":0}]
[null,452,null,null,"ตราสารทุน",null,{"$f":"D2716*F2716","v":0},null,{"$f":"$D2716*$F2716*H2716","v":0},{"$f":"SUM(I2716:I2721)","v":0}]
[null,null,null,null,"อสังหาริมทรัพย์",null,{"$f":"D2716*F2717","v":0},null,{"$f":"$D2716*$F2717*H2717","v":0}]
[null,null,null,null,"สินค้าโภคภัณฑ์",null,{"$f":"D2716*F2718","v":0},null,{"$f":"$D2716*$F2718*H2718","v":0}]
[null,null,null,null,"เงินฝาก",null,{"$f":"D2716*F2719","v":0},null,{"$f":"$D2716*$F2719*H2719","v":0}]
[null,null,null,null,"ตราสารหนี้",null,{"$f":"D2716*F2720","v":0},null,{"$f":"$D2716*$F2720*H2720","v":0}]
[null,null,null,null,"อื่นๆ",null,{"$f":"D2716*F2721","v":0},null,{"$f":"$D2716*$F2721*H2721","v":0}]
[null,453,null,null,"ตราสารทุน",null,{"$f":"D2722*F2722","v":0},null,{"$f":"$D2722*$F2722*H2722","v":0},{"$f":"SUM(I2722:I2727)","v":0}]
[null,null,null,null,"อสังหาริมทรัพย์",null,{"$f":"D2722*F2723","v":0},null,{"$f":"$D2722*$F2723*H2723","v":0}]
[null,null,null,null,"สินค้าโภคภัณฑ์",null,{"$f":"D2722*F2724","v":0},null,{"$f":"$D2722*$F2724*H2724","v":0}]
[null,null,null,null,"เงินฝาก",null,{"$f":"D2722*F2725","v":0},null,{"$f":"$D2722*$F2725*H2725","v":0}]
[null,null,null,null,"ตราสารหนี้",null,{"$f":"D2722*F2726","v":0},null,{"$f":"$D2722*$F2726*H2726","v":0}]
[null,null,null,null,"อื่นๆ",null,{"$f":"D2722*F2727","v":0},null,{"$f":"$D2722*$F2727*H2727","v":0}]
[null,454,null,null,"ตราสารทุน",null,{"$f":"D2728*F2728","v":0},null,{"$f":"$D2728*$F2728*H2728","v":0},{"$f":"SUM(I2728:I2733)","v":0}]
[null,null,null,null,"อสังหาริมทรัพย์",null,{"$f":"D2728*F2729","v":0},null,{"$f":"$D2728*$F2729*H2729","v":0}]
[null,null,null,null,"สินค้าโภคภัณฑ์",null,{"$f":"D2728*F2730","v":0},null,{"$f":"$D2728*$F2730*H2730","v":0}]
[null,null,null,null,"เงินฝาก",null,{"$f":"D2728*F2731","v":0},null,{"$f":"$D2728*$F2731*H2731","v":0}]
[null,null,null,null,"ตราสารหนี้",null,{"$f":"D2728*F2732","v":0},null,{"$f":"$D2728*$F2732*H2732","v":0}]
[null,null,null,null,"อื่นๆ",null,{"$f":"D2728*F2733","v":0},null,{"$f":"$D2728*$F2733*H2733","v":0}]
[null,455,null,null,"ตราสารทุน",null,{"$f":"D2734*F2734","v":0},null,{"$f":"$D2734*$F2734*H2734","v":0},{"$f":"SUM(I2734:I2739)","v":0}]
[null,null,null,null,"อสังหาริมทรัพย์",null,{"$f":"D2734*F2735","v":0},null,{"$f":"$D2734*$F2735*H2735","v":0}]
[null,null,null,null,"สินค้าโภคภัณฑ์",null,{"$f":"D2734*F2736","v":0},null,{"$f":"$D2734*$F2736*H2736","v":0}]
[null,null,null,null,"เงินฝาก",null,{"$f":"D2734*F2737","v":0},null,{"$f":"$D2734*$F2737*H2737","v":0}]
[null,null,null,null,"ตราสารหนี้",null,{"$f":"D2734*F2738","v":0},null,{"$f":"$D2734*$F2738*H2738","v":0}]
[null,null,null,null,"อื่นๆ",null,{"$f":"D2734*F2739","v":0},null,{"$f":"$D2734*$F2739*H2739","v":0}]
[null,456,null,null,"ตราสารทุน",null,{"$f":"D2740*F2740","v":0},null,{"$f":"$D2740*$F2740*H2740","v":0},{"$f":"SUM(I2740:I2745)","v":0}]
[null,null,null,null,"อสังหาริมทรัพย์",null,{"$f":"D2740*F2741","v":0},null,{"$f":"$D2740*$F2741*H2741","v":0}]
[null,null,null,null,"สินค้าโภคภัณฑ์",null,{"$f":"D2740*F2742","v":0},null,{"$f":"$D2740*$F2742*H2742","v":0}]
[null,null,null,null,"เงินฝาก",null,{"$f":"D2740*F2743","v":0},null,{"$f":"$D2740*$F2743*H2743","v":0}]
[null,null,null,null,"ตราสารหนี้",null,{"$f":"D2740*F2744","v":0},null,{"$f":"$D2740*$F2744*H2744","v":0}]
[null,null,null,null,"อื่นๆ",null,{"$f":"D2740*F2745","v":0},null,{"$f":"$D2740*$F2745*H2745","v":0}]
[null,457,null,null,"ตราสารทุน",null,{"$f":"D2746*F2746","v":0},null,{"$f":"$D2746*$F2746*H2746","v":0},{"$f":"SUM(I2746:I2751)","v":0}]
[null,null,null,null,"อสังหาริมทรัพย์",null,{"$f":"D2746*F2747","v":0},null,{"$f":"$D2746*$F2747*H2747","v":0}]
[null,null,null,null,"สินค้าโภคภัณฑ์",null,{"$f":"D2746*F2748","v":0},null,{"$f":"$D2746*$F2748*H2748","v":0}]
[null,null,null,null,"เงินฝาก",null,{"$f":"D2746*F2749","v":0},null,{"$f":"$D2746*$F2749*H2749","v":0}]
[null,null,null,null,"ตราสารหนี้",null,{"$f":"D2746*F2750","v":0},null,{"$f":"$D2746*$F2750*H2750","v":0}]
[null,null,null,null,"อื่นๆ",null,{"$f":"D2746*F2751","v":0},null,{"$f":"$D2746*$F2751*H2751","v":0}]
[null,458,null,null,"ตราสารทุน",null,{"$f":"D2752*F2752","v":0},null,{"$f":"$D2752*$F2752*H2752","v":0},{"$f":"SUM(I2752:I2757)","v":0}]
[null,null,null,null,"อสังหาริมทรัพย์",null,{"$f":"D2752*F2753","v":0},null,{"$f":"$D2752*$F2753*H2753","v":0}]
[null,null,null,null,"สินค้าโภคภัณฑ์",null,{"$f":"D2752*F2754","v":0},null,{"$f":"$D2752*$F2754*H2754","v":0}]
[null,null,null,null,"เงินฝาก",null,{"$f":"D2752*F2755","v":0},null,{"$f":"$D2752*$F2755*H2755","v":0}]
[null,null,null,null,"ตราสารหนี้",null,{"$f":"D2752*F2756","v":0},null,{"$f":"$D2752*$F2756*H2756","v":0}]
[null,null,null,null,"อื่นๆ",null,{"$f":"D2752*F2757","v":0},null,{"$f":"$D2752*$F2757*H2757","v":0}]
[null,459,null,null,"ตราสารทุน",null,{"$f":"D2758*F2758","v":0},null,{"$f":"$D2758*$F2758*H2758","v":0},{"$f":"SUM(I2758:I2763)","v":0}]
[null,null,null,null,"อสังหาริมทรัพย์",null,{"$f":"D2758*F2759","v":0},null,{"$f":"$D2758*$F2759*H2759","v":0}]
[null,null,null,null,"สินค้าโภคภัณฑ์",null,{"$f":"D2758*F2760","v":0},null,{"$f":"$D2758*$F2760*H2760","v":0}]
[null,null,null,null,"เงินฝาก",null,{"$f":"D2758*F2761","v":0},null,{"$f":"$D2758*$F2761*H2761","v":0}]
[null,null,null,null,"ตราสารหนี้",null,{"$f":"D2758*F2762","v":0},null,{"$f":"$D2758*$F2762*H2762","v":0}]
[null,null,null,null,"อื่นๆ",null,{"$f":"D2758*F2763","v":0},null,{"$f":"$D2758*$F2763*H2763","v":0}]
[null,460,null,null,"ตราสารทุน",null,{"$f":"D2764*F2764","v":0},null,{"$f":"$D2764*$F2764*H2764","v":0},{"$f":"SUM(I2764:I2769)","v":0}]
[null,null,null,null,"อสังหาริมทรัพย์",null,{"$f":"D2764*F2765","v":0},null,{"$f":"$D2764*$F2765*H2765","v":0}]
[null,null,null,null,"สินค้าโภคภัณฑ์",null,{"$f":"D2764*F2766","v":0},null,{"$f":"$D2764*$F2766*H2766","v":0}]
[null,null,null,null,"เงินฝาก",null,{"$f":"D2764*F2767","v":0},null,{"$f":"$D2764*$F2767*H2767","v":0}]
[null,null,null,null,"ตราสารหนี้",null,{"$f":"D2764*F2768","v":0},null,{"$f":"$D2764*$F2768*H2768","v":0}]
[null,null,null,null,"อื่นๆ",null,{"$f":"D2764*F2769","v":0},null,{"$f":"$D2764*$F2769*H2769","v":0}]
[null,461,null,null,"ตราสารทุน",null,{"$f":"D2770*F2770","v":0},null,{"$f":"$D2770*$F2770*H2770","v":0},{"$f":"SUM(I2770:I2775)","v":0}]
[null,null,null,null,"อสังหาริมทรัพย์",null,{"$f":"D2770*F2771","v":0},null,{"$f":"$D2770*$F2771*H2771","v":0}]
[null,null,null,null,"สินค้าโภคภัณฑ์",null,{"$f":"D2770*F2772","v":0},null,{"$f":"$D2770*$F2772*H2772","v":0}]
[null,null,null,null,"เงินฝาก",null,{"$f":"D2770*F2773","v":0},null,{"$f":"$D2770*$F2773*H2773","v":0}]
[null,null,null,null,"ตราสารหนี้",null,{"$f":"D2770*F2774","v":0},null,{"$f":"$D2770*$F2774*H2774","v":0}]
[null,null,null,null,"อื่นๆ",null,{"$f":"D2770*F2775","v":0},null,{"$f":"$D2770*$F2775*H2775","v":0}]
[null,462,null,null,"ตราสารทุน",null,{"$f":"D2776*F2776","v":0},null,{"$f":"$D2776*$F2776*H2776","v":0},{"$f":"SUM(I2776:I2781)","v":0}]
[null,null,null,null,"อสังหาริมทรัพย์",null,{"$f":"D2776*F2777","v":0},null,{"$f":"$D2776*$F2777*H2777","v":0}]
[null,null,null,null,"สินค้าโภคภัณฑ์",null,{"$f":"D2776*F2778","v":0},null,{"$f":"$D2776*$F2778*H2778","v":0}]
[null,null,null,null,"เงินฝาก",null,{"$f":"D2776*F2779","v":0},null,{"$f":"$D2776*$F2779*H2779","v":0}]
[null,null,null,null,"ตราสารหนี้",null,{"$f":"D2776*F2780","v":0},null,{"$f":"$D2776*$F2780*H2780","v":0}]
[null,null,null,null,"อื่นๆ",null,{"$f":"D2776*F2781","v":0},null,{"$f":"$D2776*$F2781*H2781","v":0}]
[null,463,null,null,"ตราสารทุน",null,{"$f":"D2782*F2782","v":0},null,{"$f":"$D2782*$F2782*H2782","v":0},{"$f":"SUM(I2782:I2787)","v":0}]
[null,null,null,null,"อสังหาริมทรัพย์",null,{"$f":"D2782*F2783","v":0},null,{"$f":"$D2782*$F2783*H2783","v":0}]
[null,null,null,null,"สินค้าโภคภัณฑ์",null,{"$f":"D2782*F2784","v":0},null,{"$f":"$D2782*$F2784*H2784","v":0}]
[null,null,null,null,"เงินฝาก",null,{"$f":"D2782*F2785","v":0},null,{"$f":"$D2782*$F2785*H2785","v":0}]
[null,null,null,null,"ตราสารหนี้",null,{"$f":"D2782*F2786","v":0},null,{"$f":"$D2782*$F2786*H2786","v":0}]
[null,null,null,null,"อื่นๆ",null,{"$f":"D2782*F2787","v":0},null,{"$f":"$D2782*$F2787*H2787","v":0}]
[null,464,null,null,"ตราสารทุน",null,{"$f":"D2788*F2788","v":0},null,{"$f":"$D2788*$F2788*H2788","v":0},{"$f":"SUM(I2788:I2793)","v":0}]
[null,null,null,null,"อสังหาริมทรัพย์",null,{"$f":"D2788*F2789","v":0},null,{"$f":"$D2788*$F2789*H2789","v":0}]
[null,null,null,null,"สินค้าโภคภัณฑ์",null,{"$f":"D2788*F2790","v":0},null,{"$f":"$D2788*$F2790*H2790","v":0}]
[null,null,null,null,"เงินฝาก",null,{"$f":"D2788*F2791","v":0},null,{"$f":"$D2788*$F2791*H2791","v":0}]
[null,null,null,null,"ตราสารหนี้",null,{"$f":"D2788*F2792","v":0},null,{"$f":"$D2788*$F2792*H2792","v":0}]
[null,null,null,null,"อื่นๆ",null,{"$f":"D2788*F2793","v":0},null,{"$f":"$D2788*$F2793*H2793","v":0}]
[null,465,null,null,"ตราสารทุน",null,{"$f":"D2794*F2794","v":0},null,{"$f":"$D2794*$F2794*H2794","v":0},{"$f":"SUM(I2794:I2799)","v":0}]
[null,null,null,null,"อสังหาริมทรัพย์",null,{"$f":"D2794*F2795","v":0},null,{"$f":"$D2794*$F2795*H2795","v":0}]
[null,null,null,null,"สินค้าโภคภัณฑ์",null,{"$f":"D2794*F2796","v":0},null,{"$f":"$D2794*$F2796*H2796","v":0}]
[null,null,null,null,"เงินฝาก",null,{"$f":"D2794*F2797","v":0},null,{"$f":"$D2794*$F2797*H2797","v":0}]
[null,null,null,null,"ตราสารหนี้",null,{"$f":"D2794*F2798","v":0},null,{"$f":"$D2794*$F2798*H2798","v":0}]
[null,null,null,null,"อื่นๆ",null,{"$f":"D2794*F2799","v":0},null,{"$f":"$D2794*$F2799*H2799","v":0}]
[null,466,null,null,"ตราสารทุน",null,{"$f":"D2800*F2800","v":0},null,{"$f":"$D2800*$F2800*H2800","v":0},{"$f":"SUM(I2800:I2805)","v":0}]
[null,null,null,null,"อสังหาริมทรัพย์",null,{"$f":"D2800*F2801","v":0},null,{"$f":"$D2800*$F2801*H2801","v":0}]
[null,null,null,null,"สินค้าโภคภัณฑ์",null,{"$f":"D2800*F2802","v":0},null,{"$f":"$D2800*$F2802*H2802","v":0}]
[null,null,null,null,"เงินฝาก",null,{"$f":"D2800*F2803","v":0},null,{"$f":"$D2800*$F2803*H2803","v":0}]
[null,null,null,null,"ตราสารหนี้",null,{"$f":"D2800*F2804","v":0},null,{"$f":"$D2800*$F2804*H2804","v":0}]
[null,null,null,null,"อื่นๆ",null,{"$f":"D2800*F2805","v":0},null,{"$f":"$D2800*$F2805*H2805","v":0}]
[null,467,null,null,"ตราสารทุน",null,{"$f":"D2806*F2806","v":0},null,{"$f":"$D2806*$F2806*H2806","v":0},{"$f":"SUM(I2806:I2811)","v":0}]
[null,null,null,null,"อสังหาริมทรัพย์",null,{"$f":"D2806*F2807","v":0},null,{"$f":"$D2806*$F2807*H2807","v":0}]
[null,null,null,null,"สินค้าโภคภัณฑ์",null,{"$f":"D2806*F2808","v":0},null,{"$f":"$D2806*$F2808*H2808","v":0}]
[null,null,null,null,"เงินฝาก",null,{"$f":"D2806*F2809","v":0},null,{"$f":"$D2806*$F2809*H2809","v":0}]
[null,null,null,null,"ตราสารหนี้",null,{"$f":"D2806*F2810","v":0},null,{"$f":"$D2806*$F2810*H2810","v":0}]
[null,null,null,null,"อื่นๆ",null,{"$f":"D2806*F2811","v":0},null,{"$f":"$D2806*$F2811*H2811","v":0}]
[null,468,null,null,"ตราสารทุน",null,{"$f":"D2812*F2812","v":0},null,{"$f":"$D2812*$F2812*H2812","v":0},{"$f":"SUM(I2812:I2817)","v":0}]
[null,null,null,null,"อสังหาริมทรัพย์",null,{"$f":"D2812*F2813","v":0},null,{"$f":"$D2812*$F2813*H2813","v":0}]
[null,null,null,null,"สินค้าโภคภัณฑ์",null,{"$f":"D2812*F2814","v":0},null,{"$f":"$D2812*$F2814*H2814","v":0}]
[null,null,null,null,"เงินฝาก",null,{"$f":"D2812*F2815","v":0},null,{"$f":"$D2812*$F2815*H2815","v":0}]
[null,null,null,null,"ตราสารหนี้",null,{"$f":"D2812*F2816","v":0},null,{"$f":"$D2812*$F2816*H2816","v":0}]
[null,null,null,null,"อื่นๆ",null,{"$f":"D2812*F2817","v":0},null,{"$f":"$D2812*$F2817*H2817","v":0}]
[null,469,null,null,"ตราสารทุน",null,{"$f":"D2818*F2818","v":0},null,{"$f":"$D2818*$F2818*H2818","v":0},{"$f":"SUM(I2818:I2823)","v":0}]
[null,null,null,null,"อสังหาริมทรัพย์",null,{"$f":"D2818*F2819","v":0},null,{"$f":"$D2818*$F2819*H2819","v":0}]
[null,null,null,null,"สินค้าโภคภัณฑ์",null,{"$f":"D2818*F2820","v":0},null,{"$f":"$D2818*$F2820*H2820","v":0}]
[null,null,null,null,"เงินฝาก",null,{"$f":"D2818*F2821","v":0},null,{"$f":"$D2818*$F2821*H2821","v":0}]
[null,null,null,null,"ตราสารหนี้",null,{"$f":"D2818*F2822","v":0},null,{"$f":"$D2818*$F2822*H2822","v":0}]
[null,null,null,null,"อื่นๆ",null,{"$f":"D2818*F2823","v":0},null,{"$f":"$D2818*$F2823*H2823","v":0}]
[null,470,null,null,"ตราสารทุน",null,{"$f":"D2824*F2824","v":0},null,{"$f":"$D2824*$F2824*H2824","v":0},{"$f":"SUM(I2824:I2829)","v":0}]
[null,null,null,null,"อสังหาริมทรัพย์",null,{"$f":"D2824*F2825","v":0},null,{"$f":"$D2824*$F2825*H2825","v":0}]
[null,null,null,null,"สินค้าโภคภัณฑ์",null,{"$f":"D2824*F2826","v":0},null,{"$f":"$D2824*$F2826*H2826","v":0}]
[null,null,null,null,"เงินฝาก",null,{"$f":"D2824*F2827","v":0},null,{"$f":"$D2824*$F2827*H2827","v":0}]
[null,null,null,null,"ตราสารหนี้",null,{"$f":"D2824*F2828","v":0},null,{"$f":"$D2824*$F2828*H2828","v":0}]
[null,null,null,null,"อื่นๆ",null,{"$f":"D2824*F2829","v":0},null,{"$f":"$D2824*$F2829*H2829","v":0}]
[null,471,null,null,"ตราสารทุน",null,{"$f":"D2830*F2830","v":0},null,{"$f":"$D2830*$F2830*H2830","v":0},{"$f":"SUM(I2830:I2835)","v":0}]
[null,null,null,null,"อสังหาริมทรัพย์",null,{"$f":"D2830*F2831","v":0},null,{"$f":"$D2830*$F2831*H2831","v":0}]
[null,null,null,null,"สินค้าโภคภัณฑ์",null,{"$f":"D2830*F2832","v":0},null,{"$f":"$D2830*$F2832*H2832","v":0}]
[null,null,null,null,"เงินฝาก",null,{"$f":"D2830*F2833","v":0},null,{"$f":"$D2830*$F2833*H2833","v":0}]
[null,null,null,null,"ตราสารหนี้",null,{"$f":"D2830*F2834","v":0},null,{"$f":"$D2830*$F2834*H2834","v":0}]
[null,null,null,null,"อื่นๆ",null,{"$f":"D2830*F2835","v":0},null,{"$f":"$D2830*$F2835*H2835","v":0}]
[null,472,null,null,"ตราสารทุน",null,{"$f":"D2836*F2836","v":0},null,{"$f":"$D2836*$F2836*H2836","v":0},{"$f":"SUM(I2836:I2841)","v":0}]
[null,null,null,null,"อสังหาริมทรัพย์",null,{"$f":"D2836*F2837","v":0},null,{"$f":"$D2836*$F2837*H2837","v":0}]
[null,null,null,null,"สินค้าโภคภัณฑ์",null,{"$f":"D2836*F2838","v":0},null,{"$f":"$D2836*$F2838*H2838","v":0}]
[null,null,null,null,"เงินฝาก",null,{"$f":"D2836*F2839","v":0},null,{"$f":"$D2836*$F2839*H2839","v":0}]
[null,null,null,null,"ตราสารหนี้",null,{"$f":"D2836*F2840","v":0},null,{"$f":"$D2836*$F2840*H2840","v":0}]
[null,null,null,null,"อื่นๆ",null,{"$f":"D2836*F2841","v":0},null,{"$f":"$D2836*$F2841*H2841","v":0}]
[null,473,null,null,"ตราสารทุน",null,{"$f":"D2842*F2842","v":0},null,{"$f":"$D2842*$F2842*H2842","v":0},{"$f":"SUM(I2842:I2847)","v":0}]
[null,null,null,null,"อสังหาริมทรัพย์",null,{"$f":"D2842*F2843","v":0},null,{"$f":"$D2842*$F2843*H2843","v":0}]
[null,null,null,null,"สินค้าโภคภัณฑ์",null,{"$f":"D2842*F2844","v":0},null,{"$f":"$D2842*$F2844*H2844","v":0}]
[null,null,null,null,"เงินฝาก",null,{"$f":"D2842*F2845","v":0},null,{"$f":"$D2842*$F2845*H2845","v":0}]
[null,null,null,null,"ตราสารหนี้",null,{"$f":"D2842*F2846","v":0},null,{"$f":"$D2842*$F2846*H2846","v":0}]
[null,null,null,null,"อื่นๆ",null,{"$f":"D2842*F2847","v":0},null,{"$f":"$D2842*$F2847*H2847","v":0}]
[null,474,null,null,"ตราสารทุน",null,{"$f":"D2848*F2848","v":0},null,{"$f":"$D2848*$F2848*H2848","v":0},{"$f":"SUM(I2848:I2853)","v":0}]
[null,null,null,null,"อสังหาริมทรัพย์",null,{"$f":"D2848*F2849","v":0},null,{"$f":"$D2848*$F2849*H2849","v":0}]
[null,null,null,null,"สินค้าโภคภัณฑ์",null,{"$f":"D2848*F2850","v":0},null,{"$f":"$D2848*$F2850*H2850","v":0}]
[null,null,null,null,"เงินฝาก",null,{"$f":"D2848*F2851","v":0},null,{"$f":"$D2848*$F2851*H2851","v":0}]
[null,null,null,null,"ตราสารหนี้",null,{"$f":"D2848*F2852","v":0},null,{"$f":"$D2848*$F2852*H2852","v":0}]
[null,null,null,null,"อื่นๆ",null,{"$f":"D2848*F2853","v":0},null,{"$f":"$D2848*$F2853*H2853","v":0}]
[null,475,null,null,"ตราสารทุน",null,{"$f":"D2854*F2854","v":0},null,{"$f":"$D2854*$F2854*H2854","v":0},{"$f":"SUM(I2854:I2859)","v":0}]
[null,null,null,null,"อสังหาริมทรัพย์",null,{"$f":"D2854*F2855","v":0},null,{"$f":"$D2854*$F2855*H2855","v":0}]
[null,null,null,null,"สินค้าโภคภัณฑ์",null,{"$f":"D2854*F2856","v":0},null,{"$f":"$D2854*$F2856*H2856","v":0}]
[null,null,null,null,"เงินฝาก",null,{"$f":"D2854*F2857","v":0},null,{"$f":"$D2854*$F2857*H2857","v":0}]
[null,null,null,null,"ตราสารหนี้",null,{"$f":"D2854*F2858","v":0},null,{"$f":"$D2854*$F2858*H2858","v":0}]
[null,null,null,null,"อื่นๆ",null,{"$f":"D2854*F2859","v":0},null,{"$f":"$D2854*$F2859*H2859","v":0}]
[null,476,null,null,"ตราสารทุน",null,{"$f":"D2860*F2860","v":0},null,{"$f":"$D2860*$F2860*H2860","v":0},{"$f":"SUM(I2860:I2865)","v":0}]
[null,null,null,null,"อสังหาริมทรัพย์",null,{"$f":"D2860*F2861","v":0},null,{"$f":"$D2860*$F2861*H2861","v":0}]
[null,null,null,null,"สินค้าโภคภัณฑ์",null,{"$f":"D2860*F2862","v":0},null,{"$f":"$D2860*$F2862*H2862","v":0}]
[null,null,null,null,"เงินฝาก",null,{"$f":"D2860*F2863","v":0},null,{"$f":"$D2860*$F2863*H2863","v":0}]
[null,null,null,null,"ตราสารหนี้",null,{"$f":"D2860*F2864","v":0},null,{"$f":"$D2860*$F2864*H2864","v":0}]
[null,null,null,null,"อื่นๆ",null,{"$f":"D2860*F2865","v":0},null,{"$f":"$D2860*$F2865*H2865","v":0}]
[null,477,null,null,"ตราสารทุน",null,{"$f":"D2866*F2866","v":0},null,{"$f":"$D2866*$F2866*H2866","v":0},{"$f":"SUM(I2866:I2871)","v":0}]
[null,null,null,null,"อสังหาริมทรัพย์",null,{"$f":"D2866*F2867","v":0},null,{"$f":"$D2866*$F2867*H2867","v":0}]
[null,null,null,null,"สินค้าโภคภัณฑ์",null,{"$f":"D2866*F2868","v":0},null,{"$f":"$D2866*$F2868*H2868","v":0}]
[null,null,null,null,"เงินฝาก",null,{"$f":"D2866*F2869","v":0},null,{"$f":"$D2866*$F2869*H2869","v":0}]
[null,null,null,null,"ตราสารหนี้",null,{"$f":"D2866*F2870","v":0},null,{"$f":"$D2866*$F2870*H2870","v":0}]
[null,null,null,null,"อื่นๆ",null,{"$f":"D2866*F2871","v":0},null,{"$f":"$D2866*$F2871*H2871","v":0}]
[null,478,null,null,"ตราสารทุน",null,{"$f":"D2872*F2872","v":0},null,{"$f":"$D2872*$F2872*H2872","v":0},{"$f":"SUM(I2872:I2877)","v":0}]
[null,null,null,null,"อสังหาริมทรัพย์",null,{"$f":"D2872*F2873","v":0},null,{"$f":"$D2872*$F2873*H2873","v":0}]
[null,null,null,null,"สินค้าโภคภัณฑ์",null,{"$f":"D2872*F2874","v":0},null,{"$f":"$D2872*$F2874*H2874","v":0}]
[null,null,null,null,"เงินฝาก",null,{"$f":"D2872*F2875","v":0},null,{"$f":"$D2872*$F2875*H2875","v":0}]
[null,null,null,null,"ตราสารหนี้",null,{"$f":"D2872*F2876","v":0},null,{"$f":"$D2872*$F2876*H2876","v":0}]
[null,null,null,null,"อื่นๆ",null,{"$f":"D2872*F2877","v":0},null,{"$f":"$D2872*$F2877*H2877","v":0}]
[null,479,null,null,"ตราสารทุน",null,{"$f":"D2878*F2878","v":0},null,{"$f":"$D2878*$F2878*H2878","v":0},{"$f":"SUM(I2878:I2883)","v":0}]
[null,null,null,null,"อสังหาริมทรัพย์",null,{"$f":"D2878*F2879","v":0},null,{"$f":"$D2878*$F2879*H2879","v":0}]
[null,null,null,null,"สินค้าโภคภัณฑ์",null,{"$f":"D2878*F2880","v":0},null,{"$f":"$D2878*$F2880*H2880","v":0}]
[null,null,null,null,"เงินฝาก",null,{"$f":"D2878*F2881","v":0},null,{"$f":"$D2878*$F2881*H2881","v":0}]
[null,null,null,null,"ตราสารหนี้",null,{"$f":"D2878*F2882","v":0},null,{"$f":"$D2878*$F2882*H2882","v":0}]
[null,null,null,null,"อื่นๆ",null,{"$f":"D2878*F2883","v":0},null,{"$f":"$D2878*$F2883*H2883","v":0}]
[null,480,null,null,"ตราสารทุน",null,{"$f":"D2884*F2884","v":0},null,{"$f":"$D2884*$F2884*H2884","v":0},{"$f":"SUM(I2884:I2889)","v":0}]
[null,null,null,null,"อสังหาริมทรัพย์",null,{"$f":"D2884*F2885","v":0},null,{"$f":"$D2884*$F2885*H2885","v":0}]
[null,null,null,null,"สินค้าโภคภัณฑ์",null,{"$f":"D2884*F2886","v":0},null,{"$f":"$D2884*$F2886*H2886","v":0}]
[null,null,null,null,"เงินฝาก",null,{"$f":"D2884*F2887","v":0},null,{"$f":"$D2884*$F2887*H2887","v":0}]
[null,null,null,null,"ตราสารหนี้",null,{"$f":"D2884*F2888","v":0},null,{"$f":"$D2884*$F2888*H2888","v":0}]
[null,null,null,null,"อื่นๆ",null,{"$f":"D2884*F2889","v":0},null,{"$f":"$D2884*$F2889*H2889","v":0}]
[null,481,null,null,"ตราสารทุน",null,{"$f":"D2890*F2890","v":0},null,{"$f":"$D2890*$F2890*H2890","v":0},{"$f":"SUM(I2890:I2895)","v":0}]
[null,null,null,null,"อสังหาริมทรัพย์",null,{"$f":"D2890*F2891","v":0},null,{"$f":"$D2890*$F2891*H2891","v":0}]
[null,null,null,null,"สินค้าโภคภัณฑ์",null,{"$f":"D2890*F2892","v":0},null,{"$f":"$D2890*$F2892*H2892","v":0}]
[null,null,null,null,"เงินฝาก",null,{"$f":"D2890*F2893","v":0},null,{"$f":"$D2890*$F2893*H2893","v":0}]
[null,null,null,null,"ตราสารหนี้",null,{"$f":"D2890*F2894","v":0},null,{"$f":"$D2890*$F2894*H2894","v":0}]
[null,null,null,null,"อื่นๆ",null,{"$f":"D2890*F2895","v":0},null,{"$f":"$D2890*$F2895*H2895","v":0}]
[null,482,null,null,"ตราสารทุน",null,{"$f":"D2896*F2896","v":0},null,{"$f":"$D2896*$F2896*H2896","v":0},{"$f":"SUM(I2896:I2901)","v":0}]
[null,null,null,null,"อสังหาริมทรัพย์",null,{"$f":"D2896*F2897","v":0},null,{"$f":"$D2896*$F2897*H2897","v":0}]
[null,null,null,null,"สินค้าโภคภัณฑ์",null,{"$f":"D2896*F2898","v":0},null,{"$f":"$D2896*$F2898*H2898","v":0}]
[null,null,null,null,"เงินฝาก",null,{"$f":"D2896*F2899","v":0},null,{"$f":"$D2896*$F2899*H2899","v":0}]
[null,null,null,null,"ตราสารหนี้",null,{"$f":"D2896*F2900","v":0},null,{"$f":"$D2896*$F2900*H2900","v":0}]
[null,null,null,null,"อื่นๆ",null,{"$f":"D2896*F2901","v":0},null,{"$f":"$D2896*$F2901*H2901","v":0}]
[null,483,null,null,"ตราสารทุน",null,{"$f":"D2902*F2902","v":0},null,{"$f":"$D2902*$F2902*H2902","v":0},{"$f":"SUM(I2902:I2907)","v":0}]
[null,null,null,null,"อสังหาริมทรัพย์",null,{"$f":"D2902*F2903","v":0},null,{"$f":"$D2902*$F2903*H2903","v":0}]
[null,null,null,null,"สินค้าโภคภัณฑ์",null,{"$f":"D2902*F2904","v":0},null,{"$f":"$D2902*$F2904*H2904","v":0}]
[null,null,null,null,"เงินฝาก",null,{"$f":"D2902*F2905","v":0},null,{"$f":"$D2902*$F2905*H2905","v":0}]
[null,null,null,null,"ตราสารหนี้",null,{"$f":"D2902*F2906","v":0},null,{"$f":"$D2902*$F2906*H2906","v":0}]
[null,null,null,null,"อื่นๆ",null,{"$f":"D2902*F2907","v":0},null,{"$f":"$D2902*$F2907*H2907","v":0}]
[null,484,null,null,"ตราสารทุน",null,{"$f":"D2908*F2908","v":0},null,{"$f":"$D2908*$F2908*H2908","v":0},{"$f":"SUM(I2908:I2913)","v":0}]
[null,null,null,null,"อสังหาริมทรัพย์",null,{"$f":"D2908*F2909","v":0},null,{"$f":"$D2908*$F2909*H2909","v":0}]
[null,null,null,null,"สินค้าโภคภัณฑ์",null,{"$f":"D2908*F2910","v":0},null,{"$f":"$D2908*$F2910*H2910","v":0}]
[null,null,null,null,"เงินฝาก",null,{"$f":"D2908*F2911","v":0},null,{"$f":"$D2908*$F2911*H2911","v":0}]
[null,null,null,null,"ตราสารหนี้",null,{"$f":"D2908*F2912","v":0},null,{"$f":"$D2908*$F2912*H2912","v":0}]
[null,null,null,null,"อื่นๆ",null,{"$f":"D2908*F2913","v":0},null,{"$f":"$D2908*$F2913*H2913","v":0}]
[null,485,null,null,"ตราสารทุน",null,{"$f":"D2914*F2914","v":0},null,{"$f":"$D2914*$F2914*H2914","v":0},{"$f":"SUM(I2914:I2919)","v":0}]
[null,null,null,null,"อสังหาริมทรัพย์",null,{"$f":"D2914*F2915","v":0},null,{"$f":"$D2914*$F2915*H2915","v":0}]
[null,null,null,null,"สินค้าโภคภัณฑ์",null,{"$f":"D2914*F2916","v":0},null,{"$f":"$D2914*$F2916*H2916","v":0}]
[null,null,null,null,"เงินฝาก",null,{"$f":"D2914*F2917","v":0},null,{"$f":"$D2914*$F2917*H2917","v":0}]
[null,null,null,null,"ตราสารหนี้",null,{"$f":"D2914*F2918","v":0},null,{"$f":"$D2914*$F2918*H2918","v":0}]
[null,null,null,null,"อื่นๆ",null,{"$f":"D2914*F2919","v":0},null,{"$f":"$D2914*$F2919*H2919","v":0}]
[null,486,null,null,"ตราสารทุน",null,{"$f":"D2920*F2920","v":0},null,{"$f":"$D2920*$F2920*H2920","v":0},{"$f":"SUM(I2920:I2925)","v":0}]
[null,null,null,null,"อสังหาริมทรัพย์",null,{"$f":"D2920*F2921","v":0},null,{"$f":"$D2920*$F2921*H2921","v":0}]
[null,null,null,null,"สินค้าโภคภัณฑ์",null,{"$f":"D2920*F2922","v":0},null,{"$f":"$D2920*$F2922*H2922","v":0}]
[null,null,null,null,"เงินฝาก",null,{"$f":"D2920*F2923","v":0},null,{"$f":"$D2920*$F2923*H2923","v":0}]
[null,null,null,null,"ตราสารหนี้",null,{"$f":"D2920*F2924","v":0},null,{"$f":"$D2920*$F2924*H2924","v":0}]
[null,null,null,null,"อื่นๆ",null,{"$f":"D2920*F2925","v":0},null,{"$f":"$D2920*$F2925*H2925","v":0}]
[null,487,null,null,"ตราสารทุน",null,{"$f":"D2926*F2926","v":0},null,{"$f":"$D2926*$F2926*H2926","v":0},{"$f":"SUM(I2926:I2931)","v":0}]
[null,null,null,null,"อสังหาริมทรัพย์",null,{"$f":"D2926*F2927","v":0},null,{"$f":"$D2926*$F2927*H2927","v":0}]
[null,null,null,null,"สินค้าโภคภัณฑ์",null,{"$f":"D2926*F2928","v":0},null,{"$f":"$D2926*$F2928*H2928","v":0}]
[null,null,null,null,"เงินฝาก",null,{"$f":"D2926*F2929","v":0},null,{"$f":"$D2926*$F2929*H2929","v":0}]
[null,null,null,null,"ตราสารหนี้",null,{"$f":"D2926*F2930","v":0},null,{"$f":"$D2926*$F2930*H2930","v":0}]
[null,null,null,null,"อื่นๆ",null,{"$f":"D2926*F2931","v":0},null,{"$f":"$D2926*$F2931*H2931","v":0}]
[null,488,null,null,"ตราสารทุน",null,{"$f":"D2932*F2932","v":0},null,{"$f":"$D2932*$F2932*H2932","v":0},{"$f":"SUM(I2932:I2937)","v":0}]
[null,null,null,null,"อสังหาริมทรัพย์",null,{"$f":"D2932*F2933","v":0},null,{"$f":"$D2932*$F2933*H2933","v":0}]
[null,null,null,null,"สินค้าโภคภัณฑ์",null,{"$f":"D2932*F2934","v":0},null,{"$f":"$D2932*$F2934*H2934","v":0}]
[null,null,null,null,"เงินฝาก",null,{"$f":"D2932*F2935","v":0},null,{"$f":"$D2932*$F2935*H2935","v":0}]
[null,null,null,null,"ตราสารหนี้",null,{"$f":"D2932*F2936","v":0},null,{"$f":"$D2932*$F2936*H2936","v":0}]
[null,null,null,null,"อื่นๆ",null,{"$f":"D2932*F2937","v":0},null,{"$f":"$D2932*$F2937*H2937","v":0}]
[null,489,null,null,"ตราสารทุน",null,{"$f":"D2938*F2938","v":0},null,{"$f":"$D2938*$F2938*H2938","v":0},{"$f":"SUM(I2938:I2943)","v":0}]
[null,null,null,null,"อสังหาริมทรัพย์",null,{"$f":"D2938*F2939","v":0},null,{"$f":"$D2938*$F2939*H2939","v":0}]
[null,null,null,null,"สินค้าโภคภัณฑ์",null,{"$f":"D2938*F2940","v":0},null,{"$f":"$D2938*$F2940*H2940","v":0}]
[null,null,null,null,"เงินฝาก",null,{"$f":"D2938*F2941","v":0},null,{"$f":"$D2938*$F2941*H2941","v":0}]
[null,null,null,null,"ตราสารหนี้",null,{"$f":"D2938*F2942","v":0},null,{"$f":"$D2938*$F2942*H2942","v":0}]
[null,null,null,null,"อื่นๆ",null,{"$f":"D2938*F2943","v":0},null,{"$f":"$D2938*$F2943*H2943","v":0}]
[null,490,null,null,"ตราสารทุน",null,{"$f":"D2944*F2944","v":0},null,{"$f":"$D2944*$F2944*H2944","v":0},{"$f":"SUM(I2944:I2949)","v":0}]
[null,null,null,null,"อสังหาริมทรัพย์",null,{"$f":"D2944*F2945","v":0},null,{"$f":"$D2944*$F2945*H2945","v":0}]
[null,null,null,null,"สินค้าโภคภัณฑ์",null,{"$f":"D2944*F2946","v":0},null,{"$f":"$D2944*$F2946*H2946","v":0}]
[null,null,null,null,"เงินฝาก",null,{"$f":"D2944*F2947","v":0},null,{"$f":"$D2944*$F2947*H2947","v":0}]
[null,null,null,null,"ตราสารหนี้",null,{"$f":"D2944*F2948","v":0},null,{"$f":"$D2944*$F2948*H2948","v":0}]
[null,null,null,null,"อื่นๆ",null,{"$f":"D2944*F2949","v":0},null,{"$f":"$D2944*$F2949*H2949","v":0}]
[null,491,null,null,"ตราสารทุน",null,{"$f":"D2950*F2950","v":0},null,{"$f":"$D2950*$F2950*H2950","v":0},{"$f":"SUM(I2950:I2955)","v":0}]
[null,null,null,null,"อสังหาริมทรัพย์",null,{"$f":"D2950*F2951","v":0},null,{"$f":"$D2950*$F2951*H2951","v":0}]
[null,null,null,null,"สินค้าโภคภัณฑ์",null,{"$f":"D2950*F2952","v":0},null,{"$f":"$D2950*$F2952*H2952","v":0}]
[null,null,null,null,"เงินฝาก",null,{"$f":"D2950*F2953","v":0},null,{"$f":"$D2950*$F2953*H2953","v":0}]
[null,null,null,null,"ตราสารหนี้",null,{"$f":"D2950*F2954","v":0},null,{"$f":"$D2950*$F2954*H2954","v":0}]
[null,null,null,null,"อื่นๆ",null,{"$f":"D2950*F2955","v":0},null,{"$f":"$D2950*$F2955*H2955","v":0}]
[null,492,null,null,"ตราสารทุน",null,{"$f":"D2956*F2956","v":0},null,{"$f":"$D2956*$F2956*H2956","v":0},{"$f":"SUM(I2956:I2961)","v":0}]
[null,null,null,null,"อสังหาริมทรัพย์",null,{"$f":"D2956*F2957","v":0},null,{"$f":"$D2956*$F2957*H2957","v":0}]
[null,null,null,null,"สินค้าโภคภัณฑ์",null,{"$f":"D2956*F2958","v":0},null,{"$f":"$D2956*$F2958*H2958","v":0}]
[null,null,null,null,"เงินฝาก",null,{"$f":"D2956*F2959","v":0},null,{"$f":"$D2956*$F2959*H2959","v":0}]
[null,null,null,null,"ตราสารหนี้",null,{"$f":"D2956*F2960","v":0},null,{"$f":"$D2956*$F2960*H2960","v":0}]
[null,null,null,null,"อื่นๆ",null,{"$f":"D2956*F2961","v":0},null,{"$f":"$D2956*$F2961*H2961","v":0}]
[null,493,null,null,"ตราสารทุน",null,{"$f":"D2962*F2962","v":0},null,{"$f":"$D2962*$F2962*H2962","v":0},{"$f":"SUM(I2962:I2967)","v":0}]
[null,null,null,null,"อสังหาริมทรัพย์",null,{"$f":"D2962*F2963","v":0},null,{"$f":"$D2962*$F2963*H2963","v":0}]
[null,null,null,null,"สินค้าโภคภัณฑ์",null,{"$f":"D2962*F2964","v":0},null,{"$f":"$D2962*$F2964*H2964","v":0}]
[null,null,null,null,"เงินฝาก",null,{"$f":"D2962*F2965","v":0},null,{"$f":"$D2962*$F2965*H2965","v":0}]
[null,null,null,null,"ตราสารหนี้",null,{"$f":"D2962*F2966","v":0},null,{"$f":"$D2962*$F2966*H2966","v":0}]
[null,null,null,null,"อื่นๆ",null,{"$f":"D2962*F2967","v":0},null,{"$f":"$D2962*$F2967*H2967","v":0}]
[null,494,null,null,"ตราสารทุน",null,{"$f":"D2968*F2968","v":0},null,{"$f":"$D2968*$F2968*H2968","v":0},{"$f":"SUM(I2968:I2973)","v":0}]
[null,null,null,null,"อสังหาริมทรัพย์",null,{"$f":"D2968*F2969","v":0},null,{"$f":"$D2968*$F2969*H2969","v":0}]
[null,null,null,null,"สินค้าโภคภัณฑ์",null,{"$f":"D2968*F2970","v":0},null,{"$f":"$D2968*$F2970*H2970","v":0}]
[null,null,null,null,"เงินฝาก",null,{"$f":"D2968*F2971","v":0},null,{"$f":"$D2968*$F2971*H2971","v":0}]
[null,null,null,null,"ตราสารหนี้",null,{"$f":"D2968*F2972","v":0},null,{"$f":"$D2968*$F2972*H2972","v":0}]
[null,null,null,null,"อื่นๆ",null,{"$f":"D2968*F2973","v":0},null,{"$f":"$D2968*$F2973*H2973","v":0}]
[null,495,null,null,"ตราสารทุน",null,{"$f":"D2974*F2974","v":0},null,{"$f":"$D2974*$F2974*H2974","v":0},{"$f":"SUM(I2974:I2979)","v":0}]
[null,null,null,null,"อสังหาริมทรัพย์",null,{"$f":"D2974*F2975","v":0},null,{"$f":"$D2974*$F2975*H2975","v":0}]
[null,null,null,null,"สินค้าโภคภัณฑ์",null,{"$f":"D2974*F2976","v":0},null,{"$f":"$D2974*$F2976*H2976","v":0}]
[null,null,null,null,"เงินฝาก",null,{"$f":"D2974*F2977","v":0},null,{"$f":"$D2974*$F2977*H2977","v":0}]
[null,null,null,null,"ตราสารหนี้",null,{"$f":"D2974*F2978","v":0},null,{"$f":"$D2974*$F2978*H2978","v":0}]
[null,null,null,null,"อื่นๆ",null,{"$f":"D2974*F2979","v":0},null,{"$f":"$D2974*$F2979*H2979","v":0}]
[null,496,null,null,"ตราสารทุน",null,{"$f":"D2980*F2980","v":0},null,{"$f":"$D2980*$F2980*H2980","v":0},{"$f":"SUM(I2980:I2985)","v":0}]
[null,null,null,null,"อสังหาริมทรัพย์",null,{"$f":"D2980*F2981","v":0},null,{"$f":"$D2980*$F2981*H2981","v":0}]
[null,null,null,null,"สินค้าโภคภัณฑ์",null,{"$f":"D2980*F2982","v":0},null,{"$f":"$D2980*$F2982*H2982","v":0}]
[null,null,null,null,"เงินฝาก",null,{"$f":"D2980*F2983","v":0},null,{"$f":"$D2980*$F2983*H2983","v":0}]
[null,null,null,null,"ตราสารหนี้",null,{"$f":"D2980*F2984","v":0},null,{"$f":"$D2980*$F2984*H2984","v":0}]
[null,null,null,null,"อื่นๆ",null,{"$f":"D2980*F2985","v":0},null,{"$f":"$D2980*$F2985*H2985","v":0}]
[null,497,null,null,"ตราสารทุน",null,{"$f":"D2986*F2986","v":0},null,{"$f":"$D2986*$F2986*H2986","v":0},{"$f":"SUM(I2986:I2991)","v":0}]
[null,null,null,null,"อสังหาริมทรัพย์",null,{"$f":"D2986*F2987","v":0},null,{"$f":"$D2986*$F2987*H2987","v":0}]
[null,null,null,null,"สินค้าโภคภัณฑ์",null,{"$f":"D2986*F2988","v":0},null,{"$f":"$D2986*$F2988*H2988","v":0}]
[null,null,null,null,"เงินฝาก",null,{"$f":"D2986*F2989","v":0},null,{"$f":"$D2986*$F2989*H2989","v":0}]
[null,null,null,null,"ตราสารหนี้",null,{"$f":"D2986*F2990","v":0},null,{"$f":"$D2986*$F2990*H2990","v":0}]
[null,null,null,null,"อื่นๆ",null,{"$f":"D2986*F2991","v":0},null,{"$f":"$D2986*$F2991*H2991","v":0}]
[null,498,null,null,"ตราสารทุน",null,{"$f":"D2992*F2992","v":0},null,{"$f":"$D2992*$F2992*H2992","v":0},{"$f":"SUM(I2992:I2997)","v":0}]
[null,null,null,null,"อสังหาริมทรัพย์",null,{"$f":"D2992*F2993","v":0},null,{"$f":"$D2992*$F2993*H2993","v":0}]
[null,null,null,null,"สินค้าโภคภัณฑ์",null,{"$f":"D2992*F2994","v":0},null,{"$f":"$D2992*$F2994*H2994","v":0}]
[null,null,null,null,"เงินฝาก",null,{"$f":"D2992*F2995","v":0},null,{"$f":"$D2992*$F2995*H2995","v":0}]
[null,null,null,null,"ตราสารหนี้",null,{"$f":"D2992*F2996","v":0},null,{"$f":"$D2992*$F2996*H2996","v":0}]
[null,null,null,null,"อื่นๆ",null,{"$f":"D2992*F2997","v":0},null,{"$f":"$D2992*$F2997*H2997","v":0}]
[null,499,null,null,"ตราสารทุน",null,{"$f":"D2998*F2998","v":0},null,{"$f":"$D2998*$F2998*H2998","v":0},{"$f":"SUM(I2998:I3003)","v":0}]
[null,null,null,null,"อสังหาริมทรัพย์",null,{"$f":"D2998*F2999","v":0},null,{"$f":"$D2998*$F2999*H2999","v":0}]
[null,null,null,null,"สินค้าโภคภัณฑ์",null,{"$f":"D2998*F3000","v":0},null,{"$f":"$D2998*$F3000*H3000","v":0}]
[null,null,null,null,"เงินฝาก",null,{"$f":"D2998*F3001","v":0},null,{"$f":"$D2998*$F3001*H3001","v":0}]
[null,null,null,null,"ตราสารหนี้",null,{"$f":"D2998*F3002","v":0},null,{"$f":"$D2998*$F3002*H3002","v":0}]
[null,null,null,null,"อื่นๆ",null,{"$f":"D2998*F3003","v":0},null,{"$f":"$D2998*$F3003*H3003","v":0}]
[null,500,null,null,"ตราสารทุน",null,{"$f":"D3004*F3004","v":0},null,{"$f":"$D3004*$F3004*H3004","v":0},{"$f":"SUM(I3004:I3009)","v":0}]
[null,null,null,null,"อสังหาริมทรัพย์",null,{"$f":"D3004*F3005","v":0},null,{"$f":"$D3004*$F3005*H3005","v":0}]
[null,null,null,null,"สินค้าโภคภัณฑ์",null,{"$f":"D3004*F3006","v":0},null,{"$f":"$D3004*$F3006*H3006","v":0}]
[null,null,null,null,"เงินฝาก",null,{"$f":"D3004*F3007","v":0},null,{"$f":"$D3004*$F3007*H3007","v":0}]
[null,null,null,null,"ตราสารหนี้",null,{"$f":"D3004*F3008","v":0},null,{"$f":"$D3004*$F3008*H3008","v":0}]
[null,null,null,null,"อื่นๆ",null,{"$f":"D3004*F3009","v":0},null,{"$f":"$D3004*$F3009*H3009","v":0}]
[null,501,null,null,"ตราสารทุน",null,{"$f":"D3010*F3010","v":0},null,{"$f":"$D3010*$F3010*H3010","v":0},{"$f":"SUM(I3010:I3015)","v":0}]
[null,null,null,null,"อสังหาริมทรัพย์",null,{"$f":"D3010*F3011","v":0},null,{"$f":"$D3010*$F3011*H3011","v":0}]
[null,null,null,null,"สินค้าโภคภัณฑ์",null,{"$f":"D3010*F3012","v":0},null,{"$f":"$D3010*$F3012*H3012","v":0}]
[null,null,null,null,"เงินฝาก",null,{"$f":"D3010*F3013","v":0},null,{"$f":"$D3010*$F3013*H3013","v":0}]
[null,null,null,null,"ตราสารหนี้",null,{"$f":"D3010*F3014","v":0},null,{"$f":"$D3010*$F3014*H3014","v":0}]
[null,null,null,null,"อื่นๆ",null,{"$f":"D3010*F3015","v":0},null,{"$f":"$D3010*$F3015*H3015","v":0}]
[null,502,null,null,"ตราสารทุน",null,{"$f":"D3016*F3016","v":0},null,{"$f":"$D3016*$F3016*H3016","v":0},{"$f":"SUM(I3016:I3021)","v":0}]
[null,null,null,null,"อสังหาริมทรัพย์",null,{"$f":"D3016*F3017","v":0},null,{"$f":"$D3016*$F3017*H3017","v":0}]
[null,null,null,null,"สินค้าโภคภัณฑ์",null,{"$f":"D3016*F3018","v":0},null,{"$f":"$D3016*$F3018*H3018","v":0}]
[null,null,null,null,"เงินฝาก",null,{"$f":"D3016*F3019","v":0},null,{"$f":"$D3016*$F3019*H3019","v":0}]
[null,null,null,null,"ตราสารหนี้",null,{"$f":"D3016*F3020","v":0},null,{"$f":"$D3016*$F3020*H3020","v":0}]
[null,null,null,null,"อื่นๆ",null,{"$f":"D3016*F3021","v":0},null,{"$f":"$D3016*$F3021*H3021","v":0}]
[null,503,null,null,"ตราสารทุน",null,{"$f":"D3022*F3022","v":0},null,{"$f":"$D3022*$F3022*H3022","v":0},{"$f":"SUM(I3022:I3027)","v":0}]
[null,null,null,null,"อสังหาริมทรัพย์",null,{"$f":"D3022*F3023","v":0},null,{"$f":"$D3022*$F3023*H3023","v":0}]
[null,null,null,null,"สินค้าโภคภัณฑ์",null,{"$f":"D3022*F3024","v":0},null,{"$f":"$D3022*$F3024*H3024","v":0}]
[null,null,null,null,"เงินฝาก",null,{"$f":"D3022*F3025","v":0},null,{"$f":"$D3022*$F3025*H3025","v":0}]
[null,null,null,null,"ตราสารหนี้",null,{"$f":"D3022*F3026","v":0},null,{"$f":"$D3022*$F3026*H3026","v":0}]
[null,null,null,null,"อื่นๆ",null,{"$f":"D3022*F3027","v":0},null,{"$f":"$D3022*$F3027*H3027","v":0}]
[null,504,null,null,"ตราสารทุน",null,{"$f":"D3028*F3028","v":0},null,{"$f":"$D3028*$F3028*H3028","v":0},{"$f":"SUM(I3028:I3033)","v":0}]
[null,null,null,null,"อสังหาริมทรัพย์",null,{"$f":"D3028*F3029","v":0},null,{"$f":"$D3028*$F3029*H3029","v":0}]
[null,null,null,null,"สินค้าโภคภัณฑ์",null,{"$f":"D3028*F3030","v":0},null,{"$f":"$D3028*$F3030*H3030","v":0}]
[null,null,null,null,"เงินฝาก",null,{"$f":"D3028*F3031","v":0},null,{"$f":"$D3028*$F3031*H3031","v":0}]
[null,null,null,null,"ตราสารหนี้",null,{"$f":"D3028*F3032","v":0},null,{"$f":"$D3028*$F3032*H3032","v":0}]
[null,null,null,null,"อื่นๆ",null,{"$f":"D3028*F3033","v":0},null,{"$f":"$D3028*$F3033*H3033","v":0}]
[null,505,null,null,"ตราสารทุน",null,{"$f":"D3034*F3034","v":0},null,{"$f":"$D3034*$F3034*H3034","v":0},{"$f":"SUM(I3034:I3039)","v":0}]
[null,null,null,null,"อสังหาริมทรัพย์",null,{"$f":"D3034*F3035","v":0},null,{"$f":"$D3034*$F3035*H3035","v":0}]
[null,null,null,null,"สินค้าโภคภัณฑ์",null,{"$f":"D3034*F3036","v":0},null,{"$f":"$D3034*$F3036*H3036","v":0}]
[null,null,null,null,"เงินฝาก",null,{"$f":"D3034*F3037","v":0},null,{"$f":"$D3034*$F3037*H3037","v":0}]
[null,null,null,null,"ตราสารหนี้",null,{"$f":"D3034*F3038","v":0},null,{"$f":"$D3034*$F3038*H3038","v":0}]
[null,null,null,null,"อื่นๆ",null,{"$f":"D3034*F3039","v":0},null,{"$f":"$D3034*$F3039*H3039","v":0}]
[null,506,null,null,"ตราสารทุน",null,{"$f":"D3040*F3040","v":0},null,{"$f":"$D3040*$F3040*H3040","v":0},{"$f":"SUM(I3040:I3045)","v":0}]
[null,null,null,null,"อสังหาริมทรัพย์",null,{"$f":"D3040*F3041","v":0},null,{"$f":"$D3040*$F3041*H3041","v":0}]
[null,null,null,null,"สินค้าโภคภัณฑ์",null,{"$f":"D3040*F3042","v":0},null,{"$f":"$D3040*$F3042*H3042","v":0}]
[null,null,null,null,"เงินฝาก",null,{"$f":"D3040*F3043","v":0},null,{"$f":"$D3040*$F3043*H3043","v":0}]
[null,null,null,null,"ตราสารหนี้",null,{"$f":"D3040*F3044","v":0},null,{"$f":"$D3040*$F3044*H3044","v":0}]
[null,null,null,null,"อื่นๆ",null,{"$f":"D3040*F3045","v":0},null,{"$f":"$D3040*$F3045*H3045","v":0}]
[null,507,null,null,"ตราสารทุน",null,{"$f":"D3046*F3046","v":0},null,{"$f":"$D3046*$F3046*H3046","v":0},{"$f":"SUM(I3046:I3051)","v":0}]
[null,null,null,null,"อสังหาริมทรัพย์",null,{"$f":"D3046*F3047","v":0},null,{"$f":"$D3046*$F3047*H3047","v":0}]
[null,null,null,null,"สินค้าโภคภัณฑ์",null,{"$f":"D3046*F3048","v":0},null,{"$f":"$D3046*$F3048*H3048","v":0}]
[null,null,null,null,"เงินฝาก",null,{"$f":"D3046*F3049","v":0},null,{"$f":"$D3046*$F3049*H3049","v":0}]
[null,null,null,null,"ตราสารหนี้",null,{"$f":"D3046*F3050","v":0},null,{"$f":"$D3046*$F3050*H3050","v":0}]
[null,null,null,null,"อื่นๆ",null,{"$f":"D3046*F3051","v":0},null,{"$f":"$D3046*$F3051*H3051","v":0}]
[null,508,null,null,"ตราสารทุน",null,{"$f":"D3052*F3052","v":0},null,{"$f":"$D3052*$F3052*H3052","v":0},{"$f":"SUM(I3052:I3057)","v":0}]
[null,null,null,null,"อสังหาริมทรัพย์",null,{"$f":"D3052*F3053","v":0},null,{"$f":"$D3052*$F3053*H3053","v":0}]
[null,null,null,null,"สินค้าโภคภัณฑ์",null,{"$f":"D3052*F3054","v":0},null,{"$f":"$D3052*$F3054*H3054","v":0}]
[null,null,null,null,"เงินฝาก",null,{"$f":"D3052*F3055","v":0},null,{"$f":"$D3052*$F3055*H3055","v":0}]
[null,null,null,null,"ตราสารหนี้",null,{"$f":"D3052*F3056","v":0},null,{"$f":"$D3052*$F3056*H3056","v":0}]
[null,null,null,null,"อื่นๆ",null,{"$f":"D3052*F3057","v":0},null,{"$f":"$D3052*$F3057*H3057","v":0}]
[null,509,null,null,"ตราสารทุน",null,{"$f":"D3058*F3058","v":0},null,{"$f":"$D3058*$F3058*H3058","v":0},{"$f":"SUM(I3058:I3063)","v":0}]
[null,null,null,null,"อสังหาริมทรัพย์",null,{"$f":"D3058*F3059","v":0},null,{"$f":"$D3058*$F3059*H3059","v":0}]
[null,null,null,null,"สินค้าโภคภัณฑ์",null,{"$f":"D3058*F3060","v":0},null,{"$f":"$D3058*$F3060*H3060","v":0}]
[null,null,null,null,"เงินฝาก",null,{"$f":"D3058*F3061","v":0},null,{"$f":"$D3058*$F3061*H3061","v":0}]
[null,null,null,null,"ตราสารหนี้",null,{"$f":"D3058*F3062","v":0},null,{"$f":"$D3058*$F3062*H3062","v":0}]
[null,null,null,null,"อื่นๆ",null,{"$f":"D3058*F3063","v":0},null,{"$f":"$D3058*$F3063*H3063","v":0}]
[null,510,null,null,"ตราสารทุน",null,{"$f":"D3064*F3064","v":0},null,{"$f":"$D3064*$F3064*H3064","v":0},{"$f":"SUM(I3064:I3069)","v":0}]
[null,null,null,null,"อสังหาริมทรัพย์",null,{"$f":"D3064*F3065","v":0},null,{"$f":"$D3064*$F3065*H3065","v":0}]
[null,null,null,null,"สินค้าโภคภัณฑ์",null,{"$f":"D3064*F3066","v":0},null,{"$f":"$D3064*$F3066*H3066","v":0}]
[null,null,null,null,"เงินฝาก",null,{"$f":"D3064*F3067","v":0},null,{"$f":"$D3064*$F3067*H3067","v":0}]
[null,null,null,null,"ตราสารหนี้",null,{"$f":"D3064*F3068","v":0},null,{"$f":"$D3064*$F3068*H3068","v":0}]
[null,null,null,null,"อื่นๆ",null,{"$f":"D3064*F3069","v":0},null,{"$f":"$D3064*$F3069*H3069","v":0}]
[null,511,null,null,"ตราสารทุน",null,{"$f":"D3070*F3070","v":0},null,{"$f":"$D3070*$F3070*H3070","v":0},{"$f":"SUM(I3070:I3075)","v":0}]
[null,null,null,null,"อสังหาริมทรัพย์",null,{"$f":"D3070*F3071","v":0},null,{"$f":"$D3070*$F3071*H3071","v":0}]
[null,null,null,null,"สินค้าโภคภัณฑ์",null,{"$f":"D3070*F3072","v":0},null,{"$f":"$D3070*$F3072*H3072","v":0}]
[null,null,null,null,"เงินฝาก",null,{"$f":"D3070*F3073","v":0},null,{"$f":"$D3070*$F3073*H3073","v":0}]
[null,null,null,null,"ตราสารหนี้",null,{"$f":"D3070*F3074","v":0},null,{"$f":"$D3070*$F3074*H3074","v":0}]
[null,null,null,null,"อื่นๆ",null,{"$f":"D3070*F3075","v":0},null,{"$f":"$D3070*$F3075*H3075","v":0}]
[null,512,null,null,"ตราสารทุน",null,{"$f":"D3076*F3076","v":0},null,{"$f":"$D3076*$F3076*H3076","v":0},{"$f":"SUM(I3076:I3081)","v":0}]
[null,null,null,null,"อสังหาริมทรัพย์",null,{"$f":"D3076*F3077","v":0},null,{"$f":"$D3076*$F3077*H3077","v":0}]
[null,null,null,null,"สินค้าโภคภัณฑ์",null,{"$f":"D3076*F3078","v":0},null,{"$f":"$D3076*$F3078*H3078","v":0}]
[null,null,null,null,"เงินฝาก",null,{"$f":"D3076*F3079","v":0},null,{"$f":"$D3076*$F3079*H3079","v":0}]
[null,null,null,null,"ตราสารหนี้",null,{"$f":"D3076*F3080","v":0},null,{"$f":"$D3076*$F3080*H3080","v":0}]
[null,null,null,null,"อื่นๆ",null,{"$f":"D3076*F3081","v":0},null,{"$f":"$D3076*$F3081*H3081","v":0}]
[null,513,null,null,"ตราสารทุน",null,{"$f":"D3082*F3082","v":0},null,{"$f":"$D3082*$F3082*H3082","v":0},{"$f":"SUM(I3082:I3087)","v":0}]
[null,null,null,null,"อสังหาริมทรัพย์",null,{"$f":"D3082*F3083","v":0},null,{"$f":"$D3082*$F3083*H3083","v":0}]
[null,null,null,null,"สินค้าโภคภัณฑ์",null,{"$f":"D3082*F3084","v":0},null,{"$f":"$D3082*$F3084*H3084","v":0}]
[null,null,null,null,"เงินฝาก",null,{"$f":"D3082*F3085","v":0},null,{"$f":"$D3082*$F3085*H3085","v":0}]
[null,null,null,null,"ตราสารหนี้",null,{"$f":"D3082*F3086","v":0},null,{"$f":"$D3082*$F3086*H3086","v":0}]
[null,null,null,null,"อื่นๆ",null,{"$f":"D3082*F3087","v":0},null,{"$f":"$D3082*$F3087*H3087","v":0}]
[null,514,null,null,"ตราสารทุน",null,{"$f":"D3088*F3088","v":0},null,{"$f":"$D3088*$F3088*H3088","v":0},{"$f":"SUM(I3088:I3093)","v":0}]
[null,null,null,null,"อสังหาริมทรัพย์",null,{"$f":"D3088*F3089","v":0},null,{"$f":"$D3088*$F3089*H3089","v":0}]
[null,null,null,null,"สินค้าโภคภัณฑ์",null,{"$f":"D3088*F3090","v":0},null,{"$f":"$D3088*$F3090*H3090","v":0}]
[null,null,null,null,"เงินฝาก",null,{"$f":"D3088*F3091","v":0},null,{"$f":"$D3088*$F3091*H3091","v":0}]
[null,null,null,null,"ตราสารหนี้",null,{"$f":"D3088*F3092","v":0},null,{"$f":"$D3088*$F3092*H3092","v":0}]
[null,null,null,null,"อื่นๆ",null,{"$f":"D3088*F3093","v":0},null,{"$f":"$D3088*$F3093*H3093","v":0}]
[null,515,null,null,"ตราสารทุน",null,{"$f":"D3094*F3094","v":0},null,{"$f":"$D3094*$F3094*H3094","v":0},{"$f":"SUM(I3094:I3099)","v":0}]
[null,null,null,null,"อสังหาริมทรัพย์",null,{"$f":"D3094*F3095","v":0},null,{"$f":"$D3094*$F3095*H3095","v":0}]
[null,null,null,null,"สินค้าโภคภัณฑ์",null,{"$f":"D3094*F3096","v":0},null,{"$f":"$D3094*$F3096*H3096","v":0}]
[null,null,null,null,"เงินฝาก",null,{"$f":"D3094*F3097","v":0},null,{"$f":"$D3094*$F3097*H3097","v":0}]
[null,null,null,null,"ตราสารหนี้",null,{"$f":"D3094*F3098","v":0},null,{"$f":"$D3094*$F3098*H3098","v":0}]
[null,null,null,null,"อื่นๆ",null,{"$f":"D3094*F3099","v":0},null,{"$f":"$D3094*$F3099*H3099","v":0}]
[null,516,null,null,"ตราสารทุน",null,{"$f":"D3100*F3100","v":0},null,{"$f":"$D3100*$F3100*H3100","v":0},{"$f":"SUM(I3100:I3105)","v":0}]
[null,null,null,null,"อสังหาริมทรัพย์",null,{"$f":"D3100*F3101","v":0},null,{"$f":"$D3100*$F3101*H3101","v":0}]
[null,null,null,null,"สินค้าโภคภัณฑ์",null,{"$f":"D3100*F3102","v":0},null,{"$f":"$D3100*$F3102*H3102","v":0}]
[null,null,null,null,"เงินฝาก",null,{"$f":"D3100*F3103","v":0},null,{"$f":"$D3100*$F3103*H3103","v":0}]
[null,null,null,null,"ตราสารหนี้",null,{"$f":"D3100*F3104","v":0},null,{"$f":"$D3100*$F3104*H3104","v":0}]
[null,null,null,null,"อื่นๆ",null,{"$f":"D3100*F3105","v":0},null,{"$f":"$D3100*$F3105*H3105","v":0}]
[null,517,null,null,"ตราสารทุน",null,{"$f":"D3106*F3106","v":0},null,{"$f":"$D3106*$F3106*H3106","v":0},{"$f":"SUM(I3106:I3111)","v":0}]
[null,null,null,null,"อสังหาริมทรัพย์",null,{"$f":"D3106*F3107","v":0},null,{"$f":"$D3106*$F3107*H3107","v":0}]
[null,null,null,null,"สินค้าโภคภัณฑ์",null,{"$f":"D3106*F3108","v":0},null,{"$f":"$D3106*$F3108*H3108","v":0}]
[null,null,null,null,"เงินฝาก",null,{"$f":"D3106*F3109","v":0},null,{"$f":"$D3106*$F3109*H3109","v":0}]
[null,null,null,null,"ตราสารหนี้",null,{"$f":"D3106*F3110","v":0},null,{"$f":"$D3106*$F3110*H3110","v":0}]
[null,null,null,null,"อื่นๆ",null,{"$f":"D3106*F3111","v":0},null,{"$f":"$D3106*$F3111*H3111","v":0}]
[null,518,null,null,"ตราสารทุน",null,{"$f":"D3112*F3112","v":0},null,{"$f":"$D3112*$F3112*H3112","v":0},{"$f":"SUM(I3112:I3117)","v":0}]
[null,null,null,null,"อสังหาริมทรัพย์",null,{"$f":"D3112*F3113","v":0},null,{"$f":"$D3112*$F3113*H3113","v":0}]
[null,null,null,null,"สินค้าโภคภัณฑ์",null,{"$f":"D3112*F3114","v":0},null,{"$f":"$D3112*$F3114*H3114","v":0}]
[null,null,null,null,"เงินฝาก",null,{"$f":"D3112*F3115","v":0},null,{"$f":"$D3112*$F3115*H3115","v":0}]
[null,null,null,null,"ตราสารหนี้",null,{"$f":"D3112*F3116","v":0},null,{"$f":"$D3112*$F3116*H3116","v":0}]
[null,null,null,null,"อื่นๆ",null,{"$f":"D3112*F3117","v":0},null,{"$f":"$D3112*$F3117*H3117","v":0}]
[null,519,null,null,"ตราสารทุน",null,{"$f":"D3118*F3118","v":0},null,{"$f":"$D3118*$F3118*H3118","v":0},{"$f":"SUM(I3118:I3123)","v":0}]
[null,null,null,null,"อสังหาริมทรัพย์",null,{"$f":"D3118*F3119","v":0},null,{"$f":"$D3118*$F3119*H3119","v":0}]
[null,null,null,null,"สินค้าโภคภัณฑ์",null,{"$f":"D3118*F3120","v":0},null,{"$f":"$D3118*$F3120*H3120","v":0}]
[null,null,null,null,"เงินฝาก",null,{"$f":"D3118*F3121","v":0},null,{"$f":"$D3118*$F3121*H3121","v":0}]
[null,null,null,null,"ตราสารหนี้",null,{"$f":"D3118*F3122","v":0},null,{"$f":"$D3118*$F3122*H3122","v":0}]
[null,null,null,null,"อื่นๆ",null,{"$f":"D3118*F3123","v":0},null,{"$f":"$D3118*$F3123*H3123","v":0}]
[null,520,null,null,"ตราสารทุน",null,{"$f":"D3124*F3124","v":0},null,{"$f":"$D3124*$F3124*H3124","v":0},{"$f":"SUM(I3124:I3129)","v":0}]
[null,null,null,null,"อสังหาริมทรัพย์",null,{"$f":"D3124*F3125","v":0},null,{"$f":"$D3124*$F3125*H3125","v":0}]
[null,null,null,null,"สินค้าโภคภัณฑ์",null,{"$f":"D3124*F3126","v":0},null,{"$f":"$D3124*$F3126*H3126","v":0}]
[null,null,null,null,"เงินฝาก",null,{"$f":"D3124*F3127","v":0},null,{"$f":"$D3124*$F3127*H3127","v":0}]
[null,null,null,null,"ตราสารหนี้",null,{"$f":"D3124*F3128","v":0},null,{"$f":"$D3124*$F3128*H3128","v":0}]
[null,null,null,null,"อื่นๆ",null,{"$f":"D3124*F3129","v":0},null,{"$f":"$D3124*$F3129*H3129","v":0}]
[null,521,null,null,"ตราสารทุน",null,{"$f":"D3130*F3130","v":0},null,{"$f":"$D3130*$F3130*H3130","v":0},{"$f":"SUM(I3130:I3135)","v":0}]
[null,null,null,null,"อสังหาริมทรัพย์",null,{"$f":"D3130*F3131","v":0},null,{"$f":"$D3130*$F3131*H3131","v":0}]
[null,null,null,null,"สินค้าโภคภัณฑ์",null,{"$f":"D3130*F3132","v":0},null,{"$f":"$D3130*$F3132*H3132","v":0}]
[null,null,null,null,"เงินฝาก",null,{"$f":"D3130*F3133","v":0},null,{"$f":"$D3130*$F3133*H3133","v":0}]
[null,null,null,null,"ตราสารหนี้",null,{"$f":"D3130*F3134","v":0},null,{"$f":"$D3130*$F3134*H3134","v":0}]
[null,null,null,null,"อื่นๆ",null,{"$f":"D3130*F3135","v":0},null,{"$f":"$D3130*$F3135*H3135","v":0}]
[null,522,null,null,"ตราสารทุน",null,{"$f":"D3136*F3136","v":0},null,{"$f":"$D3136*$F3136*H3136","v":0},{"$f":"SUM(I3136:I3141)","v":0}]
[null,null,null,null,"อสังหาริมทรัพย์",null,{"$f":"D3136*F3137","v":0},null,{"$f":"$D3136*$F3137*H3137","v":0}]
[null,null,null,null,"สินค้าโภคภัณฑ์",null,{"$f":"D3136*F3138","v":0},null,{"$f":"$D3136*$F3138*H3138","v":0}]
[null,null,null,null,"เงินฝาก",null,{"$f":"D3136*F3139","v":0},null,{"$f":"$D3136*$F3139*H3139","v":0}]
[null,null,null,null,"ตราสารหนี้",null,{"$f":"D3136*F3140","v":0},null,{"$f":"$D3136*$F3140*H3140","v":0}]
[null,null,null,null,"อื่นๆ",null,{"$f":"D3136*F3141","v":0},null,{"$f":"$D3136*$F3141*H3141","v":0}]
[null,523,null,null,"ตราสารทุน",null,{"$f":"D3142*F3142","v":0},null,{"$f":"$D3142*$F3142*H3142","v":0},{"$f":"SUM(I3142:I3147)","v":0}]
[null,null,null,null,"อสังหาริมทรัพย์",null,{"$f":"D3142*F3143","v":0},null,{"$f":"$D3142*$F3143*H3143","v":0}]
[null,null,null,null,"สินค้าโภคภัณฑ์",null,{"$f":"D3142*F3144","v":0},null,{"$f":"$D3142*$F3144*H3144","v":0}]
[null,null,null,null,"เงินฝาก",null,{"$f":"D3142*F3145","v":0},null,{"$f":"$D3142*$F3145*H3145","v":0}]
[null,null,null,null,"ตราสารหนี้",null,{"$f":"D3142*F3146","v":0},null,{"$f":"$D3142*$F3146*H3146","v":0}]
[null,null,null,null,"อื่นๆ",null,{"$f":"D3142*F3147","v":0},null,{"$f":"$D3142*$F3147*H3147","v":0}]
[null,524,null,null,"ตราสารทุน",null,{"$f":"D3148*F3148","v":0},null,{"$f":"$D3148*$F3148*H3148","v":0},{"$f":"SUM(I3148:I3153)","v":0}]
[null,null,null,null,"อสังหาริมทรัพย์",null,{"$f":"D3148*F3149","v":0},null,{"$f":"$D3148*$F3149*H3149","v":0}]
[null,null,null,null,"สินค้าโภคภัณฑ์",null,{"$f":"D3148*F3150","v":0},null,{"$f":"$D3148*$F3150*H3150","v":0}]
[null,null,null,null,"เงินฝาก",null,{"$f":"D3148*F3151","v":0},null,{"$f":"$D3148*$F3151*H3151","v":0}]
[null,null,null,null,"ตราสารหนี้",null,{"$f":"D3148*F3152","v":0},null,{"$f":"$D3148*$F3152*H3152","v":0}]
[null,null,null,null,"อื่นๆ",null,{"$f":"D3148*F3153","v":0},null,{"$f":"$D3148*$F3153*H3153","v":0}]
[null,525,null,null,"ตราสารทุน",null,{"$f":"D3154*F3154","v":0},null,{"$f":"$D3154*$F3154*H3154","v":0},{"$f":"SUM(I3154:I3159)","v":0}]
[null,null,null,null,"อสังหาริมทรัพย์",null,{"$f":"D3154*F3155","v":0},null,{"$f":"$D3154*$F3155*H3155","v":0}]
[null,null,null,null,"สินค้าโภคภัณฑ์",null,{"$f":"D3154*F3156","v":0},null,{"$f":"$D3154*$F3156*H3156","v":0}]
[null,null,null,null,"เงินฝาก",null,{"$f":"D3154*F3157","v":0},null,{"$f":"$D3154*$F3157*H3157","v":0}]
[null,null,null,null,"ตราสารหนี้",null,{"$f":"D3154*F3158","v":0},null,{"$f":"$D3154*$F3158*H3158","v":0}]
[null,null,null,null,"อื่นๆ",null,{"$f":"D3154*F3159","v":0},null,{"$f":"$D3154*$F3159*H3159","v":0}]
[null,526,null,null,"ตราสารทุน",null,{"$f":"D3160*F3160","v":0},null,{"$f":"$D3160*$F3160*H3160","v":0},{"$f":"SUM(I3160:I3165)","v":0}]
[null,null,null,null,"อสังหาริมทรัพย์",null,{"$f":"D3160*F3161","v":0},null,{"$f":"$D3160*$F3161*H3161","v":0}]
[null,null,null,null,"สินค้าโภคภัณฑ์",null,{"$f":"D3160*F3162","v":0},null,{"$f":"$D3160*$F3162*H3162","v":0}]
[null,null,null,null,"เงินฝาก",null,{"$f":"D3160*F3163","v":0},null,{"$f":"$D3160*$F3163*H3163","v":0}]
[null,null,null,null,"ตราสารหนี้",null,{"$f":"D3160*F3164","v":0},null,{"$f":"$D3160*$F3164*H3164","v":0}]
[null,null,null,null,"อื่นๆ",null,{"$f":"D3160*F3165","v":0},null,{"$f":"$D3160*$F3165*H3165","v":0}]
[null,527,null,null,"ตราสารทุน",null,{"$f":"D3166*F3166","v":0},null,{"$f":"$D3166*$F3166*H3166","v":0},{"$f":"SUM(I3166:I3171)","v":0}]
[null,null,null,null,"อสังหาริมทรัพย์",null,{"$f":"D3166*F3167","v":0},null,{"$f":"$D3166*$F3167*H3167","v":0}]
[null,null,null,null,"สินค้าโภคภัณฑ์",null,{"$f":"D3166*F3168","v":0},null,{"$f":"$D3166*$F3168*H3168","v":0}]
[null,null,null,null,"เงินฝาก",null,{"$f":"D3166*F3169","v":0},null,{"$f":"$D3166*$F3169*H3169","v":0}]
[null,null,null,null,"ตราสารหนี้",null,{"$f":"D3166*F3170","v":0},null,{"$f":"$D3166*$F3170*H3170","v":0}]
[null,null,null,null,"อื่นๆ",null,{"$f":"D3166*F3171","v":0},null,{"$f":"$D3166*$F3171*H3171","v":0}]
[null,528,null,null,"ตราสารทุน",null,{"$f":"D3172*F3172","v":0},null,{"$f":"$D3172*$F3172*H3172","v":0},{"$f":"SUM(I3172:I3177)","v":0}]
[null,null,null,null,"อสังหาริมทรัพย์",null,{"$f":"D3172*F3173","v":0},null,{"$f":"$D3172*$F3173*H3173","v":0}]
[null,null,null,null,"สินค้าโภคภัณฑ์",null,{"$f":"D3172*F3174","v":0},null,{"$f":"$D3172*$F3174*H3174","v":0}]
[null,null,null,null,"เงินฝาก",null,{"$f":"D3172*F3175","v":0},null,{"$f":"$D3172*$F3175*H3175","v":0}]
[null,null,null,null,"ตราสารหนี้",null,{"$f":"D3172*F3176","v":0},null,{"$f":"$D3172*$F3176*H3176","v":0}]
[null,null,null,null,"อื่นๆ",null,{"$f":"D3172*F3177","v":0},null,{"$f":"$D3172*$F3177*H3177","v":0}]
[null,529,null,null,"ตราสารทุน",null,{"$f":"D3178*F3178","v":0},null,{"$f":"$D3178*$F3178*H3178","v":0},{"$f":"SUM(I3178:I3183)","v":0}]
[null,null,null,null,"อสังหาริมทรัพย์",null,{"$f":"D3178*F3179","v":0},null,{"$f":"$D3178*$F3179*H3179","v":0}]
[null,null,null,null,"สินค้าโภคภัณฑ์",null,{"$f":"D3178*F3180","v":0},null,{"$f":"$D3178*$F3180*H3180","v":0}]
[null,null,null,null,"เงินฝาก",null,{"$f":"D3178*F3181","v":0},null,{"$f":"$D3178*$F3181*H3181","v":0}]
[null,null,null,null,"ตราสารหนี้",null,{"$f":"D3178*F3182","v":0},null,{"$f":"$D3178*$F3182*H3182","v":0}]
[null,null,null,null,"อื่นๆ",null,{"$f":"D3178*F3183","v":0},null,{"$f":"$D3178*$F3183*H3183","v":0}]
[null,530,null,null,"ตราสารทุน",null,{"$f":"D3184*F3184","v":0},null,{"$f":"$D3184*$F3184*H3184","v":0},{"$f":"SUM(I3184:I3189)","v":0}]
[null,null,null,null,"อสังหาริมทรัพย์",null,{"$f":"D3184*F3185","v":0},null,{"$f":"$D3184*$F3185*H3185","v":0}]
[null,null,null,null,"สินค้าโภคภัณฑ์",null,{"$f":"D3184*F3186","v":0},null,{"$f":"$D3184*$F3186*H3186","v":0}]
[null,null,null,null,"เงินฝาก",null,{"$f":"D3184*F3187","v":0},null,{"$f":"$D3184*$F3187*H3187","v":0}]
[null,null,null,null,"ตราสารหนี้",null,{"$f":"D3184*F3188","v":0},null,{"$f":"$D3184*$F3188*H3188","v":0}]
[null,null,null,null,"อื่นๆ",null,{"$f":"D3184*F3189","v":0},null,{"$f":"$D3184*$F3189*H3189","v":0}]
[null,531,null,null,"ตราสารทุน",null,{"$f":"D3190*F3190","v":0},null,{"$f":"$D3190*$F3190*H3190","v":0},{"$f":"SUM(I3190:I3195)","v":0}]
[null,null,null,null,"อสังหาริมทรัพย์",null,{"$f":"D3190*F3191","v":0},null,{"$f":"$D3190*$F3191*H3191","v":0}]
[null,null,null,null,"สินค้าโภคภัณฑ์",null,{"$f":"D3190*F3192","v":0},null,{"$f":"$D3190*$F3192*H3192","v":0}]
[null,null,null,null,"เงินฝาก",null,{"$f":"D3190*F3193","v":0},null,{"$f":"$D3190*$F3193*H3193","v":0}]
[null,null,null,null,"ตราสารหนี้",null,{"$f":"D3190*F3194","v":0},null,{"$f":"$D3190*$F3194*H3194","v":0}]
[null,null,null,null,"อื่นๆ",null,{"$f":"D3190*F3195","v":0},null,{"$f":"$D3190*$F3195*H3195","v":0}]
[null,532,null,null,"ตราสารทุน",null,{"$f":"D3196*F3196","v":0},null,{"$f":"$D3196*$F3196*H3196","v":0},{"$f":"SUM(I3196:I3201)","v":0}]
[null,null,null,null,"อสังหาริมทรัพย์",null,{"$f":"D3196*F3197","v":0},null,{"$f":"$D3196*$F3197*H3197","v":0}]
[null,null,null,null,"สินค้าโภคภัณฑ์",null,{"$f":"D3196*F3198","v":0},null,{"$f":"$D3196*$F3198*H3198","v":0}]
[null,null,null,null,"เงินฝาก",null,{"$f":"D3196*F3199","v":0},null,{"$f":"$D3196*$F3199*H3199","v":0}]
[null,null,null,null,"ตราสารหนี้",null,{"$f":"D3196*F3200","v":0},null,{"$f":"$D3196*$F3200*H3200","v":0}]
[null,null,null,null,"อื่นๆ",null,{"$f":"D3196*F3201","v":0},null,{"$f":"$D3196*$F3201*H3201","v":0}]
[null,533,null,null,"ตราสารทุน",null,{"$f":"D3202*F3202","v":0},null,{"$f":"$D3202*$F3202*H3202","v":0},{"$f":"SUM(I3202:I3207)","v":0}]
[null,null,null,null,"อสังหาริมทรัพย์",null,{"$f":"D3202*F3203","v":0},null,{"$f":"$D3202*$F3203*H3203","v":0}]
[null,null,null,null,"สินค้าโภคภัณฑ์",null,{"$f":"D3202*F3204","v":0},null,{"$f":"$D3202*$F3204*H3204","v":0}]
[null,null,null,null,"เงินฝาก",null,{"$f":"D3202*F3205","v":0},null,{"$f":"$D3202*$F3205*H3205","v":0}]
[null,null,null,null,"ตราสารหนี้",null,{"$f":"D3202*F3206","v":0},null,{"$f":"$D3202*$F3206*H3206","v":0}]
[null,null,null,null,"อื่นๆ",null,{"$f":"D3202*F3207","v":0},null,{"$f":"$D3202*$F3207*H3207","v":0}]
[null,534,null,null,"ตราสารทุน",null,{"$f":"D3208*F3208","v":0},null,{"$f":"$D3208*$F3208*H3208","v":0},{"$f":"SUM(I3208:I3213)","v":0}]
[null,null,null,null,"อสังหาริมทรัพย์",null,{"$f":"D3208*F3209","v":0},null,{"$f":"$D3208*$F3209*H3209","v":0}]
[null,null,null,null,"สินค้าโภคภัณฑ์",null,{"$f":"D3208*F3210","v":0},null,{"$f":"$D3208*$F3210*H3210","v":0}]
[null,null,null,null,"เงินฝาก",null,{"$f":"D3208*F3211","v":0},null,{"$f":"$D3208*$F3211*H3211","v":0}]
[null,null,null,null,"ตราสารหนี้",null,{"$f":"D3208*F3212","v":0},null,{"$f":"$D3208*$F3212*H3212","v":0}]
[null,null,null,null,"อื่นๆ",null,{"$f":"D3208*F3213","v":0},null,{"$f":"$D3208*$F3213*H3213","v":0}]
[null,535,null,null,"ตราสารทุน",null,{"$f":"D3214*F3214","v":0},null,{"$f":"$D3214*$F3214*H3214","v":0},{"$f":"SUM(I3214:I3219)","v":0}]
[null,null,null,null,"อสังหาริมทรัพย์",null,{"$f":"D3214*F3215","v":0},null,{"$f":"$D3214*$F3215*H3215","v":0}]
[null,null,null,null,"สินค้าโภคภัณฑ์",null,{"$f":"D3214*F3216","v":0},null,{"$f":"$D3214*$F3216*H3216","v":0}]
[null,null,null,null,"เงินฝาก",null,{"$f":"D3214*F3217","v":0},null,{"$f":"$D3214*$F3217*H3217","v":0}]
[null,null,null,null,"ตราสารหนี้",null,{"$f":"D3214*F3218","v":0},null,{"$f":"$D3214*$F3218*H3218","v":0}]
[null,null,null,null,"อื่นๆ",null,{"$f":"D3214*F3219","v":0},null,{"$f":"$D3214*$F3219*H3219","v":0}]
[null,536,null,null,"ตราสารทุน",null,{"$f":"D3220*F3220","v":0},null,{"$f":"$D3220*$F3220*H3220","v":0},{"$f":"SUM(I3220:I3225)","v":0}]
[null,null,null,null,"อสังหาริมทรัพย์",null,{"$f":"D3220*F3221","v":0},null,{"$f":"$D3220*$F3221*H3221","v":0}]
[null,null,null,null,"สินค้าโภคภัณฑ์",null,{"$f":"D3220*F3222","v":0},null,{"$f":"$D3220*$F3222*H3222","v":0}]
[null,null,null,null,"เงินฝาก",null,{"$f":"D3220*F3223","v":0},null,{"$f":"$D3220*$F3223*H3223","v":0}]
[null,null,null,null,"ตราสารหนี้",null,{"$f":"D3220*F3224","v":0},null,{"$f":"$D3220*$F3224*H3224","v":0}]
[null,null,null,null,"อื่นๆ",null,{"$f":"D3220*F3225","v":0},null,{"$f":"$D3220*$F3225*H3225","v":0}]
[null,537,null,null,"ตราสารทุน",null,{"$f":"D3226*F3226","v":0},null,{"$f":"$D3226*$F3226*H3226","v":0},{"$f":"SUM(I3226:I3231)","v":0}]
[null,null,null,null,"อสังหาริมทรัพย์",null,{"$f":"D3226*F3227","v":0},null,{"$f":"$D3226*$F3227*H3227","v":0}]
[null,null,null,null,"สินค้าโภคภัณฑ์",null,{"$f":"D3226*F3228","v":0},null,{"$f":"$D3226*$F3228*H3228","v":0}]
[null,null,null,null,"เงินฝาก",null,{"$f":"D3226*F3229","v":0},null,{"$f":"$D3226*$F3229*H3229","v":0}]
[null,null,null,null,"ตราสารหนี้",null,{"$f":"D3226*F3230","v":0},null,{"$f":"$D3226*$F3230*H3230","v":0}]
[null,null,null,null,"อื่นๆ",null,{"$f":"D3226*F3231","v":0},null,{"$f":"$D3226*$F3231*H3231","v":0}]
[null,538,null,null,"ตราสารทุน",null,{"$f":"D3232*F3232","v":0},null,{"$f":"$D3232*$F3232*H3232","v":0},{"$f":"SUM(I3232:I3237)","v":0}]
[null,null,null,null,"อสังหาริมทรัพย์",null,{"$f":"D3232*F3233","v":0},null,{"$f":"$D3232*$F3233*H3233","v":0}]
[null,null,null,null,"สินค้าโภคภัณฑ์",null,{"$f":"D3232*F3234","v":0},null,{"$f":"$D3232*$F3234*H3234","v":0}]
[null,null,null,null,"เงินฝาก",null,{"$f":"D3232*F3235","v":0},null,{"$f":"$D3232*$F3235*H3235","v":0}]
[null,null,null,null,"ตราสารหนี้",null,{"$f":"D3232*F3236","v":0},null,{"$f":"$D3232*$F3236*H3236","v":0}]
[null,null,null,null,"อื่นๆ",null,{"$f":"D3232*F3237","v":0},null,{"$f":"$D3232*$F3237*H3237","v":0}]
[null,539,null,null,"ตราสารทุน",null,{"$f":"D3238*F3238","v":0},null,{"$f":"$D3238*$F3238*H3238","v":0},{"$f":"SUM(I3238:I3243)","v":0}]
[null,null,null,null,"อสังหาริมทรัพย์",null,{"$f":"D3238*F3239","v":0},null,{"$f":"$D3238*$F3239*H3239","v":0}]
[null,null,null,null,"สินค้าโภคภัณฑ์",null,{"$f":"D3238*F3240","v":0},null,{"$f":"$D3238*$F3240*H3240","v":0}]
[null,null,null,null,"เงินฝาก",null,{"$f":"D3238*F3241","v":0},null,{"$f":"$D3238*$F3241*H3241","v":0}]
[null,null,null,null,"ตราสารหนี้",null,{"$f":"D3238*F3242","v":0},null,{"$f":"$D3238*$F3242*H3242","v":0}]
[null,null,null,null,"อื่นๆ",null,{"$f":"D3238*F3243","v":0},null,{"$f":"$D3238*$F3243*H3243","v":0}]
[null,540,null,null,"ตราสารทุน",null,{"$f":"D3244*F3244","v":0},null,{"$f":"$D3244*$F3244*H3244","v":0},{"$f":"SUM(I3244:I3249)","v":0}]
[null,null,null,null,"อสังหาริมทรัพย์",null,{"$f":"D3244*F3245","v":0},null,{"$f":"$D3244*$F3245*H3245","v":0}]
[null,null,null,null,"สินค้าโภคภัณฑ์",null,{"$f":"D3244*F3246","v":0},null,{"$f":"$D3244*$F3246*H3246","v":0}]
[null,null,null,null,"เงินฝาก",null,{"$f":"D3244*F3247","v":0},null,{"$f":"$D3244*$F3247*H3247","v":0}]
[null,null,null,null,"ตราสารหนี้",null,{"$f":"D3244*F3248","v":0},null,{"$f":"$D3244*$F3248*H3248","v":0}]
[null,null,null,null,"อื่นๆ",null,{"$f":"D3244*F3249","v":0},null,{"$f":"$D3244*$F3249*H3249","v":0}]
[null,541,null,null,"ตราสารทุน",null,{"$f":"D3250*F3250","v":0},null,{"$f":"$D3250*$F3250*H3250","v":0},{"$f":"SUM(I3250:I3255)","v":0}]
[null,null,null,null,"อสังหาริมทรัพย์",null,{"$f":"D3250*F3251","v":0},null,{"$f":"$D3250*$F3251*H3251","v":0}]
[null,null,null,null,"สินค้าโภคภัณฑ์",null,{"$f":"D3250*F3252","v":0},null,{"$f":"$D3250*$F3252*H3252","v":0}]
[null,null,null,null,"เงินฝาก",null,{"$f":"D3250*F3253","v":0},null,{"$f":"$D3250*$F3253*H3253","v":0}]
[null,null,null,null,"ตราสารหนี้",null,{"$f":"D3250*F3254","v":0},null,{"$f":"$D3250*$F3254*H3254","v":0}]
[null,null,null,null,"อื่นๆ",null,{"$f":"D3250*F3255","v":0},null,{"$f":"$D3250*$F3255*H3255","v":0}]
[null,542,null,null,"ตราสารทุน",null,{"$f":"D3256*F3256","v":0},null,{"$f":"$D3256*$F3256*H3256","v":0},{"$f":"SUM(I3256:I3261)","v":0}]
[null,null,null,null,"อสังหาริมทรัพย์",null,{"$f":"D3256*F3257","v":0},null,{"$f":"$D3256*$F3257*H3257","v":0}]
[null,null,null,null,"สินค้าโภคภัณฑ์",null,{"$f":"D3256*F3258","v":0},null,{"$f":"$D3256*$F3258*H3258","v":0}]
[null,null,null,null,"เงินฝาก",null,{"$f":"D3256*F3259","v":0},null,{"$f":"$D3256*$F3259*H3259","v":0}]
[null,null,null,null,"ตราสารหนี้",null,{"$f":"D3256*F3260","v":0},null,{"$f":"$D3256*$F3260*H3260","v":0}]
[null,null,null,null,"อื่นๆ",null,{"$f":"D3256*F3261","v":0},null,{"$f":"$D3256*$F3261*H3261","v":0}]
[null,543,null,null,"ตราสารทุน",null,{"$f":"D3262*F3262","v":0},null,{"$f":"$D3262*$F3262*H3262","v":0},{"$f":"SUM(I3262:I3267)","v":0}]
[null,null,null,null,"อสังหาริมทรัพย์",null,{"$f":"D3262*F3263","v":0},null,{"$f":"$D3262*$F3263*H3263","v":0}]
[null,null,null,null,"สินค้าโภคภัณฑ์",null,{"$f":"D3262*F3264","v":0},null,{"$f":"$D3262*$F3264*H3264","v":0}]
[null,null,null,null,"เงินฝาก",null,{"$f":"D3262*F3265","v":0},null,{"$f":"$D3262*$F3265*H3265","v":0}]
[null,null,null,null,"ตราสารหนี้",null,{"$f":"D3262*F3266","v":0},null,{"$f":"$D3262*$F3266*H3266","v":0}]
[null,null,null,null,"อื่นๆ",null,{"$f":"D3262*F3267","v":0},null,{"$f":"$D3262*$F3267*H3267","v":0}]
[null,544,null,null,"ตราสารทุน",null,{"$f":"D3268*F3268","v":0},null,{"$f":"$D3268*$F3268*H3268","v":0},{"$f":"SUM(I3268:I3273)","v":0}]
[null,null,null,null,"อสังหาริมทรัพย์",null,{"$f":"D3268*F3269","v":0},null,{"$f":"$D3268*$F3269*H3269","v":0}]
[null,null,null,null,"สินค้าโภคภัณฑ์",null,{"$f":"D3268*F3270","v":0},null,{"$f":"$D3268*$F3270*H3270","v":0}]
[null,null,null,null,"เงินฝาก",null,{"$f":"D3268*F3271","v":0},null,{"$f":"$D3268*$F3271*H3271","v":0}]
[null,null,null,null,"ตราสารหนี้",null,{"$f":"D3268*F3272","v":0},null,{"$f":"$D3268*$F3272*H3272","v":0}]
[null,null,null,null,"อื่นๆ",null,{"$f":"D3268*F3273","v":0},null,{"$f":"$D3268*$F3273*H3273","v":0}]
[null,545,null,null,"ตราสารทุน",null,{"$f":"D3274*F3274","v":0},null,{"$f":"$D3274*$F3274*H3274","v":0},{"$f":"SUM(I3274:I3279)","v":0}]
[null,null,null,null,"อสังหาริมทรัพย์",null,{"$f":"D3274*F3275","v":0},null,{"$f":"$D3274*$F3275*H3275","v":0}]
[null,null,null,null,"สินค้าโภคภัณฑ์",null,{"$f":"D3274*F3276","v":0},null,{"$f":"$D3274*$F3276*H3276","v":0}]
[null,null,null,null,"เงินฝาก",null,{"$f":"D3274*F3277","v":0},null,{"$f":"$D3274*$F3277*H3277","v":0}]
[null,null,null,null,"ตราสารหนี้",null,{"$f":"D3274*F3278","v":0},null,{"$f":"$D3274*$F3278*H3278","v":0}]
[null,null,null,null,"อื่นๆ",null,{"$f":"D3274*F3279","v":0},null,{"$f":"$D3274*$F3279*H3279","v":0}]
[null,546,null,null,"ตราสารทุน",null,{"$f":"D3280*F3280","v":0},null,{"$f":"$D3280*$F3280*H3280","v":0},{"$f":"SUM(I3280:I3285)","v":0}]
[null,null,null,null,"อสังหาริมทรัพย์",null,{"$f":"D3280*F3281","v":0},null,{"$f":"$D3280*$F3281*H3281","v":0}]
[null,null,null,null,"สินค้าโภคภัณฑ์",null,{"$f":"D3280*F3282","v":0},null,{"$f":"$D3280*$F3282*H3282","v":0}]
[null,null,null,null,"เงินฝาก",null,{"$f":"D3280*F3283","v":0},null,{"$f":"$D3280*$F3283*H3283","v":0}]
[null,null,null,null,"ตราสารหนี้",null,{"$f":"D3280*F3284","v":0},null,{"$f":"$D3280*$F3284*H3284","v":0}]
[null,null,null,null,"อื่นๆ",null,{"$f":"D3280*F3285","v":0},null,{"$f":"$D3280*$F3285*H3285","v":0}]
[null,547,null,null,"ตราสารทุน",null,{"$f":"D3286*F3286","v":0},null,{"$f":"$D3286*$F3286*H3286","v":0},{"$f":"SUM(I3286:I3291)","v":0}]
[null,null,null,null,"อสังหาริมทรัพย์",null,{"$f":"D3286*F3287","v":0},null,{"$f":"$D3286*$F3287*H3287","v":0}]
[null,null,null,null,"สินค้าโภคภัณฑ์",null,{"$f":"D3286*F3288","v":0},null,{"$f":"$D3286*$F3288*H3288","v":0}]
[null,null,null,null,"เงินฝาก",null,{"$f":"D3286*F3289","v":0},null,{"$f":"$D3286*$F3289*H3289","v":0}]
[null,null,null,null,"ตราสารหนี้",null,{"$f":"D3286*F3290","v":0},null,{"$f":"$D3286*$F3290*H3290","v":0}]
[null,null,null,null,"อื่นๆ",null,{"$f":"D3286*F3291","v":0},null,{"$f":"$D3286*$F3291*H3291","v":0}]
[null,548,null,null,"ตราสารทุน",null,{"$f":"D3292*F3292","v":0},null,{"$f":"$D3292*$F3292*H3292","v":0},{"$f":"SUM(I3292:I3297)","v":0}]
[null,null,null,null,"อสังหาริมทรัพย์",null,{"$f":"D3292*F3293","v":0},null,{"$f":"$D3292*$F3293*H3293","v":0}]
[null,null,null,null,"สินค้าโภคภัณฑ์",null,{"$f":"D3292*F3294","v":0},null,{"$f":"$D3292*$F3294*H3294","v":0}]
[null,null,null,null,"เงินฝาก",null,{"$f":"D3292*F3295","v":0},null,{"$f":"$D3292*$F3295*H3295","v":0}]
[null,null,null,null,"ตราสารหนี้",null,{"$f":"D3292*F3296","v":0},null,{"$f":"$D3292*$F3296*H3296","v":0}]
[null,null,null,null,"อื่นๆ",null,{"$f":"D3292*F3297","v":0},null,{"$f":"$D3292*$F3297*H3297","v":0}]
[null,549,null,null,"ตราสารทุน",null,{"$f":"D3298*F3298","v":0},null,{"$f":"$D3298*$F3298*H3298","v":0},{"$f":"SUM(I3298:I3303)","v":0}]
[null,null,null,null,"อสังหาริมทรัพย์",null,{"$f":"D3298*F3299","v":0},null,{"$f":"$D3298*$F3299*H3299","v":0}]
[null,null,null,null,"สินค้าโภคภัณฑ์",null,{"$f":"D3298*F3300","v":0},null,{"$f":"$D3298*$F3300*H3300","v":0}]
[null,null,null,null,"เงินฝาก",null,{"$f":"D3298*F3301","v":0},null,{"$f":"$D3298*$F3301*H3301","v":0}]
[null,null,null,null,"ตราสารหนี้",null,{"$f":"D3298*F3302","v":0},null,{"$f":"$D3298*$F3302*H3302","v":0}]
[null,null,null,null,"อื่นๆ",null,{"$f":"D3298*F3303","v":0},null,{"$f":"$D3298*$F3303*H3303","v":0}]
[null,550,null,null,"ตราสารทุน",null,{"$f":"D3304*F3304","v":0},null,{"$f":"$D3304*$F3304*H3304","v":0},{"$f":"SUM(I3304:I3309)","v":0}]
[null,null,null,null,"อสังหาริมทรัพย์",null,{"$f":"D3304*F3305","v":0},null,{"$f":"$D3304*$F3305*H3305","v":0}]
[null,null,null,null,"สินค้าโภคภัณฑ์",null,{"$f":"D3304*F3306","v":0},null,{"$f":"$D3304*$F3306*H3306","v":0}]
[null,null,null,null,"เงินฝาก",null,{"$f":"D3304*F3307","v":0},null,{"$f":"$D3304*$F3307*H3307","v":0}]
[null,null,null,null,"ตราสารหนี้",null,{"$f":"D3304*F3308","v":0},null,{"$f":"$D3304*$F3308*H3308","v":0}]
[null,null,null,null,"อื่นๆ",null,{"$f":"D3304*F3309","v":0},null,{"$f":"$D3304*$F3309*H3309","v":0}]
[null,551,null,null,"ตราสารทุน",null,{"$f":"D3310*F3310","v":0},null,{"$f":"$D3310*$F3310*H3310","v":0},{"$f":"SUM(I3310:I3315)","v":0}]
[null,null,null,null,"อสังหาริมทรัพย์",null,{"$f":"D3310*F3311","v":0},null,{"$f":"$D3310*$F3311*H3311","v":0}]
[null,null,null,null,"สินค้าโภคภัณฑ์",null,{"$f":"D3310*F3312","v":0},null,{"$f":"$D3310*$F3312*H3312","v":0}]
[null,null,null,null,"เงินฝาก",null,{"$f":"D3310*F3313","v":0},null,{"$f":"$D3310*$F3313*H3313","v":0}]
[null,null,null,null,"ตราสารหนี้",null,{"$f":"D3310*F3314","v":0},null,{"$f":"$D3310*$F3314*H3314","v":0}]
[null,null,null,null,"อื่นๆ",null,{"$f":"D3310*F3315","v":0},null,{"$f":"$D3310*$F3315*H3315","v":0}]
[null,552,null,null,"ตราสารทุน",null,{"$f":"D3316*F3316","v":0},null,{"$f":"$D3316*$F3316*H3316","v":0},{"$f":"SUM(I3316:I3321)","v":0}]
[null,null,null,null,"อสังหาริมทรัพย์",null,{"$f":"D3316*F3317","v":0},null,{"$f":"$D3316*$F3317*H3317","v":0}]
[null,null,null,null,"สินค้าโภคภัณฑ์",null,{"$f":"D3316*F3318","v":0},null,{"$f":"$D3316*$F3318*H3318","v":0}]
[null,null,null,null,"เงินฝาก",null,{"$f":"D3316*F3319","v":0},null,{"$f":"$D3316*$F3319*H3319","v":0}]
[null,null,null,null,"ตราสารหนี้",null,{"$f":"D3316*F3320","v":0},null,{"$f":"$D3316*$F3320*H3320","v":0}]
[null,null,null,null,"อื่นๆ",null,{"$f":"D3316*F3321","v":0},null,{"$f":"$D3316*$F3321*H3321","v":0}]
[null,553,null,null,"ตราสารทุน",null,{"$f":"D3322*F3322","v":0},null,{"$f":"$D3322*$F3322*H3322","v":0},{"$f":"SUM(I3322:I3327)","v":0}]
[null,null,null,null,"อสังหาริมทรัพย์",null,{"$f":"D3322*F3323","v":0},null,{"$f":"$D3322*$F3323*H3323","v":0}]
[null,null,null,null,"สินค้าโภคภัณฑ์",null,{"$f":"D3322*F3324","v":0},null,{"$f":"$D3322*$F3324*H3324","v":0}]
[null,null,null,null,"เงินฝาก",null,{"$f":"D3322*F3325","v":0},null,{"$f":"$D3322*$F3325*H3325","v":0}]
[null,null,null,null,"ตราสารหนี้",null,{"$f":"D3322*F3326","v":0},null,{"$f":"$D3322*$F3326*H3326","v":0}]
[null,null,null,null,"อื่นๆ",null,{"$f":"D3322*F3327","v":0},null,{"$f":"$D3322*$F3327*H3327","v":0}]
[null,554,null,null,"ตราสารทุน",null,{"$f":"D3328*F3328","v":0},null,{"$f":"$D3328*$F3328*H3328","v":0},{"$f":"SUM(I3328:I3333)","v":0}]
[null,null,null,null,"อสังหาริมทรัพย์",null,{"$f":"D3328*F3329","v":0},null,{"$f":"$D3328*$F3329*H3329","v":0}]
[null,null,null,null,"สินค้าโภคภัณฑ์",null,{"$f":"D3328*F3330","v":0},null,{"$f":"$D3328*$F3330*H3330","v":0}]
[null,null,null,null,"เงินฝาก",null,{"$f":"D3328*F3331","v":0},null,{"$f":"$D3328*$F3331*H3331","v":0}]
[null,null,null,null,"ตราสารหนี้",null,{"$f":"D3328*F3332","v":0},null,{"$f":"$D3328*$F3332*H3332","v":0}]
[null,null,null,null,"อื่นๆ",null,{"$f":"D3328*F3333","v":0},null,{"$f":"$D3328*$F3333*H3333","v":0}]
[null,555,null,null,"ตราสารทุน",null,{"$f":"D3334*F3334","v":0},null,{"$f":"$D3334*$F3334*H3334","v":0},{"$f":"SUM(I3334:I3339)","v":0}]
[null,null,null,null,"อสังหาริมทรัพย์",null,{"$f":"D3334*F3335","v":0},null,{"$f":"$D3334*$F3335*H3335","v":0}]
[null,null,null,null,"สินค้าโภคภัณฑ์",null,{"$f":"D3334*F3336","v":0},null,{"$f":"$D3334*$F3336*H3336","v":0}]
[null,null,null,null,"เงินฝาก",null,{"$f":"D3334*F3337","v":0},null,{"$f":"$D3334*$F3337*H3337","v":0}]
[null,null,null,null,"ตราสารหนี้",null,{"$f":"D3334*F3338","v":0},null,{"$f":"$D3334*$F3338*H3338","v":0}]
[null,null,null,null,"อื่นๆ",null,{"$f":"D3334*F3339","v":0},null,{"$f":"$D3334*$F3339*H3339","v":0}]
[null,556,null,null,"ตราสารทุน",null,{"$f":"D3340*F3340","v":0},null,{"$f":"$D3340*$F3340*H3340","v":0},{"$f":"SUM(I3340:I3345)","v":0}]
[null,null,null,null,"อสังหาริมทรัพย์",null,{"$f":"D3340*F3341","v":0},null,{"$f":"$D3340*$F3341*H3341","v":0}]
[null,null,null,null,"สินค้าโภคภัณฑ์",null,{"$f":"D3340*F3342","v":0},null,{"$f":"$D3340*$F3342*H3342","v":0}]
[null,null,null,null,"เงินฝาก",null,{"$f":"D3340*F3343","v":0},null,{"$f":"$D3340*$F3343*H3343","v":0}]
[null,null,null,null,"ตราสารหนี้",null,{"$f":"D3340*F3344","v":0},null,{"$f":"$D3340*$F3344*H3344","v":0}]
[null,null,null,null,"อื่นๆ",null,{"$f":"D3340*F3345","v":0},null,{"$f":"$D3340*$F3345*H3345","v":0}]
[null,557,null,null,"ตราสารทุน",null,{"$f":"D3346*F3346","v":0},null,{"$f":"$D3346*$F3346*H3346","v":0},{"$f":"SUM(I3346:I3351)","v":0}]
[null,null,null,null,"อสังหาริมทรัพย์",null,{"$f":"D3346*F3347","v":0},null,{"$f":"$D3346*$F3347*H3347","v":0}]
[null,null,null,null,"สินค้าโภคภัณฑ์",null,{"$f":"D3346*F3348","v":0},null,{"$f":"$D3346*$F3348*H3348","v":0}]
[null,null,null,null,"เงินฝาก",null,{"$f":"D3346*F3349","v":0},null,{"$f":"$D3346*$F3349*H3349","v":0}]
[null,null,null,null,"ตราสารหนี้",null,{"$f":"D3346*F3350","v":0},null,{"$f":"$D3346*$F3350*H3350","v":0}]
[null,null,null,null,"อื่นๆ",null,{"$f":"D3346*F3351","v":0},null,{"$f":"$D3346*$F3351*H3351","v":0}]
[null,558,null,null,"ตราสารทุน",null,{"$f":"D3352*F3352","v":0},null,{"$f":"$D3352*$F3352*H3352","v":0},{"$f":"SUM(I3352:I3357)","v":0}]
[null,null,null,null,"อสังหาริมทรัพย์",null,{"$f":"D3352*F3353","v":0},null,{"$f":"$D3352*$F3353*H3353","v":0}]
[null,null,null,null,"สินค้าโภคภัณฑ์",null,{"$f":"D3352*F3354","v":0},null,{"$f":"$D3352*$F3354*H3354","v":0}]
[null,null,null,null,"เงินฝาก",null,{"$f":"D3352*F3355","v":0},null,{"$f":"$D3352*$F3355*H3355","v":0}]
[null,null,null,null,"ตราสารหนี้",null,{"$f":"D3352*F3356","v":0},null,{"$f":"$D3352*$F3356*H3356","v":0}]
[null,null,null,null,"อื่นๆ",null,{"$f":"D3352*F3357","v":0},null,{"$f":"$D3352*$F3357*H3357","v":0}]
[null,559,null,null,"ตราสารทุน",null,{"$f":"D3358*F3358","v":0},null,{"$f":"$D3358*$F3358*H3358","v":0},{"$f":"SUM(I3358:I3363)","v":0}]
[null,null,null,null,"อสังหาริมทรัพย์",null,{"$f":"D3358*F3359","v":0},null,{"$f":"$D3358*$F3359*H3359","v":0}]
[null,null,null,null,"สินค้าโภคภัณฑ์",null,{"$f":"D3358*F3360","v":0},null,{"$f":"$D3358*$F3360*H3360","v":0}]
[null,null,null,null,"เงินฝาก",null,{"$f":"D3358*F3361","v":0},null,{"$f":"$D3358*$F3361*H3361","v":0}]
[null,null,null,null,"ตราสารหนี้",null,{"$f":"D3358*F3362","v":0},null,{"$f":"$D3358*$F3362*H3362","v":0}]
[null,null,null,null,"อื่นๆ",null,{"$f":"D3358*F3363","v":0},null,{"$f":"$D3358*$F3363*H3363","v":0}]
[null,560,null,null,"ตราสารทุน",null,{"$f":"D3364*F3364","v":0},null,{"$f":"$D3364*$F3364*H3364","v":0},{"$f":"SUM(I3364:I3369)","v":0}]
[null,null,null,null,"อสังหาริมทรัพย์",null,{"$f":"D3364*F3365","v":0},null,{"$f":"$D3364*$F3365*H3365","v":0}]
[null,null,null,null,"สินค้าโภคภัณฑ์",null,{"$f":"D3364*F3366","v":0},null,{"$f":"$D3364*$F3366*H3366","v":0}]
[null,null,null,null,"เงินฝาก",null,{"$f":"D3364*F3367","v":0},null,{"$f":"$D3364*$F3367*H3367","v":0}]
[null,null,null,null,"ตราสารหนี้",null,{"$f":"D3364*F3368","v":0},null,{"$f":"$D3364*$F3368*H3368","v":0}]
[null,null,null,null,"อื่นๆ",null,{"$f":"D3364*F3369","v":0},null,{"$f":"$D3364*$F3369*H3369","v":0}]
[null,561,null,null,"ตราสารทุน",null,{"$f":"D3370*F3370","v":0},null,{"$f":"$D3370*$F3370*H3370","v":0},{"$f":"SUM(I3370:I3375)","v":0}]
[null,null,null,null,"อสังหาริมทรัพย์",null,{"$f":"D3370*F3371","v":0},null,{"$f":"$D3370*$F3371*H3371","v":0}]
[null,null,null,null,"สินค้าโภคภัณฑ์",null,{"$f":"D3370*F3372","v":0},null,{"$f":"$D3370*$F3372*H3372","v":0}]
[null,null,null,null,"เงินฝาก",null,{"$f":"D3370*F3373","v":0},null,{"$f":"$D3370*$F3373*H3373","v":0}]
[null,null,null,null,"ตราสารหนี้",null,{"$f":"D3370*F3374","v":0},null,{"$f":"$D3370*$F3374*H3374","v":0}]
[null,null,null,null,"อื่นๆ",null,{"$f":"D3370*F3375","v":0},null,{"$f":"$D3370*$F3375*H3375","v":0}]
[null,562,null,null,"ตราสารทุน",null,{"$f":"D3376*F3376","v":0},null,{"$f":"$D3376*$F3376*H3376","v":0},{"$f":"SUM(I3376:I3381)","v":0}]
[null,null,null,null,"อสังหาริมทรัพย์",null,{"$f":"D3376*F3377","v":0},null,{"$f":"$D3376*$F3377*H3377","v":0}]
[null,null,null,null,"สินค้าโภคภัณฑ์",null,{"$f":"D3376*F3378","v":0},null,{"$f":"$D3376*$F3378*H3378","v":0}]
[null,null,null,null,"เงินฝาก",null,{"$f":"D3376*F3379","v":0},null,{"$f":"$D3376*$F3379*H3379","v":0}]
[null,null,null,null,"ตราสารหนี้",null,{"$f":"D3376*F3380","v":0},null,{"$f":"$D3376*$F3380*H3380","v":0}]
[null,null,null,null,"อื่นๆ",null,{"$f":"D3376*F3381","v":0},null,{"$f":"$D3376*$F3381*H3381","v":0}]
[null,563,null,null,"ตราสารทุน",null,{"$f":"D3382*F3382","v":0},null,{"$f":"$D3382*$F3382*H3382","v":0},{"$f":"SUM(I3382:I3387)","v":0}]
[null,null,null,null,"อสังหาริมทรัพย์",null,{"$f":"D3382*F3383","v":0},null,{"$f":"$D3382*$F3383*H3383","v":0}]
[null,null,null,null,"สินค้าโภคภัณฑ์",null,{"$f":"D3382*F3384","v":0},null,{"$f":"$D3382*$F3384*H3384","v":0}]
[null,null,null,null,"เงินฝาก",null,{"$f":"D3382*F3385","v":0},null,{"$f":"$D3382*$F3385*H3385","v":0}]
[null,null,null,null,"ตราสารหนี้",null,{"$f":"D3382*F3386","v":0},null,{"$f":"$D3382*$F3386*H3386","v":0}]
[null,null,null,null,"อื่นๆ",null,{"$f":"D3382*F3387","v":0},null,{"$f":"$D3382*$F3387*H3387","v":0}]
[null,564,null,null,"ตราสารทุน",null,{"$f":"D3388*F3388","v":0},null,{"$f":"$D3388*$F3388*H3388","v":0},{"$f":"SUM(I3388:I3393)","v":0}]
[null,null,null,null,"อสังหาริมทรัพย์",null,{"$f":"D3388*F3389","v":0},null,{"$f":"$D3388*$F3389*H3389","v":0}]
[null,null,null,null,"สินค้าโภคภัณฑ์",null,{"$f":"D3388*F3390","v":0},null,{"$f":"$D3388*$F3390*H3390","v":0}]
[null,null,null,null,"เงินฝาก",null,{"$f":"D3388*F3391","v":0},null,{"$f":"$D3388*$F3391*H3391","v":0}]
[null,null,null,null,"ตราสารหนี้",null,{"$f":"D3388*F3392","v":0},null,{"$f":"$D3388*$F3392*H3392","v":0}]
[null,null,null,null,"อื่นๆ",null,{"$f":"D3388*F3393","v":0},null,{"$f":"$D3388*$F3393*H3393","v":0}]
[null,565,null,null,"ตราสารทุน",null,{"$f":"D3394*F3394","v":0},null,{"$f":"$D3394*$F3394*H3394","v":0},{"$f":"SUM(I3394:I3399)","v":0}]
[null,null,null,null,"อสังหาริมทรัพย์",null,{"$f":"D3394*F3395","v":0},null,{"$f":"$D3394*$F3395*H3395","v":0}]
[null,null,null,null,"สินค้าโภคภัณฑ์",null,{"$f":"D3394*F3396","v":0},null,{"$f":"$D3394*$F3396*H3396","v":0}]
[null,null,null,null,"เงินฝาก",null,{"$f":"D3394*F3397","v":0},null,{"$f":"$D3394*$F3397*H3397","v":0}]
[null,null,null,null,"ตราสารหนี้",null,{"$f":"D3394*F3398","v":0},null,{"$f":"$D3394*$F3398*H3398","v":0}]
[null,null,null,null,"อื่นๆ",null,{"$f":"D3394*F3399","v":0},null,{"$f":"$D3394*$F3399*H3399","v":0}]
[null,566,null,null,"ตราสารทุน",null,{"$f":"D3400*F3400","v":0},null,{"$f":"$D3400*$F3400*H3400","v":0},{"$f":"SUM(I3400:I3405)","v":0}]
[null,null,null,null,"อสังหาริมทรัพย์",null,{"$f":"D3400*F3401","v":0},null,{"$f":"$D3400*$F3401*H3401","v":0}]
[null,null,null,null,"สินค้าโภคภัณฑ์",null,{"$f":"D3400*F3402","v":0},null,{"$f":"$D3400*$F3402*H3402","v":0}]
[null,null,null,null,"เงินฝาก",null,{"$f":"D3400*F3403","v":0},null,{"$f":"$D3400*$F3403*H3403","v":0}]
[null,null,null,null,"ตราสารหนี้",null,{"$f":"D3400*F3404","v":0},null,{"$f":"$D3400*$F3404*H3404","v":0}]
[null,null,null,null,"อื่นๆ",null,{"$f":"D3400*F3405","v":0},null,{"$f":"$D3400*$F3405*H3405","v":0}]
[null,567,null,null,"ตราสารทุน",null,{"$f":"D3406*F3406","v":0},null,{"$f":"$D3406*$F3406*H3406","v":0},{"$f":"SUM(I3406:I3411)","v":0}]
[null,null,null,null,"อสังหาริมทรัพย์",null,{"$f":"D3406*F3407","v":0},null,{"$f":"$D3406*$F3407*H3407","v":0}]
[null,null,null,null,"สินค้าโภคภัณฑ์",null,{"$f":"D3406*F3408","v":0},null,{"$f":"$D3406*$F3408*H3408","v":0}]
[null,null,null,null,"เงินฝาก",null,{"$f":"D3406*F3409","v":0},null,{"$f":"$D3406*$F3409*H3409","v":0}]
[null,null,null,null,"ตราสารหนี้",null,{"$f":"D3406*F3410","v":0},null,{"$f":"$D3406*$F3410*H3410","v":0}]
[null,null,null,null,"อื่นๆ",null,{"$f":"D3406*F3411","v":0},null,{"$f":"$D3406*$F3411*H3411","v":0}]
[null,568,null,null,"ตราสารทุน",null,{"$f":"D3412*F3412","v":0},null,{"$f":"$D3412*$F3412*H3412","v":0},{"$f":"SUM(I3412:I3417)","v":0}]
[null,null,null,null,"อสังหาริมทรัพย์",null,{"$f":"D3412*F3413","v":0},null,{"$f":"$D3412*$F3413*H3413","v":0}]
[null,null,null,null,"สินค้าโภคภัณฑ์",null,{"$f":"D3412*F3414","v":0},null,{"$f":"$D3412*$F3414*H3414","v":0}]
[null,null,null,null,"เงินฝาก",null,{"$f":"D3412*F3415","v":0},null,{"$f":"$D3412*$F3415*H3415","v":0}]
[null,null,null,null,"ตราสารหนี้",null,{"$f":"D3412*F3416","v":0},null,{"$f":"$D3412*$F3416*H3416","v":0}]
[null,null,null,null,"อื่นๆ",null,{"$f":"D3412*F3417","v":0},null,{"$f":"$D3412*$F3417*H3417","v":0}]
[null,569,null,null,"ตราสารทุน",null,{"$f":"D3418*F3418","v":0},null,{"$f":"$D3418*$F3418*H3418","v":0},{"$f":"SUM(I3418:I3423)","v":0}]
[null,null,null,null,"อสังหาริมทรัพย์",null,{"$f":"D3418*F3419","v":0},null,{"$f":"$D3418*$F3419*H3419","v":0}]
[null,null,null,null,"สินค้าโภคภัณฑ์",null,{"$f":"D3418*F3420","v":0},null,{"$f":"$D3418*$F3420*H3420","v":0}]
[null,null,null,null,"เงินฝาก",null,{"$f":"D3418*F3421","v":0},null,{"$f":"$D3418*$F3421*H3421","v":0}]
[null,null,null,null,"ตราสารหนี้",null,{"$f":"D3418*F3422","v":0},null,{"$f":"$D3418*$F3422*H3422","v":0}]
[null,null,null,null,"อื่นๆ",null,{"$f":"D3418*F3423","v":0},null,{"$f":"$D3418*$F3423*H3423","v":0}]
[null,570,null,null,"ตราสารทุน",null,{"$f":"D3424*F3424","v":0},null,{"$f":"$D3424*$F3424*H3424","v":0},{"$f":"SUM(I3424:I3429)","v":0}]
[null,null,null,null,"อสังหาริมทรัพย์",null,{"$f":"D3424*F3425","v":0},null,{"$f":"$D3424*$F3425*H3425","v":0}]
[null,null,null,null,"สินค้าโภคภัณฑ์",null,{"$f":"D3424*F3426","v":0},null,{"$f":"$D3424*$F3426*H3426","v":0}]
[null,null,null,null,"เงินฝาก",null,{"$f":"D3424*F3427","v":0},null,{"$f":"$D3424*$F3427*H3427","v":0}]
[null,null,null,null,"ตราสารหนี้",null,{"$f":"D3424*F3428","v":0},null,{"$f":"$D3424*$F3428*H3428","v":0}]
[null,null,null,null,"อื่นๆ",null,{"$f":"D3424*F3429","v":0},null,{"$f":"$D3424*$F3429*H3429","v":0}]
[null,571,null,null,"ตราสารทุน",null,{"$f":"D3430*F3430","v":0},null,{"$f":"$D3430*$F3430*H3430","v":0},{"$f":"SUM(I3430:I3435)","v":0}]
[null,null,null,null,"อสังหาริมทรัพย์",null,{"$f":"D3430*F3431","v":0},null,{"$f":"$D3430*$F3431*H3431","v":0}]
[null,null,null,null,"สินค้าโภคภัณฑ์",null,{"$f":"D3430*F3432","v":0},null,{"$f":"$D3430*$F3432*H3432","v":0}]
[null,null,null,null,"เงินฝาก",null,{"$f":"D3430*F3433","v":0},null,{"$f":"$D3430*$F3433*H3433","v":0}]
[null,null,null,null,"ตราสารหนี้",null,{"$f":"D3430*F3434","v":0},null,{"$f":"$D3430*$F3434*H3434","v":0}]
[null,null,null,null,"อื่นๆ",null,{"$f":"D3430*F3435","v":0},null,{"$f":"$D3430*$F3435*H3435","v":0}]
[null,572,null,null,"ตราสารทุน",null,{"$f":"D3436*F3436","v":0},null,{"$f":"$D3436*$F3436*H3436","v":0},{"$f":"SUM(I3436:I3441)","v":0}]
[null,null,null,null,"อสังหาริมทรัพย์",null,{"$f":"D3436*F3437","v":0},null,{"$f":"$D3436*$F3437*H3437","v":0}]
[null,null,null,null,"สินค้าโภคภัณฑ์",null,{"$f":"D3436*F3438","v":0},null,{"$f":"$D3436*$F3438*H3438","v":0}]
[null,null,null,null,"เงินฝาก",null,{"$f":"D3436*F3439","v":0},null,{"$f":"$D3436*$F3439*H3439","v":0}]
[null,null,null,null,"ตราสารหนี้",null,{"$f":"D3436*F3440","v":0},null,{"$f":"$D3436*$F3440*H3440","v":0}]
[null,null,null,null,"อื่นๆ",null,{"$f":"D3436*F3441","v":0},null,{"$f":"$D3436*$F3441*H3441","v":0}]
[null,573,null,null,"ตราสารทุน",null,{"$f":"D3442*F3442","v":0},null,{"$f":"$D3442*$F3442*H3442","v":0},{"$f":"SUM(I3442:I3447)","v":0}]
[null,null,null,null,"อสังหาริมทรัพย์",null,{"$f":"D3442*F3443","v":0},null,{"$f":"$D3442*$F3443*H3443","v":0}]
[null,null,null,null,"สินค้าโภคภัณฑ์",null,{"$f":"D3442*F3444","v":0},null,{"$f":"$D3442*$F3444*H3444","v":0}]
[null,null,null,null,"เงินฝาก",null,{"$f":"D3442*F3445","v":0},null,{"$f":"$D3442*$F3445*H3445","v":0}]
[null,null,null,null,"ตราสารหนี้",null,{"$f":"D3442*F3446","v":0},null,{"$f":"$D3442*$F3446*H3446","v":0}]
[null,null,null,null,"อื่นๆ",null,{"$f":"D3442*F3447","v":0},null,{"$f":"$D3442*$F3447*H3447","v":0}]
[null,574,null,null,"ตราสารทุน",null,{"$f":"D3448*F3448","v":0},null,{"$f":"$D3448*$F3448*H3448","v":0},{"$f":"SUM(I3448:I3453)","v":0}]
[null,null,null,null,"อสังหาริมทรัพย์",null,{"$f":"D3448*F3449","v":0},null,{"$f":"$D3448*$F3449*H3449","v":0}]
[null,null,null,null,"สินค้าโภคภัณฑ์",null,{"$f":"D3448*F3450","v":0},null,{"$f":"$D3448*$F3450*H3450","v":0}]
[null,null,null,null,"เงินฝาก",null,{"$f":"D3448*F3451","v":0},null,{"$f":"$D3448*$F3451*H3451","v":0}]
[null,null,null,null,"ตราสารหนี้",null,{"$f":"D3448*F3452","v":0},null,{"$f":"$D3448*$F3452*H3452","v":0}]
[null,null,null,null,"อื่นๆ",null,{"$f":"D3448*F3453","v":0},null,{"$f":"$D3448*$F3453*H3453","v":0}]
[null,575,null,null,"ตราสารทุน",null,{"$f":"D3454*F3454","v":0},null,{"$f":"$D3454*$F3454*H3454","v":0},{"$f":"SUM(I3454:I3459)","v":0}]
[null,null,null,null,"อสังหาริมทรัพย์",null,{"$f":"D3454*F3455","v":0},null,{"$f":"$D3454*$F3455*H3455","v":0}]
[null,null,null,null,"สินค้าโภคภัณฑ์",null,{"$f":"D3454*F3456","v":0},null,{"$f":"$D3454*$F3456*H3456","v":0}]
[null,null,null,null,"เงินฝาก",null,{"$f":"D3454*F3457","v":0},null,{"$f":"$D3454*$F3457*H3457","v":0}]
[null,null,null,null,"ตราสารหนี้",null,{"$f":"D3454*F3458","v":0},null,{"$f":"$D3454*$F3458*H3458","v":0}]
[null,null,null,null,"อื่นๆ",null,{"$f":"D3454*F3459","v":0},null,{"$f":"$D3454*$F3459*H3459","v":0}]
[null,576,null,null,"ตราสารทุน",null,{"$f":"D3460*F3460","v":0},null,{"$f":"$D3460*$F3460*H3460","v":0},{"$f":"SUM(I3460:I3465)","v":0}]
[null,null,null,null,"อสังหาริมทรัพย์",null,{"$f":"D3460*F3461","v":0},null,{"$f":"$D3460*$F3461*H3461","v":0}]
[null,null,null,null,"สินค้าโภคภัณฑ์",null,{"$f":"D3460*F3462","v":0},null,{"$f":"$D3460*$F3462*H3462","v":0}]
[null,null,null,null,"เงินฝาก",null,{"$f":"D3460*F3463","v":0},null,{"$f":"$D3460*$F3463*H3463","v":0}]
[null,null,null,null,"ตราสารหนี้",null,{"$f":"D3460*F3464","v":0},null,{"$f":"$D3460*$F3464*H3464","v":0}]
[null,null,null,null,"อื่นๆ",null,{"$f":"D3460*F3465","v":0},null,{"$f":"$D3460*$F3465*H3465","v":0}]
[null,577,null,null,"ตราสารทุน",null,{"$f":"D3466*F3466","v":0},null,{"$f":"$D3466*$F3466*H3466","v":0},{"$f":"SUM(I3466:I3471)","v":0}]
[null,null,null,null,"อสังหาริมทรัพย์",null,{"$f":"D3466*F3467","v":0},null,{"$f":"$D3466*$F3467*H3467","v":0}]
[null,null,null,null,"สินค้าโภคภัณฑ์",null,{"$f":"D3466*F3468","v":0},null,{"$f":"$D3466*$F3468*H3468","v":0}]
[null,null,null,null,"เงินฝาก",null,{"$f":"D3466*F3469","v":0},null,{"$f":"$D3466*$F3469*H3469","v":0}]
[null,null,null,null,"ตราสารหนี้",null,{"$f":"D3466*F3470","v":0},null,{"$f":"$D3466*$F3470*H3470","v":0}]
[null,null,null,null,"อื่นๆ",null,{"$f":"D3466*F3471","v":0},null,{"$f":"$D3466*$F3471*H3471","v":0}]
[null,578,null,null,"ตราสารทุน",null,{"$f":"D3472*F3472","v":0},null,{"$f":"$D3472*$F3472*H3472","v":0},{"$f":"SUM(I3472:I3477)","v":0}]
[null,null,null,null,"อสังหาริมทรัพย์",null,{"$f":"D3472*F3473","v":0},null,{"$f":"$D3472*$F3473*H3473","v":0}]
[null,null,null,null,"สินค้าโภคภัณฑ์",null,{"$f":"D3472*F3474","v":0},null,{"$f":"$D3472*$F3474*H3474","v":0}]
[null,null,null,null,"เงินฝาก",null,{"$f":"D3472*F3475","v":0},null,{"$f":"$D3472*$F3475*H3475","v":0}]
[null,null,null,null,"ตราสารหนี้",null,{"$f":"D3472*F3476","v":0},null,{"$f":"$D3472*$F3476*H3476","v":0}]
[null,null,null,null,"อื่นๆ",null,{"$f":"D3472*F3477","v":0},null,{"$f":"$D3472*$F3477*H3477","v":0}]
[null,579,null,null,"ตราสารทุน",null,{"$f":"D3478*F3478","v":0},null,{"$f":"$D3478*$F3478*H3478","v":0},{"$f":"SUM(I3478:I3483)","v":0}]
[null,null,null,null,"อสังหาริมทรัพย์",null,{"$f":"D3478*F3479","v":0},null,{"$f":"$D3478*$F3479*H3479","v":0}]
[null,null,null,null,"สินค้าโภคภัณฑ์",null,{"$f":"D3478*F3480","v":0},null,{"$f":"$D3478*$F3480*H3480","v":0}]
[null,null,null,null,"เงินฝาก",null,{"$f":"D3478*F3481","v":0},null,{"$f":"$D3478*$F3481*H3481","v":0}]
[null,null,null,null,"ตราสารหนี้",null,{"$f":"D3478*F3482","v":0},null,{"$f":"$D3478*$F3482*H3482","v":0}]
[null,null,null,null,"อื่นๆ",null,{"$f":"D3478*F3483","v":0},null,{"$f":"$D3478*$F3483*H3483","v":0}]
[null,580,null,null,"ตราสารทุน",null,{"$f":"D3484*F3484","v":0},null,{"$f":"$D3484*$F3484*H3484","v":0},{"$f":"SUM(I3484:I3489)","v":0}]
[null,null,null,null,"อสังหาริมทรัพย์",null,{"$f":"D3484*F3485","v":0},null,{"$f":"$D3484*$F3485*H3485","v":0}]
[null,null,null,null,"สินค้าโภคภัณฑ์",null,{"$f":"D3484*F3486","v":0},null,{"$f":"$D3484*$F3486*H3486","v":0}]
[null,null,null,null,"เงินฝาก",null,{"$f":"D3484*F3487","v":0},null,{"$f":"$D3484*$F3487*H3487","v":0}]
[null,null,null,null,"ตราสารหนี้",null,{"$f":"D3484*F3488","v":0},null,{"$f":"$D3484*$F3488*H3488","v":0}]
[null,null,null,null,"อื่นๆ",null,{"$f":"D3484*F3489","v":0},null,{"$f":"$D3484*$F3489*H3489","v":0}]
[null,581,null,null,"ตราสารทุน",null,{"$f":"D3490*F3490","v":0},null,{"$f":"$D3490*$F3490*H3490","v":0},{"$f":"SUM(I3490:I3495)","v":0}]
[null,null,null,null,"อสังหาริมทรัพย์",null,{"$f":"D3490*F3491","v":0},null,{"$f":"$D3490*$F3491*H3491","v":0}]
[null,null,null,null,"สินค้าโภคภัณฑ์",null,{"$f":"D3490*F3492","v":0},null,{"$f":"$D3490*$F3492*H3492","v":0}]
[null,null,null,null,"เงินฝาก",null,{"$f":"D3490*F3493","v":0},null,{"$f":"$D3490*$F3493*H3493","v":0}]
[null,null,null,null,"ตราสารหนี้",null,{"$f":"D3490*F3494","v":0},null,{"$f":"$D3490*$F3494*H3494","v":0}]
[null,null,null,null,"อื่นๆ",null,{"$f":"D3490*F3495","v":0},null,{"$f":"$D3490*$F3495*H3495","v":0}]
[null,582,null,null,"ตราสารทุน",null,{"$f":"D3496*F3496","v":0},null,{"$f":"$D3496*$F3496*H3496","v":0},{"$f":"SUM(I3496:I3501)","v":0}]
[null,null,null,null,"อสังหาริมทรัพย์",null,{"$f":"D3496*F3497","v":0},null,{"$f":"$D3496*$F3497*H3497","v":0}]
[null,null,null,null,"สินค้าโภคภัณฑ์",null,{"$f":"D3496*F3498","v":0},null,{"$f":"$D3496*$F3498*H3498","v":0}]
[null,null,null,null,"เงินฝาก",null,{"$f":"D3496*F3499","v":0},null,{"$f":"$D3496*$F3499*H3499","v":0}]
[null,null,null,null,"ตราสารหนี้",null,{"$f":"D3496*F3500","v":0},null,{"$f":"$D3496*$F3500*H3500","v":0}]
[null,null,null,null,"อื่นๆ",null,{"$f":"D3496*F3501","v":0},null,{"$f":"$D3496*$F3501*H3501","v":0}]
[null,583,null,null,"ตราสารทุน",null,{"$f":"D3502*F3502","v":0},null,{"$f":"$D3502*$F3502*H3502","v":0},{"$f":"SUM(I3502:I3507)","v":0}]
[null,null,null,null,"อสังหาริมทรัพย์",null,{"$f":"D3502*F3503","v":0},null,{"$f":"$D3502*$F3503*H3503","v":0}]
[null,null,null,null,"สินค้าโภคภัณฑ์",null,{"$f":"D3502*F3504","v":0},null,{"$f":"$D3502*$F3504*H3504","v":0}]
[null,null,null,null,"เงินฝาก",null,{"$f":"D3502*F3505","v":0},null,{"$f":"$D3502*$F3505*H3505","v":0}]
[null,null,null,null,"ตราสารหนี้",null,{"$f":"D3502*F3506","v":0},null,{"$f":"$D3502*$F3506*H3506","v":0}]
[null,null,null,null,"อื่นๆ",null,{"$f":"D3502*F3507","v":0},null,{"$f":"$D3502*$F3507*H3507","v":0}]
[null,584,null,null,"ตราสารทุน",null,{"$f":"D3508*F3508","v":0},null,{"$f":"$D3508*$F3508*H3508","v":0},{"$f":"SUM(I3508:I3513)","v":0}]
[null,null,null,null,"อสังหาริมทรัพย์",null,{"$f":"D3508*F3509","v":0},null,{"$f":"$D3508*$F3509*H3509","v":0}]
[null,null,null,null,"สินค้าโภคภัณฑ์",null,{"$f":"D3508*F3510","v":0},null,{"$f":"$D3508*$F3510*H3510","v":0}]
[null,null,null,null,"เงินฝาก",null,{"$f":"D3508*F3511","v":0},null,{"$f":"$D3508*$F3511*H3511","v":0}]
[null,null,null,null,"ตราสารหนี้",null,{"$f":"D3508*F3512","v":0},null,{"$f":"$D3508*$F3512*H3512","v":0}]
[null,null,null,null,"อื่นๆ",null,{"$f":"D3508*F3513","v":0},null,{"$f":"$D3508*$F3513*H3513","v":0}]
[null,585,null,null,"ตราสารทุน",null,{"$f":"D3514*F3514","v":0},null,{"$f":"$D3514*$F3514*H3514","v":0},{"$f":"SUM(I3514:I3519)","v":0}]
[null,null,null,null,"อสังหาริมทรัพย์",null,{"$f":"D3514*F3515","v":0},null,{"$f":"$D3514*$F3515*H3515","v":0}]
[null,null,null,null,"สินค้าโภคภัณฑ์",null,{"$f":"D3514*F3516","v":0},null,{"$f":"$D3514*$F3516*H3516","v":0}]
[null,null,null,null,"เงินฝาก",null,{"$f":"D3514*F3517","v":0},null,{"$f":"$D3514*$F3517*H3517","v":0}]
[null,null,null,null,"ตราสารหนี้",null,{"$f":"D3514*F3518","v":0},null,{"$f":"$D3514*$F3518*H3518","v":0}]
[null,null,null,null,"อื่นๆ",null,{"$f":"D3514*F3519","v":0},null,{"$f":"$D3514*$F3519*H3519","v":0}]
[null,586,null,null,"ตราสารทุน",null,{"$f":"D3520*F3520","v":0},null,{"$f":"$D3520*$F3520*H3520","v":0},{"$f":"SUM(I3520:I3525)","v":0}]
[null,null,null,null,"อสังหาริมทรัพย์",null,{"$f":"D3520*F3521","v":0},null,{"$f":"$D3520*$F3521*H3521","v":0}]
[null,null,null,null,"สินค้าโภคภัณฑ์",null,{"$f":"D3520*F3522","v":0},null,{"$f":"$D3520*$F3522*H3522","v":0}]
[null,null,null,null,"เงินฝาก",null,{"$f":"D3520*F3523","v":0},null,{"$f":"$D3520*$F3523*H3523","v":0}]
[null,null,null,null,"ตราสารหนี้",null,{"$f":"D3520*F3524","v":0},null,{"$f":"$D3520*$F3524*H3524","v":0}]
[null,null,null,null,"อื่นๆ",null,{"$f":"D3520*F3525","v":0},null,{"$f":"$D3520*$F3525*H3525","v":0}]
[null,587,null,null,"ตราสารทุน",null,{"$f":"D3526*F3526","v":0},null,{"$f":"$D3526*$F3526*H3526","v":0},{"$f":"SUM(I3526:I3531)","v":0}]
[null,null,null,null,"อสังหาริมทรัพย์",null,{"$f":"D3526*F3527","v":0},null,{"$f":"$D3526*$F3527*H3527","v":0}]
[null,null,null,null,"สินค้าโภคภัณฑ์",null,{"$f":"D3526*F3528","v":0},null,{"$f":"$D3526*$F3528*H3528","v":0}]
[null,null,null,null,"เงินฝาก",null,{"$f":"D3526*F3529","v":0},null,{"$f":"$D3526*$F3529*H3529","v":0}]
[null,null,null,null,"ตราสารหนี้",null,{"$f":"D3526*F3530","v":0},null,{"$f":"$D3526*$F3530*H3530","v":0}]
[null,null,null,null,"อื่นๆ",null,{"$f":"D3526*F3531","v":0},null,{"$f":"$D3526*$F3531*H3531","v":0}]
[null,588,null,null,"ตราสารทุน",null,{"$f":"D3532*F3532","v":0},null,{"$f":"$D3532*$F3532*H3532","v":0},{"$f":"SUM(I3532:I3537)","v":0}]
[null,null,null,null,"อสังหาริมทรัพย์",null,{"$f":"D3532*F3533","v":0},null,{"$f":"$D3532*$F3533*H3533","v":0}]
[null,null,null,null,"สินค้าโภคภัณฑ์",null,{"$f":"D3532*F3534","v":0},null,{"$f":"$D3532*$F3534*H3534","v":0}]
[null,null,null,null,"เงินฝาก",null,{"$f":"D3532*F3535","v":0},null,{"$f":"$D3532*$F3535*H3535","v":0}]
[null,null,null,null,"ตราสารหนี้",null,{"$f":"D3532*F3536","v":0},null,{"$f":"$D3532*$F3536*H3536","v":0}]
[null,null,null,null,"อื่นๆ",null,{"$f":"D3532*F3537","v":0},null,{"$f":"$D3532*$F3537*H3537","v":0}]
[null,589,null,null,"ตราสารทุน",null,{"$f":"D3538*F3538","v":0},null,{"$f":"$D3538*$F3538*H3538","v":0},{"$f":"SUM(I3538:I3543)","v":0}]
[null,null,null,null,"อสังหาริมทรัพย์",null,{"$f":"D3538*F3539","v":0},null,{"$f":"$D3538*$F3539*H3539","v":0}]
[null,null,null,null,"สินค้าโภคภัณฑ์",null,{"$f":"D3538*F3540","v":0},null,{"$f":"$D3538*$F3540*H3540","v":0}]
[null,null,null,null,"เงินฝาก",null,{"$f":"D3538*F3541","v":0},null,{"$f":"$D3538*$F3541*H3541","v":0}]
[null,null,null,null,"ตราสารหนี้",null,{"$f":"D3538*F3542","v":0},null,{"$f":"$D3538*$F3542*H3542","v":0}]
[null,null,null,null,"อื่นๆ",null,{"$f":"D3538*F3543","v":0},null,{"$f":"$D3538*$F3543*H3543","v":0}]
[null,590,null,null,"ตราสารทุน",null,{"$f":"D3544*F3544","v":0},null,{"$f":"$D3544*$F3544*H3544","v":0},{"$f":"SUM(I3544:I3549)","v":0}]
[null,null,null,null,"อสังหาริมทรัพย์",null,{"$f":"D3544*F3545","v":0},null,{"$f":"$D3544*$F3545*H3545","v":0}]
[null,null,null,null,"สินค้าโภคภัณฑ์",null,{"$f":"D3544*F3546","v":0},null,{"$f":"$D3544*$F3546*H3546","v":0}]
[null,null,null,null,"เงินฝาก",null,{"$f":"D3544*F3547","v":0},null,{"$f":"$D3544*$F3547*H3547","v":0}]
[null,null,null,null,"ตราสารหนี้",null,{"$f":"D3544*F3548","v":0},null,{"$f":"$D3544*$F3548*H3548","v":0}]
[null,null,null,null,"อื่นๆ",null,{"$f":"D3544*F3549","v":0},null,{"$f":"$D3544*$F3549*H3549","v":0}]
[null,591,null,null,"ตราสารทุน",null,{"$f":"D3550*F3550","v":0},null,{"$f":"$D3550*$F3550*H3550","v":0},{"$f":"SUM(I3550:I3555)","v":0}]
[null,null,null,null,"อสังหาริมทรัพย์",null,{"$f":"D3550*F3551","v":0},null,{"$f":"$D3550*$F3551*H3551","v":0}]
[null,null,null,null,"สินค้าโภคภัณฑ์",null,{"$f":"D3550*F3552","v":0},null,{"$f":"$D3550*$F3552*H3552","v":0}]
[null,null,null,null,"เงินฝาก",null,{"$f":"D3550*F3553","v":0},null,{"$f":"$D3550*$F3553*H3553","v":0}]
[null,null,null,null,"ตราสารหนี้",null,{"$f":"D3550*F3554","v":0},null,{"$f":"$D3550*$F3554*H3554","v":0}]
[null,null,null,null,"อื่นๆ",null,{"$f":"D3550*F3555","v":0},null,{"$f":"$D3550*$F3555*H3555","v":0}]
[null,592,null,null,"ตราสารทุน",null,{"$f":"D3556*F3556","v":0},null,{"$f":"$D3556*$F3556*H3556","v":0},{"$f":"SUM(I3556:I3561)","v":0}]
[null,null,null,null,"อสังหาริมทรัพย์",null,{"$f":"D3556*F3557","v":0},null,{"$f":"$D3556*$F3557*H3557","v":0}]
[null,null,null,null,"สินค้าโภคภัณฑ์",null,{"$f":"D3556*F3558","v":0},null,{"$f":"$D3556*$F3558*H3558","v":0}]
[null,null,null,null,"เงินฝาก",null,{"$f":"D3556*F3559","v":0},null,{"$f":"$D3556*$F3559*H3559","v":0}]
[null,null,null,null,"ตราสารหนี้",null,{"$f":"D3556*F3560","v":0},null,{"$f":"$D3556*$F3560*H3560","v":0}]
[null,null,null,null,"อื่นๆ",null,{"$f":"D3556*F3561","v":0},null,{"$f":"$D3556*$F3561*H3561","v":0}]
[null,593,null,null,"ตราสารทุน",null,{"$f":"D3562*F3562","v":0},null,{"$f":"$D3562*$F3562*H3562","v":0},{"$f":"SUM(I3562:I3567)","v":0}]
[null,null,null,null,"อสังหาริมทรัพย์",null,{"$f":"D3562*F3563","v":0},null,{"$f":"$D3562*$F3563*H3563","v":0}]
[null,null,null,null,"สินค้าโภคภัณฑ์",null,{"$f":"D3562*F3564","v":0},null,{"$f":"$D3562*$F3564*H3564","v":0}]
[null,null,null,null,"เงินฝาก",null,{"$f":"D3562*F3565","v":0},null,{"$f":"$D3562*$F3565*H3565","v":0}]
[null,null,null,null,"ตราสารหนี้",null,{"$f":"D3562*F3566","v":0},null,{"$f":"$D3562*$F3566*H3566","v":0}]
[null,null,null,null,"อื่นๆ",null,{"$f":"D3562*F3567","v":0},null,{"$f":"$D3562*$F3567*H3567","v":0}]
[null,594,null,null,"ตราสารทุน",null,{"$f":"D3568*F3568","v":0},null,{"$f":"$D3568*$F3568*H3568","v":0},{"$f":"SUM(I3568:I3573)","v":0}]
[null,null,null,null,"อสังหาริมทรัพย์",null,{"$f":"D3568*F3569","v":0},null,{"$f":"$D3568*$F3569*H3569","v":0}]
[null,null,null,null,"สินค้าโภคภัณฑ์",null,{"$f":"D3568*F3570","v":0},null,{"$f":"$D3568*$F3570*H3570","v":0}]
[null,null,null,null,"เงินฝาก",null,{"$f":"D3568*F3571","v":0},null,{"$f":"$D3568*$F3571*H3571","v":0}]
[null,null,null,null,"ตราสารหนี้",null,{"$f":"D3568*F3572","v":0},null,{"$f":"$D3568*$F3572*H3572","v":0}]
[null,null,null,null,"อื่นๆ",null,{"$f":"D3568*F3573","v":0},null,{"$f":"$D3568*$F3573*H3573","v":0}]
[null,595,null,null,"ตราสารทุน",null,{"$f":"D3574*F3574","v":0},null,{"$f":"$D3574*$F3574*H3574","v":0},{"$f":"SUM(I3574:I3579)","v":0}]
[null,null,null,null,"อสังหาริมทรัพย์",null,{"$f":"D3574*F3575","v":0},null,{"$f":"$D3574*$F3575*H3575","v":0}]
[null,null,null,null,"สินค้าโภคภัณฑ์",null,{"$f":"D3574*F3576","v":0},null,{"$f":"$D3574*$F3576*H3576","v":0}]
[null,null,null,null,"เงินฝาก",null,{"$f":"D3574*F3577","v":0},null,{"$f":"$D3574*$F3577*H3577","v":0}]
[null,null,null,null,"ตราสารหนี้",null,{"$f":"D3574*F3578","v":0},null,{"$f":"$D3574*$F3578*H3578","v":0}]
[null,null,null,null,"อื่นๆ",null,{"$f":"D3574*F3579","v":0},null,{"$f":"$D3574*$F3579*H3579","v":0}]
[null,596,null,null,"ตราสารทุน",null,{"$f":"D3580*F3580","v":0},null,{"$f":"$D3580*$F3580*H3580","v":0},{"$f":"SUM(I3580:I3585)","v":0}]
[null,null,null,null,"อสังหาริมทรัพย์",null,{"$f":"D3580*F3581","v":0},null,{"$f":"$D3580*$F3581*H3581","v":0}]
[null,null,null,null,"สินค้าโภคภัณฑ์",null,{"$f":"D3580*F3582","v":0},null,{"$f":"$D3580*$F3582*H3582","v":0}]
[null,null,null,null,"เงินฝาก",null,{"$f":"D3580*F3583","v":0},null,{"$f":"$D3580*$F3583*H3583","v":0}]
[null,null,null,null,"ตราสารหนี้",null,{"$f":"D3580*F3584","v":0},null,{"$f":"$D3580*$F3584*H3584","v":0}]
[null,null,null,null,"อื่นๆ",null,{"$f":"D3580*F3585","v":0},null,{"$f":"$D3580*$F3585*H3585","v":0}]
[null,597,null,null,"ตราสารทุน",null,{"$f":"D3586*F3586","v":0},null,{"$f":"$D3586*$F3586*H3586","v":0},{"$f":"SUM(I3586:I3591)","v":0}]
[null,null,null,null,"อสังหาริมทรัพย์",null,{"$f":"D3586*F3587","v":0},null,{"$f":"$D3586*$F3587*H3587","v":0}]
[null,null,null,null,"สินค้าโภคภัณฑ์",null,{"$f":"D3586*F3588","v":0},null,{"$f":"$D3586*$F3588*H3588","v":0}]
[null,null,null,null,"เงินฝาก",null,{"$f":"D3586*F3589","v":0},null,{"$f":"$D3586*$F3589*H3589","v":0}]
[null,null,null,null,"ตราสารหนี้",null,{"$f":"D3586*F3590","v":0},null,{"$f":"$D3586*$F3590*H3590","v":0}]
[null,null,null,null,"อื่นๆ",null,{"$f":"D3586*F3591","v":0},null,{"$f":"$D3586*$F3591*H3591","v":0}]
[null,598,null,null,"ตราสารทุน",null,{"$f":"D3592*F3592","v":0},null,{"$f":"$D3592*$F3592*H3592","v":0},{"$f":"SUM(I3592:I3597)","v":0}]
[null,null,null,null,"อสังหาริมทรัพย์",null,{"$f":"D3592*F3593","v":0},null,{"$f":"$D3592*$F3593*H3593","v":0}]
[null,null,null,null,"สินค้าโภคภัณฑ์",null,{"$f":"D3592*F3594","v":0},null,{"$f":"$D3592*$F3594*H3594","v":0}]
[null,null,null,null,"เงินฝาก",null,{"$f":"D3592*F3595","v":0},null,{"$f":"$D3592*$F3595*H3595","v":0}]
[null,null,null,null,"ตราสารหนี้",null,{"$f":"D3592*F3596","v":0},null,{"$f":"$D3592*$F3596*H3596","v":0}]
[null,null,null,null,"อื่นๆ",null,{"$f":"D3592*F3597","v":0},null,{"$f":"$D3592*$F3597*H3597","v":0}]
[null,599,null,null,"ตราสารทุน",null,{"$f":"D3598*F3598","v":0},null,{"$f":"$D3598*$F3598*H3598","v":0},{"$f":"SUM(I3598:I3603)","v":0}]
[null,null,null,null,"อสังหาริมทรัพย์",null,{"$f":"D3598*F3599","v":0},null,{"$f":"$D3598*$F3599*H3599","v":0}]
[null,null,null,null,"สินค้าโภคภัณฑ์",null,{"$f":"D3598*F3600","v":0},null,{"$f":"$D3598*$F3600*H3600","v":0}]
[null,null,null,null,"เงินฝาก",null,{"$f":"D3598*F3601","v":0},null,{"$f":"$D3598*$F3601*H3601","v":0}]
[null,null,null,null,"ตราสารหนี้",null,{"$f":"D3598*F3602","v":0},null,{"$f":"$D3598*$F3602*H3602","v":0}]
[null,null,null,null,"อื่นๆ",null,{"$f":"D3598*F3603","v":0},null,{"$f":"$D3598*$F3603*H3603","v":0}]
[null,600,null,null,"ตราสารทุน",null,{"$f":"D3604*F3604","v":0},null,{"$f":"$D3604*$F3604*H3604","v":0},{"$f":"SUM(I3604:I3609)","v":0}]
[null,null,null,null,"อสังหาริมทรัพย์",null,{"$f":"D3604*F3605","v":0},null,{"$f":"$D3604*$F3605*H3605","v":0}]
[null,null,null,null,"สินค้าโภคภัณฑ์",null,{"$f":"D3604*F3606","v":0},null,{"$f":"$D3604*$F3606*H3606","v":0}]
[null,null,null,null,"เงินฝาก",null,{"$f":"D3604*F3607","v":0},null,{"$f":"$D3604*$F3607*H3607","v":0}]
[null,null,null,null,"ตราสารหนี้",null,{"$f":"D3604*F3608","v":0},null,{"$f":"$D3604*$F3608*H3608","v":0}]
[null,null,null,null,"อื่นๆ",null,{"$f":"D3604*F3609","v":0},null,{"$f":"$D3604*$F3609*H3609","v":0}]
[null,601,null,null,"ตราสารทุน",null,{"$f":"D3610*F3610","v":0},null,{"$f":"$D3610*$F3610*H3610","v":0},{"$f":"SUM(I3610:I3615)","v":0}]
[null,null,null,null,"อสังหาริมทรัพย์",null,{"$f":"D3610*F3611","v":0},null,{"$f":"$D3610*$F3611*H3611","v":0}]
[null,null,null,null,"สินค้าโภคภัณฑ์",null,{"$f":"D3610*F3612","v":0},null,{"$f":"$D3610*$F3612*H3612","v":0}]
[null,null,null,null,"เงินฝาก",null,{"$f":"D3610*F3613","v":0},null,{"$f":"$D3610*$F3613*H3613","v":0}]
[null,null,null,null,"ตราสารหนี้",null,{"$f":"D3610*F3614","v":0},null,{"$f":"$D3610*$F3614*H3614","v":0}]
[null,null,null,null,"อื่นๆ",null,{"$f":"D3610*F3615","v":0},null,{"$f":"$D3610*$F3615*H3615","v":0}]
[null,602,null,null,"ตราสารทุน",null,{"$f":"D3616*F3616","v":0},null,{"$f":"$D3616*$F3616*H3616","v":0},{"$f":"SUM(I3616:I3621)","v":0}]
[null,null,null,null,"อสังหาริมทรัพย์",null,{"$f":"D3616*F3617","v":0},null,{"$f":"$D3616*$F3617*H3617","v":0}]
[null,null,null,null,"สินค้าโภคภัณฑ์",null,{"$f":"D3616*F3618","v":0},null,{"$f":"$D3616*$F3618*H3618","v":0}]
[null,null,null,null,"เงินฝาก",null,{"$f":"D3616*F3619","v":0},null,{"$f":"$D3616*$F3619*H3619","v":0}]
[null,null,null,null,"ตราสารหนี้",null,{"$f":"D3616*F3620","v":0},null,{"$f":"$D3616*$F3620*H3620","v":0}]
[null,null,null,null,"อื่นๆ",null,{"$f":"D3616*F3621","v":0},null,{"$f":"$D3616*$F3621*H3621","v":0}]
[null,603,null,null,"ตราสารทุน",null,{"$f":"D3622*F3622","v":0},null,{"$f":"$D3622*$F3622*H3622","v":0},{"$f":"SUM(I3622:I3627)","v":0}]
[null,null,null,null,"อสังหาริมทรัพย์",null,{"$f":"D3622*F3623","v":0},null,{"$f":"$D3622*$F3623*H3623","v":0}]
[null,null,null,null,"สินค้าโภคภัณฑ์",null,{"$f":"D3622*F3624","v":0},null,{"$f":"$D3622*$F3624*H3624","v":0}]
[null,null,null,null,"เงินฝาก",null,{"$f":"D3622*F3625","v":0},null,{"$f":"$D3622*$F3625*H3625","v":0}]
[null,null,null,null,"ตราสารหนี้",null,{"$f":"D3622*F3626","v":0},null,{"$f":"$D3622*$F3626*H3626","v":0}]
[null,null,null,null,"อื่นๆ",null,{"$f":"D3622*F3627","v":0},null,{"$f":"$D3622*$F3627*H3627","v":0}]
[null,604,null,null,"ตราสารทุน",null,{"$f":"D3628*F3628","v":0},null,{"$f":"$D3628*$F3628*H3628","v":0},{"$f":"SUM(I3628:I3633)","v":0}]
[null,null,null,null,"อสังหาริมทรัพย์",null,{"$f":"D3628*F3629","v":0},null,{"$f":"$D3628*$F3629*H3629","v":0}]
[null,null,null,null,"สินค้าโภคภัณฑ์",null,{"$f":"D3628*F3630","v":0},null,{"$f":"$D3628*$F3630*H3630","v":0}]
[null,null,null,null,"เงินฝาก",null,{"$f":"D3628*F3631","v":0},null,{"$f":"$D3628*$F3631*H3631","v":0}]
[null,null,null,null,"ตราสารหนี้",null,{"$f":"D3628*F3632","v":0},null,{"$f":"$D3628*$F3632*H3632","v":0}]
[null,null,null,null,"อื่นๆ",null,{"$f":"D3628*F3633","v":0},null,{"$f":"$D3628*$F3633*H3633","v":0}]
[null,605,null,null,"ตราสารทุน",null,{"$f":"D3634*F3634","v":0},null,{"$f":"$D3634*$F3634*H3634","v":0},{"$f":"SUM(I3634:I3639)","v":0}]
[null,null,null,null,"อสังหาริมทรัพย์",null,{"$f":"D3634*F3635","v":0},null,{"$f":"$D3634*$F3635*H3635","v":0}]
[null,null,null,null,"สินค้าโภคภัณฑ์",null,{"$f":"D3634*F3636","v":0},null,{"$f":"$D3634*$F3636*H3636","v":0}]
[null,null,null,null,"เงินฝาก",null,{"$f":"D3634*F3637","v":0},null,{"$f":"$D3634*$F3637*H3637","v":0}]
[null,null,null,null,"ตราสารหนี้",null,{"$f":"D3634*F3638","v":0},null,{"$f":"$D3634*$F3638*H3638","v":0}]
[null,null,null,null,"อื่นๆ",null,{"$f":"D3634*F3639","v":0},null,{"$f":"$D3634*$F3639*H3639","v":0}]
[null,606,null,null,"ตราสารทุน",null,{"$f":"D3640*F3640","v":0},null,{"$f":"$D3640*$F3640*H3640","v":0},{"$f":"SUM(I3640:I3645)","v":0}]
[null,null,null,null,"อสังหาริมทรัพย์",null,{"$f":"D3640*F3641","v":0},null,{"$f":"$D3640*$F3641*H3641","v":0}]
[null,null,null,null,"สินค้าโภคภัณฑ์",null,{"$f":"D3640*F3642","v":0},null,{"$f":"$D3640*$F3642*H3642","v":0}]
[null,null,null,null,"เงินฝาก",null,{"$f":"D3640*F3643","v":0},null,{"$f":"$D3640*$F3643*H3643","v":0}]
[null,null,null,null,"ตราสารหนี้",null,{"$f":"D3640*F3644","v":0},null,{"$f":"$D3640*$F3644*H3644","v":0}]
[null,null,null,null,"อื่นๆ",null,{"$f":"D3640*F3645","v":0},null,{"$f":"$D3640*$F3645*H3645","v":0}]
[null,607,null,null,"ตราสารทุน",null,{"$f":"D3646*F3646","v":0},null,{"$f":"$D3646*$F3646*H3646","v":0},{"$f":"SUM(I3646:I3651)","v":0}]
[null,null,null,null,"อสังหาริมทรัพย์",null,{"$f":"D3646*F3647","v":0},null,{"$f":"$D3646*$F3647*H3647","v":0}]
[null,null,null,null,"สินค้าโภคภัณฑ์",null,{"$f":"D3646*F3648","v":0},null,{"$f":"$D3646*$F3648*H3648","v":0}]
[null,null,null,null,"เงินฝาก",null,{"$f":"D3646*F3649","v":0},null,{"$f":"$D3646*$F3649*H3649","v":0}]
[null,null,null,null,"ตราสารหนี้",null,{"$f":"D3646*F3650","v":0},null,{"$f":"$D3646*$F3650*H3650","v":0}]
[null,null,null,null,"อื่นๆ",null,{"$f":"D3646*F3651","v":0},null,{"$f":"$D3646*$F3651*H3651","v":0}]
[null,608,null,null,"ตราสารทุน",null,{"$f":"D3652*F3652","v":0},null,{"$f":"$D3652*$F3652*H3652","v":0},{"$f":"SUM(I3652:I3657)","v":0}]
[null,null,null,null,"อสังหาริมทรัพย์",null,{"$f":"D3652*F3653","v":0},null,{"$f":"$D3652*$F3653*H3653","v":0}]
[null,null,null,null,"สินค้าโภคภัณฑ์",null,{"$f":"D3652*F3654","v":0},null,{"$f":"$D3652*$F3654*H3654","v":0}]
[null,null,null,null,"เงินฝาก",null,{"$f":"D3652*F3655","v":0},null,{"$f":"$D3652*$F3655*H3655","v":0}]
[null,null,null,null,"ตราสารหนี้",null,{"$f":"D3652*F3656","v":0},null,{"$f":"$D3652*$F3656*H3656","v":0}]
[null,null,null,null,"อื่นๆ",null,{"$f":"D3652*F3657","v":0},null,{"$f":"$D3652*$F3657*H3657","v":0}]
[null,609,null,null,"ตราสารทุน",null,{"$f":"D3658*F3658","v":0},null,{"$f":"$D3658*$F3658*H3658","v":0},{"$f":"SUM(I3658:I3663)","v":0}]
[null,null,null,null,"อสังหาริมทรัพย์",null,{"$f":"D3658*F3659","v":0},null,{"$f":"$D3658*$F3659*H3659","v":0}]
[null,null,null,null,"สินค้าโภคภัณฑ์",null,{"$f":"D3658*F3660","v":0},null,{"$f":"$D3658*$F3660*H3660","v":0}]
[null,null,null,null,"เงินฝาก",null,{"$f":"D3658*F3661","v":0},null,{"$f":"$D3658*$F3661*H3661","v":0}]
[null,null,null,null,"ตราสารหนี้",null,{"$f":"D3658*F3662","v":0},null,{"$f":"$D3658*$F3662*H3662","v":0}]
[null,null,null,null,"อื่นๆ",null,{"$f":"D3658*F3663","v":0},null,{"$f":"$D3658*$F3663*H3663","v":0}]
[null,610,null,null,"ตราสารทุน",null,{"$f":"D3664*F3664","v":0},null,{"$f":"$D3664*$F3664*H3664","v":0},{"$f":"SUM(I3664:I3669)","v":0}]
[null,null,null,null,"อสังหาริมทรัพย์",null,{"$f":"D3664*F3665","v":0},null,{"$f":"$D3664*$F3665*H3665","v":0}]
[null,null,null,null,"สินค้าโภคภัณฑ์",null,{"$f":"D3664*F3666","v":0},null,{"$f":"$D3664*$F3666*H3666","v":0}]
[null,null,null,null,"เงินฝาก",null,{"$f":"D3664*F3667","v":0},null,{"$f":"$D3664*$F3667*H3667","v":0}]
[null,null,null,null,"ตราสารหนี้",null,{"$f":"D3664*F3668","v":0},null,{"$f":"$D3664*$F3668*H3668","v":0}]
[null,null,null,null,"อื่นๆ",null,{"$f":"D3664*F3669","v":0},null,{"$f":"$D3664*$F3669*H3669","v":0}]
[null,611,null,null,"ตราสารทุน",null,{"$f":"D3670*F3670","v":0},null,{"$f":"$D3670*$F3670*H3670","v":0},{"$f":"SUM(I3670:I3675)","v":0}]
[null,null,null,null,"อสังหาริมทรัพย์",null,{"$f":"D3670*F3671","v":0},null,{"$f":"$D3670*$F3671*H3671","v":0}]
[null,null,null,null,"สินค้าโภคภัณฑ์",null,{"$f":"D3670*F3672","v":0},null,{"$f":"$D3670*$F3672*H3672","v":0}]
[null,null,null,null,"เงินฝาก",null,{"$f":"D3670*F3673","v":0},null,{"$f":"$D3670*$F3673*H3673","v":0}]
[null,null,null,null,"ตราสารหนี้",null,{"$f":"D3670*F3674","v":0},null,{"$f":"$D3670*$F3674*H3674","v":0}]
[null,null,null,null,"อื่นๆ",null,{"$f":"D3670*F3675","v":0},null,{"$f":"$D3670*$F3675*H3675","v":0}]
[null,612,null,null,"ตราสารทุน",null,{"$f":"D3676*F3676","v":0},null,{"$f":"$D3676*$F3676*H3676","v":0},{"$f":"SUM(I3676:I3681)","v":0}]
[null,null,null,null,"อสังหาริมทรัพย์",null,{"$f":"D3676*F3677","v":0},null,{"$f":"$D3676*$F3677*H3677","v":0}]
[null,null,null,null,"สินค้าโภคภัณฑ์",null,{"$f":"D3676*F3678","v":0},null,{"$f":"$D3676*$F3678*H3678","v":0}]
[null,null,null,null,"เงินฝาก",null,{"$f":"D3676*F3679","v":0},null,{"$f":"$D3676*$F3679*H3679","v":0}]
[null,null,null,null,"ตราสารหนี้",null,{"$f":"D3676*F3680","v":0},null,{"$f":"$D3676*$F3680*H3680","v":0}]
[null,null,null,null,"อื่นๆ",null,{"$f":"D3676*F3681","v":0},null,{"$f":"$D3676*$F3681*H3681","v":0}]
[null,613,null,null,"ตราสารทุน",null,{"$f":"D3682*F3682","v":0},null,{"$f":"$D3682*$F3682*H3682","v":0},{"$f":"SUM(I3682:I3687)","v":0}]
[null,null,null,null,"อสังหาริมทรัพย์",null,{"$f":"D3682*F3683","v":0},null,{"$f":"$D3682*$F3683*H3683","v":0}]
[null,null,null,null,"สินค้าโภคภัณฑ์",null,{"$f":"D3682*F3684","v":0},null,{"$f":"$D3682*$F3684*H3684","v":0}]
[null,null,null,null,"เงินฝาก",null,{"$f":"D3682*F3685","v":0},null,{"$f":"$D3682*$F3685*H3685","v":0}]
[null,null,null,null,"ตราสารหนี้",null,{"$f":"D3682*F3686","v":0},null,{"$f":"$D3682*$F3686*H3686","v":0}]
[null,null,null,null,"อื่นๆ",null,{"$f":"D3682*F3687","v":0},null,{"$f":"$D3682*$F3687*H3687","v":0}]
[null,614,null,null,"ตราสารทุน",null,{"$f":"D3688*F3688","v":0},null,{"$f":"$D3688*$F3688*H3688","v":0},{"$f":"SUM(I3688:I3693)","v":0}]
[null,null,null,null,"อสังหาริมทรัพย์",null,{"$f":"D3688*F3689","v":0},null,{"$f":"$D3688*$F3689*H3689","v":0}]
[null,null,null,null,"สินค้าโภคภัณฑ์",null,{"$f":"D3688*F3690","v":0},null,{"$f":"$D3688*$F3690*H3690","v":0}]
[null,null,null,null,"เงินฝาก",null,{"$f":"D3688*F3691","v":0},null,{"$f":"$D3688*$F3691*H3691","v":0}]
[null,null,null,null,"ตราสารหนี้",null,{"$f":"D3688*F3692","v":0},null,{"$f":"$D3688*$F3692*H3692","v":0}]
[null,null,null,null,"อื่นๆ",null,{"$f":"D3688*F3693","v":0},null,{"$f":"$D3688*$F3693*H3693","v":0}]
[null,615,null,null,"ตราสารทุน",null,{"$f":"D3694*F3694","v":0},null,{"$f":"$D3694*$F3694*H3694","v":0},{"$f":"SUM(I3694:I3699)","v":0}]
[null,null,null,null,"อสังหาริมทรัพย์",null,{"$f":"D3694*F3695","v":0},null,{"$f":"$D3694*$F3695*H3695","v":0}]
[null,null,null,null,"สินค้าโภคภัณฑ์",null,{"$f":"D3694*F3696","v":0},null,{"$f":"$D3694*$F3696*H3696","v":0}]
[null,null,null,null,"เงินฝาก",null,{"$f":"D3694*F3697","v":0},null,{"$f":"$D3694*$F3697*H3697","v":0}]
[null,null,null,null,"ตราสารหนี้",null,{"$f":"D3694*F3698","v":0},null,{"$f":"$D3694*$F3698*H3698","v":0}]
[null,null,null,null,"อื่นๆ",null,{"$f":"D3694*F3699","v":0},null,{"$f":"$D3694*$F3699*H3699","v":0}]
[null,616,null,null,"ตราสารทุน",null,{"$f":"D3700*F3700","v":0},null,{"$f":"$D3700*$F3700*H3700","v":0},{"$f":"SUM(I3700:I3705)","v":0}]
[null,null,null,null,"อสังหาริมทรัพย์",null,{"$f":"D3700*F3701","v":0},null,{"$f":"$D3700*$F3701*H3701","v":0}]
[null,null,null,null,"สินค้าโภคภัณฑ์",null,{"$f":"D3700*F3702","v":0},null,{"$f":"$D3700*$F3702*H3702","v":0}]
[null,null,null,null,"เงินฝาก",null,{"$f":"D3700*F3703","v":0},null,{"$f":"$D3700*$F3703*H3703","v":0}]
[null,null,null,null,"ตราสารหนี้",null,{"$f":"D3700*F3704","v":0},null,{"$f":"$D3700*$F3704*H3704","v":0}]
[null,null,null,null,"อื่นๆ",null,{"$f":"D3700*F3705","v":0},null,{"$f":"$D3700*$F3705*H3705","v":0}]
[null,617,null,null,"ตราสารทุน",null,{"$f":"D3706*F3706","v":0},null,{"$f":"$D3706*$F3706*H3706","v":0},{"$f":"SUM(I3706:I3711)","v":0}]
[null,null,null,null,"อสังหาริมทรัพย์",null,{"$f":"D3706*F3707","v":0},null,{"$f":"$D3706*$F3707*H3707","v":0}]
[null,null,null,null,"สินค้าโภคภัณฑ์",null,{"$f":"D3706*F3708","v":0},null,{"$f":"$D3706*$F3708*H3708","v":0}]
[null,null,null,null,"เงินฝาก",null,{"$f":"D3706*F3709","v":0},null,{"$f":"$D3706*$F3709*H3709","v":0}]
[null,null,null,null,"ตราสารหนี้",null,{"$f":"D3706*F3710","v":0},null,{"$f":"$D3706*$F3710*H3710","v":0}]
[null,null,null,null,"อื่นๆ",null,{"$f":"D3706*F3711","v":0},null,{"$f":"$D3706*$F3711*H3711","v":0}]
[null,618,null,null,"ตราสารทุน",null,{"$f":"D3712*F3712","v":0},null,{"$f":"$D3712*$F3712*H3712","v":0},{"$f":"SUM(I3712:I3717)","v":0}]
[null,null,null,null,"อสังหาริมทรัพย์",null,{"$f":"D3712*F3713","v":0},null,{"$f":"$D3712*$F3713*H3713","v":0}]
[null,null,null,null,"สินค้าโภคภัณฑ์",null,{"$f":"D3712*F3714","v":0},null,{"$f":"$D3712*$F3714*H3714","v":0}]
[null,null,null,null,"เงินฝาก",null,{"$f":"D3712*F3715","v":0},null,{"$f":"$D3712*$F3715*H3715","v":0}]
[null,null,null,null,"ตราสารหนี้",null,{"$f":"D3712*F3716","v":0},null,{"$f":"$D3712*$F3716*H3716","v":0}]
[null,null,null,null,"อื่นๆ",null,{"$f":"D3712*F3717","v":0},null,{"$f":"$D3712*$F3717*H3717","v":0}]
[null,619,null,null,"ตราสารทุน",null,{"$f":"D3718*F3718","v":0},null,{"$f":"$D3718*$F3718*H3718","v":0},{"$f":"SUM(I3718:I3723)","v":0}]
[null,null,null,null,"อสังหาริมทรัพย์",null,{"$f":"D3718*F3719","v":0},null,{"$f":"$D3718*$F3719*H3719","v":0}]
[null,null,null,null,"สินค้าโภคภัณฑ์",null,{"$f":"D3718*F3720","v":0},null,{"$f":"$D3718*$F3720*H3720","v":0}]
[null,null,null,null,"เงินฝาก",null,{"$f":"D3718*F3721","v":0},null,{"$f":"$D3718*$F3721*H3721","v":0}]
[null,null,null,null,"ตราสารหนี้",null,{"$f":"D3718*F3722","v":0},null,{"$f":"$D3718*$F3722*H3722","v":0}]
[null,null,null,null,"อื่นๆ",null,{"$f":"D3718*F3723","v":0},null,{"$f":"$D3718*$F3723*H3723","v":0}]
[null,620,null,null,"ตราสารทุน",null,{"$f":"D3724*F3724","v":0},null,{"$f":"$D3724*$F3724*H3724","v":0},{"$f":"SUM(I3724:I3729)","v":0}]
[null,null,null,null,"อสังหาริมทรัพย์",null,{"$f":"D3724*F3725","v":0},null,{"$f":"$D3724*$F3725*H3725","v":0}]
[null,null,null,null,"สินค้าโภคภัณฑ์",null,{"$f":"D3724*F3726","v":0},null,{"$f":"$D3724*$F3726*H3726","v":0}]
[null,null,null,null,"เงินฝาก",null,{"$f":"D3724*F3727","v":0},null,{"$f":"$D3724*$F3727*H3727","v":0}]
[null,null,null,null,"ตราสารหนี้",null,{"$f":"D3724*F3728","v":0},null,{"$f":"$D3724*$F3728*H3728","v":0}]
[null,null,null,null,"อื่นๆ",null,{"$f":"D3724*F3729","v":0},null,{"$f":"$D3724*$F3729*H3729","v":0}]
[null,621,null,null,"ตราสารทุน",null,{"$f":"D3730*F3730","v":0},null,{"$f":"$D3730*$F3730*H3730","v":0},{"$f":"SUM(I3730:I3735)","v":0}]
[null,null,null,null,"อสังหาริมทรัพย์",null,{"$f":"D3730*F3731","v":0},null,{"$f":"$D3730*$F3731*H3731","v":0}]
[null,null,null,null,"สินค้าโภคภัณฑ์",null,{"$f":"D3730*F3732","v":0},null,{"$f":"$D3730*$F3732*H3732","v":0}]
[null,null,null,null,"เงินฝาก",null,{"$f":"D3730*F3733","v":0},null,{"$f":"$D3730*$F3733*H3733","v":0}]
[null,null,null,null,"ตราสารหนี้",null,{"$f":"D3730*F3734","v":0},null,{"$f":"$D3730*$F3734*H3734","v":0}]
[null,null,null,null,"อื่นๆ",null,{"$f":"D3730*F3735","v":0},null,{"$f":"$D3730*$F3735*H3735","v":0}]
[null,622,null,null,"ตราสารทุน",null,{"$f":"D3736*F3736","v":0},null,{"$f":"$D3736*$F3736*H3736","v":0},{"$f":"SUM(I3736:I3741)","v":0}]
[null,null,null,null,"อสังหาริมทรัพย์",null,{"$f":"D3736*F3737","v":0},null,{"$f":"$D3736*$F3737*H3737","v":0}]
[null,null,null,null,"สินค้าโภคภัณฑ์",null,{"$f":"D3736*F3738","v":0},null,{"$f":"$D3736*$F3738*H3738","v":0}]
[null,null,null,null,"เงินฝาก",null,{"$f":"D3736*F3739","v":0},null,{"$f":"$D3736*$F3739*H3739","v":0}]
[null,null,null,null,"ตราสารหนี้",null,{"$f":"D3736*F3740","v":0},null,{"$f":"$D3736*$F3740*H3740","v":0}]
[null,null,null,null,"อื่นๆ",null,{"$f":"D3736*F3741","v":0},null,{"$f":"$D3736*$F3741*H3741","v":0}]
[null,623,null,null,"ตราสารทุน",null,{"$f":"D3742*F3742","v":0},null,{"$f":"$D3742*$F3742*H3742","v":0},{"$f":"SUM(I3742:I3747)","v":0}]
[null,null,null,null,"อสังหาริมทรัพย์",null,{"$f":"D3742*F3743","v":0},null,{"$f":"$D3742*$F3743*H3743","v":0}]
[null,null,null,null,"สินค้าโภคภัณฑ์",null,{"$f":"D3742*F3744","v":0},null,{"$f":"$D3742*$F3744*H3744","v":0}]
[null,null,null,null,"เงินฝาก",null,{"$f":"D3742*F3745","v":0},null,{"$f":"$D3742*$F3745*H3745","v":0}]
[null,null,null,null,"ตราสารหนี้",null,{"$f":"D3742*F3746","v":0},null,{"$f":"$D3742*$F3746*H3746","v":0}]
[null,null,null,null,"อื่นๆ",null,{"$f":"D3742*F3747","v":0},null,{"$f":"$D3742*$F3747*H3747","v":0}]
[null,624,null,null,"ตราสารทุน",null,{"$f":"D3748*F3748","v":0},null,{"$f":"$D3748*$F3748*H3748","v":0},{"$f":"SUM(I3748:I3753)","v":0}]
[null,null,null,null,"อสังหาริมทรัพย์",null,{"$f":"D3748*F3749","v":0},null,{"$f":"$D3748*$F3749*H3749","v":0}]
[null,null,null,null,"สินค้าโภคภัณฑ์",null,{"$f":"D3748*F3750","v":0},null,{"$f":"$D3748*$F3750*H3750","v":0}]
[null,null,null,null,"เงินฝาก",null,{"$f":"D3748*F3751","v":0},null,{"$f":"$D3748*$F3751*H3751","v":0}]
[null,null,null,null,"ตราสารหนี้",null,{"$f":"D3748*F3752","v":0},null,{"$f":"$D3748*$F3752*H3752","v":0}]
[null,null,null,null,"อื่นๆ",null,{"$f":"D3748*F3753","v":0},null,{"$f":"$D3748*$F3753*H3753","v":0}]
[null,625,null,null,"ตราสารทุน",null,{"$f":"D3754*F3754","v":0},null,{"$f":"$D3754*$F3754*H3754","v":0},{"$f":"SUM(I3754:I3759)","v":0}]
[null,null,null,null,"อสังหาริมทรัพย์",null,{"$f":"D3754*F3755","v":0},null,{"$f":"$D3754*$F3755*H3755","v":0}]
[null,null,null,null,"สินค้าโภคภัณฑ์",null,{"$f":"D3754*F3756","v":0},null,{"$f":"$D3754*$F3756*H3756","v":0}]
[null,null,null,null,"เงินฝาก",null,{"$f":"D3754*F3757","v":0},null,{"$f":"$D3754*$F3757*H3757","v":0}]
[null,null,null,null,"ตราสารหนี้",null,{"$f":"D3754*F3758","v":0},null,{"$f":"$D3754*$F3758*H3758","v":0}]
[null,null,null,null,"อื่นๆ",null,{"$f":"D3754*F3759","v":0},null,{"$f":"$D3754*$F3759*H3759","v":0}]
[null,626,null,null,"ตราสารทุน",null,{"$f":"D3760*F3760","v":0},null,{"$f":"$D3760*$F3760*H3760","v":0},{"$f":"SUM(I3760:I3765)","v":0}]
[null,null,null,null,"อสังหาริมทรัพย์",null,{"$f":"D3760*F3761","v":0},null,{"$f":"$D3760*$F3761*H3761","v":0}]
[null,null,null,null,"สินค้าโภคภัณฑ์",null,{"$f":"D3760*F3762","v":0},null,{"$f":"$D3760*$F3762*H3762","v":0}]
[null,null,null,null,"เงินฝาก",null,{"$f":"D3760*F3763","v":0},null,{"$f":"$D3760*$F3763*H3763","v":0}]
[null,null,null,null,"ตราสารหนี้",null,{"$f":"D3760*F3764","v":0},null,{"$f":"$D3760*$F3764*H3764","v":0}]
[null,null,null,null,"อื่นๆ",null,{"$f":"D3760*F3765","v":0},null,{"$f":"$D3760*$F3765*H3765","v":0}]
[null,627,null,null,"ตราสารทุน",null,{"$f":"D3766*F3766","v":0},null,{"$f":"$D3766*$F3766*H3766","v":0},{"$f":"SUM(I3766:I3771)","v":0}]
[null,null,null,null,"อสังหาริมทรัพย์",null,{"$f":"D3766*F3767","v":0},null,{"$f":"$D3766*$F3767*H3767","v":0}]
[null,null,null,null,"สินค้าโภคภัณฑ์",null,{"$f":"D3766*F3768","v":0},null,{"$f":"$D3766*$F3768*H3768","v":0}]
[null,null,null,null,"เงินฝาก",null,{"$f":"D3766*F3769","v":0},null,{"$f":"$D3766*$F3769*H3769","v":0}]
[null,null,null,null,"ตราสารหนี้",null,{"$f":"D3766*F3770","v":0},null,{"$f":"$D3766*$F3770*H3770","v":0}]
[null,null,null,null,"อื่นๆ",null,{"$f":"D3766*F3771","v":0},null,{"$f":"$D3766*$F3771*H3771","v":0}]
[null,628,null,null,"ตราสารทุน",null,{"$f":"D3772*F3772","v":0},null,{"$f":"$D3772*$F3772*H3772","v":0},{"$f":"SUM(I3772:I3777)","v":0}]
[null,null,null,null,"อสังหาริมทรัพย์",null,{"$f":"D3772*F3773","v":0},null,{"$f":"$D3772*$F3773*H3773","v":0}]
[null,null,null,null,"สินค้าโภคภัณฑ์",null,{"$f":"D3772*F3774","v":0},null,{"$f":"$D3772*$F3774*H3774","v":0}]
[null,null,null,null,"เงินฝาก",null,{"$f":"D3772*F3775","v":0},null,{"$f":"$D3772*$F3775*H3775","v":0}]
[null,null,null,null,"ตราสารหนี้",null,{"$f":"D3772*F3776","v":0},null,{"$f":"$D3772*$F3776*H3776","v":0}]
[null,null,null,null,"อื่นๆ",null,{"$f":"D3772*F3777","v":0},null,{"$f":"$D3772*$F3777*H3777","v":0}]
[null,629,null,null,"ตราสารทุน",null,{"$f":"D3778*F3778","v":0},null,{"$f":"$D3778*$F3778*H3778","v":0},{"$f":"SUM(I3778:I3783)","v":0}]
[null,null,null,null,"อสังหาริมทรัพย์",null,{"$f":"D3778*F3779","v":0},null,{"$f":"$D3778*$F3779*H3779","v":0}]
[null,null,null,null,"สินค้าโภคภัณฑ์",null,{"$f":"D3778*F3780","v":0},null,{"$f":"$D3778*$F3780*H3780","v":0}]
[null,null,null,null,"เงินฝาก",null,{"$f":"D3778*F3781","v":0},null,{"$f":"$D3778*$F3781*H3781","v":0}]
[null,null,null,null,"ตราสารหนี้",null,{"$f":"D3778*F3782","v":0},null,{"$f":"$D3778*$F3782*H3782","v":0}]
[null,null,null,null,"อื่นๆ",null,{"$f":"D3778*F3783","v":0},null,{"$f":"$D3778*$F3783*H3783","v":0}]
[null,630,null,null,"ตราสารทุน",null,{"$f":"D3784*F3784","v":0},null,{"$f":"$D3784*$F3784*H3784","v":0},{"$f":"SUM(I3784:I3789)","v":0}]
[null,null,null,null,"อสังหาริมทรัพย์",null,{"$f":"D3784*F3785","v":0},null,{"$f":"$D3784*$F3785*H3785","v":0}]
[null,null,null,null,"สินค้าโภคภัณฑ์",null,{"$f":"D3784*F3786","v":0},null,{"$f":"$D3784*$F3786*H3786","v":0}]
[null,null,null,null,"เงินฝาก",null,{"$f":"D3784*F3787","v":0},null,{"$f":"$D3784*$F3787*H3787","v":0}]
[null,null,null,null,"ตราสารหนี้",null,{"$f":"D3784*F3788","v":0},null,{"$f":"$D3784*$F3788*H3788","v":0}]
[null,null,null,null,"อื่นๆ",null,{"$f":"D3784*F3789","v":0},null,{"$f":"$D3784*$F3789*H3789","v":0}]
[null,631,null,null,"ตราสารทุน",null,{"$f":"D3790*F3790","v":0},null,{"$f":"$D3790*$F3790*H3790","v":0},{"$f":"SUM(I3790:I3795)","v":0}]
[null,null,null,null,"อสังหาริมทรัพย์",null,{"$f":"D3790*F3791","v":0},null,{"$f":"$D3790*$F3791*H3791","v":0}]
[null,null,null,null,"สินค้าโภคภัณฑ์",null,{"$f":"D3790*F3792","v":0},null,{"$f":"$D3790*$F3792*H3792","v":0}]
[null,null,null,null,"เงินฝาก",null,{"$f":"D3790*F3793","v":0},null,{"$f":"$D3790*$F3793*H3793","v":0}]
[null,null,null,null,"ตราสารหนี้",null,{"$f":"D3790*F3794","v":0},null,{"$f":"$D3790*$F3794*H3794","v":0}]
[null,null,null,null,"อื่นๆ",null,{"$f":"D3790*F3795","v":0},null,{"$f":"$D3790*$F3795*H3795","v":0}]
[null,632,null,null,"ตราสารทุน",null,{"$f":"D3796*F3796","v":0},null,{"$f":"$D3796*$F3796*H3796","v":0},{"$f":"SUM(I3796:I3801)","v":0}]
[null,null,null,null,"อสังหาริมทรัพย์",null,{"$f":"D3796*F3797","v":0},null,{"$f":"$D3796*$F3797*H3797","v":0}]
[null,null,null,null,"สินค้าโภคภัณฑ์",null,{"$f":"D3796*F3798","v":0},null,{"$f":"$D3796*$F3798*H3798","v":0}]
[null,null,null,null,"เงินฝาก",null,{"$f":"D3796*F3799","v":0},null,{"$f":"$D3796*$F3799*H3799","v":0}]
[null,null,null,null,"ตราสารหนี้",null,{"$f":"D3796*F3800","v":0},null,{"$f":"$D3796*$F3800*H3800","v":0}]
[null,null,null,null,"อื่นๆ",null,{"$f":"D3796*F3801","v":0},null,{"$f":"$D3796*$F3801*H3801","v":0}]
[null,633,null,null,"ตราสารทุน",null,{"$f":"D3802*F3802","v":0},null,{"$f":"$D3802*$F3802*H3802","v":0},{"$f":"SUM(I3802:I3807)","v":0}]
[null,null,null,null,"อสังหาริมทรัพย์",null,{"$f":"D3802*F3803","v":0},null,{"$f":"$D3802*$F3803*H3803","v":0}]
[null,null,null,null,"สินค้าโภคภัณฑ์",null,{"$f":"D3802*F3804","v":0},null,{"$f":"$D3802*$F3804*H3804","v":0}]
[null,null,null,null,"เงินฝาก",null,{"$f":"D3802*F3805","v":0},null,{"$f":"$D3802*$F3805*H3805","v":0}]
[null,null,null,null,"ตราสารหนี้",null,{"$f":"D3802*F3806","v":0},null,{"$f":"$D3802*$F3806*H3806","v":0}]
[null,null,null,null,"อื่นๆ",null,{"$f":"D3802*F3807","v":0},null,{"$f":"$D3802*$F3807*H3807","v":0}]
[null,634,null,null,"ตราสารทุน",null,{"$f":"D3808*F3808","v":0},null,{"$f":"$D3808*$F3808*H3808","v":0},{"$f":"SUM(I3808:I3813)","v":0}]
[null,null,null,null,"อสังหาริมทรัพย์",null,{"$f":"D3808*F3809","v":0},null,{"$f":"$D3808*$F3809*H3809","v":0}]
[null,null,null,null,"สินค้าโภคภัณฑ์",null,{"$f":"D3808*F3810","v":0},null,{"$f":"$D3808*$F3810*H3810","v":0}]
[null,null,null,null,"เงินฝาก",null,{"$f":"D3808*F3811","v":0},null,{"$f":"$D3808*$F3811*H3811","v":0}]
[null,null,null,null,"ตราสารหนี้",null,{"$f":"D3808*F3812","v":0},null,{"$f":"$D3808*$F3812*H3812","v":0}]
[null,null,null,null,"อื่นๆ",null,{"$f":"D3808*F3813","v":0},null,{"$f":"$D3808*$F3813*H3813","v":0}]
[null,635,null,null,"ตราสารทุน",null,{"$f":"D3814*F3814","v":0},null,{"$f":"$D3814*$F3814*H3814","v":0},{"$f":"SUM(I3814:I3819)","v":0}]
[null,null,null,null,"อสังหาริมทรัพย์",null,{"$f":"D3814*F3815","v":0},null,{"$f":"$D3814*$F3815*H3815","v":0}]
[null,null,null,null,"สินค้าโภคภัณฑ์",null,{"$f":"D3814*F3816","v":0},null,{"$f":"$D3814*$F3816*H3816","v":0}]
[null,null,null,null,"เงินฝาก",null,{"$f":"D3814*F3817","v":0},null,{"$f":"$D3814*$F3817*H3817","v":0}]
[null,null,null,null,"ตราสารหนี้",null,{"$f":"D3814*F3818","v":0},null,{"$f":"$D3814*$F3818*H3818","v":0}]
[null,null,null,null,"อื่นๆ",null,{"$f":"D3814*F3819","v":0},null,{"$f":"$D3814*$F3819*H3819","v":0}]
[null,636,null,null,"ตราสารทุน",null,{"$f":"D3820*F3820","v":0},null,{"$f":"$D3820*$F3820*H3820","v":0},{"$f":"SUM(I3820:I3825)","v":0}]
[null,null,null,null,"อสังหาริมทรัพย์",null,{"$f":"D3820*F3821","v":0},null,{"$f":"$D3820*$F3821*H3821","v":0}]
[null,null,null,null,"สินค้าโภคภัณฑ์",null,{"$f":"D3820*F3822","v":0},null,{"$f":"$D3820*$F3822*H3822","v":0}]
[null,null,null,null,"เงินฝาก",null,{"$f":"D3820*F3823","v":0},null,{"$f":"$D3820*$F3823*H3823","v":0}]
[null,null,null,null,"ตราสารหนี้",null,{"$f":"D3820*F3824","v":0},null,{"$f":"$D3820*$F3824*H3824","v":0}]
[null,null,null,null,"อื่นๆ",null,{"$f":"D3820*F3825","v":0},null,{"$f":"$D3820*$F3825*H3825","v":0}]
[null,637,null,null,"ตราสารทุน",null,{"$f":"D3826*F3826","v":0},null,{"$f":"$D3826*$F3826*H3826","v":0},{"$f":"SUM(I3826:I3831)","v":0}]
[null,null,null,null,"อสังหาริมทรัพย์",null,{"$f":"D3826*F3827","v":0},null,{"$f":"$D3826*$F3827*H3827","v":0}]
[null,null,null,null,"สินค้าโภคภัณฑ์",null,{"$f":"D3826*F3828","v":0},null,{"$f":"$D3826*$F3828*H3828","v":0}]
[null,null,null,null,"เงินฝาก",null,{"$f":"D3826*F3829","v":0},null,{"$f":"$D3826*$F3829*H3829","v":0}]
[null,null,null,null,"ตราสารหนี้",null,{"$f":"D3826*F3830","v":0},null,{"$f":"$D3826*$F3830*H3830","v":0}]
[null,null,null,null,"อื่นๆ",null,{"$f":"D3826*F3831","v":0},null,{"$f":"$D3826*$F3831*H3831","v":0}]
[null,638,null,null,"ตราสารทุน",null,{"$f":"D3832*F3832","v":0},null,{"$f":"$D3832*$F3832*H3832","v":0},{"$f":"SUM(I3832:I3837)","v":0}]
[null,null,null,null,"อสังหาริมทรัพย์",null,{"$f":"D3832*F3833","v":0},null,{"$f":"$D3832*$F3833*H3833","v":0}]
[null,null,null,null,"สินค้าโภคภัณฑ์",null,{"$f":"D3832*F3834","v":0},null,{"$f":"$D3832*$F3834*H3834","v":0}]
[null,null,null,null,"เงินฝาก",null,{"$f":"D3832*F3835","v":0},null,{"$f":"$D3832*$F3835*H3835","v":0}]
[null,null,null,null,"ตราสารหนี้",null,{"$f":"D3832*F3836","v":0},null,{"$f":"$D3832*$F3836*H3836","v":0}]
[null,null,null,null,"อื่นๆ",null,{"$f":"D3832*F3837","v":0},null,{"$f":"$D3832*$F3837*H3837","v":0}]
[null,639,null,null,"ตราสารทุน",null,{"$f":"D3838*F3838","v":0},null,{"$f":"$D3838*$F3838*H3838","v":0},{"$f":"SUM(I3838:I3843)","v":0}]
[null,null,null,null,"อสังหาริมทรัพย์",null,{"$f":"D3838*F3839","v":0},null,{"$f":"$D3838*$F3839*H3839","v":0}]
[null,null,null,null,"สินค้าโภคภัณฑ์",null,{"$f":"D3838*F3840","v":0},null,{"$f":"$D3838*$F3840*H3840","v":0}]
[null,null,null,null,"เงินฝาก",null,{"$f":"D3838*F3841","v":0},null,{"$f":"$D3838*$F3841*H3841","v":0}]
[null,null,null,null,"ตราสารหนี้",null,{"$f":"D3838*F3842","v":0},null,{"$f":"$D3838*$F3842*H3842","v":0}]
[null,null,null,null,"อื่นๆ",null,{"$f":"D3838*F3843","v":0},null,{"$f":"$D3838*$F3843*H3843","v":0}]
[null,640,null,null,"ตราสารทุน",null,{"$f":"D3844*F3844","v":0},null,{"$f":"$D3844*$F3844*H3844","v":0},{"$f":"SUM(I3844:I3849)","v":0}]
[null,null,null,null,"อสังหาริมทรัพย์",null,{"$f":"D3844*F3845","v":0},null,{"$f":"$D3844*$F3845*H3845","v":0}]
[null,null,null,null,"สินค้าโภคภัณฑ์",null,{"$f":"D3844*F3846","v":0},null,{"$f":"$D3844*$F3846*H3846","v":0}]
[null,null,null,null,"เงินฝาก",null,{"$f":"D3844*F3847","v":0},null,{"$f":"$D3844*$F3847*H3847","v":0}]
[null,null,null,null,"ตราสารหนี้",null,{"$f":"D3844*F3848","v":0},null,{"$f":"$D3844*$F3848*H3848","v":0}]
[null,null,null,null,"อื่นๆ",null,{"$f":"D3844*F3849","v":0},null,{"$f":"$D3844*$F3849*H3849","v":0}]
[null,641,null,null,"ตราสารทุน",null,{"$f":"D3850*F3850","v":0},null,{"$f":"$D3850*$F3850*H3850","v":0},{"$f":"SUM(I3850:I3855)","v":0}]
[null,null,null,null,"อสังหาริมทรัพย์",null,{"$f":"D3850*F3851","v":0},null,{"$f":"$D3850*$F3851*H3851","v":0}]
[null,null,null,null,"สินค้าโภคภัณฑ์",null,{"$f":"D3850*F3852","v":0},null,{"$f":"$D3850*$F3852*H3852","v":0}]
[null,null,null,null,"เงินฝาก",null,{"$f":"D3850*F3853","v":0},null,{"$f":"$D3850*$F3853*H3853","v":0}]
[null,null,null,null,"ตราสารหนี้",null,{"$f":"D3850*F3854","v":0},null,{"$f":"$D3850*$F3854*H3854","v":0}]
[null,null,null,null,"อื่นๆ",null,{"$f":"D3850*F3855","v":0},null,{"$f":"$D3850*$F3855*H3855","v":0}]
[null,642,null,null,"ตราสารทุน",null,{"$f":"D3856*F3856","v":0},null,{"$f":"$D3856*$F3856*H3856","v":0},{"$f":"SUM(I3856:I3861)","v":0}]
[null,null,null,null,"อสังหาริมทรัพย์",null,{"$f":"D3856*F3857","v":0},null,{"$f":"$D3856*$F3857*H3857","v":0}]
[null,null,null,null,"สินค้าโภคภัณฑ์",null,{"$f":"D3856*F3858","v":0},null,{"$f":"$D3856*$F3858*H3858","v":0}]
[null,null,null,null,"เงินฝาก",null,{"$f":"D3856*F3859","v":0},null,{"$f":"$D3856*$F3859*H3859","v":0}]
[null,null,null,null,"ตราสารหนี้",null,{"$f":"D3856*F3860","v":0},null,{"$f":"$D3856*$F3860*H3860","v":0}]
[null,null,null,null,"อื่นๆ",null,{"$f":"D3856*F3861","v":0},null,{"$f":"$D3856*$F3861*H3861","v":0}]
[null,643,null,null,"ตราสารทุน",null,{"$f":"D3862*F3862","v":0},null,{"$f":"$D3862*$F3862*H3862","v":0},{"$f":"SUM(I3862:I3867)","v":0}]
[null,null,null,null,"อสังหาริมทรัพย์",null,{"$f":"D3862*F3863","v":0},null,{"$f":"$D3862*$F3863*H3863","v":0}]
[null,null,null,null,"สินค้าโภคภัณฑ์",null,{"$f":"D3862*F3864","v":0},null,{"$f":"$D3862*$F3864*H3864","v":0}]
[null,null,null,null,"เงินฝาก",null,{"$f":"D3862*F3865","v":0},null,{"$f":"$D3862*$F3865*H3865","v":0}]
[null,null,null,null,"ตราสารหนี้",null,{"$f":"D3862*F3866","v":0},null,{"$f":"$D3862*$F3866*H3866","v":0}]
[null,null,null,null,"อื่นๆ",null,{"$f":"D3862*F3867","v":0},null,{"$f":"$D3862*$F3867*H3867","v":0}]
[null,644,null,null,"ตราสารทุน",null,{"$f":"D3868*F3868","v":0},null,{"$f":"$D3868*$F3868*H3868","v":0},{"$f":"SUM(I3868:I3873)","v":0}]
[null,null,null,null,"อสังหาริมทรัพย์",null,{"$f":"D3868*F3869","v":0},null,{"$f":"$D3868*$F3869*H3869","v":0}]
[null,null,null,null,"สินค้าโภคภัณฑ์",null,{"$f":"D3868*F3870","v":0},null,{"$f":"$D3868*$F3870*H3870","v":0}]
[null,null,null,null,"เงินฝาก",null,{"$f":"D3868*F3871","v":0},null,{"$f":"$D3868*$F3871*H3871","v":0}]
[null,null,null,null,"ตราสารหนี้",null,{"$f":"D3868*F3872","v":0},null,{"$f":"$D3868*$F3872*H3872","v":0}]
[null,null,null,null,"อื่นๆ",null,{"$f":"D3868*F3873","v":0},null,{"$f":"$D3868*$F3873*H3873","v":0}]
[null,645,null,null,"ตราสารทุน",null,{"$f":"D3874*F3874","v":0},null,{"$f":"$D3874*$F3874*H3874","v":0},{"$f":"SUM(I3874:I3879)","v":0}]
[null,null,null,null,"อสังหาริมทรัพย์",null,{"$f":"D3874*F3875","v":0},null,{"$f":"$D3874*$F3875*H3875","v":0}]
[null,null,null,null,"สินค้าโภคภัณฑ์",null,{"$f":"D3874*F3876","v":0},null,{"$f":"$D3874*$F3876*H3876","v":0}]
[null,null,null,null,"เงินฝาก",null,{"$f":"D3874*F3877","v":0},null,{"$f":"$D3874*$F3877*H3877","v":0}]
[null,null,null,null,"ตราสารหนี้",null,{"$f":"D3874*F3878","v":0},null,{"$f":"$D3874*$F3878*H3878","v":0}]
[null,null,null,null,"อื่นๆ",null,{"$f":"D3874*F3879","v":0},null,{"$f":"$D3874*$F3879*H3879","v":0}]
[null,646,null,null,"ตราสารทุน",null,{"$f":"D3880*F3880","v":0},null,{"$f":"$D3880*$F3880*H3880","v":0},{"$f":"SUM(I3880:I3885)","v":0}]
[null,null,null,null,"อสังหาริมทรัพย์",null,{"$f":"D3880*F3881","v":0},null,{"$f":"$D3880*$F3881*H3881","v":0}]
[null,null,null,null,"สินค้าโภคภัณฑ์",null,{"$f":"D3880*F3882","v":0},null,{"$f":"$D3880*$F3882*H3882","v":0}]
[null,null,null,null,"เงินฝาก",null,{"$f":"D3880*F3883","v":0},null,{"$f":"$D3880*$F3883*H3883","v":0}]
[null,null,null,null,"ตราสารหนี้",null,{"$f":"D3880*F3884","v":0},null,{"$f":"$D3880*$F3884*H3884","v":0}]
[null,null,null,null,"อื่นๆ",null,{"$f":"D3880*F3885","v":0},null,{"$f":"$D3880*$F3885*H3885","v":0}]
[null,647,null,null,"ตราสารทุน",null,{"$f":"D3886*F3886","v":0},null,{"$f":"$D3886*$F3886*H3886","v":0},{"$f":"SUM(I3886:I3891)","v":0}]
[null,null,null,null,"อสังหาริมทรัพย์",null,{"$f":"D3886*F3887","v":0},null,{"$f":"$D3886*$F3887*H3887","v":0}]
[null,null,null,null,"สินค้าโภคภัณฑ์",null,{"$f":"D3886*F3888","v":0},null,{"$f":"$D3886*$F3888*H3888","v":0}]
[null,null,null,null,"เงินฝาก",null,{"$f":"D3886*F3889","v":0},null,{"$f":"$D3886*$F3889*H3889","v":0}]
[null,null,null,null,"ตราสารหนี้",null,{"$f":"D3886*F3890","v":0},null,{"$f":"$D3886*$F3890*H3890","v":0}]
[null,null,null,null,"อื่นๆ",null,{"$f":"D3886*F3891","v":0},null,{"$f":"$D3886*$F3891*H3891","v":0}]
[null,648,null,null,"ตราสารทุน",null,{"$f":"D3892*F3892","v":0},null,{"$f":"$D3892*$F3892*H3892","v":0},{"$f":"SUM(I3892:I3897)","v":0}]
[null,null,null,null,"อสังหาริมทรัพย์",null,{"$f":"D3892*F3893","v":0},null,{"$f":"$D3892*$F3893*H3893","v":0}]
[null,null,null,null,"สินค้าโภคภัณฑ์",null,{"$f":"D3892*F3894","v":0},null,{"$f":"$D3892*$F3894*H3894","v":0}]
[null,null,null,null,"เงินฝาก",null,{"$f":"D3892*F3895","v":0},null,{"$f":"$D3892*$F3895*H3895","v":0}]
[null,null,null,null,"ตราสารหนี้",null,{"$f":"D3892*F3896","v":0},null,{"$f":"$D3892*$F3896*H3896","v":0}]
[null,null,null,null,"อื่นๆ",null,{"$f":"D3892*F3897","v":0},null,{"$f":"$D3892*$F3897*H3897","v":0}]
[null,649,null,null,"ตราสารทุน",null,{"$f":"D3898*F3898","v":0},null,{"$f":"$D3898*$F3898*H3898","v":0},{"$f":"SUM(I3898:I3903)","v":0}]
[null,null,null,null,"อสังหาริมทรัพย์",null,{"$f":"D3898*F3899","v":0},null,{"$f":"$D3898*$F3899*H3899","v":0}]
[null,null,null,null,"สินค้าโภคภัณฑ์",null,{"$f":"D3898*F3900","v":0},null,{"$f":"$D3898*$F3900*H3900","v":0}]
[null,null,null,null,"เงินฝาก",null,{"$f":"D3898*F3901","v":0},null,{"$f":"$D3898*$F3901*H3901","v":0}]
[null,null,null,null,"ตราสารหนี้",null,{"$f":"D3898*F3902","v":0},null,{"$f":"$D3898*$F3902*H3902","v":0}]
[null,null,null,null,"อื่นๆ",null,{"$f":"D3898*F3903","v":0},null,{"$f":"$D3898*$F3903*H3903","v":0}]
[null,650,null,null,"ตราสารทุน",null,{"$f":"D3904*F3904","v":0},null,{"$f":"$D3904*$F3904*H3904","v":0},{"$f":"SUM(I3904:I3909)","v":0}]
[null,null,null,null,"อสังหาริมทรัพย์",null,{"$f":"D3904*F3905","v":0},null,{"$f":"$D3904*$F3905*H3905","v":0}]
[null,null,null,null,"สินค้าโภคภัณฑ์",null,{"$f":"D3904*F3906","v":0},null,{"$f":"$D3904*$F3906*H3906","v":0}]
[null,null,null,null,"เงินฝาก",null,{"$f":"D3904*F3907","v":0},null,{"$f":"$D3904*$F3907*H3907","v":0}]
[null,null,null,null,"ตราสารหนี้",null,{"$f":"D3904*F3908","v":0},null,{"$f":"$D3904*$F3908*H3908","v":0}]
[null,null,null,null,"อื่นๆ",null,{"$f":"D3904*F3909","v":0},null,{"$f":"$D3904*$F3909*H3909","v":0}]
[null,651,null,null,"ตราสารทุน",null,{"$f":"D3910*F3910","v":0},null,{"$f":"$D3910*$F3910*H3910","v":0},{"$f":"SUM(I3910:I3915)","v":0}]
[null,null,null,null,"อสังหาริมทรัพย์",null,{"$f":"D3910*F3911","v":0},null,{"$f":"$D3910*$F3911*H3911","v":0}]
[null,null,null,null,"สินค้าโภคภัณฑ์",null,{"$f":"D3910*F3912","v":0},null,{"$f":"$D3910*$F3912*H3912","v":0}]
[null,null,null,null,"เงินฝาก",null,{"$f":"D3910*F3913","v":0},null,{"$f":"$D3910*$F3913*H3913","v":0}]
[null,null,null,null,"ตราสารหนี้",null,{"$f":"D3910*F3914","v":0},null,{"$f":"$D3910*$F3914*H3914","v":0}]
[null,null,null,null,"อื่นๆ",null,{"$f":"D3910*F3915","v":0},null,{"$f":"$D3910*$F3915*H3915","v":0}]
[null,652,null,null,"ตราสารทุน",null,{"$f":"D3916*F3916","v":0},null,{"$f":"$D3916*$F3916*H3916","v":0},{"$f":"SUM(I3916:I3921)","v":0}]
[null,null,null,null,"อสังหาริมทรัพย์",null,{"$f":"D3916*F3917","v":0},null,{"$f":"$D3916*$F3917*H3917","v":0}]
[null,null,null,null,"สินค้าโภคภัณฑ์",null,{"$f":"D3916*F3918","v":0},null,{"$f":"$D3916*$F3918*H3918","v":0}]
[null,null,null,null,"เงินฝาก",null,{"$f":"D3916*F3919","v":0},null,{"$f":"$D3916*$F3919*H3919","v":0}]
[null,null,null,null,"ตราสารหนี้",null,{"$f":"D3916*F3920","v":0},null,{"$f":"$D3916*$F3920*H3920","v":0}]
[null,null,null,null,"อื่นๆ",null,{"$f":"D3916*F3921","v":0},null,{"$f":"$D3916*$F3921*H3921","v":0}]
[null,653,null,null,"ตราสารทุน",null,{"$f":"D3922*F3922","v":0},null,{"$f":"$D3922*$F3922*H3922","v":0},{"$f":"SUM(I3922:I3927)","v":0}]
[null,null,null,null,"อสังหาริมทรัพย์",null,{"$f":"D3922*F3923","v":0},null,{"$f":"$D3922*$F3923*H3923","v":0}]
[null,null,null,null,"สินค้าโภคภัณฑ์",null,{"$f":"D3922*F3924","v":0},null,{"$f":"$D3922*$F3924*H3924","v":0}]
[null,null,null,null,"เงินฝาก",null,{"$f":"D3922*F3925","v":0},null,{"$f":"$D3922*$F3925*H3925","v":0}]
[null,null,null,null,"ตราสารหนี้",null,{"$f":"D3922*F3926","v":0},null,{"$f":"$D3922*$F3926*H3926","v":0}]
[null,null,null,null,"อื่นๆ",null,{"$f":"D3922*F3927","v":0},null,{"$f":"$D3922*$F3927*H3927","v":0}]
[null,654,null,null,"ตราสารทุน",null,{"$f":"D3928*F3928","v":0},null,{"$f":"$D3928*$F3928*H3928","v":0},{"$f":"SUM(I3928:I3933)","v":0}]
[null,null,null,null,"อสังหาริมทรัพย์",null,{"$f":"D3928*F3929","v":0},null,{"$f":"$D3928*$F3929*H3929","v":0}]
[null,null,null,null,"สินค้าโภคภัณฑ์",null,{"$f":"D3928*F3930","v":0},null,{"$f":"$D3928*$F3930*H3930","v":0}]
[null,null,null,null,"เงินฝาก",null,{"$f":"D3928*F3931","v":0},null,{"$f":"$D3928*$F3931*H3931","v":0}]
[null,null,null,null,"ตราสารหนี้",null,{"$f":"D3928*F3932","v":0},null,{"$f":"$D3928*$F3932*H3932","v":0}]
[null,null,null,null,"อื่นๆ",null,{"$f":"D3928*F3933","v":0},null,{"$f":"$D3928*$F3933*H3933","v":0}]
[null,655,null,null,"ตราสารทุน",null,{"$f":"D3934*F3934","v":0},null,{"$f":"$D3934*$F3934*H3934","v":0},{"$f":"SUM(I3934:I3939)","v":0}]
[null,null,null,null,"อสังหาริมทรัพย์",null,{"$f":"D3934*F3935","v":0},null,{"$f":"$D3934*$F3935*H3935","v":0}]
[null,null,null,null,"สินค้าโภคภัณฑ์",null,{"$f":"D3934*F3936","v":0},null,{"$f":"$D3934*$F3936*H3936","v":0}]
[null,null,null,null,"เงินฝาก",null,{"$f":"D3934*F3937","v":0},null,{"$f":"$D3934*$F3937*H3937","v":0}]
[null,null,null,null,"ตราสารหนี้",null,{"$f":"D3934*F3938","v":0},null,{"$f":"$D3934*$F3938*H3938","v":0}]
[null,null,null,null,"อื่นๆ",null,{"$f":"D3934*F3939","v":0},null,{"$f":"$D3934*$F3939*H3939","v":0}]
[null,656,null,null,"ตราสารทุน",null,{"$f":"D3940*F3940","v":0},null,{"$f":"$D3940*$F3940*H3940","v":0},{"$f":"SUM(I3940:I3945)","v":0}]
[null,null,null,null,"อสังหาริมทรัพย์",null,{"$f":"D3940*F3941","v":0},null,{"$f":"$D3940*$F3941*H3941","v":0}]
[null,null,null,null,"สินค้าโภคภัณฑ์",null,{"$f":"D3940*F3942","v":0},null,{"$f":"$D3940*$F3942*H3942","v":0}]
[null,null,null,null,"เงินฝาก",null,{"$f":"D3940*F3943","v":0},null,{"$f":"$D3940*$F3943*H3943","v":0}]
[null,null,null,null,"ตราสารหนี้",null,{"$f":"D3940*F3944","v":0},null,{"$f":"$D3940*$F3944*H3944","v":0}]
[null,null,null,null,"อื่นๆ",null,{"$f":"D3940*F3945","v":0},null,{"$f":"$D3940*$F3945*H3945","v":0}]
[null,657,null,null,"ตราสารทุน",null,{"$f":"D3946*F3946","v":0},null,{"$f":"$D3946*$F3946*H3946","v":0},{"$f":"SUM(I3946:I3951)","v":0}]
[null,null,null,null,"อสังหาริมทรัพย์",null,{"$f":"D3946*F3947","v":0},null,{"$f":"$D3946*$F3947*H3947","v":0}]
[null,null,null,null,"สินค้าโภคภัณฑ์",null,{"$f":"D3946*F3948","v":0},null,{"$f":"$D3946*$F3948*H3948","v":0}]
[null,null,null,null,"เงินฝาก",null,{"$f":"D3946*F3949","v":0},null,{"$f":"$D3946*$F3949*H3949","v":0}]
[null,null,null,null,"ตราสารหนี้",null,{"$f":"D3946*F3950","v":0},null,{"$f":"$D3946*$F3950*H3950","v":0}]
[null,null,null,null,"อื่นๆ",null,{"$f":"D3946*F3951","v":0},null,{"$f":"$D3946*$F3951*H3951","v":0}]
[null,658,null,null,"ตราสารทุน",null,{"$f":"D3952*F3952","v":0},null,{"$f":"$D3952*$F3952*H3952","v":0},{"$f":"SUM(I3952:I3957)","v":0}]
[null,null,null,null,"อสังหาริมทรัพย์",null,{"$f":"D3952*F3953","v":0},null,{"$f":"$D3952*$F3953*H3953","v":0}]
[null,null,null,null,"สินค้าโภคภัณฑ์",null,{"$f":"D3952*F3954","v":0},null,{"$f":"$D3952*$F3954*H3954","v":0}]
[null,null,null,null,"เงินฝาก",null,{"$f":"D3952*F3955","v":0},null,{"$f":"$D3952*$F3955*H3955","v":0}]
[null,null,null,null,"ตราสารหนี้",null,{"$f":"D3952*F3956","v":0},null,{"$f":"$D3952*$F3956*H3956","v":0}]
[null,null,null,null,"อื่นๆ",null,{"$f":"D3952*F3957","v":0},null,{"$f":"$D3952*$F3957*H3957","v":0}]
[null,659,null,null,"ตราสารทุน",null,{"$f":"D3958*F3958","v":0},null,{"$f":"$D3958*$F3958*H3958","v":0},{"$f":"SUM(I3958:I3963)","v":0}]
[null,null,null,null,"อสังหาริมทรัพย์",null,{"$f":"D3958*F3959","v":0},null,{"$f":"$D3958*$F3959*H3959","v":0}]
[null,null,null,null,"สินค้าโภคภัณฑ์",null,{"$f":"D3958*F3960","v":0},null,{"$f":"$D3958*$F3960*H3960","v":0}]
[null,null,null,null,"เงินฝาก",null,{"$f":"D3958*F3961","v":0},null,{"$f":"$D3958*$F3961*H3961","v":0}]
[null,null,null,null,"ตราสารหนี้",null,{"$f":"D3958*F3962","v":0},null,{"$f":"$D3958*$F3962*H3962","v":0}]
[null,null,null,null,"อื่นๆ",null,{"$f":"D3958*F3963","v":0},null,{"$f":"$D3958*$F3963*H3963","v":0}]
[null,660,null,null,"ตราสารทุน",null,{"$f":"D3964*F3964","v":0},null,{"$f":"$D3964*$F3964*H3964","v":0},{"$f":"SUM(I3964:I3969)","v":0}]
[null,null,null,null,"อสังหาริมทรัพย์",null,{"$f":"D3964*F3965","v":0},null,{"$f":"$D3964*$F3965*H3965","v":0}]
[null,null,null,null,"สินค้าโภคภัณฑ์",null,{"$f":"D3964*F3966","v":0},null,{"$f":"$D3964*$F3966*H3966","v":0}]
[null,null,null,null,"เงินฝาก",null,{"$f":"D3964*F3967","v":0},null,{"$f":"$D3964*$F3967*H3967","v":0}]
[null,null,null,null,"ตราสารหนี้",null,{"$f":"D3964*F3968","v":0},null,{"$f":"$D3964*$F3968*H3968","v":0}]
[null,null,null,null,"อื่นๆ",null,{"$f":"D3964*F3969","v":0},null,{"$f":"$D3964*$F3969*H3969","v":0}]
[null,661,null,null,"ตราสารทุน",null,{"$f":"D3970*F3970","v":0},null,{"$f":"$D3970*$F3970*H3970","v":0},{"$f":"SUM(I3970:I3975)","v":0}]
[null,null,null,null,"อสังหาริมทรัพย์",null,{"$f":"D3970*F3971","v":0},null,{"$f":"$D3970*$F3971*H3971","v":0}]
[null,null,null,null,"สินค้าโภคภัณฑ์",null,{"$f":"D3970*F3972","v":0},null,{"$f":"$D3970*$F3972*H3972","v":0}]
[null,null,null,null,"เงินฝาก",null,{"$f":"D3970*F3973","v":0},null,{"$f":"$D3970*$F3973*H3973","v":0}]
[null,null,null,null,"ตราสารหนี้",null,{"$f":"D3970*F3974","v":0},null,{"$f":"$D3970*$F3974*H3974","v":0}]
[null,null,null,null,"อื่นๆ",null,{"$f":"D3970*F3975","v":0},null,{"$f":"$D3970*$F3975*H3975","v":0}]
[null,662,null,null,"ตราสารทุน",null,{"$f":"D3976*F3976","v":0},null,{"$f":"$D3976*$F3976*H3976","v":0},{"$f":"SUM(I3976:I3981)","v":0}]
[null,null,null,null,"อสังหาริมทรัพย์",null,{"$f":"D3976*F3977","v":0},null,{"$f":"$D3976*$F3977*H3977","v":0}]
[null,null,null,null,"สินค้าโภคภัณฑ์",null,{"$f":"D3976*F3978","v":0},null,{"$f":"$D3976*$F3978*H3978","v":0}]
[null,null,null,null,"เงินฝาก",null,{"$f":"D3976*F3979","v":0},null,{"$f":"$D3976*$F3979*H3979","v":0}]
[null,null,null,null,"ตราสารหนี้",null,{"$f":"D3976*F3980","v":0},null,{"$f":"$D3976*$F3980*H3980","v":0}]
[null,null,null,null,"อื่นๆ",null,{"$f":"D3976*F3981","v":0},null,{"$f":"$D3976*$F3981*H3981","v":0}]
[null,663,null,null,"ตราสารทุน",null,{"$f":"D3982*F3982","v":0},null,{"$f":"$D3982*$F3982*H3982","v":0},{"$f":"SUM(I3982:I3987)","v":0}]
[null,null,null,null,"อสังหาริมทรัพย์",null,{"$f":"D3982*F3983","v":0},null,{"$f":"$D3982*$F3983*H3983","v":0}]
[null,null,null,null,"สินค้าโภคภัณฑ์",null,{"$f":"D3982*F3984","v":0},null,{"$f":"$D3982*$F3984*H3984","v":0}]
[null,null,null,null,"เงินฝาก",null,{"$f":"D3982*F3985","v":0},null,{"$f":"$D3982*$F3985*H3985","v":0}]
[null,null,null,null,"ตราสารหนี้",null,{"$f":"D3982*F3986","v":0},null,{"$f":"$D3982*$F3986*H3986","v":0}]
[null,null,null,null,"อื่นๆ",null,{"$f":"D3982*F3987","v":0},null,{"$f":"$D3982*$F3987*H3987","v":0}]
[null,664,null,null,"ตราสารทุน",null,{"$f":"D3988*F3988","v":0},null,{"$f":"$D3988*$F3988*H3988","v":0},{"$f":"SUM(I3988:I3993)","v":0}]
[null,null,null,null,"อสังหาริมทรัพย์",null,{"$f":"D3988*F3989","v":0},null,{"$f":"$D3988*$F3989*H3989","v":0}]
[null,null,null,null,"สินค้าโภคภัณฑ์",null,{"$f":"D3988*F3990","v":0},null,{"$f":"$D3988*$F3990*H3990","v":0}]
[null,null,null,null,"เงินฝาก",null,{"$f":"D3988*F3991","v":0},null,{"$f":"$D3988*$F3991*H3991","v":0}]
[null,null,null,null,"ตราสารหนี้",null,{"$f":"D3988*F3992","v":0},null,{"$f":"$D3988*$F3992*H3992","v":0}]
[null,null,null,null,"อื่นๆ",null,{"$f":"D3988*F3993","v":0},null,{"$f":"$D3988*$F3993*H3993","v":0}]
[null,665,null,null,"ตราสารทุน",null,{"$f":"D3994*F3994","v":0},null,{"$f":"$D3994*$F3994*H3994","v":0},{"$f":"SUM(I3994:I3999)","v":0}]
[null,null,null,null,"อสังหาริมทรัพย์",null,{"$f":"D3994*F3995","v":0},null,{"$f":"$D3994*$F3995*H3995","v":0}]
[null,null,null,null,"สินค้าโภคภัณฑ์",null,{"$f":"D3994*F3996","v":0},null,{"$f":"$D3994*$F3996*H3996","v":0}]
[null,null,null,null,"เงินฝาก",null,{"$f":"D3994*F3997","v":0},null,{"$f":"$D3994*$F3997*H3997","v":0}]
[null,null,null,null,"ตราสารหนี้",null,{"$f":"D3994*F3998","v":0},null,{"$f":"$D3994*$F3998*H3998","v":0}]
[null,null,null,null,"อื่นๆ",null,{"$f":"D3994*F3999","v":0},null,{"$f":"$D3994*$F3999*H3999","v":0}]
[null,666,null,null,"ตราสารทุน",null,{"$f":"D4000*F4000","v":0},null,{"$f":"$D4000*$F4000*H4000","v":0},{"$f":"SUM(I4000:I4005)","v":0}]
[null,null,null,null,"อสังหาริมทรัพย์",null,{"$f":"D4000*F4001","v":0},null,{"$f":"$D4000*$F4001*H4001","v":0}]
[null,null,null,null,"สินค้าโภคภัณฑ์",null,{"$f":"D4000*F4002","v":0},null,{"$f":"$D4000*$F4002*H4002","v":0}]
[null,null,null,null,"เงินฝาก",null,{"$f":"D4000*F4003","v":0},null,{"$f":"$D4000*$F4003*H4003","v":0}]
[null,null,null,null,"ตราสารหนี้",null,{"$f":"D4000*F4004","v":0},null,{"$f":"$D4000*$F4004*H4004","v":0}]
[null,null,null,null,"อื่นๆ",null,{"$f":"D4000*F4005","v":0},null,{"$f":"$D4000*$F4005*H4005","v":0}]
[null,667,null,null,"ตราสารทุน",null,{"$f":"D4006*F4006","v":0},null,{"$f":"$D4006*$F4006*H4006","v":0},{"$f":"SUM(I4006:I4011)","v":0}]
[null,null,null,null,"อสังหาริมทรัพย์",null,{"$f":"D4006*F4007","v":0},null,{"$f":"$D4006*$F4007*H4007","v":0}]
[null,null,null,null,"สินค้าโภคภัณฑ์",null,{"$f":"D4006*F4008","v":0},null,{"$f":"$D4006*$F4008*H4008","v":0}]
[null,null,null,null,"เงินฝาก",null,{"$f":"D4006*F4009","v":0},null,{"$f":"$D4006*$F4009*H4009","v":0}]
[null,null,null,null,"ตราสารหนี้",null,{"$f":"D4006*F4010","v":0},null,{"$f":"$D4006*$F4010*H4010","v":0}]
[null,null,null,null,"อื่นๆ",null,{"$f":"D4006*F4011","v":0},null,{"$f":"$D4006*$F4011*H4011","v":0}]
[null,668,null,null,"ตราสารทุน",null,{"$f":"D4012*F4012","v":0},null,{"$f":"$D4012*$F4012*H4012","v":0},{"$f":"SUM(I4012:I4017)","v":0}]
[null,null,null,null,"อสังหาริมทรัพย์",null,{"$f":"D4012*F4013","v":0},null,{"$f":"$D4012*$F4013*H4013","v":0}]
[null,null,null,null,"สินค้าโภคภัณฑ์",null,{"$f":"D4012*F4014","v":0},null,{"$f":"$D4012*$F4014*H4014","v":0}]
[null,null,null,null,"เงินฝาก",null,{"$f":"D4012*F4015","v":0},null,{"$f":"$D4012*$F4015*H4015","v":0}]
[null,null,null,null,"ตราสารหนี้",null,{"$f":"D4012*F4016","v":0},null,{"$f":"$D4012*$F4016*H4016","v":0}]
[null,null,null,null,"อื่นๆ",null,{"$f":"D4012*F4017","v":0},null,{"$f":"$D4012*$F4017*H4017","v":0}]
[null,669,null,null,"ตราสารทุน",null,{"$f":"D4018*F4018","v":0},null,{"$f":"$D4018*$F4018*H4018","v":0},{"$f":"SUM(I4018:I4023)","v":0}]
[null,null,null,null,"อสังหาริมทรัพย์",null,{"$f":"D4018*F4019","v":0},null,{"$f":"$D4018*$F4019*H4019","v":0}]
[null,null,null,null,"สินค้าโภคภัณฑ์",null,{"$f":"D4018*F4020","v":0},null,{"$f":"$D4018*$F4020*H4020","v":0}]
[null,null,null,null,"เงินฝาก",null,{"$f":"D4018*F4021","v":0},null,{"$f":"$D4018*$F4021*H4021","v":0}]
[null,null,null,null,"ตราสารหนี้",null,{"$f":"D4018*F4022","v":0},null,{"$f":"$D4018*$F4022*H4022","v":0}]
[null,null,null,null,"อื่นๆ",null,{"$f":"D4018*F4023","v":0},null,{"$f":"$D4018*$F4023*H4023","v":0}]
[null,670,null,null,"ตราสารทุน",null,{"$f":"D4024*F4024","v":0},null,{"$f":"$D4024*$F4024*H4024","v":0},{"$f":"SUM(I4024:I4029)","v":0}]
[null,null,null,null,"อสังหาริมทรัพย์",null,{"$f":"D4024*F4025","v":0},null,{"$f":"$D4024*$F4025*H4025","v":0}]
[null,null,null,null,"สินค้าโภคภัณฑ์",null,{"$f":"D4024*F4026","v":0},null,{"$f":"$D4024*$F4026*H4026","v":0}]
[null,null,null,null,"เงินฝาก",null,{"$f":"D4024*F4027","v":0},null,{"$f":"$D4024*$F4027*H4027","v":0}]
[null,null,null,null,"ตราสารหนี้",null,{"$f":"D4024*F4028","v":0},null,{"$f":"$D4024*$F4028*H4028","v":0}]
[null,null,null,null,"อื่นๆ",null,{"$f":"D4024*F4029","v":0},null,{"$f":"$D4024*$F4029*H4029","v":0}]
[null,671,null,null,"ตราสารทุน",null,{"$f":"D4030*F4030","v":0},null,{"$f":"$D4030*$F4030*H4030","v":0},{"$f":"SUM(I4030:I4035)","v":0}]
[null,null,null,null,"อสังหาริมทรัพย์",null,{"$f":"D4030*F4031","v":0},null,{"$f":"$D4030*$F4031*H4031","v":0}]
[null,null,null,null,"สินค้าโภคภัณฑ์",null,{"$f":"D4030*F4032","v":0},null,{"$f":"$D4030*$F4032*H4032","v":0}]
[null,null,null,null,"เงินฝาก",null,{"$f":"D4030*F4033","v":0},null,{"$f":"$D4030*$F4033*H4033","v":0}]
[null,null,null,null,"ตราสารหนี้",null,{"$f":"D4030*F4034","v":0},null,{"$f":"$D4030*$F4034*H4034","v":0}]
[null,null,null,null,"อื่นๆ",null,{"$f":"D4030*F4035","v":0},null,{"$f":"$D4030*$F4035*H4035","v":0}]
[null,672,null,null,"ตราสารทุน",null,{"$f":"D4036*F4036","v":0},null,{"$f":"$D4036*$F4036*H4036","v":0},{"$f":"SUM(I4036:I4041)","v":0}]
[null,null,null,null,"อสังหาริมทรัพย์",null,{"$f":"D4036*F4037","v":0},null,{"$f":"$D4036*$F4037*H4037","v":0}]
[null,null,null,null,"สินค้าโภคภัณฑ์",null,{"$f":"D4036*F4038","v":0},null,{"$f":"$D4036*$F4038*H4038","v":0}]
[null,null,null,null,"เงินฝาก",null,{"$f":"D4036*F4039","v":0},null,{"$f":"$D4036*$F4039*H4039","v":0}]
[null,null,null,null,"ตราสารหนี้",null,{"$f":"D4036*F4040","v":0},null,{"$f":"$D4036*$F4040*H4040","v":0}]
[null,null,null,null,"อื่นๆ",null,{"$f":"D4036*F4041","v":0},null,{"$f":"$D4036*$F4041*H4041","v":0}]
[null,673,null,null,"ตราสารทุน",null,{"$f":"D4042*F4042","v":0},null,{"$f":"$D4042*$F4042*H4042","v":0},{"$f":"SUM(I4042:I4047)","v":0}]
[null,null,null,null,"อสังหาริมทรัพย์",null,{"$f":"D4042*F4043","v":0},null,{"$f":"$D4042*$F4043*H4043","v":0}]
[null,null,null,null,"สินค้าโภคภัณฑ์",null,{"$f":"D4042*F4044","v":0},null,{"$f":"$D4042*$F4044*H4044","v":0}]
[null,null,null,null,"เงินฝาก",null,{"$f":"D4042*F4045","v":0},null,{"$f":"$D4042*$F4045*H4045","v":0}]
[null,null,null,null,"ตราสารหนี้",null,{"$f":"D4042*F4046","v":0},null,{"$f":"$D4042*$F4046*H4046","v":0}]
[null,null,null,null,"อื่นๆ",null,{"$f":"D4042*F4047","v":0},null,{"$f":"$D4042*$F4047*H4047","v":0}]
[null,674,null,null,"ตราสารทุน",null,{"$f":"D4048*F4048","v":0},null,{"$f":"$D4048*$F4048*H4048","v":0},{"$f":"SUM(I4048:I4053)","v":0}]
[null,null,null,null,"อสังหาริมทรัพย์",null,{"$f":"D4048*F4049","v":0},null,{"$f":"$D4048*$F4049*H4049","v":0}]
[null,null,null,null,"สินค้าโภคภัณฑ์",null,{"$f":"D4048*F4050","v":0},null,{"$f":"$D4048*$F4050*H4050","v":0}]
[null,null,null,null,"เงินฝาก",null,{"$f":"D4048*F4051","v":0},null,{"$f":"$D4048*$F4051*H4051","v":0}]
[null,null,null,null,"ตราสารหนี้",null,{"$f":"D4048*F4052","v":0},null,{"$f":"$D4048*$F4052*H4052","v":0}]
[null,null,null,null,"อื่นๆ",null,{"$f":"D4048*F4053","v":0},null,{"$f":"$D4048*$F4053*H4053","v":0}]
[null,675,null,null,"ตราสารทุน",null,{"$f":"D4054*F4054","v":0},null,{"$f":"$D4054*$F4054*H4054","v":0},{"$f":"SUM(I4054:I4059)","v":0}]
[null,null,null,null,"อสังหาริมทรัพย์",null,{"$f":"D4054*F4055","v":0},null,{"$f":"$D4054*$F4055*H4055","v":0}]
[null,null,null,null,"สินค้าโภคภัณฑ์",null,{"$f":"D4054*F4056","v":0},null,{"$f":"$D4054*$F4056*H4056","v":0}]
[null,null,null,null,"เงินฝาก",null,{"$f":"D4054*F4057","v":0},null,{"$f":"$D4054*$F4057*H4057","v":0}]
[null,null,null,null,"ตราสารหนี้",null,{"$f":"D4054*F4058","v":0},null,{"$f":"$D4054*$F4058*H4058","v":0}]
[null,null,null,null,"อื่นๆ",null,{"$f":"D4054*F4059","v":0},null,{"$f":"$D4054*$F4059*H4059","v":0}]
[null,676,null,null,"ตราสารทุน",null,{"$f":"D4060*F4060","v":0},null,{"$f":"$D4060*$F4060*H4060","v":0},{"$f":"SUM(I4060:I4065)","v":0}]
[null,null,null,null,"อสังหาริมทรัพย์",null,{"$f":"D4060*F4061","v":0},null,{"$f":"$D4060*$F4061*H4061","v":0}]
[null,null,null,null,"สินค้าโภคภัณฑ์",null,{"$f":"D4060*F4062","v":0},null,{"$f":"$D4060*$F4062*H4062","v":0}]
[null,null,null,null,"เงินฝาก",null,{"$f":"D4060*F4063","v":0},null,{"$f":"$D4060*$F4063*H4063","v":0}]
[null,null,null,null,"ตราสารหนี้",null,{"$f":"D4060*F4064","v":0},null,{"$f":"$D4060*$F4064*H4064","v":0}]
[null,null,null,null,"อื่นๆ",null,{"$f":"D4060*F4065","v":0},null,{"$f":"$D4060*$F4065*H4065","v":0}]
[null,677,null,null,"ตราสารทุน",null,{"$f":"D4066*F4066","v":0},null,{"$f":"$D4066*$F4066*H4066","v":0},{"$f":"SUM(I4066:I4071)","v":0}]
[null,null,null,null,"อสังหาริมทรัพย์",null,{"$f":"D4066*F4067","v":0},null,{"$f":"$D4066*$F4067*H4067","v":0}]
[null,null,null,null,"สินค้าโภคภัณฑ์",null,{"$f":"D4066*F4068","v":0},null,{"$f":"$D4066*$F4068*H4068","v":0}]
[null,null,null,null,"เงินฝาก",null,{"$f":"D4066*F4069","v":0},null,{"$f":"$D4066*$F4069*H4069","v":0}]
[null,null,null,null,"ตราสารหนี้",null,{"$f":"D4066*F4070","v":0},null,{"$f":"$D4066*$F4070*H4070","v":0}]
[null,null,null,null,"อื่นๆ",null,{"$f":"D4066*F4071","v":0},null,{"$f":"$D4066*$F4071*H4071","v":0}]
[null,678,null,null,"ตราสารทุน",null,{"$f":"D4072*F4072","v":0},null,{"$f":"$D4072*$F4072*H4072","v":0},{"$f":"SUM(I4072:I4077)","v":0}]
[null,null,null,null,"อสังหาริมทรัพย์",null,{"$f":"D4072*F4073","v":0},null,{"$f":"$D4072*$F4073*H4073","v":0}]
[null,null,null,null,"สินค้าโภคภัณฑ์",null,{"$f":"D4072*F4074","v":0},null,{"$f":"$D4072*$F4074*H4074","v":0}]
[null,null,null,null,"เงินฝาก",null,{"$f":"D4072*F4075","v":0},null,{"$f":"$D4072*$F4075*H4075","v":0}]
[null,null,null,null,"ตราสารหนี้",null,{"$f":"D4072*F4076","v":0},null,{"$f":"$D4072*$F4076*H4076","v":0}]
[null,null,null,null,"อื่นๆ",null,{"$f":"D4072*F4077","v":0},null,{"$f":"$D4072*$F4077*H4077","v":0}]
[null,679,null,null,"ตราสารทุน",null,{"$f":"D4078*F4078","v":0},null,{"$f":"$D4078*$F4078*H4078","v":0},{"$f":"SUM(I4078:I4083)","v":0}]
[null,null,null,null,"อสังหาริมทรัพย์",null,{"$f":"D4078*F4079","v":0},null,{"$f":"$D4078*$F4079*H4079","v":0}]
[null,null,null,null,"สินค้าโภคภัณฑ์",null,{"$f":"D4078*F4080","v":0},null,{"$f":"$D4078*$F4080*H4080","v":0}]
[null,null,null,null,"เงินฝาก",null,{"$f":"D4078*F4081","v":0},null,{"$f":"$D4078*$F4081*H4081","v":0}]
[null,null,null,null,"ตราสารหนี้",null,{"$f":"D4078*F4082","v":0},null,{"$f":"$D4078*$F4082*H4082","v":0}]
[null,null,null,null,"อื่นๆ",null,{"$f":"D4078*F4083","v":0},null,{"$f":"$D4078*$F4083*H4083","v":0}]
[null,680,null,null,"ตราสารทุน",null,{"$f":"D4084*F4084","v":0},null,{"$f":"$D4084*$F4084*H4084","v":0},{"$f":"SUM(I4084:I4089)","v":0}]
[null,null,null,null,"อสังหาริมทรัพย์",null,{"$f":"D4084*F4085","v":0},null,{"$f":"$D4084*$F4085*H4085","v":0}]
[null,null,null,null,"สินค้าโภคภัณฑ์",null,{"$f":"D4084*F4086","v":0},null,{"$f":"$D4084*$F4086*H4086","v":0}]
[null,null,null,null,"เงินฝาก",null,{"$f":"D4084*F4087","v":0},null,{"$f":"$D4084*$F4087*H4087","v":0}]
[null,null,null,null,"ตราสารหนี้",null,{"$f":"D4084*F4088","v":0},null,{"$f":"$D4084*$F4088*H4088","v":0}]
[null,null,null,null,"อื่นๆ",null,{"$f":"D4084*F4089","v":0},null,{"$f":"$D4084*$F4089*H4089","v":0}]
[null,681,null,null,"ตราสารทุน",null,{"$f":"D4090*F4090","v":0},null,{"$f":"$D4090*$F4090*H4090","v":0},{"$f":"SUM(I4090:I4095)","v":0}]
[null,null,null,null,"อสังหาริมทรัพย์",null,{"$f":"D4090*F4091","v":0},null,{"$f":"$D4090*$F4091*H4091","v":0}]
[null,null,null,null,"สินค้าโภคภัณฑ์",null,{"$f":"D4090*F4092","v":0},null,{"$f":"$D4090*$F4092*H4092","v":0}]
[null,null,null,null,"เงินฝาก",null,{"$f":"D4090*F4093","v":0},null,{"$f":"$D4090*$F4093*H4093","v":0}]
[null,null,null,null,"ตราสารหนี้",null,{"$f":"D4090*F4094","v":0},null,{"$f":"$D4090*$F4094*H4094","v":0}]
[null,null,null,null,"อื่นๆ",null,{"$f":"D4090*F4095","v":0},null,{"$f":"$D4090*$F4095*H4095","v":0}]
[null,682,null,null,"ตราสารทุน",null,{"$f":"D4096*F4096","v":0},null,{"$f":"$D4096*$F4096*H4096","v":0},{"$f":"SUM(I4096:I4101)","v":0}]
[null,null,null,null,"อสังหาริมทรัพย์",null,{"$f":"D4096*F4097","v":0},null,{"$f":"$D4096*$F4097*H4097","v":0}]
[null,null,null,null,"สินค้าโภคภัณฑ์",null,{"$f":"D4096*F4098","v":0},null,{"$f":"$D4096*$F4098*H4098","v":0}]
[null,null,null,null,"เงินฝาก",null,{"$f":"D4096*F4099","v":0},null,{"$f":"$D4096*$F4099*H4099","v":0}]
[null,null,null,null,"ตราสารหนี้",null,{"$f":"D4096*F4100","v":0},null,{"$f":"$D4096*$F4100*H4100","v":0}]
[null,null,null,null,"อื่นๆ",null,{"$f":"D4096*F4101","v":0},null,{"$f":"$D4096*$F4101*H4101","v":0}]
[null,683,null,null,"ตราสารทุน",null,{"$f":"D4102*F4102","v":0},null,{"$f":"$D4102*$F4102*H4102","v":0},{"$f":"SUM(I4102:I4107)","v":0}]
[null,null,null,null,"อสังหาริมทรัพย์",null,{"$f":"D4102*F4103","v":0},null,{"$f":"$D4102*$F4103*H4103","v":0}]
[null,null,null,null,"สินค้าโภคภัณฑ์",null,{"$f":"D4102*F4104","v":0},null,{"$f":"$D4102*$F4104*H4104","v":0}]
[null,null,null,null,"เงินฝาก",null,{"$f":"D4102*F4105","v":0},null,{"$f":"$D4102*$F4105*H4105","v":0}]
[null,null,null,null,"ตราสารหนี้",null,{"$f":"D4102*F4106","v":0},null,{"$f":"$D4102*$F4106*H4106","v":0}]
[null,null,null,null,"อื่นๆ",null,{"$f":"D4102*F4107","v":0},null,{"$f":"$D4102*$F4107*H4107","v":0}]
[null,684,null,null,"ตราสารทุน",null,{"$f":"D4108*F4108","v":0},null,{"$f":"$D4108*$F4108*H4108","v":0},{"$f":"SUM(I4108:I4113)","v":0}]
[null,null,null,null,"อสังหาริมทรัพย์",null,{"$f":"D4108*F4109","v":0},null,{"$f":"$D4108*$F4109*H4109","v":0}]
[null,null,null,null,"สินค้าโภคภัณฑ์",null,{"$f":"D4108*F4110","v":0},null,{"$f":"$D4108*$F4110*H4110","v":0}]
[null,null,null,null,"เงินฝาก",null,{"$f":"D4108*F4111","v":0},null,{"$f":"$D4108*$F4111*H4111","v":0}]
[null,null,null,null,"ตราสารหนี้",null,{"$f":"D4108*F4112","v":0},null,{"$f":"$D4108*$F4112*H4112","v":0}]
[null,null,null,null,"อื่นๆ",null,{"$f":"D4108*F4113","v":0},null,{"$f":"$D4108*$F4113*H4113","v":0}]
[null,685,null,null,"ตราสารทุน",null,{"$f":"D4114*F4114","v":0},null,{"$f":"$D4114*$F4114*H4114","v":0},{"$f":"SUM(I4114:I4119)","v":0}]
[null,null,null,null,"อสังหาริมทรัพย์",null,{"$f":"D4114*F4115","v":0},null,{"$f":"$D4114*$F4115*H4115","v":0}]
[null,null,null,null,"สินค้าโภคภัณฑ์",null,{"$f":"D4114*F4116","v":0},null,{"$f":"$D4114*$F4116*H4116","v":0}]
[null,null,null,null,"เงินฝาก",null,{"$f":"D4114*F4117","v":0},null,{"$f":"$D4114*$F4117*H4117","v":0}]
[null,null,null,null,"ตราสารหนี้",null,{"$f":"D4114*F4118","v":0},null,{"$f":"$D4114*$F4118*H4118","v":0}]
[null,null,null,null,"อื่นๆ",null,{"$f":"D4114*F4119","v":0},null,{"$f":"$D4114*$F4119*H4119","v":0}]
[null,686,null,null,"ตราสารทุน",null,{"$f":"D4120*F4120","v":0},null,{"$f":"$D4120*$F4120*H4120","v":0},{"$f":"SUM(I4120:I4125)","v":0}]
[null,null,null,null,"อสังหาริมทรัพย์",null,{"$f":"D4120*F4121","v":0},null,{"$f":"$D4120*$F4121*H4121","v":0}]
[null,null,null,null,"สินค้าโภคภัณฑ์",null,{"$f":"D4120*F4122","v":0},null,{"$f":"$D4120*$F4122*H4122","v":0}]
[null,null,null,null,"เงินฝาก",null,{"$f":"D4120*F4123","v":0},null,{"$f":"$D4120*$F4123*H4123","v":0}]
[null,null,null,null,"ตราสารหนี้",null,{"$f":"D4120*F4124","v":0},null,{"$f":"$D4120*$F4124*H4124","v":0}]
[null,null,null,null,"อื่นๆ",null,{"$f":"D4120*F4125","v":0},null,{"$f":"$D4120*$F4125*H4125","v":0}]
[null,687,null,null,"ตราสารทุน",null,{"$f":"D4126*F4126","v":0},null,{"$f":"$D4126*$F4126*H4126","v":0},{"$f":"SUM(I4126:I4131)","v":0}]
[null,null,null,null,"อสังหาริมทรัพย์",null,{"$f":"D4126*F4127","v":0},null,{"$f":"$D4126*$F4127*H4127","v":0}]
[null,null,null,null,"สินค้าโภคภัณฑ์",null,{"$f":"D4126*F4128","v":0},null,{"$f":"$D4126*$F4128*H4128","v":0}]
[null,null,null,null,"เงินฝาก",null,{"$f":"D4126*F4129","v":0},null,{"$f":"$D4126*$F4129*H4129","v":0}]
[null,null,null,null,"ตราสารหนี้",null,{"$f":"D4126*F4130","v":0},null,{"$f":"$D4126*$F4130*H4130","v":0}]
[null,null,null,null,"อื่นๆ",null,{"$f":"D4126*F4131","v":0},null,{"$f":"$D4126*$F4131*H4131","v":0}]
[null,688,null,null,"ตราสารทุน",null,{"$f":"D4132*F4132","v":0},null,{"$f":"$D4132*$F4132*H4132","v":0},{"$f":"SUM(I4132:I4137)","v":0}]
[null,null,null,null,"อสังหาริมทรัพย์",null,{"$f":"D4132*F4133","v":0},null,{"$f":"$D4132*$F4133*H4133","v":0}]
[null,null,null,null,"สินค้าโภคภัณฑ์",null,{"$f":"D4132*F4134","v":0},null,{"$f":"$D4132*$F4134*H4134","v":0}]
[null,null,null,null,"เงินฝาก",null,{"$f":"D4132*F4135","v":0},null,{"$f":"$D4132*$F4135*H4135","v":0}]
[null,null,null,null,"ตราสารหนี้",null,{"$f":"D4132*F4136","v":0},null,{"$f":"$D4132*$F4136*H4136","v":0}]
[null,null,null,null,"อื่นๆ",null,{"$f":"D4132*F4137","v":0},null,{"$f":"$D4132*$F4137*H4137","v":0}]
[null,689,null,null,"ตราสารทุน",null,{"$f":"D4138*F4138","v":0},null,{"$f":"$D4138*$F4138*H4138","v":0},{"$f":"SUM(I4138:I4143)","v":0}]
[null,null,null,null,"อสังหาริมทรัพย์",null,{"$f":"D4138*F4139","v":0},null,{"$f":"$D4138*$F4139*H4139","v":0}]
[null,null,null,null,"สินค้าโภคภัณฑ์",null,{"$f":"D4138*F4140","v":0},null,{"$f":"$D4138*$F4140*H4140","v":0}]
[null,null,null,null,"เงินฝาก",null,{"$f":"D4138*F4141","v":0},null,{"$f":"$D4138*$F4141*H4141","v":0}]
[null,null,null,null,"ตราสารหนี้",null,{"$f":"D4138*F4142","v":0},null,{"$f":"$D4138*$F4142*H4142","v":0}]
[null,null,null,null,"อื่นๆ",null,{"$f":"D4138*F4143","v":0},null,{"$f":"$D4138*$F4143*H4143","v":0}]
[null,690,null,null,"ตราสารทุน",null,{"$f":"D4144*F4144","v":0},null,{"$f":"$D4144*$F4144*H4144","v":0},{"$f":"SUM(I4144:I4149)","v":0}]
[null,null,null,null,"อสังหาริมทรัพย์",null,{"$f":"D4144*F4145","v":0},null,{"$f":"$D4144*$F4145*H4145","v":0}]
[null,null,null,null,"สินค้าโภคภัณฑ์",null,{"$f":"D4144*F4146","v":0},null,{"$f":"$D4144*$F4146*H4146","v":0}]
[null,null,null,null,"เงินฝาก",null,{"$f":"D4144*F4147","v":0},null,{"$f":"$D4144*$F4147*H4147","v":0}]
[null,null,null,null,"ตราสารหนี้",null,{"$f":"D4144*F4148","v":0},null,{"$f":"$D4144*$F4148*H4148","v":0}]
[null,null,null,null,"อื่นๆ",null,{"$f":"D4144*F4149","v":0},null,{"$f":"$D4144*$F4149*H4149","v":0}]
[null,691,null,null,"ตราสารทุน",null,{"$f":"D4150*F4150","v":0},null,{"$f":"$D4150*$F4150*H4150","v":0},{"$f":"SUM(I4150:I4155)","v":0}]
[null,null,null,null,"อสังหาริมทรัพย์",null,{"$f":"D4150*F4151","v":0},null,{"$f":"$D4150*$F4151*H4151","v":0}]
[null,null,null,null,"สินค้าโภคภัณฑ์",null,{"$f":"D4150*F4152","v":0},null,{"$f":"$D4150*$F4152*H4152","v":0}]
[null,null,null,null,"เงินฝาก",null,{"$f":"D4150*F4153","v":0},null,{"$f":"$D4150*$F4153*H4153","v":0}]
[null,null,null,null,"ตราสารหนี้",null,{"$f":"D4150*F4154","v":0},null,{"$f":"$D4150*$F4154*H4154","v":0}]
[null,null,null,null,"อื่นๆ",null,{"$f":"D4150*F4155","v":0},null,{"$f":"$D4150*$F4155*H4155","v":0}]
[null,692,null,null,"ตราสารทุน",null,{"$f":"D4156*F4156","v":0},null,{"$f":"$D4156*$F4156*H4156","v":0},{"$f":"SUM(I4156:I4161)","v":0}]
[null,null,null,null,"อสังหาริมทรัพย์",null,{"$f":"D4156*F4157","v":0},null,{"$f":"$D4156*$F4157*H4157","v":0}]
[null,null,null,null,"สินค้าโภคภัณฑ์",null,{"$f":"D4156*F4158","v":0},null,{"$f":"$D4156*$F4158*H4158","v":0}]
[null,null,null,null,"เงินฝาก",null,{"$f":"D4156*F4159","v":0},null,{"$f":"$D4156*$F4159*H4159","v":0}]
[null,null,null,null,"ตราสารหนี้",null,{"$f":"D4156*F4160","v":0},null,{"$f":"$D4156*$F4160*H4160","v":0}]
[null,null,null,null,"อื่นๆ",null,{"$f":"D4156*F4161","v":0},null,{"$f":"$D4156*$F4161*H4161","v":0}]
[null,693,null,null,"ตราสารทุน",null,{"$f":"D4162*F4162","v":0},null,{"$f":"$D4162*$F4162*H4162","v":0},{"$f":"SUM(I4162:I4167)","v":0}]
[null,null,null,null,"อสังหาริมทรัพย์",null,{"$f":"D4162*F4163","v":0},null,{"$f":"$D4162*$F4163*H4163","v":0}]
[null,null,null,null,"สินค้าโภคภัณฑ์",null,{"$f":"D4162*F4164","v":0},null,{"$f":"$D4162*$F4164*H4164","v":0}]
[null,null,null,null,"เงินฝาก",null,{"$f":"D4162*F4165","v":0},null,{"$f":"$D4162*$F4165*H4165","v":0}]
[null,null,null,null,"ตราสารหนี้",null,{"$f":"D4162*F4166","v":0},null,{"$f":"$D4162*$F4166*H4166","v":0}]
[null,null,null,null,"อื่นๆ",null,{"$f":"D4162*F4167","v":0},null,{"$f":"$D4162*$F4167*H4167","v":0}]
[null,694,null,null,"ตราสารทุน",null,{"$f":"D4168*F4168","v":0},null,{"$f":"$D4168*$F4168*H4168","v":0},{"$f":"SUM(I4168:I4173)","v":0}]
[null,null,null,null,"อสังหาริมทรัพย์",null,{"$f":"D4168*F4169","v":0},null,{"$f":"$D4168*$F4169*H4169","v":0}]
[null,null,null,null,"สินค้าโภคภัณฑ์",null,{"$f":"D4168*F4170","v":0},null,{"$f":"$D4168*$F4170*H4170","v":0}]
[null,null,null,null,"เงินฝาก",null,{"$f":"D4168*F4171","v":0},null,{"$f":"$D4168*$F4171*H4171","v":0}]
[null,null,null,null,"ตราสารหนี้",null,{"$f":"D4168*F4172","v":0},null,{"$f":"$D4168*$F4172*H4172","v":0}]
[null,null,null,null,"อื่นๆ",null,{"$f":"D4168*F4173","v":0},null,{"$f":"$D4168*$F4173*H4173","v":0}]
[null,695,null,null,"ตราสารทุน",null,{"$f":"D4174*F4174","v":0},null,{"$f":"$D4174*$F4174*H4174","v":0},{"$f":"SUM(I4174:I4179)","v":0}]
[null,null,null,null,"อสังหาริมทรัพย์",null,{"$f":"D4174*F4175","v":0},null,{"$f":"$D4174*$F4175*H4175","v":0}]
[null,null,null,null,"สินค้าโภคภัณฑ์",null,{"$f":"D4174*F4176","v":0},null,{"$f":"$D4174*$F4176*H4176","v":0}]
[null,null,null,null,"เงินฝาก",null,{"$f":"D4174*F4177","v":0},null,{"$f":"$D4174*$F4177*H4177","v":0}]
[null,null,null,null,"ตราสารหนี้",null,{"$f":"D4174*F4178","v":0},null,{"$f":"$D4174*$F4178*H4178","v":0}]
[null,null,null,null,"อื่นๆ",null,{"$f":"D4174*F4179","v":0},null,{"$f":"$D4174*$F4179*H4179","v":0}]
[null,696,null,null,"ตราสารทุน",null,{"$f":"D4180*F4180","v":0},null,{"$f":"$D4180*$F4180*H4180","v":0},{"$f":"SUM(I4180:I4185)","v":0}]
[null,null,null,null,"อสังหาริมทรัพย์",null,{"$f":"D4180*F4181","v":0},null,{"$f":"$D4180*$F4181*H4181","v":0}]
[null,null,null,null,"สินค้าโภคภัณฑ์",null,{"$f":"D4180*F4182","v":0},null,{"$f":"$D4180*$F4182*H4182","v":0}]
[null,null,null,null,"เงินฝาก",null,{"$f":"D4180*F4183","v":0},null,{"$f":"$D4180*$F4183*H4183","v":0}]
[null,null,null,null,"ตราสารหนี้",null,{"$f":"D4180*F4184","v":0},null,{"$f":"$D4180*$F4184*H4184","v":0}]
[null,null,null,null,"อื่นๆ",null,{"$f":"D4180*F4185","v":0},null,{"$f":"$D4180*$F4185*H4185","v":0}]
[null,697,null,null,"ตราสารทุน",null,{"$f":"D4186*F4186","v":0},null,{"$f":"$D4186*$F4186*H4186","v":0},{"$f":"SUM(I4186:I4191)","v":0}]
[null,null,null,null,"อสังหาริมทรัพย์",null,{"$f":"D4186*F4187","v":0},null,{"$f":"$D4186*$F4187*H4187","v":0}]
[null,null,null,null,"สินค้าโภคภัณฑ์",null,{"$f":"D4186*F4188","v":0},null,{"$f":"$D4186*$F4188*H4188","v":0}]
[null,null,null,null,"เงินฝาก",null,{"$f":"D4186*F4189","v":0},null,{"$f":"$D4186*$F4189*H4189","v":0}]
[null,null,null,null,"ตราสารหนี้",null,{"$f":"D4186*F4190","v":0},null,{"$f":"$D4186*$F4190*H4190","v":0}]
[null,null,null,null,"อื่นๆ",null,{"$f":"D4186*F4191","v":0},null,{"$f":"$D4186*$F4191*H4191","v":0}]
[null,698,null,null,"ตราสารทุน",null,{"$f":"D4192*F4192","v":0},null,{"$f":"$D4192*$F4192*H4192","v":0},{"$f":"SUM(I4192:I4197)","v":0}]
[null,null,null,null,"อสังหาริมทรัพย์",null,{"$f":"D4192*F4193","v":0},null,{"$f":"$D4192*$F4193*H4193","v":0}]
[null,null,null,null,"สินค้าโภคภัณฑ์",null,{"$f":"D4192*F4194","v":0},null,{"$f":"$D4192*$F4194*H4194","v":0}]
[null,null,null,null,"เงินฝาก",null,{"$f":"D4192*F4195","v":0},null,{"$f":"$D4192*$F4195*H4195","v":0}]
[null,null,null,null,"ตราสารหนี้",null,{"$f":"D4192*F4196","v":0},null,{"$f":"$D4192*$F4196*H4196","v":0}]
[null,null,null,null,"อื่นๆ",null,{"$f":"D4192*F4197","v":0},null,{"$f":"$D4192*$F4197*H4197","v":0}]
[null,699,null,null,"ตราสารทุน",null,{"$f":"D4198*F4198","v":0},null,{"$f":"$D4198*$F4198*H4198","v":0},{"$f":"SUM(I4198:I4203)","v":0}]
[null,null,null,null,"อสังหาริมทรัพย์",null,{"$f":"D4198*F4199","v":0},null,{"$f":"$D4198*$F4199*H4199","v":0}]
[null,null,null,null,"สินค้าโภคภัณฑ์",null,{"$f":"D4198*F4200","v":0},null,{"$f":"$D4198*$F4200*H4200","v":0}]
[null,null,null,null,"เงินฝาก",null,{"$f":"D4198*F4201","v":0},null,{"$f":"$D4198*$F4201*H4201","v":0}]
[null,null,null,null,"ตราสารหนี้",null,{"$f":"D4198*F4202","v":0},null,{"$f":"$D4198*$F4202*H4202","v":0}]
[null,null,null,null,"อื่นๆ",null,{"$f":"D4198*F4203","v":0},null,{"$f":"$D4198*$F4203*H4203","v":0}]
[null,700,null,null,"ตราสารทุน",null,{"$f":"D4204*F4204","v":0},null,{"$f":"$D4204*$F4204*H4204","v":0},{"$f":"SUM(I4204:I4209)","v":0}]
[null,null,null,null,"อสังหาริมทรัพย์",null,{"$f":"D4204*F4205","v":0},null,{"$f":"$D4204*$F4205*H4205","v":0}]
[null,null,null,null,"สินค้าโภคภัณฑ์",null,{"$f":"D4204*F4206","v":0},null,{"$f":"$D4204*$F4206*H4206","v":0}]
[null,null,null,null,"เงินฝาก",null,{"$f":"D4204*F4207","v":0},null,{"$f":"$D4204*$F4207*H4207","v":0}]
[null,null,null,null,"ตราสารหนี้",null,{"$f":"D4204*F4208","v":0},null,{"$f":"$D4204*$F4208*H4208","v":0}]
[null,null,null,null,"อื่นๆ",null,{"$f":"D4204*F4209","v":0},null,{"$f":"$D4204*$F4209*H4209","v":0}]
[null,701,null,null,"ตราสารทุน",null,{"$f":"D4210*F4210","v":0},null,{"$f":"$D4210*$F4210*H4210","v":0},{"$f":"SUM(I4210:I4215)","v":0}]
[null,null,null,null,"อสังหาริมทรัพย์",null,{"$f":"D4210*F4211","v":0},null,{"$f":"$D4210*$F4211*H4211","v":0}]
[null,null,null,null,"สินค้าโภคภัณฑ์",null,{"$f":"D4210*F4212","v":0},null,{"$f":"$D4210*$F4212*H4212","v":0}]
[null,null,null,null,"เงินฝาก",null,{"$f":"D4210*F4213","v":0},null,{"$f":"$D4210*$F4213*H4213","v":0}]
[null,null,null,null,"ตราสารหนี้",null,{"$f":"D4210*F4214","v":0},null,{"$f":"$D4210*$F4214*H4214","v":0}]
[null,null,null,null,"อื่นๆ",null,{"$f":"D4210*F4215","v":0},null,{"$f":"$D4210*$F4215*H4215","v":0}]
[null,702,null,null,"ตราสารทุน",null,{"$f":"D4216*F4216","v":0},null,{"$f":"$D4216*$F4216*H4216","v":0},{"$f":"SUM(I4216:I4221)","v":0}]
[null,null,null,null,"อสังหาริมทรัพย์",null,{"$f":"D4216*F4217","v":0},null,{"$f":"$D4216*$F4217*H4217","v":0}]
[null,null,null,null,"สินค้าโภคภัณฑ์",null,{"$f":"D4216*F4218","v":0},null,{"$f":"$D4216*$F4218*H4218","v":0}]
[null,null,null,null,"เงินฝาก",null,{"$f":"D4216*F4219","v":0},null,{"$f":"$D4216*$F4219*H4219","v":0}]
[null,null,null,null,"ตราสารหนี้",null,{"$f":"D4216*F4220","v":0},null,{"$f":"$D4216*$F4220*H4220","v":0}]
[null,null,null,null,"อื่นๆ",null,{"$f":"D4216*F4221","v":0},null,{"$f":"$D4216*$F4221*H4221","v":0}]
[null,703,null,null,"ตราสารทุน",null,{"$f":"D4222*F4222","v":0},null,{"$f":"$D4222*$F4222*H4222","v":0},{"$f":"SUM(I4222:I4227)","v":0}]
[null,null,null,null,"อสังหาริมทรัพย์",null,{"$f":"D4222*F4223","v":0},null,{"$f":"$D4222*$F4223*H4223","v":0}]
[null,null,null,null,"สินค้าโภคภัณฑ์",null,{"$f":"D4222*F4224","v":0},null,{"$f":"$D4222*$F4224*H4224","v":0}]
[null,null,null,null,"เงินฝาก",null,{"$f":"D4222*F4225","v":0},null,{"$f":"$D4222*$F4225*H4225","v":0}]
[null,null,null,null,"ตราสารหนี้",null,{"$f":"D4222*F4226","v":0},null,{"$f":"$D4222*$F4226*H4226","v":0}]
[null,null,null,null,"อื่นๆ",null,{"$f":"D4222*F4227","v":0},null,{"$f":"$D4222*$F4227*H4227","v":0}]
[null,704,null,null,"ตราสารทุน",null,{"$f":"D4228*F4228","v":0},null,{"$f":"$D4228*$F4228*H4228","v":0},{"$f":"SUM(I4228:I4233)","v":0}]
[null,null,null,null,"อสังหาริมทรัพย์",null,{"$f":"D4228*F4229","v":0},null,{"$f":"$D4228*$F4229*H4229","v":0}]
[null,null,null,null,"สินค้าโภคภัณฑ์",null,{"$f":"D4228*F4230","v":0},null,{"$f":"$D4228*$F4230*H4230","v":0}]
[null,null,null,null,"เงินฝาก",null,{"$f":"D4228*F4231","v":0},null,{"$f":"$D4228*$F4231*H4231","v":0}]
[null,null,null,null,"ตราสารหนี้",null,{"$f":"D4228*F4232","v":0},null,{"$f":"$D4228*$F4232*H4232","v":0}]
[null,null,null,null,"อื่นๆ",null,{"$f":"D4228*F4233","v":0},null,{"$f":"$D4228*$F4233*H4233","v":0}]
[null,705,null,null,"ตราสารทุน",null,{"$f":"D4234*F4234","v":0},null,{"$f":"$D4234*$F4234*H4234","v":0},{"$f":"SUM(I4234:I4239)","v":0}]
[null,null,null,null,"อสังหาริมทรัพย์",null,{"$f":"D4234*F4235","v":0},null,{"$f":"$D4234*$F4235*H4235","v":0}]
[null,null,null,null,"สินค้าโภคภัณฑ์",null,{"$f":"D4234*F4236","v":0},null,{"$f":"$D4234*$F4236*H4236","v":0}]
[null,null,null,null,"เงินฝาก",null,{"$f":"D4234*F4237","v":0},null,{"$f":"$D4234*$F4237*H4237","v":0}]
[null,null,null,null,"ตราสารหนี้",null,{"$f":"D4234*F4238","v":0},null,{"$f":"$D4234*$F4238*H4238","v":0}]
[null,null,null,null,"อื่นๆ",null,{"$f":"D4234*F4239","v":0},null,{"$f":"$D4234*$F4239*H4239","v":0}]
[null,706,null,null,"ตราสารทุน",null,{"$f":"D4240*F4240","v":0},null,{"$f":"$D4240*$F4240*H4240","v":0},{"$f":"SUM(I4240:I4245)","v":0}]
[null,null,null,null,"อสังหาริมทรัพย์",null,{"$f":"D4240*F4241","v":0},null,{"$f":"$D4240*$F4241*H4241","v":0}]
[null,null,null,null,"สินค้าโภคภัณฑ์",null,{"$f":"D4240*F4242","v":0},null,{"$f":"$D4240*$F4242*H4242","v":0}]
[null,null,null,null,"เงินฝาก",null,{"$f":"D4240*F4243","v":0},null,{"$f":"$D4240*$F4243*H4243","v":0}]
[null,null,null,null,"ตราสารหนี้",null,{"$f":"D4240*F4244","v":0},null,{"$f":"$D4240*$F4244*H4244","v":0}]
[null,null,null,null,"อื่นๆ",null,{"$f":"D4240*F4245","v":0},null,{"$f":"$D4240*$F4245*H4245","v":0}]
[null,707,null,null,"ตราสารทุน",null,{"$f":"D4246*F4246","v":0},null,{"$f":"$D4246*$F4246*H4246","v":0},{"$f":"SUM(I4246:I4251)","v":0}]
[null,null,null,null,"อสังหาริมทรัพย์",null,{"$f":"D4246*F4247","v":0},null,{"$f":"$D4246*$F4247*H4247","v":0}]
[null,null,null,null,"สินค้าโภคภัณฑ์",null,{"$f":"D4246*F4248","v":0},null,{"$f":"$D4246*$F4248*H4248","v":0}]
[null,null,null,null,"เงินฝาก",null,{"$f":"D4246*F4249","v":0},null,{"$f":"$D4246*$F4249*H4249","v":0}]
[null,null,null,null,"ตราสารหนี้",null,{"$f":"D4246*F4250","v":0},null,{"$f":"$D4246*$F4250*H4250","v":0}]
[null,null,null,null,"อื่นๆ",null,{"$f":"D4246*F4251","v":0},null,{"$f":"$D4246*$F4251*H4251","v":0}]
[null,708,null,null,"ตราสารทุน",null,{"$f":"D4252*F4252","v":0},null,{"$f":"$D4252*$F4252*H4252","v":0},{"$f":"SUM(I4252:I4257)","v":0}]
[null,null,null,null,"อสังหาริมทรัพย์",null,{"$f":"D4252*F4253","v":0},null,{"$f":"$D4252*$F4253*H4253","v":0}]
[null,null,null,null,"สินค้าโภคภัณฑ์",null,{"$f":"D4252*F4254","v":0},null,{"$f":"$D4252*$F4254*H4254","v":0}]
[null,null,null,null,"เงินฝาก",null,{"$f":"D4252*F4255","v":0},null,{"$f":"$D4252*$F4255*H4255","v":0}]
[null,null,null,null,"ตราสารหนี้",null,{"$f":"D4252*F4256","v":0},null,{"$f":"$D4252*$F4256*H4256","v":0}]
[null,null,null,null,"อื่นๆ",null,{"$f":"D4252*F4257","v":0},null,{"$f":"$D4252*$F4257*H4257","v":0}]
[null,709,null,null,"ตราสารทุน",null,{"$f":"D4258*F4258","v":0},null,{"$f":"$D4258*$F4258*H4258","v":0},{"$f":"SUM(I4258:I4263)","v":0}]
[null,null,null,null,"อสังหาริมทรัพย์",null,{"$f":"D4258*F4259","v":0},null,{"$f":"$D4258*$F4259*H4259","v":0}]
[null,null,null,null,"สินค้าโภคภัณฑ์",null,{"$f":"D4258*F4260","v":0},null,{"$f":"$D4258*$F4260*H4260","v":0}]
[null,null,null,null,"เงินฝาก",null,{"$f":"D4258*F4261","v":0},null,{"$f":"$D4258*$F4261*H4261","v":0}]
[null,null,null,null,"ตราสารหนี้",null,{"$f":"D4258*F4262","v":0},null,{"$f":"$D4258*$F4262*H4262","v":0}]
[null,null,null,null,"อื่นๆ",null,{"$f":"D4258*F4263","v":0},null,{"$f":"$D4258*$F4263*H4263","v":0}]
[null,710,null,null,"ตราสารทุน",null,{"$f":"D4264*F4264","v":0},null,{"$f":"$D4264*$F4264*H4264","v":0},{"$f":"SUM(I4264:I4269)","v":0}]
[null,null,null,null,"อสังหาริมทรัพย์",null,{"$f":"D4264*F4265","v":0},null,{"$f":"$D4264*$F4265*H4265","v":0}]
[null,null,null,null,"สินค้าโภคภัณฑ์",null,{"$f":"D4264*F4266","v":0},null,{"$f":"$D4264*$F4266*H4266","v":0}]
[null,null,null,null,"เงินฝาก",null,{"$f":"D4264*F4267","v":0},null,{"$f":"$D4264*$F4267*H4267","v":0}]
[null,null,null,null,"ตราสารหนี้",null,{"$f":"D4264*F4268","v":0},null,{"$f":"$D4264*$F4268*H4268","v":0}]
[null,null,null,null,"อื่นๆ",null,{"$f":"D4264*F4269","v":0},null,{"$f":"$D4264*$F4269*H4269","v":0}]
[null,711,null,null,"ตราสารทุน",null,{"$f":"D4270*F4270","v":0},null,{"$f":"$D4270*$F4270*H4270","v":0},{"$f":"SUM(I4270:I4275)","v":0}]
[null,null,null,null,"อสังหาริมทรัพย์",null,{"$f":"D4270*F4271","v":0},null,{"$f":"$D4270*$F4271*H4271","v":0}]
[null,null,null,null,"สินค้าโภคภัณฑ์",null,{"$f":"D4270*F4272","v":0},null,{"$f":"$D4270*$F4272*H4272","v":0}]
[null,null,null,null,"เงินฝาก",null,{"$f":"D4270*F4273","v":0},null,{"$f":"$D4270*$F4273*H4273","v":0}]
[null,null,null,null,"ตราสารหนี้",null,{"$f":"D4270*F4274","v":0},null,{"$f":"$D4270*$F4274*H4274","v":0}]
[null,null,null,null,"อื่นๆ",null,{"$f":"D4270*F4275","v":0},null,{"$f":"$D4270*$F4275*H4275","v":0}]
[null,712,null,null,"ตราสารทุน",null,{"$f":"D4276*F4276","v":0},null,{"$f":"$D4276*$F4276*H4276","v":0},{"$f":"SUM(I4276:I4281)","v":0}]
[null,null,null,null,"อสังหาริมทรัพย์",null,{"$f":"D4276*F4277","v":0},null,{"$f":"$D4276*$F4277*H4277","v":0}]
[null,null,null,null,"สินค้าโภคภัณฑ์",null,{"$f":"D4276*F4278","v":0},null,{"$f":"$D4276*$F4278*H4278","v":0}]
[null,null,null,null,"เงินฝาก",null,{"$f":"D4276*F4279","v":0},null,{"$f":"$D4276*$F4279*H4279","v":0}]
[null,null,null,null,"ตราสารหนี้",null,{"$f":"D4276*F4280","v":0},null,{"$f":"$D4276*$F4280*H4280","v":0}]
[null,null,null,null,"อื่นๆ",null,{"$f":"D4276*F4281","v":0},null,{"$f":"$D4276*$F4281*H4281","v":0}]
[null,713,null,null,"ตราสารทุน",null,{"$f":"D4282*F4282","v":0},null,{"$f":"$D4282*$F4282*H4282","v":0},{"$f":"SUM(I4282:I4287)","v":0}]
[null,null,null,null,"อสังหาริมทรัพย์",null,{"$f":"D4282*F4283","v":0},null,{"$f":"$D4282*$F4283*H4283","v":0}]
[null,null,null,null,"สินค้าโภคภัณฑ์",null,{"$f":"D4282*F4284","v":0},null,{"$f":"$D4282*$F4284*H4284","v":0}]
[null,null,null,null,"เงินฝาก",null,{"$f":"D4282*F4285","v":0},null,{"$f":"$D4282*$F4285*H4285","v":0}]
[null,null,null,null,"ตราสารหนี้",null,{"$f":"D4282*F4286","v":0},null,{"$f":"$D4282*$F4286*H4286","v":0}]
[null,null,null,null,"อื่นๆ",null,{"$f":"D4282*F4287","v":0},null,{"$f":"$D4282*$F4287*H4287","v":0}]
[null,714,null,null,"ตราสารทุน",null,{"$f":"D4288*F4288","v":0},null,{"$f":"$D4288*$F4288*H4288","v":0},{"$f":"SUM(I4288:I4293)","v":0}]
[null,null,null,null,"อสังหาริมทรัพย์",null,{"$f":"D4288*F4289","v":0},null,{"$f":"$D4288*$F4289*H4289","v":0}]
[null,null,null,null,"สินค้าโภคภัณฑ์",null,{"$f":"D4288*F4290","v":0},null,{"$f":"$D4288*$F4290*H4290","v":0}]
[null,null,null,null,"เงินฝาก",null,{"$f":"D4288*F4291","v":0},null,{"$f":"$D4288*$F4291*H4291","v":0}]
[null,null,null,null,"ตราสารหนี้",null,{"$f":"D4288*F4292","v":0},null,{"$f":"$D4288*$F4292*H4292","v":0}]
[null,null,null,null,"อื่นๆ",null,{"$f":"D4288*F4293","v":0},null,{"$f":"$D4288*$F4293*H4293","v":0}]
[null,715,null,null,"ตราสารทุน",null,{"$f":"D4294*F4294","v":0},null,{"$f":"$D4294*$F4294*H4294","v":0},{"$f":"SUM(I4294:I4299)","v":0}]
[null,null,null,null,"อสังหาริมทรัพย์",null,{"$f":"D4294*F4295","v":0},null,{"$f":"$D4294*$F4295*H4295","v":0}]
[null,null,null,null,"สินค้าโภคภัณฑ์",null,{"$f":"D4294*F4296","v":0},null,{"$f":"$D4294*$F4296*H4296","v":0}]
[null,null,null,null,"เงินฝาก",null,{"$f":"D4294*F4297","v":0},null,{"$f":"$D4294*$F4297*H4297","v":0}]
[null,null,null,null,"ตราสารหนี้",null,{"$f":"D4294*F4298","v":0},null,{"$f":"$D4294*$F4298*H4298","v":0}]
[null,null,null,null,"อื่นๆ",null,{"$f":"D4294*F4299","v":0},null,{"$f":"$D4294*$F4299*H4299","v":0}]
[null,716,null,null,"ตราสารทุน",null,{"$f":"D4300*F4300","v":0},null,{"$f":"$D4300*$F4300*H4300","v":0},{"$f":"SUM(I4300:I4305)","v":0}]
[null,null,null,null,"อสังหาริมทรัพย์",null,{"$f":"D4300*F4301","v":0},null,{"$f":"$D4300*$F4301*H4301","v":0}]
[null,null,null,null,"สินค้าโภคภัณฑ์",null,{"$f":"D4300*F4302","v":0},null,{"$f":"$D4300*$F4302*H4302","v":0}]
[null,null,null,null,"เงินฝาก",null,{"$f":"D4300*F4303","v":0},null,{"$f":"$D4300*$F4303*H4303","v":0}]
[null,null,null,null,"ตราสารหนี้",null,{"$f":"D4300*F4304","v":0},null,{"$f":"$D4300*$F4304*H4304","v":0}]
[null,null,null,null,"อื่นๆ",null,{"$f":"D4300*F4305","v":0},null,{"$f":"$D4300*$F4305*H4305","v":0}]
[null,717,null,null,"ตราสารทุน",null,{"$f":"D4306*F4306","v":0},null,{"$f":"$D4306*$F4306*H4306","v":0},{"$f":"SUM(I4306:I4311)","v":0}]
[null,null,null,null,"อสังหาริมทรัพย์",null,{"$f":"D4306*F4307","v":0},null,{"$f":"$D4306*$F4307*H4307","v":0}]
[null,null,null,null,"สินค้าโภคภัณฑ์",null,{"$f":"D4306*F4308","v":0},null,{"$f":"$D4306*$F4308*H4308","v":0}]
[null,null,null,null,"เงินฝาก",null,{"$f":"D4306*F4309","v":0},null,{"$f":"$D4306*$F4309*H4309","v":0}]
[null,null,null,null,"ตราสารหนี้",null,{"$f":"D4306*F4310","v":0},null,{"$f":"$D4306*$F4310*H4310","v":0}]
[null,null,null,null,"อื่นๆ",null,{"$f":"D4306*F4311","v":0},null,{"$f":"$D4306*$F4311*H4311","v":0}]
[null,718,null,null,"ตราสารทุน",null,{"$f":"D4312*F4312","v":0},null,{"$f":"$D4312*$F4312*H4312","v":0},{"$f":"SUM(I4312:I4317)","v":0}]
[null,null,null,null,"อสังหาริมทรัพย์",null,{"$f":"D4312*F4313","v":0},null,{"$f":"$D4312*$F4313*H4313","v":0}]
[null,null,null,null,"สินค้าโภคภัณฑ์",null,{"$f":"D4312*F4314","v":0},null,{"$f":"$D4312*$F4314*H4314","v":0}]
[null,null,null,null,"เงินฝาก",null,{"$f":"D4312*F4315","v":0},null,{"$f":"$D4312*$F4315*H4315","v":0}]
[null,null,null,null,"ตราสารหนี้",null,{"$f":"D4312*F4316","v":0},null,{"$f":"$D4312*$F4316*H4316","v":0}]
[null,null,null,null,"อื่นๆ",null,{"$f":"D4312*F4317","v":0},null,{"$f":"$D4312*$F4317*H4317","v":0}]
[null,719,null,null,"ตราสารทุน",null,{"$f":"D4318*F4318","v":0},null,{"$f":"$D4318*$F4318*H4318","v":0},{"$f":"SUM(I4318:I4323)","v":0}]
[null,null,null,null,"อสังหาริมทรัพย์",null,{"$f":"D4318*F4319","v":0},null,{"$f":"$D4318*$F4319*H4319","v":0}]
[null,null,null,null,"สินค้าโภคภัณฑ์",null,{"$f":"D4318*F4320","v":0},null,{"$f":"$D4318*$F4320*H4320","v":0}]
[null,null,null,null,"เงินฝาก",null,{"$f":"D4318*F4321","v":0},null,{"$f":"$D4318*$F4321*H4321","v":0}]
[null,null,null,null,"ตราสารหนี้",null,{"$f":"D4318*F4322","v":0},null,{"$f":"$D4318*$F4322*H4322","v":0}]
[null,null,null,null,"อื่นๆ",null,{"$f":"D4318*F4323","v":0},null,{"$f":"$D4318*$F4323*H4323","v":0}]
[null,720,null,null,"ตราสารทุน",null,{"$f":"D4324*F4324","v":0},null,{"$f":"$D4324*$F4324*H4324","v":0},{"$f":"SUM(I4324:I4329)","v":0}]
[null,null,null,null,"อสังหาริมทรัพย์",null,{"$f":"D4324*F4325","v":0},null,{"$f":"$D4324*$F4325*H4325","v":0}]
[null,null,null,null,"สินค้าโภคภัณฑ์",null,{"$f":"D4324*F4326","v":0},null,{"$f":"$D4324*$F4326*H4326","v":0}]
[null,null,null,null,"เงินฝาก",null,{"$f":"D4324*F4327","v":0},null,{"$f":"$D4324*$F4327*H4327","v":0}]
[null,null,null,null,"ตราสารหนี้",null,{"$f":"D4324*F4328","v":0},null,{"$f":"$D4324*$F4328*H4328","v":0}]
[null,null,null,null,"อื่นๆ",null,{"$f":"D4324*F4329","v":0},null,{"$f":"$D4324*$F4329*H4329","v":0}]
[null,721,null,null,"ตราสารทุน",null,{"$f":"D4330*F4330","v":0},null,{"$f":"$D4330*$F4330*H4330","v":0},{"$f":"SUM(I4330:I4335)","v":0}]
[null,null,null,null,"อสังหาริมทรัพย์",null,{"$f":"D4330*F4331","v":0},null,{"$f":"$D4330*$F4331*H4331","v":0}]
[null,null,null,null,"สินค้าโภคภัณฑ์",null,{"$f":"D4330*F4332","v":0},null,{"$f":"$D4330*$F4332*H4332","v":0}]
[null,null,null,null,"เงินฝาก",null,{"$f":"D4330*F4333","v":0},null,{"$f":"$D4330*$F4333*H4333","v":0}]
[null,null,null,null,"ตราสารหนี้",null,{"$f":"D4330*F4334","v":0},null,{"$f":"$D4330*$F4334*H4334","v":0}]
[null,null,null,null,"อื่นๆ",null,{"$f":"D4330*F4335","v":0},null,{"$f":"$D4330*$F4335*H4335","v":0}]
[null,722,null,null,"ตราสารทุน",null,{"$f":"D4336*F4336","v":0},null,{"$f":"$D4336*$F4336*H4336","v":0},{"$f":"SUM(I4336:I4341)","v":0}]
[null,null,null,null,"อสังหาริมทรัพย์",null,{"$f":"D4336*F4337","v":0},null,{"$f":"$D4336*$F4337*H4337","v":0}]
[null,null,null,null,"สินค้าโภคภัณฑ์",null,{"$f":"D4336*F4338","v":0},null,{"$f":"$D4336*$F4338*H4338","v":0}]
[null,null,null,null,"เงินฝาก",null,{"$f":"D4336*F4339","v":0},null,{"$f":"$D4336*$F4339*H4339","v":0}]
[null,null,null,null,"ตราสารหนี้",null,{"$f":"D4336*F4340","v":0},null,{"$f":"$D4336*$F4340*H4340","v":0}]
[null,null,null,null,"อื่นๆ",null,{"$f":"D4336*F4341","v":0},null,{"$f":"$D4336*$F4341*H4341","v":0}]
[null,723,null,null,"ตราสารทุน",null,{"$f":"D4342*F4342","v":0},null,{"$f":"$D4342*$F4342*H4342","v":0},{"$f":"SUM(I4342:I4347)","v":0}]
[null,null,null,null,"อสังหาริมทรัพย์",null,{"$f":"D4342*F4343","v":0},null,{"$f":"$D4342*$F4343*H4343","v":0}]
[null,null,null,null,"สินค้าโภคภัณฑ์",null,{"$f":"D4342*F4344","v":0},null,{"$f":"$D4342*$F4344*H4344","v":0}]
[null,null,null,null,"เงินฝาก",null,{"$f":"D4342*F4345","v":0},null,{"$f":"$D4342*$F4345*H4345","v":0}]
[null,null,null,null,"ตราสารหนี้",null,{"$f":"D4342*F4346","v":0},null,{"$f":"$D4342*$F4346*H4346","v":0}]
[null,null,null,null,"อื่นๆ",null,{"$f":"D4342*F4347","v":0},null,{"$f":"$D4342*$F4347*H4347","v":0}]
[null,724,null,null,"ตราสารทุน",null,{"$f":"D4348*F4348","v":0},null,{"$f":"$D4348*$F4348*H4348","v":0},{"$f":"SUM(I4348:I4353)","v":0}]
[null,null,null,null,"อสังหาริมทรัพย์",null,{"$f":"D4348*F4349","v":0},null,{"$f":"$D4348*$F4349*H4349","v":0}]
[null,null,null,null,"สินค้าโภคภัณฑ์",null,{"$f":"D4348*F4350","v":0},null,{"$f":"$D4348*$F4350*H4350","v":0}]
[null,null,null,null,"เงินฝาก",null,{"$f":"D4348*F4351","v":0},null,{"$f":"$D4348*$F4351*H4351","v":0}]
[null,null,null,null,"ตราสารหนี้",null,{"$f":"D4348*F4352","v":0},null,{"$f":"$D4348*$F4352*H4352","v":0}]
[null,null,null,null,"อื่นๆ",null,{"$f":"D4348*F4353","v":0},null,{"$f":"$D4348*$F4353*H4353","v":0}]
[null,725,null,null,"ตราสารทุน",null,{"$f":"D4354*F4354","v":0},null,{"$f":"$D4354*$F4354*H4354","v":0},{"$f":"SUM(I4354:I4359)","v":0}]
[null,null,null,null,"อสังหาริมทรัพย์",null,{"$f":"D4354*F4355","v":0},null,{"$f":"$D4354*$F4355*H4355","v":0}]
[null,null,null,null,"สินค้าโภคภัณฑ์",null,{"$f":"D4354*F4356","v":0},null,{"$f":"$D4354*$F4356*H4356","v":0}]
[null,null,null,null,"เงินฝาก",null,{"$f":"D4354*F4357","v":0},null,{"$f":"$D4354*$F4357*H4357","v":0}]
[null,null,null,null,"ตราสารหนี้",null,{"$f":"D4354*F4358","v":0},null,{"$f":"$D4354*$F4358*H4358","v":0}]
[null,null,null,null,"อื่นๆ",null,{"$f":"D4354*F4359","v":0},null,{"$f":"$D4354*$F4359*H4359","v":0}]
[null,726,null,null,"ตราสารทุน",null,{"$f":"D4360*F4360","v":0},null,{"$f":"$D4360*$F4360*H4360","v":0},{"$f":"SUM(I4360:I4365)","v":0}]
[null,null,null,null,"อสังหาริมทรัพย์",null,{"$f":"D4360*F4361","v":0},null,{"$f":"$D4360*$F4361*H4361","v":0}]
[null,null,null,null,"สินค้าโภคภัณฑ์",null,{"$f":"D4360*F4362","v":0},null,{"$f":"$D4360*$F4362*H4362","v":0}]
[null,null,null,null,"เงินฝาก",null,{"$f":"D4360*F4363","v":0},null,{"$f":"$D4360*$F4363*H4363","v":0}]
[null,null,null,null,"ตราสารหนี้",null,{"$f":"D4360*F4364","v":0},null,{"$f":"$D4360*$F4364*H4364","v":0}]
[null,null,null,null,"อื่นๆ",null,{"$f":"D4360*F4365","v":0},null,{"$f":"$D4360*$F4365*H4365","v":0}]
[null,727,null,null,"ตราสารทุน",null,{"$f":"D4366*F4366","v":0},null,{"$f":"$D4366*$F4366*H4366","v":0},{"$f":"SUM(I4366:I4371)","v":0}]
[null,null,null,null,"อสังหาริมทรัพย์",null,{"$f":"D4366*F4367","v":0},null,{"$f":"$D4366*$F4367*H4367","v":0}]
[null,null,null,null,"สินค้าโภคภัณฑ์",null,{"$f":"D4366*F4368","v":0},null,{"$f":"$D4366*$F4368*H4368","v":0}]
[null,null,null,null,"เงินฝาก",null,{"$f":"D4366*F4369","v":0},null,{"$f":"$D4366*$F4369*H4369","v":0}]
[null,null,null,null,"ตราสารหนี้",null,{"$f":"D4366*F4370","v":0},null,{"$f":"$D4366*$F4370*H4370","v":0}]
[null,null,null,null,"อื่นๆ",null,{"$f":"D4366*F4371","v":0},null,{"$f":"$D4366*$F4371*H4371","v":0}]
[null,728,null,null,"ตราสารทุน",null,{"$f":"D4372*F4372","v":0},null,{"$f":"$D4372*$F4372*H4372","v":0},{"$f":"SUM(I4372:I4377)","v":0}]
[null,null,null,null,"อสังหาริมทรัพย์",null,{"$f":"D4372*F4373","v":0},null,{"$f":"$D4372*$F4373*H4373","v":0}]
[null,null,null,null,"สินค้าโภคภัณฑ์",null,{"$f":"D4372*F4374","v":0},null,{"$f":"$D4372*$F4374*H4374","v":0}]
[null,null,null,null,"เงินฝาก",null,{"$f":"D4372*F4375","v":0},null,{"$f":"$D4372*$F4375*H4375","v":0}]
[null,null,null,null,"ตราสารหนี้",null,{"$f":"D4372*F4376","v":0},null,{"$f":"$D4372*$F4376*H4376","v":0}]
[null,null,null,null,"อื่นๆ",null,{"$f":"D4372*F4377","v":0},null,{"$f":"$D4372*$F4377*H4377","v":0}]
[null,729,null,null,"ตราสารทุน",null,{"$f":"D4378*F4378","v":0},null,{"$f":"$D4378*$F4378*H4378","v":0},{"$f":"SUM(I4378:I4383)","v":0}]
[null,null,null,null,"อสังหาริมทรัพย์",null,{"$f":"D4378*F4379","v":0},null,{"$f":"$D4378*$F4379*H4379","v":0}]
[null,null,null,null,"สินค้าโภคภัณฑ์",null,{"$f":"D4378*F4380","v":0},null,{"$f":"$D4378*$F4380*H4380","v":0}]
[null,null,null,null,"เงินฝาก",null,{"$f":"D4378*F4381","v":0},null,{"$f":"$D4378*$F4381*H4381","v":0}]
[null,null,null,null,"ตราสารหนี้",null,{"$f":"D4378*F4382","v":0},null,{"$f":"$D4378*$F4382*H4382","v":0}]
[null,null,null,null,"อื่นๆ",null,{"$f":"D4378*F4383","v":0},null,{"$f":"$D4378*$F4383*H4383","v":0}]
[null,730,null,null,"ตราสารทุน",null,{"$f":"D4384*F4384","v":0},null,{"$f":"$D4384*$F4384*H4384","v":0},{"$f":"SUM(I4384:I4389)","v":0}]
[null,null,null,null,"อสังหาริมทรัพย์",null,{"$f":"D4384*F4385","v":0},null,{"$f":"$D4384*$F4385*H4385","v":0}]
[null,null,null,null,"สินค้าโภคภัณฑ์",null,{"$f":"D4384*F4386","v":0},null,{"$f":"$D4384*$F4386*H4386","v":0}]
[null,null,null,null,"เงินฝาก",null,{"$f":"D4384*F4387","v":0},null,{"$f":"$D4384*$F4387*H4387","v":0}]
[null,null,null,null,"ตราสารหนี้",null,{"$f":"D4384*F4388","v":0},null,{"$f":"$D4384*$F4388*H4388","v":0}]
[null,null,null,null,"อื่นๆ",null,{"$f":"D4384*F4389","v":0},null,{"$f":"$D4384*$F4389*H4389","v":0}]
[null,731,null,null,"ตราสารทุน",null,{"$f":"D4390*F4390","v":0},null,{"$f":"$D4390*$F4390*H4390","v":0},{"$f":"SUM(I4390:I4395)","v":0}]
[null,null,null,null,"อสังหาริมทรัพย์",null,{"$f":"D4390*F4391","v":0},null,{"$f":"$D4390*$F4391*H4391","v":0}]
[null,null,null,null,"สินค้าโภคภัณฑ์",null,{"$f":"D4390*F4392","v":0},null,{"$f":"$D4390*$F4392*H4392","v":0}]
[null,null,null,null,"เงินฝาก",null,{"$f":"D4390*F4393","v":0},null,{"$f":"$D4390*$F4393*H4393","v":0}]
[null,null,null,null,"ตราสารหนี้",null,{"$f":"D4390*F4394","v":0},null,{"$f":"$D4390*$F4394*H4394","v":0}]
[null,null,null,null,"อื่นๆ",null,{"$f":"D4390*F4395","v":0},null,{"$f":"$D4390*$F4395*H4395","v":0}]
[null,732,null,null,"ตราสารทุน",null,{"$f":"D4396*F4396","v":0},null,{"$f":"$D4396*$F4396*H4396","v":0},{"$f":"SUM(I4396:I4401)","v":0}]
[null,null,null,null,"อสังหาริมทรัพย์",null,{"$f":"D4396*F4397","v":0},null,{"$f":"$D4396*$F4397*H4397","v":0}]
[null,null,null,null,"สินค้าโภคภัณฑ์",null,{"$f":"D4396*F4398","v":0},null,{"$f":"$D4396*$F4398*H4398","v":0}]
[null,null,null,null,"เงินฝาก",null,{"$f":"D4396*F4399","v":0},null,{"$f":"$D4396*$F4399*H4399","v":0}]
[null,null,null,null,"ตราสารหนี้",null,{"$f":"D4396*F4400","v":0},null,{"$f":"$D4396*$F4400*H4400","v":0}]
[null,null,null,null,"อื่นๆ",null,{"$f":"D4396*F4401","v":0},null,{"$f":"$D4396*$F4401*H4401","v":0}]
[null,733,null,null,"ตราสารทุน",null,{"$f":"D4402*F4402","v":0},null,{"$f":"$D4402*$F4402*H4402","v":0},{"$f":"SUM(I4402:I4407)","v":0}]
[null,null,null,null,"อสังหาริมทรัพย์",null,{"$f":"D4402*F4403","v":0},null,{"$f":"$D4402*$F4403*H4403","v":0}]
[null,null,null,null,"สินค้าโภคภัณฑ์",null,{"$f":"D4402*F4404","v":0},null,{"$f":"$D4402*$F4404*H4404","v":0}]
[null,null,null,null,"เงินฝาก",null,{"$f":"D4402*F4405","v":0},null,{"$f":"$D4402*$F4405*H4405","v":0}]
[null,null,null,null,"ตราสารหนี้",null,{"$f":"D4402*F4406","v":0},null,{"$f":"$D4402*$F4406*H4406","v":0}]
[null,null,null,null,"อื่นๆ",null,{"$f":"D4402*F4407","v":0},null,{"$f":"$D4402*$F4407*H4407","v":0}]
[null,734,null,null,"ตราสารทุน",null,{"$f":"D4408*F4408","v":0},null,{"$f":"$D4408*$F4408*H4408","v":0},{"$f":"SUM(I4408:I4413)","v":0}]
[null,null,null,null,"อสังหาริมทรัพย์",null,{"$f":"D4408*F4409","v":0},null,{"$f":"$D4408*$F4409*H4409","v":0}]
[null,null,null,null,"สินค้าโภคภัณฑ์",null,{"$f":"D4408*F4410","v":0},null,{"$f":"$D4408*$F4410*H4410","v":0}]
[null,null,null,null,"เงินฝาก",null,{"$f":"D4408*F4411","v":0},null,{"$f":"$D4408*$F4411*H4411","v":0}]
[null,null,null,null,"ตราสารหนี้",null,{"$f":"D4408*F4412","v":0},null,{"$f":"$D4408*$F4412*H4412","v":0}]
[null,null,null,null,"อื่นๆ",null,{"$f":"D4408*F4413","v":0},null,{"$f":"$D4408*$F4413*H4413","v":0}]
[null,735,null,null,"ตราสารทุน",null,{"$f":"D4414*F4414","v":0},null,{"$f":"$D4414*$F4414*H4414","v":0},{"$f":"SUM(I4414:I4419)","v":0}]
[null,null,null,null,"อสังหาริมทรัพย์",null,{"$f":"D4414*F4415","v":0},null,{"$f":"$D4414*$F4415*H4415","v":0}]
[null,null,null,null,"สินค้าโภคภัณฑ์",null,{"$f":"D4414*F4416","v":0},null,{"$f":"$D4414*$F4416*H4416","v":0}]
[null,null,null,null,"เงินฝาก",null,{"$f":"D4414*F4417","v":0},null,{"$f":"$D4414*$F4417*H4417","v":0}]
[null,null,null,null,"ตราสารหนี้",null,{"$f":"D4414*F4418","v":0},null,{"$f":"$D4414*$F4418*H4418","v":0}]
[null,null,null,null,"อื่นๆ",null,{"$f":"D4414*F4419","v":0},null,{"$f":"$D4414*$F4419*H4419","v":0}]
[null,736,null,null,"ตราสารทุน",null,{"$f":"D4420*F4420","v":0},null,{"$f":"$D4420*$F4420*H4420","v":0},{"$f":"SUM(I4420:I4425)","v":0}]
[null,null,null,null,"อสังหาริมทรัพย์",null,{"$f":"D4420*F4421","v":0},null,{"$f":"$D4420*$F4421*H4421","v":0}]
[null,null,null,null,"สินค้าโภคภัณฑ์",null,{"$f":"D4420*F4422","v":0},null,{"$f":"$D4420*$F4422*H4422","v":0}]
[null,null,null,null,"เงินฝาก",null,{"$f":"D4420*F4423","v":0},null,{"$f":"$D4420*$F4423*H4423","v":0}]
[null,null,null,null,"ตราสารหนี้",null,{"$f":"D4420*F4424","v":0},null,{"$f":"$D4420*$F4424*H4424","v":0}]
[null,null,null,null,"อื่นๆ",null,{"$f":"D4420*F4425","v":0},null,{"$f":"$D4420*$F4425*H4425","v":0}]
[null,737,null,null,"ตราสารทุน",null,{"$f":"D4426*F4426","v":0},null,{"$f":"$D4426*$F4426*H4426","v":0},{"$f":"SUM(I4426:I4431)","v":0}]
[null,null,null,null,"อสังหาริมทรัพย์",null,{"$f":"D4426*F4427","v":0},null,{"$f":"$D4426*$F4427*H4427","v":0}]
[null,null,null,null,"สินค้าโภคภัณฑ์",null,{"$f":"D4426*F4428","v":0},null,{"$f":"$D4426*$F4428*H4428","v":0}]
[null,null,null,null,"เงินฝาก",null,{"$f":"D4426*F4429","v":0},null,{"$f":"$D4426*$F4429*H4429","v":0}]
[null,null,null,null,"ตราสารหนี้",null,{"$f":"D4426*F4430","v":0},null,{"$f":"$D4426*$F4430*H4430","v":0}]
[null,null,null,null,"อื่นๆ",null,{"$f":"D4426*F4431","v":0},null,{"$f":"$D4426*$F4431*H4431","v":0}]
[null,738,null,null,"ตราสารทุน",null,{"$f":"D4432*F4432","v":0},null,{"$f":"$D4432*$F4432*H4432","v":0},{"$f":"SUM(I4432:I4437)","v":0}]
[null,null,null,null,"อสังหาริมทรัพย์",null,{"$f":"D4432*F4433","v":0},null,{"$f":"$D4432*$F4433*H4433","v":0}]
[null,null,null,null,"สินค้าโภคภัณฑ์",null,{"$f":"D4432*F4434","v":0},null,{"$f":"$D4432*$F4434*H4434","v":0}]
[null,null,null,null,"เงินฝาก",null,{"$f":"D4432*F4435","v":0},null,{"$f":"$D4432*$F4435*H4435","v":0}]
[null,null,null,null,"ตราสารหนี้",null,{"$f":"D4432*F4436","v":0},null,{"$f":"$D4432*$F4436*H4436","v":0}]
[null,null,null,null,"อื่นๆ",null,{"$f":"D4432*F4437","v":0},null,{"$f":"$D4432*$F4437*H4437","v":0}]
[null,739,null,null,"ตราสารทุน",null,{"$f":"D4438*F4438","v":0},null,{"$f":"$D4438*$F4438*H4438","v":0},{"$f":"SUM(I4438:I4443)","v":0}]
[null,null,null,null,"อสังหาริมทรัพย์",null,{"$f":"D4438*F4439","v":0},null,{"$f":"$D4438*$F4439*H4439","v":0}]
[null,null,null,null,"สินค้าโภคภัณฑ์",null,{"$f":"D4438*F4440","v":0},null,{"$f":"$D4438*$F4440*H4440","v":0}]
[null,null,null,null,"เงินฝาก",null,{"$f":"D4438*F4441","v":0},null,{"$f":"$D4438*$F4441*H4441","v":0}]
[null,null,null,null,"ตราสารหนี้",null,{"$f":"D4438*F4442","v":0},null,{"$f":"$D4438*$F4442*H4442","v":0}]
[null,null,null,null,"อื่นๆ",null,{"$f":"D4438*F4443","v":0},null,{"$f":"$D4438*$F4443*H4443","v":0}]
[null,740,null,null,"ตราสารทุน",null,{"$f":"D4444*F4444","v":0},null,{"$f":"$D4444*$F4444*H4444","v":0},{"$f":"SUM(I4444:I4449)","v":0}]
[null,null,null,null,"อสังหาริมทรัพย์",null,{"$f":"D4444*F4445","v":0},null,{"$f":"$D4444*$F4445*H4445","v":0}]
[null,null,null,null,"สินค้าโภคภัณฑ์",null,{"$f":"D4444*F4446","v":0},null,{"$f":"$D4444*$F4446*H4446","v":0}]
[null,null,null,null,"เงินฝาก",null,{"$f":"D4444*F4447","v":0},null,{"$f":"$D4444*$F4447*H4447","v":0}]
[null,null,null,null,"ตราสารหนี้",null,{"$f":"D4444*F4448","v":0},null,{"$f":"$D4444*$F4448*H4448","v":0}]
[null,null,null,null,"อื่นๆ",null,{"$f":"D4444*F4449","v":0},null,{"$f":"$D4444*$F4449*H4449","v":0}]
[null,741,null,null,"ตราสารทุน",null,{"$f":"D4450*F4450","v":0},null,{"$f":"$D4450*$F4450*H4450","v":0},{"$f":"SUM(I4450:I4455)","v":0}]
[null,null,null,null,"อสังหาริมทรัพย์",null,{"$f":"D4450*F4451","v":0},null,{"$f":"$D4450*$F4451*H4451","v":0}]
[null,null,null,null,"สินค้าโภคภัณฑ์",null,{"$f":"D4450*F4452","v":0},null,{"$f":"$D4450*$F4452*H4452","v":0}]
[null,null,null,null,"เงินฝาก",null,{"$f":"D4450*F4453","v":0},null,{"$f":"$D4450*$F4453*H4453","v":0}]
[null,null,null,null,"ตราสารหนี้",null,{"$f":"D4450*F4454","v":0},null,{"$f":"$D4450*$F4454*H4454","v":0}]
[null,null,null,null,"อื่นๆ",null,{"$f":"D4450*F4455","v":0},null,{"$f":"$D4450*$F4455*H4455","v":0}]
[null,742,null,null,"ตราสารทุน",null,{"$f":"D4456*F4456","v":0},null,{"$f":"$D4456*$F4456*H4456","v":0},{"$f":"SUM(I4456:I4461)","v":0}]
[null,null,null,null,"อสังหาริมทรัพย์",null,{"$f":"D4456*F4457","v":0},null,{"$f":"$D4456*$F4457*H4457","v":0}]
[null,null,null,null,"สินค้าโภคภัณฑ์",null,{"$f":"D4456*F4458","v":0},null,{"$f":"$D4456*$F4458*H4458","v":0}]
[null,null,null,null,"เงินฝาก",null,{"$f":"D4456*F4459","v":0},null,{"$f":"$D4456*$F4459*H4459","v":0}]
[null,null,null,null,"ตราสารหนี้",null,{"$f":"D4456*F4460","v":0},null,{"$f":"$D4456*$F4460*H4460","v":0}]
[null,null,null,null,"อื่นๆ",null,{"$f":"D4456*F4461","v":0},null,{"$f":"$D4456*$F4461*H4461","v":0}]
[null,743,null,null,"ตราสารทุน",null,{"$f":"D4462*F4462","v":0},null,{"$f":"$D4462*$F4462*H4462","v":0},{"$f":"SUM(I4462:I4467)","v":0}]
[null,null,null,null,"อสังหาริมทรัพย์",null,{"$f":"D4462*F4463","v":0},null,{"$f":"$D4462*$F4463*H4463","v":0}]
[null,null,null,null,"สินค้าโภคภัณฑ์",null,{"$f":"D4462*F4464","v":0},null,{"$f":"$D4462*$F4464*H4464","v":0}]
[null,null,null,null,"เงินฝาก",null,{"$f":"D4462*F4465","v":0},null,{"$f":"$D4462*$F4465*H4465","v":0}]
[null,null,null,null,"ตราสารหนี้",null,{"$f":"D4462*F4466","v":0},null,{"$f":"$D4462*$F4466*H4466","v":0}]
[null,null,null,null,"อื่นๆ",null,{"$f":"D4462*F4467","v":0},null,{"$f":"$D4462*$F4467*H4467","v":0}]
[null,744,null,null,"ตราสารทุน",null,{"$f":"D4468*F4468","v":0},null,{"$f":"$D4468*$F4468*H4468","v":0},{"$f":"SUM(I4468:I4473)","v":0}]
[null,null,null,null,"อสังหาริมทรัพย์",null,{"$f":"D4468*F4469","v":0},null,{"$f":"$D4468*$F4469*H4469","v":0}]
[null,null,null,null,"สินค้าโภคภัณฑ์",null,{"$f":"D4468*F4470","v":0},null,{"$f":"$D4468*$F4470*H4470","v":0}]
[null,null,null,null,"เงินฝาก",null,{"$f":"D4468*F4471","v":0},null,{"$f":"$D4468*$F4471*H4471","v":0}]
[null,null,null,null,"ตราสารหนี้",null,{"$f":"D4468*F4472","v":0},null,{"$f":"$D4468*$F4472*H4472","v":0}]
[null,null,null,null,"อื่นๆ",null,{"$f":"D4468*F4473","v":0},null,{"$f":"$D4468*$F4473*H4473","v":0}]
[null,745,null,null,"ตราสารทุน",null,{"$f":"D4474*F4474","v":0},null,{"$f":"$D4474*$F4474*H4474","v":0},{"$f":"SUM(I4474:I4479)","v":0}]
[null,null,null,null,"อสังหาริมทรัพย์",null,{"$f":"D4474*F4475","v":0},null,{"$f":"$D4474*$F4475*H4475","v":0}]
[null,null,null,null,"สินค้าโภคภัณฑ์",null,{"$f":"D4474*F4476","v":0},null,{"$f":"$D4474*$F4476*H4476","v":0}]
[null,null,null,null,"เงินฝาก",null,{"$f":"D4474*F4477","v":0},null,{"$f":"$D4474*$F4477*H4477","v":0}]
[null,null,null,null,"ตราสารหนี้",null,{"$f":"D4474*F4478","v":0},null,{"$f":"$D4474*$F4478*H4478","v":0}]
[null,null,null,null,"อื่นๆ",null,{"$f":"D4474*F4479","v":0},null,{"$f":"$D4474*$F4479*H4479","v":0}]
[null,746,null,null,"ตราสารทุน",null,{"$f":"D4480*F4480","v":0},null,{"$f":"$D4480*$F4480*H4480","v":0},{"$f":"SUM(I4480:I4485)","v":0}]
[null,null,null,null,"อสังหาริมทรัพย์",null,{"$f":"D4480*F4481","v":0},null,{"$f":"$D4480*$F4481*H4481","v":0}]
[null,null,null,null,"สินค้าโภคภัณฑ์",null,{"$f":"D4480*F4482","v":0},null,{"$f":"$D4480*$F4482*H4482","v":0}]
[null,null,null,null,"เงินฝาก",null,{"$f":"D4480*F4483","v":0},null,{"$f":"$D4480*$F4483*H4483","v":0}]
[null,null,null,null,"ตราสารหนี้",null,{"$f":"D4480*F4484","v":0},null,{"$f":"$D4480*$F4484*H4484","v":0}]
[null,null,null,null,"อื่นๆ",null,{"$f":"D4480*F4485","v":0},null,{"$f":"$D4480*$F4485*H4485","v":0}]
[null,747,null,null,"ตราสารทุน",null,{"$f":"D4486*F4486","v":0},null,{"$f":"$D4486*$F4486*H4486","v":0},{"$f":"SUM(I4486:I4491)","v":0}]
[null,null,null,null,"อสังหาริมทรัพย์",null,{"$f":"D4486*F4487","v":0},null,{"$f":"$D4486*$F4487*H4487","v":0}]
[null,null,null,null,"สินค้าโภคภัณฑ์",null,{"$f":"D4486*F4488","v":0},null,{"$f":"$D4486*$F4488*H4488","v":0}]
[null,null,null,null,"เงินฝาก",null,{"$f":"D4486*F4489","v":0},null,{"$f":"$D4486*$F4489*H4489","v":0}]
[null,null,null,null,"ตราสารหนี้",null,{"$f":"D4486*F4490","v":0},null,{"$f":"$D4486*$F4490*H4490","v":0}]
[null,null,null,null,"อื่นๆ",null,{"$f":"D4486*F4491","v":0},null,{"$f":"$D4486*$F4491*H4491","v":0}]
[null,748,null,null,"ตราสารทุน",null,{"$f":"D4492*F4492","v":0},null,{"$f":"$D4492*$F4492*H4492","v":0},{"$f":"SUM(I4492:I4497)","v":0}]
[null,null,null,null,"อสังหาริมทรัพย์",null,{"$f":"D4492*F4493","v":0},null,{"$f":"$D4492*$F4493*H4493","v":0}]
[null,null,null,null,"สินค้าโภคภัณฑ์",null,{"$f":"D4492*F4494","v":0},null,{"$f":"$D4492*$F4494*H4494","v":0}]
[null,null,null,null,"เงินฝาก",null,{"$f":"D4492*F4495","v":0},null,{"$f":"$D4492*$F4495*H4495","v":0}]
[null,null,null,null,"ตราสารหนี้",null,{"$f":"D4492*F4496","v":0},null,{"$f":"$D4492*$F4496*H4496","v":0}]
[null,null,null,null,"อื่นๆ",null,{"$f":"D4492*F4497","v":0},null,{"$f":"$D4492*$F4497*H4497","v":0}]
[null,749,null,null,"ตราสารทุน",null,{"$f":"D4498*F4498","v":0},null,{"$f":"$D4498*$F4498*H4498","v":0},{"$f":"SUM(I4498:I4503)","v":0}]
[null,null,null,null,"อสังหาริมทรัพย์",null,{"$f":"D4498*F4499","v":0},null,{"$f":"$D4498*$F4499*H4499","v":0}]
[null,null,null,null,"สินค้าโภคภัณฑ์",null,{"$f":"D4498*F4500","v":0},null,{"$f":"$D4498*$F4500*H4500","v":0}]
[null,null,null,null,"เงินฝาก",null,{"$f":"D4498*F4501","v":0},null,{"$f":"$D4498*$F4501*H4501","v":0}]
[null,null,null,null,"ตราสารหนี้",null,{"$f":"D4498*F4502","v":0},null,{"$f":"$D4498*$F4502*H4502","v":0}]
[null,null,null,null,"อื่นๆ",null,{"$f":"D4498*F4503","v":0},null,{"$f":"$D4498*$F4503*H4503","v":0}]
[null,750,null,null,"ตราสารทุน",null,{"$f":"D4504*F4504","v":0},null,{"$f":"$D4504*$F4504*H4504","v":0},{"$f":"SUM(I4504:I4509)","v":0}]
[null,null,null,null,"อสังหาริมทรัพย์",null,{"$f":"D4504*F4505","v":0},null,{"$f":"$D4504*$F4505*H4505","v":0}]
[null,null,null,null,"สินค้าโภคภัณฑ์",null,{"$f":"D4504*F4506","v":0},null,{"$f":"$D4504*$F4506*H4506","v":0}]
[null,null,null,null,"เงินฝาก",null,{"$f":"D4504*F4507","v":0},null,{"$f":"$D4504*$F4507*H4507","v":0}]
[null,null,null,null,"ตราสารหนี้",null,{"$f":"D4504*F4508","v":0},null,{"$f":"$D4504*$F4508*H4508","v":0}]
[null,null,null,null,"อื่นๆ",null,{"$f":"D4504*F4509","v":0},null,{"$f":"$D4504*$F4509*H4509","v":0}]
[null,751,null,null,"ตราสารทุน",null,{"$f":"D4510*F4510","v":0},null,{"$f":"$D4510*$F4510*H4510","v":0},{"$f":"SUM(I4510:I4515)","v":0}]
[null,null,null,null,"อสังหาริมทรัพย์",null,{"$f":"D4510*F4511","v":0},null,{"$f":"$D4510*$F4511*H4511","v":0}]
[null,null,null,null,"สินค้าโภคภัณฑ์",null,{"$f":"D4510*F4512","v":0},null,{"$f":"$D4510*$F4512*H4512","v":0}]
[null,null,null,null,"เงินฝาก",null,{"$f":"D4510*F4513","v":0},null,{"$f":"$D4510*$F4513*H4513","v":0}]
[null,null,null,null,"ตราสารหนี้",null,{"$f":"D4510*F4514","v":0},null,{"$f":"$D4510*$F4514*H4514","v":0}]
[null,null,null,null,"อื่นๆ",null,{"$f":"D4510*F4515","v":0},null,{"$f":"$D4510*$F4515*H4515","v":0}]
[null,752,null,null,"ตราสารทุน",null,{"$f":"D4516*F4516","v":0},null,{"$f":"$D4516*$F4516*H4516","v":0},{"$f":"SUM(I4516:I4521)","v":0}]
[null,null,null,null,"อสังหาริมทรัพย์",null,{"$f":"D4516*F4517","v":0},null,{"$f":"$D4516*$F4517*H4517","v":0}]
[null,null,null,null,"สินค้าโภคภัณฑ์",null,{"$f":"D4516*F4518","v":0},null,{"$f":"$D4516*$F4518*H4518","v":0}]
[null,null,null,null,"เงินฝาก",null,{"$f":"D4516*F4519","v":0},null,{"$f":"$D4516*$F4519*H4519","v":0}]
[null,null,null,null,"ตราสารหนี้",null,{"$f":"D4516*F4520","v":0},null,{"$f":"$D4516*$F4520*H4520","v":0}]
[null,null,null,null,"อื่นๆ",null,{"$f":"D4516*F4521","v":0},null,{"$f":"$D4516*$F4521*H4521","v":0}]
[null,753,null,null,"ตราสารทุน",null,{"$f":"D4522*F4522","v":0},null,{"$f":"$D4522*$F4522*H4522","v":0},{"$f":"SUM(I4522:I4527)","v":0}]
[null,null,null,null,"อสังหาริมทรัพย์",null,{"$f":"D4522*F4523","v":0},null,{"$f":"$D4522*$F4523*H4523","v":0}]
[null,null,null,null,"สินค้าโภคภัณฑ์",null,{"$f":"D4522*F4524","v":0},null,{"$f":"$D4522*$F4524*H4524","v":0}]
[null,null,null,null,"เงินฝาก",null,{"$f":"D4522*F4525","v":0},null,{"$f":"$D4522*$F4525*H4525","v":0}]
[null,null,null,null,"ตราสารหนี้",null,{"$f":"D4522*F4526","v":0},null,{"$f":"$D4522*$F4526*H4526","v":0}]
[null,null,null,null,"อื่นๆ",null,{"$f":"D4522*F4527","v":0},null,{"$f":"$D4522*$F4527*H4527","v":0}]
[null,754,null,null,"ตราสารทุน",null,{"$f":"D4528*F4528","v":0},null,{"$f":"$D4528*$F4528*H4528","v":0},{"$f":"SUM(I4528:I4533)","v":0}]
[null,null,null,null,"อสังหาริมทรัพย์",null,{"$f":"D4528*F4529","v":0},null,{"$f":"$D4528*$F4529*H4529","v":0}]
[null,null,null,null,"สินค้าโภคภัณฑ์",null,{"$f":"D4528*F4530","v":0},null,{"$f":"$D4528*$F4530*H4530","v":0}]
[null,null,null,null,"เงินฝาก",null,{"$f":"D4528*F4531","v":0},null,{"$f":"$D4528*$F4531*H4531","v":0}]
[null,null,null,null,"ตราสารหนี้",null,{"$f":"D4528*F4532","v":0},null,{"$f":"$D4528*$F4532*H4532","v":0}]
[null,null,null,null,"อื่นๆ",null,{"$f":"D4528*F4533","v":0},null,{"$f":"$D4528*$F4533*H4533","v":0}]
[null,755,null,null,"ตราสารทุน",null,{"$f":"D4534*F4534","v":0},null,{"$f":"$D4534*$F4534*H4534","v":0},{"$f":"SUM(I4534:I4539)","v":0}]
[null,null,null,null,"อสังหาริมทรัพย์",null,{"$f":"D4534*F4535","v":0},null,{"$f":"$D4534*$F4535*H4535","v":0}]
[null,null,null,null,"สินค้าโภคภัณฑ์",null,{"$f":"D4534*F4536","v":0},null,{"$f":"$D4534*$F4536*H4536","v":0}]
[null,null,null,null,"เงินฝาก",null,{"$f":"D4534*F4537","v":0},null,{"$f":"$D4534*$F4537*H4537","v":0}]
[null,null,null,null,"ตราสารหนี้",null,{"$f":"D4534*F4538","v":0},null,{"$f":"$D4534*$F4538*H4538","v":0}]
[null,null,null,null,"อื่นๆ",null,{"$f":"D4534*F4539","v":0},null,{"$f":"$D4534*$F4539*H4539","v":0}]
[null,756,null,null,"ตราสารทุน",null,{"$f":"D4540*F4540","v":0},null,{"$f":"$D4540*$F4540*H4540","v":0},{"$f":"SUM(I4540:I4545)","v":0}]
[null,null,null,null,"อสังหาริมทรัพย์",null,{"$f":"D4540*F4541","v":0},null,{"$f":"$D4540*$F4541*H4541","v":0}]
[null,null,null,null,"สินค้าโภคภัณฑ์",null,{"$f":"D4540*F4542","v":0},null,{"$f":"$D4540*$F4542*H4542","v":0}]
[null,null,null,null,"เงินฝาก",null,{"$f":"D4540*F4543","v":0},null,{"$f":"$D4540*$F4543*H4543","v":0}]
[null,null,null,null,"ตราสารหนี้",null,{"$f":"D4540*F4544","v":0},null,{"$f":"$D4540*$F4544*H4544","v":0}]
[null,null,null,null,"อื่นๆ",null,{"$f":"D4540*F4545","v":0},null,{"$f":"$D4540*$F4545*H4545","v":0}]
[null,757,null,null,"ตราสารทุน",null,{"$f":"D4546*F4546","v":0},null,{"$f":"$D4546*$F4546*H4546","v":0},{"$f":"SUM(I4546:I4551)","v":0}]
[null,null,null,null,"อสังหาริมทรัพย์",null,{"$f":"D4546*F4547","v":0},null,{"$f":"$D4546*$F4547*H4547","v":0}]
[null,null,null,null,"สินค้าโภคภัณฑ์",null,{"$f":"D4546*F4548","v":0},null,{"$f":"$D4546*$F4548*H4548","v":0}]
[null,null,null,null,"เงินฝาก",null,{"$f":"D4546*F4549","v":0},null,{"$f":"$D4546*$F4549*H4549","v":0}]
[null,null,null,null,"ตราสารหนี้",null,{"$f":"D4546*F4550","v":0},null,{"$f":"$D4546*$F4550*H4550","v":0}]
[null,null,null,null,"อื่นๆ",null,{"$f":"D4546*F4551","v":0},null,{"$f":"$D4546*$F4551*H4551","v":0}]
[null,758,null,null,"ตราสารทุน",null,{"$f":"D4552*F4552","v":0},null,{"$f":"$D4552*$F4552*H4552","v":0},{"$f":"SUM(I4552:I4557)","v":0}]
[null,null,null,null,"อสังหาริมทรัพย์",null,{"$f":"D4552*F4553","v":0},null,{"$f":"$D4552*$F4553*H4553","v":0}]
[null,null,null,null,"สินค้าโภคภัณฑ์",null,{"$f":"D4552*F4554","v":0},null,{"$f":"$D4552*$F4554*H4554","v":0}]
[null,null,null,null,"เงินฝาก",null,{"$f":"D4552*F4555","v":0},null,{"$f":"$D4552*$F4555*H4555","v":0}]
[null,null,null,null,"ตราสารหนี้",null,{"$f":"D4552*F4556","v":0},null,{"$f":"$D4552*$F4556*H4556","v":0}]
[null,null,null,null,"อื่นๆ",null,{"$f":"D4552*F4557","v":0},null,{"$f":"$D4552*$F4557*H4557","v":0}]
[null,759,null,null,"ตราสารทุน",null,{"$f":"D4558*F4558","v":0},null,{"$f":"$D4558*$F4558*H4558","v":0},{"$f":"SUM(I4558:I4563)","v":0}]
[null,null,null,null,"อสังหาริมทรัพย์",null,{"$f":"D4558*F4559","v":0},null,{"$f":"$D4558*$F4559*H4559","v":0}]
[null,null,null,null,"สินค้าโภคภัณฑ์",null,{"$f":"D4558*F4560","v":0},null,{"$f":"$D4558*$F4560*H4560","v":0}]
[null,null,null,null,"เงินฝาก",null,{"$f":"D4558*F4561","v":0},null,{"$f":"$D4558*$F4561*H4561","v":0}]
[null,null,null,null,"ตราสารหนี้",null,{"$f":"D4558*F4562","v":0},null,{"$f":"$D4558*$F4562*H4562","v":0}]
[null,null,null,null,"อื่นๆ",null,{"$f":"D4558*F4563","v":0},null,{"$f":"$D4558*$F4563*H4563","v":0}]
[null,760,null,null,"ตราสารทุน",null,{"$f":"D4564*F4564","v":0},null,{"$f":"$D4564*$F4564*H4564","v":0},{"$f":"SUM(I4564:I4569)","v":0}]
[null,null,null,null,"อสังหาริมทรัพย์",null,{"$f":"D4564*F4565","v":0},null,{"$f":"$D4564*$F4565*H4565","v":0}]
[null,null,null,null,"สินค้าโภคภัณฑ์",null,{"$f":"D4564*F4566","v":0},null,{"$f":"$D4564*$F4566*H4566","v":0}]
[null,null,null,null,"เงินฝาก",null,{"$f":"D4564*F4567","v":0},null,{"$f":"$D4564*$F4567*H4567","v":0}]
[null,null,null,null,"ตราสารหนี้",null,{"$f":"D4564*F4568","v":0},null,{"$f":"$D4564*$F4568*H4568","v":0}]
[null,null,null,null,"อื่นๆ",null,{"$f":"D4564*F4569","v":0},null,{"$f":"$D4564*$F4569*H4569","v":0}]
[null,761,null,null,"ตราสารทุน",null,{"$f":"D4570*F4570","v":0},null,{"$f":"$D4570*$F4570*H4570","v":0},{"$f":"SUM(I4570:I4575)","v":0}]
[null,null,null,null,"อสังหาริมทรัพย์",null,{"$f":"D4570*F4571","v":0},null,{"$f":"$D4570*$F4571*H4571","v":0}]
[null,null,null,null,"สินค้าโภคภัณฑ์",null,{"$f":"D4570*F4572","v":0},null,{"$f":"$D4570*$F4572*H4572","v":0}]
[null,null,null,null,"เงินฝาก",null,{"$f":"D4570*F4573","v":0},null,{"$f":"$D4570*$F4573*H4573","v":0}]
[null,null,null,null,"ตราสารหนี้",null,{"$f":"D4570*F4574","v":0},null,{"$f":"$D4570*$F4574*H4574","v":0}]
[null,null,null,null,"อื่นๆ",null,{"$f":"D4570*F4575","v":0},null,{"$f":"$D4570*$F4575*H4575","v":0}]
[null,762,null,null,"ตราสารทุน",null,{"$f":"D4576*F4576","v":0},null,{"$f":"$D4576*$F4576*H4576","v":0},{"$f":"SUM(I4576:I4581)","v":0}]
[null,null,null,null,"อสังหาริมทรัพย์",null,{"$f":"D4576*F4577","v":0},null,{"$f":"$D4576*$F4577*H4577","v":0}]
[null,null,null,null,"สินค้าโภคภัณฑ์",null,{"$f":"D4576*F4578","v":0},null,{"$f":"$D4576*$F4578*H4578","v":0}]
[null,null,null,null,"เงินฝาก",null,{"$f":"D4576*F4579","v":0},null,{"$f":"$D4576*$F4579*H4579","v":0}]
[null,null,null,null,"ตราสารหนี้",null,{"$f":"D4576*F4580","v":0},null,{"$f":"$D4576*$F4580*H4580","v":0}]
[null,null,null,null,"อื่นๆ",null,{"$f":"D4576*F4581","v":0},null,{"$f":"$D4576*$F4581*H4581","v":0}]
[null,763,null,null,"ตราสารทุน",null,{"$f":"D4582*F4582","v":0},null,{"$f":"$D4582*$F4582*H4582","v":0},{"$f":"SUM(I4582:I4587)","v":0}]
[null,null,null,null,"อสังหาริมทรัพย์",null,{"$f":"D4582*F4583","v":0},null,{"$f":"$D4582*$F4583*H4583","v":0}]
[null,null,null,null,"สินค้าโภคภัณฑ์",null,{"$f":"D4582*F4584","v":0},null,{"$f":"$D4582*$F4584*H4584","v":0}]
[null,null,null,null,"เงินฝาก",null,{"$f":"D4582*F4585","v":0},null,{"$f":"$D4582*$F4585*H4585","v":0}]
[null,null,null,null,"ตราสารหนี้",null,{"$f":"D4582*F4586","v":0},null,{"$f":"$D4582*$F4586*H4586","v":0}]
[null,null,null,null,"อื่นๆ",null,{"$f":"D4582*F4587","v":0},null,{"$f":"$D4582*$F4587*H4587","v":0}]
[null,764,null,null,"ตราสารทุน",null,{"$f":"D4588*F4588","v":0},null,{"$f":"$D4588*$F4588*H4588","v":0},{"$f":"SUM(I4588:I4593)","v":0}]
[null,null,null,null,"อสังหาริมทรัพย์",null,{"$f":"D4588*F4589","v":0},null,{"$f":"$D4588*$F4589*H4589","v":0}]
[null,null,null,null,"สินค้าโภคภัณฑ์",null,{"$f":"D4588*F4590","v":0},null,{"$f":"$D4588*$F4590*H4590","v":0}]
[null,null,null,null,"เงินฝาก",null,{"$f":"D4588*F4591","v":0},null,{"$f":"$D4588*$F4591*H4591","v":0}]
[null,null,null,null,"ตราสารหนี้",null,{"$f":"D4588*F4592","v":0},null,{"$f":"$D4588*$F4592*H4592","v":0}]
[null,null,null,null,"อื่นๆ",null,{"$f":"D4588*F4593","v":0},null,{"$f":"$D4588*$F4593*H4593","v":0}]
[null,765,null,null,"ตราสารทุน",null,{"$f":"D4594*F4594","v":0},null,{"$f":"$D4594*$F4594*H4594","v":0},{"$f":"SUM(I4594:I4599)","v":0}]
[null,null,null,null,"อสังหาริมทรัพย์",null,{"$f":"D4594*F4595","v":0},null,{"$f":"$D4594*$F4595*H4595","v":0}]
[null,null,null,null,"สินค้าโภคภัณฑ์",null,{"$f":"D4594*F4596","v":0},null,{"$f":"$D4594*$F4596*H4596","v":0}]
[null,null,null,null,"เงินฝาก",null,{"$f":"D4594*F4597","v":0},null,{"$f":"$D4594*$F4597*H4597","v":0}]
[null,null,null,null,"ตราสารหนี้",null,{"$f":"D4594*F4598","v":0},null,{"$f":"$D4594*$F4598*H4598","v":0}]
[null,null,null,null,"อื่นๆ",null,{"$f":"D4594*F4599","v":0},null,{"$f":"$D4594*$F4599*H4599","v":0}]
[null,766,null,null,"ตราสารทุน",null,{"$f":"D4600*F4600","v":0},null,{"$f":"$D4600*$F4600*H4600","v":0},{"$f":"SUM(I4600:I4605)","v":0}]
[null,null,null,null,"อสังหาริมทรัพย์",null,{"$f":"D4600*F4601","v":0},null,{"$f":"$D4600*$F4601*H4601","v":0}]
[null,null,null,null,"สินค้าโภคภัณฑ์",null,{"$f":"D4600*F4602","v":0},null,{"$f":"$D4600*$F4602*H4602","v":0}]
[null,null,null,null,"เงินฝาก",null,{"$f":"D4600*F4603","v":0},null,{"$f":"$D4600*$F4603*H4603","v":0}]
[null,null,null,null,"ตราสารหนี้",null,{"$f":"D4600*F4604","v":0},null,{"$f":"$D4600*$F4604*H4604","v":0}]
[null,null,null,null,"อื่นๆ",null,{"$f":"D4600*F4605","v":0},null,{"$f":"$D4600*$F4605*H4605","v":0}]
[null,767,null,null,"ตราสารทุน",null,{"$f":"D4606*F4606","v":0},null,{"$f":"$D4606*$F4606*H4606","v":0},{"$f":"SUM(I4606:I4611)","v":0}]
[null,null,null,null,"อสังหาริมทรัพย์",null,{"$f":"D4606*F4607","v":0},null,{"$f":"$D4606*$F4607*H4607","v":0}]
[null,null,null,null,"สินค้าโภคภัณฑ์",null,{"$f":"D4606*F4608","v":0},null,{"$f":"$D4606*$F4608*H4608","v":0}]
[null,null,null,null,"เงินฝาก",null,{"$f":"D4606*F4609","v":0},null,{"$f":"$D4606*$F4609*H4609","v":0}]
[null,null,null,null,"ตราสารหนี้",null,{"$f":"D4606*F4610","v":0},null,{"$f":"$D4606*$F4610*H4610","v":0}]
[null,null,null,null,"อื่นๆ",null,{"$f":"D4606*F4611","v":0},null,{"$f":"$D4606*$F4611*H4611","v":0}]
[null,768,null,null,"ตราสารทุน",null,{"$f":"D4612*F4612","v":0},null,{"$f":"$D4612*$F4612*H4612","v":0},{"$f":"SUM(I4612:I4617)","v":0}]
[null,null,null,null,"อสังหาริมทรัพย์",null,{"$f":"D4612*F4613","v":0},null,{"$f":"$D4612*$F4613*H4613","v":0}]
[null,null,null,null,"สินค้าโภคภัณฑ์",null,{"$f":"D4612*F4614","v":0},null,{"$f":"$D4612*$F4614*H4614","v":0}]
[null,null,null,null,"เงินฝาก",null,{"$f":"D4612*F4615","v":0},null,{"$f":"$D4612*$F4615*H4615","v":0}]
[null,null,null,null,"ตราสารหนี้",null,{"$f":"D4612*F4616","v":0},null,{"$f":"$D4612*$F4616*H4616","v":0}]
[null,null,null,null,"อื่นๆ",null,{"$f":"D4612*F4617","v":0},null,{"$f":"$D4612*$F4617*H4617","v":0}]
[null,769,null,null,"ตราสารทุน",null,{"$f":"D4618*F4618","v":0},null,{"$f":"$D4618*$F4618*H4618","v":0},{"$f":"SUM(I4618:I4623)","v":0}]
[null,null,null,null,"อสังหาริมทรัพย์",null,{"$f":"D4618*F4619","v":0},null,{"$f":"$D4618*$F4619*H4619","v":0}]
[null,null,null,null,"สินค้าโภคภัณฑ์",null,{"$f":"D4618*F4620","v":0},null,{"$f":"$D4618*$F4620*H4620","v":0}]
[null,null,null,null,"เงินฝาก",null,{"$f":"D4618*F4621","v":0},null,{"$f":"$D4618*$F4621*H4621","v":0}]
[null,null,null,null,"ตราสารหนี้",null,{"$f":"D4618*F4622","v":0},null,{"$f":"$D4618*$F4622*H4622","v":0}]
[null,null,null,null,"อื่นๆ",null,{"$f":"D4618*F4623","v":0},null,{"$f":"$D4618*$F4623*H4623","v":0}]
[null,770,null,null,"ตราสารทุน",null,{"$f":"D4624*F4624","v":0},null,{"$f":"$D4624*$F4624*H4624","v":0},{"$f":"SUM(I4624:I4629)","v":0}]
[null,null,null,null,"อสังหาริมทรัพย์",null,{"$f":"D4624*F4625","v":0},null,{"$f":"$D4624*$F4625*H4625","v":0}]
[null,null,null,null,"สินค้าโภคภัณฑ์",null,{"$f":"D4624*F4626","v":0},null,{"$f":"$D4624*$F4626*H4626","v":0}]
[null,null,null,null,"เงินฝาก",null,{"$f":"D4624*F4627","v":0},null,{"$f":"$D4624*$F4627*H4627","v":0}]
[null,null,null,null,"ตราสารหนี้",null,{"$f":"D4624*F4628","v":0},null,{"$f":"$D4624*$F4628*H4628","v":0}]
[null,null,null,null,"อื่นๆ",null,{"$f":"D4624*F4629","v":0},null,{"$f":"$D4624*$F4629*H4629","v":0}]
[null,771,null,null,"ตราสารทุน",null,{"$f":"D4630*F4630","v":0},null,{"$f":"$D4630*$F4630*H4630","v":0},{"$f":"SUM(I4630:I4635)","v":0}]
[null,null,null,null,"อสังหาริมทรัพย์",null,{"$f":"D4630*F4631","v":0},null,{"$f":"$D4630*$F4631*H4631","v":0}]
[null,null,null,null,"สินค้าโภคภัณฑ์",null,{"$f":"D4630*F4632","v":0},null,{"$f":"$D4630*$F4632*H4632","v":0}]
[null,null,null,null,"เงินฝาก",null,{"$f":"D4630*F4633","v":0},null,{"$f":"$D4630*$F4633*H4633","v":0}]
[null,null,null,null,"ตราสารหนี้",null,{"$f":"D4630*F4634","v":0},null,{"$f":"$D4630*$F4634*H4634","v":0}]
[null,null,null,null,"อื่นๆ",null,{"$f":"D4630*F4635","v":0},null,{"$f":"$D4630*$F4635*H4635","v":0}]
[null,772,null,null,"ตราสารทุน",null,{"$f":"D4636*F4636","v":0},null,{"$f":"$D4636*$F4636*H4636","v":0},{"$f":"SUM(I4636:I4641)","v":0}]
[null,null,null,null,"อสังหาริมทรัพย์",null,{"$f":"D4636*F4637","v":0},null,{"$f":"$D4636*$F4637*H4637","v":0}]
[null,null,null,null,"สินค้าโภคภัณฑ์",null,{"$f":"D4636*F4638","v":0},null,{"$f":"$D4636*$F4638*H4638","v":0}]
[null,null,null,null,"เงินฝาก",null,{"$f":"D4636*F4639","v":0},null,{"$f":"$D4636*$F4639*H4639","v":0}]
[null,null,null,null,"ตราสารหนี้",null,{"$f":"D4636*F4640","v":0},null,{"$f":"$D4636*$F4640*H4640","v":0}]
[null,null,null,null,"อื่นๆ",null,{"$f":"D4636*F4641","v":0},null,{"$f":"$D4636*$F4641*H4641","v":0}]
[null,773,null,null,"ตราสารทุน",null,{"$f":"D4642*F4642","v":0},null,{"$f":"$D4642*$F4642*H4642","v":0},{"$f":"SUM(I4642:I4647)","v":0}]
[null,null,null,null,"อสังหาริมทรัพย์",null,{"$f":"D4642*F4643","v":0},null,{"$f":"$D4642*$F4643*H4643","v":0}]
[null,null,null,null,"สินค้าโภคภัณฑ์",null,{"$f":"D4642*F4644","v":0},null,{"$f":"$D4642*$F4644*H4644","v":0}]
[null,null,null,null,"เงินฝาก",null,{"$f":"D4642*F4645","v":0},null,{"$f":"$D4642*$F4645*H4645","v":0}]
[null,null,null,null,"ตราสารหนี้",null,{"$f":"D4642*F4646","v":0},null,{"$f":"$D4642*$F4646*H4646","v":0}]
[null,null,null,null,"อื่นๆ",null,{"$f":"D4642*F4647","v":0},null,{"$f":"$D4642*$F4647*H4647","v":0}]
[null,774,null,null,"ตราสารทุน",null,{"$f":"D4648*F4648","v":0},null,{"$f":"$D4648*$F4648*H4648","v":0},{"$f":"SUM(I4648:I4653)","v":0}]
[null,null,null,null,"อสังหาริมทรัพย์",null,{"$f":"D4648*F4649","v":0},null,{"$f":"$D4648*$F4649*H4649","v":0}]
[null,null,null,null,"สินค้าโภคภัณฑ์",null,{"$f":"D4648*F4650","v":0},null,{"$f":"$D4648*$F4650*H4650","v":0}]
[null,null,null,null,"เงินฝาก",null,{"$f":"D4648*F4651","v":0},null,{"$f":"$D4648*$F4651*H4651","v":0}]
[null,null,null,null,"ตราสารหนี้",null,{"$f":"D4648*F4652","v":0},null,{"$f":"$D4648*$F4652*H4652","v":0}]
[null,null,null,null,"อื่นๆ",null,{"$f":"D4648*F4653","v":0},null,{"$f":"$D4648*$F4653*H4653","v":0}]
[null,775,null,null,"ตราสารทุน",null,{"$f":"D4654*F4654","v":0},null,{"$f":"$D4654*$F4654*H4654","v":0},{"$f":"SUM(I4654:I4659)","v":0}]
[null,null,null,null,"อสังหาริมทรัพย์",null,{"$f":"D4654*F4655","v":0},null,{"$f":"$D4654*$F4655*H4655","v":0}]
[null,null,null,null,"สินค้าโภคภัณฑ์",null,{"$f":"D4654*F4656","v":0},null,{"$f":"$D4654*$F4656*H4656","v":0}]
[null,null,null,null,"เงินฝาก",null,{"$f":"D4654*F4657","v":0},null,{"$f":"$D4654*$F4657*H4657","v":0}]
[null,null,null,null,"ตราสารหนี้",null,{"$f":"D4654*F4658","v":0},null,{"$f":"$D4654*$F4658*H4658","v":0}]
[null,null,null,null,"อื่นๆ",null,{"$f":"D4654*F4659","v":0},null,{"$f":"$D4654*$F4659*H4659","v":0}]
[null,776,null,null,"ตราสารทุน",null,{"$f":"D4660*F4660","v":0},null,{"$f":"$D4660*$F4660*H4660","v":0},{"$f":"SUM(I4660:I4665)","v":0}]
[null,null,null,null,"อสังหาริมทรัพย์",null,{"$f":"D4660*F4661","v":0},null,{"$f":"$D4660*$F4661*H4661","v":0}]
[null,null,null,null,"สินค้าโภคภัณฑ์",null,{"$f":"D4660*F4662","v":0},null,{"$f":"$D4660*$F4662*H4662","v":0}]
[null,null,null,null,"เงินฝาก",null,{"$f":"D4660*F4663","v":0},null,{"$f":"$D4660*$F4663*H4663","v":0}]
[null,null,null,null,"ตราสารหนี้",null,{"$f":"D4660*F4664","v":0},null,{"$f":"$D4660*$F4664*H4664","v":0}]
[null,null,null,null,"อื่นๆ",null,{"$f":"D4660*F4665","v":0},null,{"$f":"$D4660*$F4665*H4665","v":0}]
[null,777,null,null,"ตราสารทุน",null,{"$f":"D4666*F4666","v":0},null,{"$f":"$D4666*$F4666*H4666","v":0},{"$f":"SUM(I4666:I4671)","v":0}]
[null,null,null,null,"อสังหาริมทรัพย์",null,{"$f":"D4666*F4667","v":0},null,{"$f":"$D4666*$F4667*H4667","v":0}]
[null,null,null,null,"สินค้าโภคภัณฑ์",null,{"$f":"D4666*F4668","v":0},null,{"$f":"$D4666*$F4668*H4668","v":0}]
[null,null,null,null,"เงินฝาก",null,{"$f":"D4666*F4669","v":0},null,{"$f":"$D4666*$F4669*H4669","v":0}]
[null,null,null,null,"ตราสารหนี้",null,{"$f":"D4666*F4670","v":0},null,{"$f":"$D4666*$F4670*H4670","v":0}]
[null,null,null,null,"อื่นๆ",null,{"$f":"D4666*F4671","v":0},null,{"$f":"$D4666*$F4671*H4671","v":0}]
[null,778,null,null,"ตราสารทุน",null,{"$f":"D4672*F4672","v":0},null,{"$f":"$D4672*$F4672*H4672","v":0},{"$f":"SUM(I4672:I4677)","v":0}]
[null,null,null,null,"อสังหาริมทรัพย์",null,{"$f":"D4672*F4673","v":0},null,{"$f":"$D4672*$F4673*H4673","v":0}]
[null,null,null,null,"สินค้าโภคภัณฑ์",null,{"$f":"D4672*F4674","v":0},null,{"$f":"$D4672*$F4674*H4674","v":0}]
[null,null,null,null,"เงินฝาก",null,{"$f":"D4672*F4675","v":0},null,{"$f":"$D4672*$F4675*H4675","v":0}]
[null,null,null,null,"ตราสารหนี้",null,{"$f":"D4672*F4676","v":0},null,{"$f":"$D4672*$F4676*H4676","v":0}]
[null,null,null,null,"อื่นๆ",null,{"$f":"D4672*F4677","v":0},null,{"$f":"$D4672*$F4677*H4677","v":0}]
[null,779,null,null,"ตราสารทุน",null,{"$f":"D4678*F4678","v":0},null,{"$f":"$D4678*$F4678*H4678","v":0},{"$f":"SUM(I4678:I4683)","v":0}]
[null,null,null,null,"อสังหาริมทรัพย์",null,{"$f":"D4678*F4679","v":0},null,{"$f":"$D4678*$F4679*H4679","v":0}]
[null,null,null,null,"สินค้าโภคภัณฑ์",null,{"$f":"D4678*F4680","v":0},null,{"$f":"$D4678*$F4680*H4680","v":0}]
[null,null,null,null,"เงินฝาก",null,{"$f":"D4678*F4681","v":0},null,{"$f":"$D4678*$F4681*H4681","v":0}]
[null,null,null,null,"ตราสารหนี้",null,{"$f":"D4678*F4682","v":0},null,{"$f":"$D4678*$F4682*H4682","v":0}]
[null,null,null,null,"อื่นๆ",null,{"$f":"D4678*F4683","v":0},null,{"$f":"$D4678*$F4683*H4683","v":0}]
[null,780,null,null,"ตราสารทุน",null,{"$f":"D4684*F4684","v":0},null,{"$f":"$D4684*$F4684*H4684","v":0},{"$f":"SUM(I4684:I4689)","v":0}]
[null,null,null,null,"อสังหาริมทรัพย์",null,{"$f":"D4684*F4685","v":0},null,{"$f":"$D4684*$F4685*H4685","v":0}]
[null,null,null,null,"สินค้าโภคภัณฑ์",null,{"$f":"D4684*F4686","v":0},null,{"$f":"$D4684*$F4686*H4686","v":0}]
[null,null,null,null,"เงินฝาก",null,{"$f":"D4684*F4687","v":0},null,{"$f":"$D4684*$F4687*H4687","v":0}]
[null,null,null,null,"ตราสารหนี้",null,{"$f":"D4684*F4688","v":0},null,{"$f":"$D4684*$F4688*H4688","v":0}]
[null,null,null,null,"อื่นๆ",null,{"$f":"D4684*F4689","v":0},null,{"$f":"$D4684*$F4689*H4689","v":0}]
[null,781,null,null,"ตราสารทุน",null,{"$f":"D4690*F4690","v":0},null,{"$f":"$D4690*$F4690*H4690","v":0},{"$f":"SUM(I4690:I4695)","v":0}]
[null,null,null,null,"อสังหาริมทรัพย์",null,{"$f":"D4690*F4691","v":0},null,{"$f":"$D4690*$F4691*H4691","v":0}]
[null,null,null,null,"สินค้าโภคภัณฑ์",null,{"$f":"D4690*F4692","v":0},null,{"$f":"$D4690*$F4692*H4692","v":0}]
[null,null,null,null,"เงินฝาก",null,{"$f":"D4690*F4693","v":0},null,{"$f":"$D4690*$F4693*H4693","v":0}]
[null,null,null,null,"ตราสารหนี้",null,{"$f":"D4690*F4694","v":0},null,{"$f":"$D4690*$F4694*H4694","v":0}]
[null,null,null,null,"อื่นๆ",null,{"$f":"D4690*F4695","v":0},null,{"$f":"$D4690*$F4695*H4695","v":0}]
[null,782,null,null,"ตราสารทุน",null,{"$f":"D4696*F4696","v":0},null,{"$f":"$D4696*$F4696*H4696","v":0},{"$f":"SUM(I4696:I4701)","v":0}]
[null,null,null,null,"อสังหาริมทรัพย์",null,{"$f":"D4696*F4697","v":0},null,{"$f":"$D4696*$F4697*H4697","v":0}]
[null,null,null,null,"สินค้าโภคภัณฑ์",null,{"$f":"D4696*F4698","v":0},null,{"$f":"$D4696*$F4698*H4698","v":0}]
[null,null,null,null,"เงินฝาก",null,{"$f":"D4696*F4699","v":0},null,{"$f":"$D4696*$F4699*H4699","v":0}]
[null,null,null,null,"ตราสารหนี้",null,{"$f":"D4696*F4700","v":0},null,{"$f":"$D4696*$F4700*H4700","v":0}]
[null,null,null,null,"อื่นๆ",null,{"$f":"D4696*F4701","v":0},null,{"$f":"$D4696*$F4701*H4701","v":0}]
[null,783,null,null,"ตราสารทุน",null,{"$f":"D4702*F4702","v":0},null,{"$f":"$D4702*$F4702*H4702","v":0},{"$f":"SUM(I4702:I4707)","v":0}]
[null,null,null,null,"อสังหาริมทรัพย์",null,{"$f":"D4702*F4703","v":0},null,{"$f":"$D4702*$F4703*H4703","v":0}]
[null,null,null,null,"สินค้าโภคภัณฑ์",null,{"$f":"D4702*F4704","v":0},null,{"$f":"$D4702*$F4704*H4704","v":0}]
[null,null,null,null,"เงินฝาก",null,{"$f":"D4702*F4705","v":0},null,{"$f":"$D4702*$F4705*H4705","v":0}]
[null,null,null,null,"ตราสารหนี้",null,{"$f":"D4702*F4706","v":0},null,{"$f":"$D4702*$F4706*H4706","v":0}]
[null,null,null,null,"อื่นๆ",null,{"$f":"D4702*F4707","v":0},null,{"$f":"$D4702*$F4707*H4707","v":0}]
[null,784,null,null,"ตราสารทุน",null,{"$f":"D4708*F4708","v":0},null,{"$f":"$D4708*$F4708*H4708","v":0},{"$f":"SUM(I4708:I4713)","v":0}]
[null,null,null,null,"อสังหาริมทรัพย์",null,{"$f":"D4708*F4709","v":0},null,{"$f":"$D4708*$F4709*H4709","v":0}]
[null,null,null,null,"สินค้าโภคภัณฑ์",null,{"$f":"D4708*F4710","v":0},null,{"$f":"$D4708*$F4710*H4710","v":0}]
[null,null,null,null,"เงินฝาก",null,{"$f":"D4708*F4711","v":0},null,{"$f":"$D4708*$F4711*H4711","v":0}]
[null,null,null,null,"ตราสารหนี้",null,{"$f":"D4708*F4712","v":0},null,{"$f":"$D4708*$F4712*H4712","v":0}]
[null,null,null,null,"อื่นๆ",null,{"$f":"D4708*F4713","v":0},null,{"$f":"$D4708*$F4713*H4713","v":0}]
[null,785,null,null,"ตราสารทุน",null,{"$f":"D4714*F4714","v":0},null,{"$f":"$D4714*$F4714*H4714","v":0},{"$f":"SUM(I4714:I4719)","v":0}]
[null,null,null,null,"อสังหาริมทรัพย์",null,{"$f":"D4714*F4715","v":0},null,{"$f":"$D4714*$F4715*H4715","v":0}]
[null,null,null,null,"สินค้าโภคภัณฑ์",null,{"$f":"D4714*F4716","v":0},null,{"$f":"$D4714*$F4716*H4716","v":0}]
[null,null,null,null,"เงินฝาก",null,{"$f":"D4714*F4717","v":0},null,{"$f":"$D4714*$F4717*H4717","v":0}]
[null,null,null,null,"ตราสารหนี้",null,{"$f":"D4714*F4718","v":0},null,{"$f":"$D4714*$F4718*H4718","v":0}]
[null,null,null,null,"อื่นๆ",null,{"$f":"D4714*F4719","v":0},null,{"$f":"$D4714*$F4719*H4719","v":0}]
[null,786,null,null,"ตราสารทุน",null,{"$f":"D4720*F4720","v":0},null,{"$f":"$D4720*$F4720*H4720","v":0},{"$f":"SUM(I4720:I4725)","v":0}]
[null,null,null,null,"อสังหาริมทรัพย์",null,{"$f":"D4720*F4721","v":0},null,{"$f":"$D4720*$F4721*H4721","v":0}]
[null,null,null,null,"สินค้าโภคภัณฑ์",null,{"$f":"D4720*F4722","v":0},null,{"$f":"$D4720*$F4722*H4722","v":0}]
[null,null,null,null,"เงินฝาก",null,{"$f":"D4720*F4723","v":0},null,{"$f":"$D4720*$F4723*H4723","v":0}]
[null,null,null,null,"ตราสารหนี้",null,{"$f":"D4720*F4724","v":0},null,{"$f":"$D4720*$F4724*H4724","v":0}]
[null,null,null,null,"อื่นๆ",null,{"$f":"D4720*F4725","v":0},null,{"$f":"$D4720*$F4725*H4725","v":0}]
[null,787,null,null,"ตราสารทุน",null,{"$f":"D4726*F4726","v":0},null,{"$f":"$D4726*$F4726*H4726","v":0},{"$f":"SUM(I4726:I4731)","v":0}]
[null,null,null,null,"อสังหาริมทรัพย์",null,{"$f":"D4726*F4727","v":0},null,{"$f":"$D4726*$F4727*H4727","v":0}]
[null,null,null,null,"สินค้าโภคภัณฑ์",null,{"$f":"D4726*F4728","v":0},null,{"$f":"$D4726*$F4728*H4728","v":0}]
[null,null,null,null,"เงินฝาก",null,{"$f":"D4726*F4729","v":0},null,{"$f":"$D4726*$F4729*H4729","v":0}]
[null,null,null,null,"ตราสารหนี้",null,{"$f":"D4726*F4730","v":0},null,{"$f":"$D4726*$F4730*H4730","v":0}]
[null,null,null,null,"อื่นๆ",null,{"$f":"D4726*F4731","v":0},null,{"$f":"$D4726*$F4731*H4731","v":0}]
[null,788,null,null,"ตราสารทุน",null,{"$f":"D4732*F4732","v":0},null,{"$f":"$D4732*$F4732*H4732","v":0},{"$f":"SUM(I4732:I4737)","v":0}]
[null,null,null,null,"อสังหาริมทรัพย์",null,{"$f":"D4732*F4733","v":0},null,{"$f":"$D4732*$F4733*H4733","v":0}]
[null,null,null,null,"สินค้าโภคภัณฑ์",null,{"$f":"D4732*F4734","v":0},null,{"$f":"$D4732*$F4734*H4734","v":0}]
[null,null,null,null,"เงินฝาก",null,{"$f":"D4732*F4735","v":0},null,{"$f":"$D4732*$F4735*H4735","v":0}]
[null,null,null,null,"ตราสารหนี้",null,{"$f":"D4732*F4736","v":0},null,{"$f":"$D4732*$F4736*H4736","v":0}]
[null,null,null,null,"อื่นๆ",null,{"$f":"D4732*F4737","v":0},null,{"$f":"$D4732*$F4737*H4737","v":0}]
[null,789,null,null,"ตราสารทุน",null,{"$f":"D4738*F4738","v":0},null,{"$f":"$D4738*$F4738*H4738","v":0},{"$f":"SUM(I4738:I4743)","v":0}]
[null,null,null,null,"อสังหาริมทรัพย์",null,{"$f":"D4738*F4739","v":0},null,{"$f":"$D4738*$F4739*H4739","v":0}]
[null,null,null,null,"สินค้าโภคภัณฑ์",null,{"$f":"D4738*F4740","v":0},null,{"$f":"$D4738*$F4740*H4740","v":0}]
[null,null,null,null,"เงินฝาก",null,{"$f":"D4738*F4741","v":0},null,{"$f":"$D4738*$F4741*H4741","v":0}]
[null,null,null,null,"ตราสารหนี้",null,{"$f":"D4738*F4742","v":0},null,{"$f":"$D4738*$F4742*H4742","v":0}]
[null,null,null,null,"อื่นๆ",null,{"$f":"D4738*F4743","v":0},null,{"$f":"$D4738*$F4743*H4743","v":0}]
[null,790,null,null,"ตราสารทุน",null,{"$f":"D4744*F4744","v":0},null,{"$f":"$D4744*$F4744*H4744","v":0},{"$f":"SUM(I4744:I4749)","v":0}]
[null,null,null,null,"อสังหาริมทรัพย์",null,{"$f":"D4744*F4745","v":0},null,{"$f":"$D4744*$F4745*H4745","v":0}]
[null,null,null,null,"สินค้าโภคภัณฑ์",null,{"$f":"D4744*F4746","v":0},null,{"$f":"$D4744*$F4746*H4746","v":0}]
[null,null,null,null,"เงินฝาก",null,{"$f":"D4744*F4747","v":0},null,{"$f":"$D4744*$F4747*H4747","v":0}]
[null,null,null,null,"ตราสารหนี้",null,{"$f":"D4744*F4748","v":0},null,{"$f":"$D4744*$F4748*H4748","v":0}]
[null,null,null,null,"อื่นๆ",null,{"$f":"D4744*F4749","v":0},null,{"$f":"$D4744*$F4749*H4749","v":0}]
[null,791,null,null,"ตราสารทุน",null,{"$f":"D4750*F4750","v":0},null,{"$f":"$D4750*$F4750*H4750","v":0},{"$f":"SUM(I4750:I4755)","v":0}]
[null,null,null,null,"อสังหาริมทรัพย์",null,{"$f":"D4750*F4751","v":0},null,{"$f":"$D4750*$F4751*H4751","v":0}]
[null,null,null,null,"สินค้าโภคภัณฑ์",null,{"$f":"D4750*F4752","v":0},null,{"$f":"$D4750*$F4752*H4752","v":0}]
[null,null,null,null,"เงินฝาก",null,{"$f":"D4750*F4753","v":0},null,{"$f":"$D4750*$F4753*H4753","v":0}]
[null,null,null,null,"ตราสารหนี้",null,{"$f":"D4750*F4754","v":0},null,{"$f":"$D4750*$F4754*H4754","v":0}]
[null,null,null,null,"อื่นๆ",null,{"$f":"D4750*F4755","v":0},null,{"$f":"$D4750*$F4755*H4755","v":0}]
[null,792,null,null,"ตราสารทุน",null,{"$f":"D4756*F4756","v":0},null,{"$f":"$D4756*$F4756*H4756","v":0},{"$f":"SUM(I4756:I4761)","v":0}]
[null,null,null,null,"อสังหาริมทรัพย์",null,{"$f":"D4756*F4757","v":0},null,{"$f":"$D4756*$F4757*H4757","v":0}]
[null,null,null,null,"สินค้าโภคภัณฑ์",null,{"$f":"D4756*F4758","v":0},null,{"$f":"$D4756*$F4758*H4758","v":0}]
[null,null,null,null,"เงินฝาก",null,{"$f":"D4756*F4759","v":0},null,{"$f":"$D4756*$F4759*H4759","v":0}]
[null,null,null,null,"ตราสารหนี้",null,{"$f":"D4756*F4760","v":0},null,{"$f":"$D4756*$F4760*H4760","v":0}]
[null,null,null,null,"อื่นๆ",null,{"$f":"D4756*F4761","v":0},null,{"$f":"$D4756*$F4761*H4761","v":0}]
[null,793,null,null,"ตราสารทุน",null,{"$f":"D4762*F4762","v":0},null,{"$f":"$D4762*$F4762*H4762","v":0},{"$f":"SUM(I4762:I4767)","v":0}]
[null,null,null,null,"อสังหาริมทรัพย์",null,{"$f":"D4762*F4763","v":0},null,{"$f":"$D4762*$F4763*H4763","v":0}]
[null,null,null,null,"สินค้าโภคภัณฑ์",null,{"$f":"D4762*F4764","v":0},null,{"$f":"$D4762*$F4764*H4764","v":0}]
[null,null,null,null,"เงินฝาก",null,{"$f":"D4762*F4765","v":0},null,{"$f":"$D4762*$F4765*H4765","v":0}]
[null,null,null,null,"ตราสารหนี้",null,{"$f":"D4762*F4766","v":0},null,{"$f":"$D4762*$F4766*H4766","v":0}]
[null,null,null,null,"อื่นๆ",null,{"$f":"D4762*F4767","v":0},null,{"$f":"$D4762*$F4767*H4767","v":0}]
[null,794,null,null,"ตราสารทุน",null,{"$f":"D4768*F4768","v":0},null,{"$f":"$D4768*$F4768*H4768","v":0},{"$f":"SUM(I4768:I4773)","v":0}]
[null,null,null,null,"อสังหาริมทรัพย์",null,{"$f":"D4768*F4769","v":0},null,{"$f":"$D4768*$F4769*H4769","v":0}]
[null,null,null,null,"สินค้าโภคภัณฑ์",null,{"$f":"D4768*F4770","v":0},null,{"$f":"$D4768*$F4770*H4770","v":0}]
[null,null,null,null,"เงินฝาก",null,{"$f":"D4768*F4771","v":0},null,{"$f":"$D4768*$F4771*H4771","v":0}]
[null,null,null,null,"ตราสารหนี้",null,{"$f":"D4768*F4772","v":0},null,{"$f":"$D4768*$F4772*H4772","v":0}]
[null,null,null,null,"อื่นๆ",null,{"$f":"D4768*F4773","v":0},null,{"$f":"$D4768*$F4773*H4773","v":0}]
[null,795,null,null,"ตราสารทุน",null,{"$f":"D4774*F4774","v":0},null,{"$f":"$D4774*$F4774*H4774","v":0},{"$f":"SUM(I4774:I4779)","v":0}]
[null,null,null,null,"อสังหาริมทรัพย์",null,{"$f":"D4774*F4775","v":0},null,{"$f":"$D4774*$F4775*H4775","v":0}]
[null,null,null,null,"สินค้าโภคภัณฑ์",null,{"$f":"D4774*F4776","v":0},null,{"$f":"$D4774*$F4776*H4776","v":0}]
[null,null,null,null,"เงินฝาก",null,{"$f":"D4774*F4777","v":0},null,{"$f":"$D4774*$F4777*H4777","v":0}]
[null,null,null,null,"ตราสารหนี้",null,{"$f":"D4774*F4778","v":0},null,{"$f":"$D4774*$F4778*H4778","v":0}]
[null,null,null,null,"อื่นๆ",null,{"$f":"D4774*F4779","v":0},null,{"$f":"$D4774*$F4779*H4779","v":0}]
[null,796,null,null,"ตราสารทุน",null,{"$f":"D4780*F4780","v":0},null,{"$f":"$D4780*$F4780*H4780","v":0},{"$f":"SUM(I4780:I4785)","v":0}]
[null,null,null,null,"อสังหาริมทรัพย์",null,{"$f":"D4780*F4781","v":0},null,{"$f":"$D4780*$F4781*H4781","v":0}]
[null,null,null,null,"สินค้าโภคภัณฑ์",null,{"$f":"D4780*F4782","v":0},null,{"$f":"$D4780*$F4782*H4782","v":0}]
[null,null,null,null,"เงินฝาก",null,{"$f":"D4780*F4783","v":0},null,{"$f":"$D4780*$F4783*H4783","v":0}]
[null,null,null,null,"ตราสารหนี้",null,{"$f":"D4780*F4784","v":0},null,{"$f":"$D4780*$F4784*H4784","v":0}]
[null,null,null,null,"อื่นๆ",null,{"$f":"D4780*F4785","v":0},null,{"$f":"$D4780*$F4785*H4785","v":0}]
[null,797,null,null,"ตราสารทุน",null,{"$f":"D4786*F4786","v":0},null,{"$f":"$D4786*$F4786*H4786","v":0},{"$f":"SUM(I4786:I4791)","v":0}]
[null,null,null,null,"อสังหาริมทรัพย์",null,{"$f":"D4786*F4787","v":0},null,{"$f":"$D4786*$F4787*H4787","v":0}]
[null,null,null,null,"สินค้าโภคภัณฑ์",null,{"$f":"D4786*F4788","v":0},null,{"$f":"$D4786*$F4788*H4788","v":0}]
[null,null,null,null,"เงินฝาก",null,{"$f":"D4786*F4789","v":0},null,{"$f":"$D4786*$F4789*H4789","v":0}]
[null,null,null,null,"ตราสารหนี้",null,{"$f":"D4786*F4790","v":0},null,{"$f":"$D4786*$F4790*H4790","v":0}]
[null,null,null,null,"อื่นๆ",null,{"$f":"D4786*F4791","v":0},null,{"$f":"$D4786*$F4791*H4791","v":0}]
[null,798,null,null,"ตราสารทุน",null,{"$f":"D4792*F4792","v":0},null,{"$f":"$D4792*$F4792*H4792","v":0},{"$f":"SUM(I4792:I4797)","v":0}]
[null,null,null,null,"อสังหาริมทรัพย์",null,{"$f":"D4792*F4793","v":0},null,{"$f":"$D4792*$F4793*H4793","v":0}]
[null,null,null,null,"สินค้าโภคภัณฑ์",null,{"$f":"D4792*F4794","v":0},null,{"$f":"$D4792*$F4794*H4794","v":0}]
[null,null,null,null,"เงินฝาก",null,{"$f":"D4792*F4795","v":0},null,{"$f":"$D4792*$F4795*H4795","v":0}]
[null,null,null,null,"ตราสารหนี้",null,{"$f":"D4792*F4796","v":0},null,{"$f":"$D4792*$F4796*H4796","v":0}]
[null,null,null,null,"อื่นๆ",null,{"$f":"D4792*F4797","v":0},null,{"$f":"$D4792*$F4797*H4797","v":0}]
[null,799,null,null,"ตราสารทุน",null,{"$f":"D4798*F4798","v":0},null,{"$f":"$D4798*$F4798*H4798","v":0},{"$f":"SUM(I4798:I4803)","v":0}]
[null,null,null,null,"อสังหาริมทรัพย์",null,{"$f":"D4798*F4799","v":0},null,{"$f":"$D4798*$F4799*H4799","v":0}]
[null,null,null,null,"สินค้าโภคภัณฑ์",null,{"$f":"D4798*F4800","v":0},null,{"$f":"$D4798*$F4800*H4800","v":0}]
[null,null,null,null,"เงินฝาก",null,{"$f":"D4798*F4801","v":0},null,{"$f":"$D4798*$F4801*H4801","v":0}]
[null,null,null,null,"ตราสารหนี้",null,{"$f":"D4798*F4802","v":0},null,{"$f":"$D4798*$F4802*H4802","v":0}]
[null,null,null,null,"อื่นๆ",null,{"$f":"D4798*F4803","v":0},null,{"$f":"$D4798*$F4803*H4803","v":0}]
[null,800,null,null,"ตราสารทุน",null,{"$f":"D4804*F4804","v":0},null,{"$f":"$D4804*$F4804*H4804","v":0},{"$f":"SUM(I4804:I4809)","v":0}]
[null,null,null,null,"อสังหาริมทรัพย์",null,{"$f":"D4804*F4805","v":0},null,{"$f":"$D4804*$F4805*H4805","v":0}]
[null,null,null,null,"สินค้าโภคภัณฑ์",null,{"$f":"D4804*F4806","v":0},null,{"$f":"$D4804*$F4806*H4806","v":0}]
[null,null,null,null,"เงินฝาก",null,{"$f":"D4804*F4807","v":0},null,{"$f":"$D4804*$F4807*H4807","v":0}]
[null,null,null,null,"ตราสารหนี้",null,{"$f":"D4804*F4808","v":0},null,{"$f":"$D4804*$F4808*H4808","v":0}]
[null,null,null,null,"อื่นๆ",null,{"$f":"D4804*F4809","v":0},null,{"$f":"$D4804*$F4809*H4809","v":0}]
[null,801,null,null,"ตราสารทุน",null,{"$f":"D4810*F4810","v":0},null,{"$f":"$D4810*$F4810*H4810","v":0},{"$f":"SUM(I4810:I4815)","v":0}]
[null,null,null,null,"อสังหาริมทรัพย์",null,{"$f":"D4810*F4811","v":0},null,{"$f":"$D4810*$F4811*H4811","v":0}]
[null,null,null,null,"สินค้าโภคภัณฑ์",null,{"$f":"D4810*F4812","v":0},null,{"$f":"$D4810*$F4812*H4812","v":0}]
[null,null,null,null,"เงินฝาก",null,{"$f":"D4810*F4813","v":0},null,{"$f":"$D4810*$F4813*H4813","v":0}]
[null,null,null,null,"ตราสารหนี้",null,{"$f":"D4810*F4814","v":0},null,{"$f":"$D4810*$F4814*H4814","v":0}]
[null,null,null,null,"อื่นๆ",null,{"$f":"D4810*F4815","v":0},null,{"$f":"$D4810*$F4815*H4815","v":0}]
[null,802,null,null,"ตราสารทุน",null,{"$f":"D4816*F4816","v":0},null,{"$f":"$D4816*$F4816*H4816","v":0},{"$f":"SUM(I4816:I4821)","v":0}]
[null,null,null,null,"อสังหาริมทรัพย์",null,{"$f":"D4816*F4817","v":0},null,{"$f":"$D4816*$F4817*H4817","v":0}]
[null,null,null,null,"สินค้าโภคภัณฑ์",null,{"$f":"D4816*F4818","v":0},null,{"$f":"$D4816*$F4818*H4818","v":0}]
[null,null,null,null,"เงินฝาก",null,{"$f":"D4816*F4819","v":0},null,{"$f":"$D4816*$F4819*H4819","v":0}]
[null,null,null,null,"ตราสารหนี้",null,{"$f":"D4816*F4820","v":0},null,{"$f":"$D4816*$F4820*H4820","v":0}]
[null,null,null,null,"อื่นๆ",null,{"$f":"D4816*F4821","v":0},null,{"$f":"$D4816*$F4821*H4821","v":0}]
[null,803,null,null,"ตราสารทุน",null,{"$f":"D4822*F4822","v":0},null,{"$f":"$D4822*$F4822*H4822","v":0},{"$f":"SUM(I4822:I4827)","v":0}]
[null,null,null,null,"อสังหาริมทรัพย์",null,{"$f":"D4822*F4823","v":0},null,{"$f":"$D4822*$F4823*H4823","v":0}]
[null,null,null,null,"สินค้าโภคภัณฑ์",null,{"$f":"D4822*F4824","v":0},null,{"$f":"$D4822*$F4824*H4824","v":0}]
[null,null,null,null,"เงินฝาก",null,{"$f":"D4822*F4825","v":0},null,{"$f":"$D4822*$F4825*H4825","v":0}]
[null,null,null,null,"ตราสารหนี้",null,{"$f":"D4822*F4826","v":0},null,{"$f":"$D4822*$F4826*H4826","v":0}]
[null,null,null,null,"อื่นๆ",null,{"$f":"D4822*F4827","v":0},null,{"$f":"$D4822*$F4827*H4827","v":0}]
[null,804,null,null,"ตราสารทุน",null,{"$f":"D4828*F4828","v":0},null,{"$f":"$D4828*$F4828*H4828","v":0},{"$f":"SUM(I4828:I4833)","v":0}]
[null,null,null,null,"อสังหาริมทรัพย์",null,{"$f":"D4828*F4829","v":0},null,{"$f":"$D4828*$F4829*H4829","v":0}]
[null,null,null,null,"สินค้าโภคภัณฑ์",null,{"$f":"D4828*F4830","v":0},null,{"$f":"$D4828*$F4830*H4830","v":0}]
[null,null,null,null,"เงินฝาก",null,{"$f":"D4828*F4831","v":0},null,{"$f":"$D4828*$F4831*H4831","v":0}]
[null,null,null,null,"ตราสารหนี้",null,{"$f":"D4828*F4832","v":0},null,{"$f":"$D4828*$F4832*H4832","v":0}]
[null,null,null,null,"อื่นๆ",null,{"$f":"D4828*F4833","v":0},null,{"$f":"$D4828*$F4833*H4833","v":0}]
[null,805,null,null,"ตราสารทุน",null,{"$f":"D4834*F4834","v":0},null,{"$f":"$D4834*$F4834*H4834","v":0},{"$f":"SUM(I4834:I4839)","v":0}]
[null,null,null,null,"อสังหาริมทรัพย์",null,{"$f":"D4834*F4835","v":0},null,{"$f":"$D4834*$F4835*H4835","v":0}]
[null,null,null,null,"สินค้าโภคภัณฑ์",null,{"$f":"D4834*F4836","v":0},null,{"$f":"$D4834*$F4836*H4836","v":0}]
[null,null,null,null,"เงินฝาก",null,{"$f":"D4834*F4837","v":0},null,{"$f":"$D4834*$F4837*H4837","v":0}]
[null,null,null,null,"ตราสารหนี้",null,{"$f":"D4834*F4838","v":0},null,{"$f":"$D4834*$F4838*H4838","v":0}]
[null,null,null,null,"อื่นๆ",null,{"$f":"D4834*F4839","v":0},null,{"$f":"$D4834*$F4839*H4839","v":0}]
[null,806,null,null,"ตราสารทุน",null,{"$f":"D4840*F4840","v":0},null,{"$f":"$D4840*$F4840*H4840","v":0},{"$f":"SUM(I4840:I4845)","v":0}]
[null,null,null,null,"อสังหาริมทรัพย์",null,{"$f":"D4840*F4841","v":0},null,{"$f":"$D4840*$F4841*H4841","v":0}]
[null,null,null,null,"สินค้าโภคภัณฑ์",null,{"$f":"D4840*F4842","v":0},null,{"$f":"$D4840*$F4842*H4842","v":0}]
[null,null,null,null,"เงินฝาก",null,{"$f":"D4840*F4843","v":0},null,{"$f":"$D4840*$F4843*H4843","v":0}]
[null,null,null,null,"ตราสารหนี้",null,{"$f":"D4840*F4844","v":0},null,{"$f":"$D4840*$F4844*H4844","v":0}]
[null,null,null,null,"อื่นๆ",null,{"$f":"D4840*F4845","v":0},null,{"$f":"$D4840*$F4845*H4845","v":0}]
[null,807,null,null,"ตราสารทุน",null,{"$f":"D4846*F4846","v":0},null,{"$f":"$D4846*$F4846*H4846","v":0},{"$f":"SUM(I4846:I4851)","v":0}]
[null,null,null,null,"อสังหาริมทรัพย์",null,{"$f":"D4846*F4847","v":0},null,{"$f":"$D4846*$F4847*H4847","v":0}]
[null,null,null,null,"สินค้าโภคภัณฑ์",null,{"$f":"D4846*F4848","v":0},null,{"$f":"$D4846*$F4848*H4848","v":0}]
[null,null,null,null,"เงินฝาก",null,{"$f":"D4846*F4849","v":0},null,{"$f":"$D4846*$F4849*H4849","v":0}]
[null,null,null,null,"ตราสารหนี้",null,{"$f":"D4846*F4850","v":0},null,{"$f":"$D4846*$F4850*H4850","v":0}]
[null,null,null,null,"อื่นๆ",null,{"$f":"D4846*F4851","v":0},null,{"$f":"$D4846*$F4851*H4851","v":0}]
[null,808,null,null,"ตราสารทุน",null,{"$f":"D4852*F4852","v":0},null,{"$f":"$D4852*$F4852*H4852","v":0},{"$f":"SUM(I4852:I4857)","v":0}]
[null,null,null,null,"อสังหาริมทรัพย์",null,{"$f":"D4852*F4853","v":0},null,{"$f":"$D4852*$F4853*H4853","v":0}]
[null,null,null,null,"สินค้าโภคภัณฑ์",null,{"$f":"D4852*F4854","v":0},null,{"$f":"$D4852*$F4854*H4854","v":0}]
[null,null,null,null,"เงินฝาก",null,{"$f":"D4852*F4855","v":0},null,{"$f":"$D4852*$F4855*H4855","v":0}]
[null,null,null,null,"ตราสารหนี้",null,{"$f":"D4852*F4856","v":0},null,{"$f":"$D4852*$F4856*H4856","v":0}]
[null,null,null,null,"อื่นๆ",null,{"$f":"D4852*F4857","v":0},null,{"$f":"$D4852*$F4857*H4857","v":0}]
[null,809,null,null,"ตราสารทุน",null,{"$f":"D4858*F4858","v":0},null,{"$f":"$D4858*$F4858*H4858","v":0},{"$f":"SUM(I4858:I4863)","v":0}]
[null,null,null,null,"อสังหาริมทรัพย์",null,{"$f":"D4858*F4859","v":0},null,{"$f":"$D4858*$F4859*H4859","v":0}]
[null,null,null,null,"สินค้าโภคภัณฑ์",null,{"$f":"D4858*F4860","v":0},null,{"$f":"$D4858*$F4860*H4860","v":0}]
[null,null,null,null,"เงินฝาก",null,{"$f":"D4858*F4861","v":0},null,{"$f":"$D4858*$F4861*H4861","v":0}]
[null,null,null,null,"ตราสารหนี้",null,{"$f":"D4858*F4862","v":0},null,{"$f":"$D4858*$F4862*H4862","v":0}]
[null,null,null,null,"อื่นๆ",null,{"$f":"D4858*F4863","v":0},null,{"$f":"$D4858*$F4863*H4863","v":0}]
[null,810,null,null,"ตราสารทุน",null,{"$f":"D4864*F4864","v":0},null,{"$f":"$D4864*$F4864*H4864","v":0},{"$f":"SUM(I4864:I4869)","v":0}]
[null,null,null,null,"อสังหาริมทรัพย์",null,{"$f":"D4864*F4865","v":0},null,{"$f":"$D4864*$F4865*H4865","v":0}]
[null,null,null,null,"สินค้าโภคภัณฑ์",null,{"$f":"D4864*F4866","v":0},null,{"$f":"$D4864*$F4866*H4866","v":0}]
[null,null,null,null,"เงินฝาก",null,{"$f":"D4864*F4867","v":0},null,{"$f":"$D4864*$F4867*H4867","v":0}]
[null,null,null,null,"ตราสารหนี้",null,{"$f":"D4864*F4868","v":0},null,{"$f":"$D4864*$F4868*H4868","v":0}]
[null,null,null,null,"อื่นๆ",null,{"$f":"D4864*F4869","v":0},null,{"$f":"$D4864*$F4869*H4869","v":0}]
[null,811,null,null,"ตราสารทุน",null,{"$f":"D4870*F4870","v":0},null,{"$f":"$D4870*$F4870*H4870","v":0},{"$f":"SUM(I4870:I4875)","v":0}]
[null,null,null,null,"อสังหาริมทรัพย์",null,{"$f":"D4870*F4871","v":0},null,{"$f":"$D4870*$F4871*H4871","v":0}]
[null,null,null,null,"สินค้าโภคภัณฑ์",null,{"$f":"D4870*F4872","v":0},null,{"$f":"$D4870*$F4872*H4872","v":0}]
[null,null,null,null,"เงินฝาก",null,{"$f":"D4870*F4873","v":0},null,{"$f":"$D4870*$F4873*H4873","v":0}]
[null,null,null,null,"ตราสารหนี้",null,{"$f":"D4870*F4874","v":0},null,{"$f":"$D4870*$F4874*H4874","v":0}]
[null,null,null,null,"อื่นๆ",null,{"$f":"D4870*F4875","v":0},null,{"$f":"$D4870*$F4875*H4875","v":0}]
[null,812,null,null,"ตราสารทุน",null,{"$f":"D4876*F4876","v":0},null,{"$f":"$D4876*$F4876*H4876","v":0},{"$f":"SUM(I4876:I4881)","v":0}]
[null,null,null,null,"อสังหาริมทรัพย์",null,{"$f":"D4876*F4877","v":0},null,{"$f":"$D4876*$F4877*H4877","v":0}]
[null,null,null,null,"สินค้าโภคภัณฑ์",null,{"$f":"D4876*F4878","v":0},null,{"$f":"$D4876*$F4878*H4878","v":0}]
[null,null,null,null,"เงินฝาก",null,{"$f":"D4876*F4879","v":0},null,{"$f":"$D4876*$F4879*H4879","v":0}]
[null,null,null,null,"ตราสารหนี้",null,{"$f":"D4876*F4880","v":0},null,{"$f":"$D4876*$F4880*H4880","v":0}]
[null,null,null,null,"อื่นๆ",null,{"$f":"D4876*F4881","v":0},null,{"$f":"$D4876*$F4881*H4881","v":0}]
[null,813,null,null,"ตราสารทุน",null,{"$f":"D4882*F4882","v":0},null,{"$f":"$D4882*$F4882*H4882","v":0},{"$f":"SUM(I4882:I4887)","v":0}]
[null,null,null,null,"อสังหาริมทรัพย์",null,{"$f":"D4882*F4883","v":0},null,{"$f":"$D4882*$F4883*H4883","v":0}]
[null,null,null,null,"สินค้าโภคภัณฑ์",null,{"$f":"D4882*F4884","v":0},null,{"$f":"$D4882*$F4884*H4884","v":0}]
[null,null,null,null,"เงินฝาก",null,{"$f":"D4882*F4885","v":0},null,{"$f":"$D4882*$F4885*H4885","v":0}]
[null,null,null,null,"ตราสารหนี้",null,{"$f":"D4882*F4886","v":0},null,{"$f":"$D4882*$F4886*H4886","v":0}]
[null,null,null,null,"อื่นๆ",null,{"$f":"D4882*F4887","v":0},null,{"$f":"$D4882*$F4887*H4887","v":0}]
[null,814,null,null,"ตราสารทุน",null,{"$f":"D4888*F4888","v":0},null,{"$f":"$D4888*$F4888*H4888","v":0},{"$f":"SUM(I4888:I4893)","v":0}]
[null,null,null,null,"อสังหาริมทรัพย์",null,{"$f":"D4888*F4889","v":0},null,{"$f":"$D4888*$F4889*H4889","v":0}]
[null,null,null,null,"สินค้าโภคภัณฑ์",null,{"$f":"D4888*F4890","v":0},null,{"$f":"$D4888*$F4890*H4890","v":0}]
[null,null,null,null,"เงินฝาก",null,{"$f":"D4888*F4891","v":0},null,{"$f":"$D4888*$F4891*H4891","v":0}]
[null,null,null,null,"ตราสารหนี้",null,{"$f":"D4888*F4892","v":0},null,{"$f":"$D4888*$F4892*H4892","v":0}]
[null,null,null,null,"อื่นๆ",null,{"$f":"D4888*F4893","v":0},null,{"$f":"$D4888*$F4893*H4893","v":0}]
[null,815,null,null,"ตราสารทุน",null,{"$f":"D4894*F4894","v":0},null,{"$f":"$D4894*$F4894*H4894","v":0},{"$f":"SUM(I4894:I4899)","v":0}]
[null,null,null,null,"อสังหาริมทรัพย์",null,{"$f":"D4894*F4895","v":0},null,{"$f":"$D4894*$F4895*H4895","v":0}]
[null,null,null,null,"สินค้าโภคภัณฑ์",null,{"$f":"D4894*F4896","v":0},null,{"$f":"$D4894*$F4896*H4896","v":0}]
[null,null,null,null,"เงินฝาก",null,{"$f":"D4894*F4897","v":0},null,{"$f":"$D4894*$F4897*H4897","v":0}]
[null,null,null,null,"ตราสารหนี้",null,{"$f":"D4894*F4898","v":0},null,{"$f":"$D4894*$F4898*H4898","v":0}]
[null,null,null,null,"อื่นๆ",null,{"$f":"D4894*F4899","v":0},null,{"$f":"$D4894*$F4899*H4899","v":0}]
[null,816,null,null,"ตราสารทุน",null,{"$f":"D4900*F4900","v":0},null,{"$f":"$D4900*$F4900*H4900","v":0},{"$f":"SUM(I4900:I4905)","v":0}]
[null,null,null,null,"อสังหาริมทรัพย์",null,{"$f":"D4900*F4901","v":0},null,{"$f":"$D4900*$F4901*H4901","v":0}]
[null,null,null,null,"สินค้าโภคภัณฑ์",null,{"$f":"D4900*F4902","v":0},null,{"$f":"$D4900*$F4902*H4902","v":0}]
[null,null,null,null,"เงินฝาก",null,{"$f":"D4900*F4903","v":0},null,{"$f":"$D4900*$F4903*H4903","v":0}]
[null,null,null,null,"ตราสารหนี้",null,{"$f":"D4900*F4904","v":0},null,{"$f":"$D4900*$F4904*H4904","v":0}]
[null,null,null,null,"อื่นๆ",null,{"$f":"D4900*F4905","v":0},null,{"$f":"$D4900*$F4905*H4905","v":0}]
[null,817,null,null,"ตราสารทุน",null,{"$f":"D4906*F4906","v":0},null,{"$f":"$D4906*$F4906*H4906","v":0},{"$f":"SUM(I4906:I4911)","v":0}]
[null,null,null,null,"อสังหาริมทรัพย์",null,{"$f":"D4906*F4907","v":0},null,{"$f":"$D4906*$F4907*H4907","v":0}]
[null,null,null,null,"สินค้าโภคภัณฑ์",null,{"$f":"D4906*F4908","v":0},null,{"$f":"$D4906*$F4908*H4908","v":0}]
[null,null,null,null,"เงินฝาก",null,{"$f":"D4906*F4909","v":0},null,{"$f":"$D4906*$F4909*H4909","v":0}]
[null,null,null,null,"ตราสารหนี้",null,{"$f":"D4906*F4910","v":0},null,{"$f":"$D4906*$F4910*H4910","v":0}]
[null,null,null,null,"อื่นๆ",null,{"$f":"D4906*F4911","v":0},null,{"$f":"$D4906*$F4911*H4911","v":0}]
[null,818,null,null,"ตราสารทุน",null,{"$f":"D4912*F4912","v":0},null,{"$f":"$D4912*$F4912*H4912","v":0},{"$f":"SUM(I4912:I4917)","v":0}]
[null,null,null,null,"อสังหาริมทรัพย์",null,{"$f":"D4912*F4913","v":0},null,{"$f":"$D4912*$F4913*H4913","v":0}]
[null,null,null,null,"สินค้าโภคภัณฑ์",null,{"$f":"D4912*F4914","v":0},null,{"$f":"$D4912*$F4914*H4914","v":0}]
[null,null,null,null,"เงินฝาก",null,{"$f":"D4912*F4915","v":0},null,{"$f":"$D4912*$F4915*H4915","v":0}]
[null,null,null,null,"ตราสารหนี้",null,{"$f":"D4912*F4916","v":0},null,{"$f":"$D4912*$F4916*H4916","v":0}]
[null,null,null,null,"อื่นๆ",null,{"$f":"D4912*F4917","v":0},null,{"$f":"$D4912*$F4917*H4917","v":0}]
[null,819,null,null,"ตราสารทุน",null,{"$f":"D4918*F4918","v":0},null,{"$f":"$D4918*$F4918*H4918","v":0},{"$f":"SUM(I4918:I4923)","v":0}]
[null,null,null,null,"อสังหาริมทรัพย์",null,{"$f":"D4918*F4919","v":0},null,{"$f":"$D4918*$F4919*H4919","v":0}]
[null,null,null,null,"สินค้าโภคภัณฑ์",null,{"$f":"D4918*F4920","v":0},null,{"$f":"$D4918*$F4920*H4920","v":0}]
[null,null,null,null,"เงินฝาก",null,{"$f":"D4918*F4921","v":0},null,{"$f":"$D4918*$F4921*H4921","v":0}]
[null,null,null,null,"ตราสารหนี้",null,{"$f":"D4918*F4922","v":0},null,{"$f":"$D4918*$F4922*H4922","v":0}]
[null,null,null,null,"อื่นๆ",null,{"$f":"D4918*F4923","v":0},null,{"$f":"$D4918*$F4923*H4923","v":0}]
[null,820,null,null,"ตราสารทุน",null,{"$f":"D4924*F4924","v":0},null,{"$f":"$D4924*$F4924*H4924","v":0},{"$f":"SUM(I4924:I4929)","v":0}]
[null,null,null,null,"อสังหาริมทรัพย์",null,{"$f":"D4924*F4925","v":0},null,{"$f":"$D4924*$F4925*H4925","v":0}]
[null,null,null,null,"สินค้าโภคภัณฑ์",null,{"$f":"D4924*F4926","v":0},null,{"$f":"$D4924*$F4926*H4926","v":0}]
[null,null,null,null,"เงินฝาก",null,{"$f":"D4924*F4927","v":0},null,{"$f":"$D4924*$F4927*H4927","v":0}]
[null,null,null,null,"ตราสารหนี้",null,{"$f":"D4924*F4928","v":0},null,{"$f":"$D4924*$F4928*H4928","v":0}]
[null,null,null,null,"อื่นๆ",null,{"$f":"D4924*F4929","v":0},null,{"$f":"$D4924*$F4929*H4929","v":0}]
[null,821,null,null,"ตราสารทุน",null,{"$f":"D4930*F4930","v":0},null,{"$f":"$D4930*$F4930*H4930","v":0},{"$f":"SUM(I4930:I4935)","v":0}]
[null,null,null,null,"อสังหาริมทรัพย์",null,{"$f":"D4930*F4931","v":0},null,{"$f":"$D4930*$F4931*H4931","v":0}]
[null,null,null,null,"สินค้าโภคภัณฑ์",null,{"$f":"D4930*F4932","v":0},null,{"$f":"$D4930*$F4932*H4932","v":0}]
[null,null,null,null,"เงินฝาก",null,{"$f":"D4930*F4933","v":0},null,{"$f":"$D4930*$F4933*H4933","v":0}]
[null,null,null,null,"ตราสารหนี้",null,{"$f":"D4930*F4934","v":0},null,{"$f":"$D4930*$F4934*H4934","v":0}]
[null,null,null,null,"อื่นๆ",null,{"$f":"D4930*F4935","v":0},null,{"$f":"$D4930*$F4935*H4935","v":0}]
[null,822,null,null,"ตราสารทุน",null,{"$f":"D4936*F4936","v":0},null,{"$f":"$D4936*$F4936*H4936","v":0},{"$f":"SUM(I4936:I4941)","v":0}]
[null,null,null,null,"อสังหาริมทรัพย์",null,{"$f":"D4936*F4937","v":0},null,{"$f":"$D4936*$F4937*H4937","v":0}]
[null,null,null,null,"สินค้าโภคภัณฑ์",null,{"$f":"D4936*F4938","v":0},null,{"$f":"$D4936*$F4938*H4938","v":0}]
[null,null,null,null,"เงินฝาก",null,{"$f":"D4936*F4939","v":0},null,{"$f":"$D4936*$F4939*H4939","v":0}]
[null,null,null,null,"ตราสารหนี้",null,{"$f":"D4936*F4940","v":0},null,{"$f":"$D4936*$F4940*H4940","v":0}]
[null,null,null,null,"อื่นๆ",null,{"$f":"D4936*F4941","v":0},null,{"$f":"$D4936*$F4941*H4941","v":0}]
[null,823,null,null,"ตราสารทุน",null,{"$f":"D4942*F4942","v":0},null,{"$f":"$D4942*$F4942*H4942","v":0},{"$f":"SUM(I4942:I4947)","v":0}]
[null,null,null,null,"อสังหาริมทรัพย์",null,{"$f":"D4942*F4943","v":0},null,{"$f":"$D4942*$F4943*H4943","v":0}]
[null,null,null,null,"สินค้าโภคภัณฑ์",null,{"$f":"D4942*F4944","v":0},null,{"$f":"$D4942*$F4944*H4944","v":0}]
[null,null,null,null,"เงินฝาก",null,{"$f":"D4942*F4945","v":0},null,{"$f":"$D4942*$F4945*H4945","v":0}]
[null,null,null,null,"ตราสารหนี้",null,{"$f":"D4942*F4946","v":0},null,{"$f":"$D4942*$F4946*H4946","v":0}]
[null,null,null,null,"อื่นๆ",null,{"$f":"D4942*F4947","v":0},null,{"$f":"$D4942*$F4947*H4947","v":0}]
[null,824,null,null,"ตราสารทุน",null,{"$f":"D4948*F4948","v":0},null,{"$f":"$D4948*$F4948*H4948","v":0},{"$f":"SUM(I4948:I4953)","v":0}]
[null,null,null,null,"อสังหาริมทรัพย์",null,{"$f":"D4948*F4949","v":0},null,{"$f":"$D4948*$F4949*H4949","v":0}]
[null,null,null,null,"สินค้าโภคภัณฑ์",null,{"$f":"D4948*F4950","v":0},null,{"$f":"$D4948*$F4950*H4950","v":0}]
[null,null,null,null,"เงินฝาก",null,{"$f":"D4948*F4951","v":0},null,{"$f":"$D4948*$F4951*H4951","v":0}]
[null,null,null,null,"ตราสารหนี้",null,{"$f":"D4948*F4952","v":0},null,{"$f":"$D4948*$F4952*H4952","v":0}]
[null,null,null,null,"อื่นๆ",null,{"$f":"D4948*F4953","v":0},null,{"$f":"$D4948*$F4953*H4953","v":0}]
[null,825,null,null,"ตราสารทุน",null,{"$f":"D4954*F4954","v":0},null,{"$f":"$D4954*$F4954*H4954","v":0},{"$f":"SUM(I4954:I4959)","v":0}]
[null,null,null,null,"อสังหาริมทรัพย์",null,{"$f":"D4954*F4955","v":0},null,{"$f":"$D4954*$F4955*H4955","v":0}]
[null,null,null,null,"สินค้าโภคภัณฑ์",null,{"$f":"D4954*F4956","v":0},null,{"$f":"$D4954*$F4956*H4956","v":0}]
[null,null,null,null,"เงินฝาก",null,{"$f":"D4954*F4957","v":0},null,{"$f":"$D4954*$F4957*H4957","v":0}]
[null,null,null,null,"ตราสารหนี้",null,{"$f":"D4954*F4958","v":0},null,{"$f":"$D4954*$F4958*H4958","v":0}]
[null,null,null,null,"อื่นๆ",null,{"$f":"D4954*F4959","v":0},null,{"$f":"$D4954*$F4959*H4959","v":0}]
[null,826,null,null,"ตราสารทุน",null,{"$f":"D4960*F4960","v":0},null,{"$f":"$D4960*$F4960*H4960","v":0},{"$f":"SUM(I4960:I4965)","v":0}]
[null,null,null,null,"อสังหาริมทรัพย์",null,{"$f":"D4960*F4961","v":0},null,{"$f":"$D4960*$F4961*H4961","v":0}]
[null,null,null,null,"สินค้าโภคภัณฑ์",null,{"$f":"D4960*F4962","v":0},null,{"$f":"$D4960*$F4962*H4962","v":0}]
[null,null,null,null,"เงินฝาก",null,{"$f":"D4960*F4963","v":0},null,{"$f":"$D4960*$F4963*H4963","v":0}]
[null,null,null,null,"ตราสารหนี้",null,{"$f":"D4960*F4964","v":0},null,{"$f":"$D4960*$F4964*H4964","v":0}]
[null,null,null,null,"อื่นๆ",null,{"$f":"D4960*F4965","v":0},null,{"$f":"$D4960*$F4965*H4965","v":0}]
[null,827,null,null,"ตราสารทุน",null,{"$f":"D4966*F4966","v":0},null,{"$f":"$D4966*$F4966*H4966","v":0},{"$f":"SUM(I4966:I4971)","v":0}]
[null,null,null,null,"อสังหาริมทรัพย์",null,{"$f":"D4966*F4967","v":0},null,{"$f":"$D4966*$F4967*H4967","v":0}]
[null,null,null,null,"สินค้าโภคภัณฑ์",null,{"$f":"D4966*F4968","v":0},null,{"$f":"$D4966*$F4968*H4968","v":0}]
[null,null,null,null,"เงินฝาก",null,{"$f":"D4966*F4969","v":0},null,{"$f":"$D4966*$F4969*H4969","v":0}]
[null,null,null,null,"ตราสารหนี้",null,{"$f":"D4966*F4970","v":0},null,{"$f":"$D4966*$F4970*H4970","v":0}]
[null,null,null,null,"อื่นๆ",null,{"$f":"D4966*F4971","v":0},null,{"$f":"$D4966*$F4971*H4971","v":0}]
[null,828,null,null,"ตราสารทุน",null,{"$f":"D4972*F4972","v":0},null,{"$f":"$D4972*$F4972*H4972","v":0},{"$f":"SUM(I4972:I4977)","v":0}]
[null,null,null,null,"อสังหาริมทรัพย์",null,{"$f":"D4972*F4973","v":0},null,{"$f":"$D4972*$F4973*H4973","v":0}]
[null,null,null,null,"สินค้าโภคภัณฑ์",null,{"$f":"D4972*F4974","v":0},null,{"$f":"$D4972*$F4974*H4974","v":0}]
[null,null,null,null,"เงินฝาก",null,{"$f":"D4972*F4975","v":0},null,{"$f":"$D4972*$F4975*H4975","v":0}]
[null,null,null,null,"ตราสารหนี้",null,{"$f":"D4972*F4976","v":0},null,{"$f":"$D4972*$F4976*H4976","v":0}]
[null,null,null,null,"อื่นๆ",null,{"$f":"D4972*F4977","v":0},null,{"$f":"$D4972*$F4977*H4977","v":0}]
[null,829,null,null,"ตราสารทุน",null,{"$f":"D4978*F4978","v":0},null,{"$f":"$D4978*$F4978*H4978","v":0},{"$f":"SUM(I4978:I4983)","v":0}]
[null,null,null,null,"อสังหาริมทรัพย์",null,{"$f":"D4978*F4979","v":0},null,{"$f":"$D4978*$F4979*H4979","v":0}]
[null,null,null,null,"สินค้าโภคภัณฑ์",null,{"$f":"D4978*F4980","v":0},null,{"$f":"$D4978*$F4980*H4980","v":0}]
[null,null,null,null,"เงินฝาก",null,{"$f":"D4978*F4981","v":0},null,{"$f":"$D4978*$F4981*H4981","v":0}]
[null,null,null,null,"ตราสารหนี้",null,{"$f":"D4978*F4982","v":0},null,{"$f":"$D4978*$F4982*H4982","v":0}]
[null,null,null,null,"อื่นๆ",null,{"$f":"D4978*F4983","v":0},null,{"$f":"$D4978*$F4983*H4983","v":0}]
[null,830,null,null,"ตราสารทุน",null,{"$f":"D4984*F4984","v":0},null,{"$f":"$D4984*$F4984*H4984","v":0},{"$f":"SUM(I4984:I4989)","v":0}]
[null,null,null,null,"อสังหาริมทรัพย์",null,{"$f":"D4984*F4985","v":0},null,{"$f":"$D4984*$F4985*H4985","v":0}]
[null,null,null,null,"สินค้าโภคภัณฑ์",null,{"$f":"D4984*F4986","v":0},null,{"$f":"$D4984*$F4986*H4986","v":0}]
[null,null,null,null,"เงินฝาก",null,{"$f":"D4984*F4987","v":0},null,{"$f":"$D4984*$F4987*H4987","v":0}]
[null,null,null,null,"ตราสารหนี้",null,{"$f":"D4984*F4988","v":0},null,{"$f":"$D4984*$F4988*H4988","v":0}]
[null,null,null,null,"อื่นๆ",null,{"$f":"D4984*F4989","v":0},null,{"$f":"$D4984*$F4989*H4989","v":0}]
[null,831,null,null,"ตราสารทุน",null,{"$f":"D4990*F4990","v":0},null,{"$f":"$D4990*$F4990*H4990","v":0},{"$f":"SUM(I4990:I4995)","v":0}]
[null,null,null,null,"อสังหาริมทรัพย์",null,{"$f":"D4990*F4991","v":0},null,{"$f":"$D4990*$F4991*H4991","v":0}]
[null,null,null,null,"สินค้าโภคภัณฑ์",null,{"$f":"D4990*F4992","v":0},null,{"$f":"$D4990*$F4992*H4992","v":0}]
[null,null,null,null,"เงินฝาก",null,{"$f":"D4990*F4993","v":0},null,{"$f":"$D4990*$F4993*H4993","v":0}]
[null,null,null,null,"ตราสารหนี้",null,{"$f":"D4990*F4994","v":0},null,{"$f":"$D4990*$F4994*H4994","v":0}]
[null,null,null,null,"อื่นๆ",null,{"$f":"D4990*F4995","v":0},null,{"$f":"$D4990*$F4995*H4995","v":0}]
[null,832,null,null,"ตราสารทุน",null,{"$f":"D4996*F4996","v":0},null,{"$f":"$D4996*$F4996*H4996","v":0},{"$f":"SUM(I4996:I5001)","v":0}]
[null,null,null,null,"อสังหาริมทรัพย์",null,{"$f":"D4996*F4997","v":0},null,{"$f":"$D4996*$F4997*H4997","v":0}]
[null,null,null,null,"สินค้าโภคภัณฑ์",null,{"$f":"D4996*F4998","v":0},null,{"$f":"$D4996*$F4998*H4998","v":0}]
[null,null,null,null,"เงินฝาก",null,{"$f":"D4996*F4999","v":0},null,{"$f":"$D4996*$F4999*H4999","v":0}]
[null,null,null,null,"ตราสารหนี้",null,{"$f":"D4996*F5000","v":0},null,{"$f":"$D4996*$F5000*H5000","v":0}]
[null,null,null,null,"อื่นๆ",null,{"$f":"D4996*F5001","v":0},null,{"$f":"$D4996*$F5001*H5001","v":0}]
[null,833,null,null,"ตราสารทุน",null,{"$f":"D5002*F5002","v":0},null,{"$f":"$D5002*$F5002*H5002","v":0},{"$f":"SUM(I5002:I5007)","v":0}]
[null,null,null,null,"อสังหาริมทรัพย์",null,{"$f":"D5002*F5003","v":0},null,{"$f":"$D5002*$F5003*H5003","v":0}]
[null,null,null,null,"สินค้าโภคภัณฑ์",null,{"$f":"D5002*F5004","v":0},null,{"$f":"$D5002*$F5004*H5004","v":0}]
[null,null,null,null,"เงินฝาก",null,{"$f":"D5002*F5005","v":0},null,{"$f":"$D5002*$F5005*H5005","v":0}]
[null,null,null,null,"ตราสารหนี้",null,{"$f":"D5002*F5006","v":0},null,{"$f":"$D5002*$F5006*H5006","v":0}]
[null,null,null,null,"อื่นๆ",null,{"$f":"D5002*F5007","v":0},null,{"$f":"$D5002*$F5007*H5007","v":0}]
[null,834,null,null,"ตราสารทุน",null,{"$f":"D5008*F5008","v":0},null,{"$f":"$D5008*$F5008*H5008","v":0},{"$f":"SUM(I5008:I5013)","v":0}]
[null,null,null,null,"อสังหาริมทรัพย์",null,{"$f":"D5008*F5009","v":0},null,{"$f":"$D5008*$F5009*H5009","v":0}]
[null,null,null,null,"สินค้าโภคภัณฑ์",null,{"$f":"D5008*F5010","v":0},null,{"$f":"$D5008*$F5010*H5010","v":0}]
[null,null,null,null,"เงินฝาก",null,{"$f":"D5008*F5011","v":0},null,{"$f":"$D5008*$F5011*H5011","v":0}]
[null,null,null,null,"ตราสารหนี้",null,{"$f":"D5008*F5012","v":0},null,{"$f":"$D5008*$F5012*H5012","v":0}]
[null,null,null,null,"อื่นๆ",null,{"$f":"D5008*F5013","v":0},null,{"$f":"$D5008*$F5013*H5013","v":0}]
[null,835,null,null,"ตราสารทุน",null,{"$f":"D5014*F5014","v":0},null,{"$f":"$D5014*$F5014*H5014","v":0},{"$f":"SUM(I5014:I5019)","v":0}]
[null,null,null,null,"อสังหาริมทรัพย์",null,{"$f":"D5014*F5015","v":0},null,{"$f":"$D5014*$F5015*H5015","v":0}]
[null,null,null,null,"สินค้าโภคภัณฑ์",null,{"$f":"D5014*F5016","v":0},null,{"$f":"$D5014*$F5016*H5016","v":0}]
[null,null,null,null,"เงินฝาก",null,{"$f":"D5014*F5017","v":0},null,{"$f":"$D5014*$F5017*H5017","v":0}]
[null,null,null,null,"ตราสารหนี้",null,{"$f":"D5014*F5018","v":0},null,{"$f":"$D5014*$F5018*H5018","v":0}]
[null,null,null,null,"อื่นๆ",null,{"$f":"D5014*F5019","v":0},null,{"$f":"$D5014*$F5019*H5019","v":0}]
[null,836,null,null,"ตราสารทุน",null,{"$f":"D5020*F5020","v":0},null,{"$f":"$D5020*$F5020*H5020","v":0},{"$f":"SUM(I5020:I5025)","v":0}]
[null,null,null,null,"อสังหาริมทรัพย์",null,{"$f":"D5020*F5021","v":0},null,{"$f":"$D5020*$F5021*H5021","v":0}]
[null,null,null,null,"สินค้าโภคภัณฑ์",null,{"$f":"D5020*F5022","v":0},null,{"$f":"$D5020*$F5022*H5022","v":0}]
[null,null,null,null,"เงินฝาก",null,{"$f":"D5020*F5023","v":0},null,{"$f":"$D5020*$F5023*H5023","v":0}]
[null,null,null,null,"ตราสารหนี้",null,{"$f":"D5020*F5024","v":0},null,{"$f":"$D5020*$F5024*H5024","v":0}]
[null,null,null,null,"อื่นๆ",null,{"$f":"D5020*F5025","v":0},null,{"$f":"$D5020*$F5025*H5025","v":0}]
[null,837,null,null,"ตราสารทุน",null,{"$f":"D5026*F5026","v":0},null,{"$f":"$D5026*$F5026*H5026","v":0},{"$f":"SUM(I5026:I5031)","v":0}]
[null,null,null,null,"อสังหาริมทรัพย์",null,{"$f":"D5026*F5027","v":0},null,{"$f":"$D5026*$F5027*H5027","v":0}]
[null,null,null,null,"สินค้าโภคภัณฑ์",null,{"$f":"D5026*F5028","v":0},null,{"$f":"$D5026*$F5028*H5028","v":0}]
[null,null,null,null,"เงินฝาก",null,{"$f":"D5026*F5029","v":0},null,{"$f":"$D5026*$F5029*H5029","v":0}]
[null,null,null,null,"ตราสารหนี้",null,{"$f":"D5026*F5030","v":0},null,{"$f":"$D5026*$F5030*H5030","v":0}]
[null,null,null,null,"อื่นๆ",null,{"$f":"D5026*F5031","v":0},null,{"$f":"$D5026*$F5031*H5031","v":0}]
[null,838,null,null,"ตราสารทุน",null,{"$f":"D5032*F5032","v":0},null,{"$f":"$D5032*$F5032*H5032","v":0},{"$f":"SUM(I5032:I5037)","v":0}]
[null,null,null,null,"อสังหาริมทรัพย์",null,{"$f":"D5032*F5033","v":0},null,{"$f":"$D5032*$F5033*H5033","v":0}]
[null,null,null,null,"สินค้าโภคภัณฑ์",null,{"$f":"D5032*F5034","v":0},null,{"$f":"$D5032*$F5034*H5034","v":0}]
[null,null,null,null,"เงินฝาก",null,{"$f":"D5032*F5035","v":0},null,{"$f":"$D5032*$F5035*H5035","v":0}]
[null,null,null,null,"ตราสารหนี้",null,{"$f":"D5032*F5036","v":0},null,{"$f":"$D5032*$F5036*H5036","v":0}]
[null,null,null,null,"อื่นๆ",null,{"$f":"D5032*F5037","v":0},null,{"$f":"$D5032*$F5037*H5037","v":0}]
[null,839,null,null,"ตราสารทุน",null,{"$f":"D5038*F5038","v":0},null,{"$f":"$D5038*$F5038*H5038","v":0},{"$f":"SUM(I5038:I5043)","v":0}]
[null,null,null,null,"อสังหาริมทรัพย์",null,{"$f":"D5038*F5039","v":0},null,{"$f":"$D5038*$F5039*H5039","v":0}]
[null,null,null,null,"สินค้าโภคภัณฑ์",null,{"$f":"D5038*F5040","v":0},null,{"$f":"$D5038*$F5040*H5040","v":0}]
[null,null,null,null,"เงินฝาก",null,{"$f":"D5038*F5041","v":0},null,{"$f":"$D5038*$F5041*H5041","v":0}]
[null,null,null,null,"ตราสารหนี้",null,{"$f":"D5038*F5042","v":0},null,{"$f":"$D5038*$F5042*H5042","v":0}]
[null,null,null,null,"อื่นๆ",null,{"$f":"D5038*F5043","v":0},null,{"$f":"$D5038*$F5043*H5043","v":0}]
[null,840,null,null,"ตราสารทุน",null,{"$f":"D5044*F5044","v":0},null,{"$f":"$D5044*$F5044*H5044","v":0},{"$f":"SUM(I5044:I5049)","v":0}]
[null,null,null,null,"อสังหาริมทรัพย์",null,{"$f":"D5044*F5045","v":0},null,{"$f":"$D5044*$F5045*H5045","v":0}]
[null,null,null,null,"สินค้าโภคภัณฑ์",null,{"$f":"D5044*F5046","v":0},null,{"$f":"$D5044*$F5046*H5046","v":0}]
[null,null,null,null,"เงินฝาก",null,{"$f":"D5044*F5047","v":0},null,{"$f":"$D5044*$F5047*H5047","v":0}]
[null,null,null,null,"ตราสารหนี้",null,{"$f":"D5044*F5048","v":0},null,{"$f":"$D5044*$F5048*H5048","v":0}]
[null,null,null,null,"อื่นๆ",null,{"$f":"D5044*F5049","v":0},null,{"$f":"$D5044*$F5049*H5049","v":0}]
[null,841,null,null,"ตราสารทุน",null,{"$f":"D5050*F5050","v":0},null,{"$f":"$D5050*$F5050*H5050","v":0},{"$f":"SUM(I5050:I5055)","v":0}]
[null,null,null,null,"อสังหาริมทรัพย์",null,{"$f":"D5050*F5051","v":0},null,{"$f":"$D5050*$F5051*H5051","v":0}]
[null,null,null,null,"สินค้าโภคภัณฑ์",null,{"$f":"D5050*F5052","v":0},null,{"$f":"$D5050*$F5052*H5052","v":0}]
[null,null,null,null,"เงินฝาก",null,{"$f":"D5050*F5053","v":0},null,{"$f":"$D5050*$F5053*H5053","v":0}]
[null,null,null,null,"ตราสารหนี้",null,{"$f":"D5050*F5054","v":0},null,{"$f":"$D5050*$F5054*H5054","v":0}]
[null,null,null,null,"อื่นๆ",null,{"$f":"D5050*F5055","v":0},null,{"$f":"$D5050*$F5055*H5055","v":0}]
[null,842,null,null,"ตราสารทุน",null,{"$f":"D5056*F5056","v":0},null,{"$f":"$D5056*$F5056*H5056","v":0},{"$f":"SUM(I5056:I5061)","v":0}]
[null,null,null,null,"อสังหาริมทรัพย์",null,{"$f":"D5056*F5057","v":0},null,{"$f":"$D5056*$F5057*H5057","v":0}]
[null,null,null,null,"สินค้าโภคภัณฑ์",null,{"$f":"D5056*F5058","v":0},null,{"$f":"$D5056*$F5058*H5058","v":0}]
[null,null,null,null,"เงินฝาก",null,{"$f":"D5056*F5059","v":0},null,{"$f":"$D5056*$F5059*H5059","v":0}]
[null,null,null,null,"ตราสารหนี้",null,{"$f":"D5056*F5060","v":0},null,{"$f":"$D5056*$F5060*H5060","v":0}]
[null,null,null,null,"อื่นๆ",null,{"$f":"D5056*F5061","v":0},null,{"$f":"$D5056*$F5061*H5061","v":0}]
[null,843,null,null,"ตราสารทุน",null,{"$f":"D5062*F5062","v":0},null,{"$f":"$D5062*$F5062*H5062","v":0},{"$f":"SUM(I5062:I5067)","v":0}]
[null,null,null,null,"อสังหาริมทรัพย์",null,{"$f":"D5062*F5063","v":0},null,{"$f":"$D5062*$F5063*H5063","v":0}]
[null,null,null,null,"สินค้าโภคภัณฑ์",null,{"$f":"D5062*F5064","v":0},null,{"$f":"$D5062*$F5064*H5064","v":0}]
[null,null,null,null,"เงินฝาก",null,{"$f":"D5062*F5065","v":0},null,{"$f":"$D5062*$F5065*H5065","v":0}]
[null,null,null,null,"ตราสารหนี้",null,{"$f":"D5062*F5066","v":0},null,{"$f":"$D5062*$F5066*H5066","v":0}]
[null,null,null,null,"อื่นๆ",null,{"$f":"D5062*F5067","v":0},null,{"$f":"$D5062*$F5067*H5067","v":0}]
[null,844,null,null,"ตราสารทุน",null,{"$f":"D5068*F5068","v":0},null,{"$f":"$D5068*$F5068*H5068","v":0},{"$f":"SUM(I5068:I5073)","v":0}]
[null,null,null,null,"อสังหาริมทรัพย์",null,{"$f":"D5068*F5069","v":0},null,{"$f":"$D5068*$F5069*H5069","v":0}]
[null,null,null,null,"สินค้าโภคภัณฑ์",null,{"$f":"D5068*F5070","v":0},null,{"$f":"$D5068*$F5070*H5070","v":0}]
[null,null,null,null,"เงินฝาก",null,{"$f":"D5068*F5071","v":0},null,{"$f":"$D5068*$F5071*H5071","v":0}]
[null,null,null,null,"ตราสารหนี้",null,{"$f":"D5068*F5072","v":0},null,{"$f":"$D5068*$F5072*H5072","v":0}]
[null,null,null,null,"อื่นๆ",null,{"$f":"D5068*F5073","v":0},null,{"$f":"$D5068*$F5073*H5073","v":0}]
[null,845,null,null,"ตราสารทุน",null,{"$f":"D5074*F5074","v":0},null,{"$f":"$D5074*$F5074*H5074","v":0},{"$f":"SUM(I5074:I5079)","v":0}]
[null,null,null,null,"อสังหาริมทรัพย์",null,{"$f":"D5074*F5075","v":0},null,{"$f":"$D5074*$F5075*H5075","v":0}]
[null,null,null,null,"สินค้าโภคภัณฑ์",null,{"$f":"D5074*F5076","v":0},null,{"$f":"$D5074*$F5076*H5076","v":0}]
[null,null,null,null,"เงินฝาก",null,{"$f":"D5074*F5077","v":0},null,{"$f":"$D5074*$F5077*H5077","v":0}]
[null,null,null,null,"ตราสารหนี้",null,{"$f":"D5074*F5078","v":0},null,{"$f":"$D5074*$F5078*H5078","v":0}]
[null,null,null,null,"อื่นๆ",null,{"$f":"D5074*F5079","v":0},null,{"$f":"$D5074*$F5079*H5079","v":0}]
[null,846,null,null,"ตราสารทุน",null,{"$f":"D5080*F5080","v":0},null,{"$f":"$D5080*$F5080*H5080","v":0},{"$f":"SUM(I5080:I5085)","v":0}]
[null,null,null,null,"อสังหาริมทรัพย์",null,{"$f":"D5080*F5081","v":0},null,{"$f":"$D5080*$F5081*H5081","v":0}]
[null,null,null,null,"สินค้าโภคภัณฑ์",null,{"$f":"D5080*F5082","v":0},null,{"$f":"$D5080*$F5082*H5082","v":0}]
[null,null,null,null,"เงินฝาก",null,{"$f":"D5080*F5083","v":0},null,{"$f":"$D5080*$F5083*H5083","v":0}]
[null,null,null,null,"ตราสารหนี้",null,{"$f":"D5080*F5084","v":0},null,{"$f":"$D5080*$F5084*H5084","v":0}]
[null,null,null,null,"อื่นๆ",null,{"$f":"D5080*F5085","v":0},null,{"$f":"$D5080*$F5085*H5085","v":0}]
[null,847,null,null,"ตราสารทุน",null,{"$f":"D5086*F5086","v":0},null,{"$f":"$D5086*$F5086*H5086","v":0},{"$f":"SUM(I5086:I5091)","v":0}]
[null,null,null,null,"อสังหาริมทรัพย์",null,{"$f":"D5086*F5087","v":0},null,{"$f":"$D5086*$F5087*H5087","v":0}]
[null,null,null,null,"สินค้าโภคภัณฑ์",null,{"$f":"D5086*F5088","v":0},null,{"$f":"$D5086*$F5088*H5088","v":0}]
[null,null,null,null,"เงินฝาก",null,{"$f":"D5086*F5089","v":0},null,{"$f":"$D5086*$F5089*H5089","v":0}]
[null,null,null,null,"ตราสารหนี้",null,{"$f":"D5086*F5090","v":0},null,{"$f":"$D5086*$F5090*H5090","v":0}]
[null,null,null,null,"อื่นๆ",null,{"$f":"D5086*F5091","v":0},null,{"$f":"$D5086*$F5091*H5091","v":0}]
[null,848,null,null,"ตราสารทุน",null,{"$f":"D5092*F5092","v":0},null,{"$f":"$D5092*$F5092*H5092","v":0},{"$f":"SUM(I5092:I5097)","v":0}]
[null,null,null,null,"อสังหาริมทรัพย์",null,{"$f":"D5092*F5093","v":0},null,{"$f":"$D5092*$F5093*H5093","v":0}]
[null,null,null,null,"สินค้าโภคภัณฑ์",null,{"$f":"D5092*F5094","v":0},null,{"$f":"$D5092*$F5094*H5094","v":0}]
[null,null,null,null,"เงินฝาก",null,{"$f":"D5092*F5095","v":0},null,{"$f":"$D5092*$F5095*H5095","v":0}]
[null,null,null,null,"ตราสารหนี้",null,{"$f":"D5092*F5096","v":0},null,{"$f":"$D5092*$F5096*H5096","v":0}]
[null,null,null,null,"อื่นๆ",null,{"$f":"D5092*F5097","v":0},null,{"$f":"$D5092*$F5097*H5097","v":0}]
[null,849,null,null,"ตราสารทุน",null,{"$f":"D5098*F5098","v":0},null,{"$f":"$D5098*$F5098*H5098","v":0},{"$f":"SUM(I5098:I5103)","v":0}]
[null,null,null,null,"อสังหาริมทรัพย์",null,{"$f":"D5098*F5099","v":0},null,{"$f":"$D5098*$F5099*H5099","v":0}]
[null,null,null,null,"สินค้าโภคภัณฑ์",null,{"$f":"D5098*F5100","v":0},null,{"$f":"$D5098*$F5100*H5100","v":0}]
[null,null,null,null,"เงินฝาก",null,{"$f":"D5098*F5101","v":0},null,{"$f":"$D5098*$F5101*H5101","v":0}]
[null,null,null,null,"ตราสารหนี้",null,{"$f":"D5098*F5102","v":0},null,{"$f":"$D5098*$F5102*H5102","v":0}]
[null,null,null,null,"อื่นๆ",null,{"$f":"D5098*F5103","v":0},null,{"$f":"$D5098*$F5103*H5103","v":0}]
[null,850,null,null,"ตราสารทุน",null,{"$f":"D5104*F5104","v":0},null,{"$f":"$D5104*$F5104*H5104","v":0},{"$f":"SUM(I5104:I5109)","v":0}]
[null,null,null,null,"อสังหาริมทรัพย์",null,{"$f":"D5104*F5105","v":0},null,{"$f":"$D5104*$F5105*H5105","v":0}]
[null,null,null,null,"สินค้าโภคภัณฑ์",null,{"$f":"D5104*F5106","v":0},null,{"$f":"$D5104*$F5106*H5106","v":0}]
[null,null,null,null,"เงินฝาก",null,{"$f":"D5104*F5107","v":0},null,{"$f":"$D5104*$F5107*H5107","v":0}]
[null,null,null,null,"ตราสารหนี้",null,{"$f":"D5104*F5108","v":0},null,{"$f":"$D5104*$F5108*H5108","v":0}]
[null,null,null,null,"อื่นๆ",null,{"$f":"D5104*F5109","v":0},null,{"$f":"$D5104*$F5109*H5109","v":0}]
[null,851,null,null,"ตราสารทุน",null,{"$f":"D5110*F5110","v":0},null,{"$f":"$D5110*$F5110*H5110","v":0},{"$f":"SUM(I5110:I5115)","v":0}]
[null,null,null,null,"อสังหาริมทรัพย์",null,{"$f":"D5110*F5111","v":0},null,{"$f":"$D5110*$F5111*H5111","v":0}]
[null,null,null,null,"สินค้าโภคภัณฑ์",null,{"$f":"D5110*F5112","v":0},null,{"$f":"$D5110*$F5112*H5112","v":0}]
[null,null,null,null,"เงินฝาก",null,{"$f":"D5110*F5113","v":0},null,{"$f":"$D5110*$F5113*H5113","v":0}]
[null,null,null,null,"ตราสารหนี้",null,{"$f":"D5110*F5114","v":0},null,{"$f":"$D5110*$F5114*H5114","v":0}]
[null,null,null,null,"อื่นๆ",null,{"$f":"D5110*F5115","v":0},null,{"$f":"$D5110*$F5115*H5115","v":0}]
[null,852,null,null,"ตราสารทุน",null,{"$f":"D5116*F5116","v":0},null,{"$f":"$D5116*$F5116*H5116","v":0},{"$f":"SUM(I5116:I5121)","v":0}]
[null,null,null,null,"อสังหาริมทรัพย์",null,{"$f":"D5116*F5117","v":0},null,{"$f":"$D5116*$F5117*H5117","v":0}]
[null,null,null,null,"สินค้าโภคภัณฑ์",null,{"$f":"D5116*F5118","v":0},null,{"$f":"$D5116*$F5118*H5118","v":0}]
[null,null,null,null,"เงินฝาก",null,{"$f":"D5116*F5119","v":0},null,{"$f":"$D5116*$F5119*H5119","v":0}]
[null,null,null,null,"ตราสารหนี้",null,{"$f":"D5116*F5120","v":0},null,{"$f":"$D5116*$F5120*H5120","v":0}]
[null,null,null,null,"อื่นๆ",null,{"$f":"D5116*F5121","v":0},null,{"$f":"$D5116*$F5121*H5121","v":0}]
[null,853,null,null,"ตราสารทุน",null,{"$f":"D5122*F5122","v":0},null,{"$f":"$D5122*$F5122*H5122","v":0},{"$f":"SUM(I5122:I5127)","v":0}]
[null,null,null,null,"อสังหาริมทรัพย์",null,{"$f":"D5122*F5123","v":0},null,{"$f":"$D5122*$F5123*H5123","v":0}]
[null,null,null,null,"สินค้าโภคภัณฑ์",null,{"$f":"D5122*F5124","v":0},null,{"$f":"$D5122*$F5124*H5124","v":0}]
[null,null,null,null,"เงินฝาก",null,{"$f":"D5122*F5125","v":0},null,{"$f":"$D5122*$F5125*H5125","v":0}]
[null,null,null,null,"ตราสารหนี้",null,{"$f":"D5122*F5126","v":0},null,{"$f":"$D5122*$F5126*H5126","v":0}]
[null,null,null,null,"อื่นๆ",null,{"$f":"D5122*F5127","v":0},null,{"$f":"$D5122*$F5127*H5127","v":0}]
[null,854,null,null,"ตราสารทุน",null,{"$f":"D5128*F5128","v":0},null,{"$f":"$D5128*$F5128*H5128","v":0},{"$f":"SUM(I5128:I5133)","v":0}]
[null,null,null,null,"อสังหาริมทรัพย์",null,{"$f":"D5128*F5129","v":0},null,{"$f":"$D5128*$F5129*H5129","v":0}]
[null,null,null,null,"สินค้าโภคภัณฑ์",null,{"$f":"D5128*F5130","v":0},null,{"$f":"$D5128*$F5130*H5130","v":0}]
[null,null,null,null,"เงินฝาก",null,{"$f":"D5128*F5131","v":0},null,{"$f":"$D5128*$F5131*H5131","v":0}]
[null,null,null,null,"ตราสารหนี้",null,{"$f":"D5128*F5132","v":0},null,{"$f":"$D5128*$F5132*H5132","v":0}]
[null,null,null,null,"อื่นๆ",null,{"$f":"D5128*F5133","v":0},null,{"$f":"$D5128*$F5133*H5133","v":0}]
[null,855,null,null,"ตราสารทุน",null,{"$f":"D5134*F5134","v":0},null,{"$f":"$D5134*$F5134*H5134","v":0},{"$f":"SUM(I5134:I5139)","v":0}]
[null,null,null,null,"อสังหาริมทรัพย์",null,{"$f":"D5134*F5135","v":0},null,{"$f":"$D5134*$F5135*H5135","v":0}]
[null,null,null,null,"สินค้าโภคภัณฑ์",null,{"$f":"D5134*F5136","v":0},null,{"$f":"$D5134*$F5136*H5136","v":0}]
[null,null,null,null,"เงินฝาก",null,{"$f":"D5134*F5137","v":0},null,{"$f":"$D5134*$F5137*H5137","v":0}]
[null,null,null,null,"ตราสารหนี้",null,{"$f":"D5134*F5138","v":0},null,{"$f":"$D5134*$F5138*H5138","v":0}]
[null,null,null,null,"อื่นๆ",null,{"$f":"D5134*F5139","v":0},null,{"$f":"$D5134*$F5139*H5139","v":0}]
[null,856,null,null,"ตราสารทุน",null,{"$f":"D5140*F5140","v":0},null,{"$f":"$D5140*$F5140*H5140","v":0},{"$f":"SUM(I5140:I5145)","v":0}]
[null,null,null,null,"อสังหาริมทรัพย์",null,{"$f":"D5140*F5141","v":0},null,{"$f":"$D5140*$F5141*H5141","v":0}]
[null,null,null,null,"สินค้าโภคภัณฑ์",null,{"$f":"D5140*F5142","v":0},null,{"$f":"$D5140*$F5142*H5142","v":0}]
[null,null,null,null,"เงินฝาก",null,{"$f":"D5140*F5143","v":0},null,{"$f":"$D5140*$F5143*H5143","v":0}]
[null,null,null,null,"ตราสารหนี้",null,{"$f":"D5140*F5144","v":0},null,{"$f":"$D5140*$F5144*H5144","v":0}]
[null,null,null,null,"อื่นๆ",null,{"$f":"D5140*F5145","v":0},null,{"$f":"$D5140*$F5145*H5145","v":0}]
[null,857,null,null,"ตราสารทุน",null,{"$f":"D5146*F5146","v":0},null,{"$f":"$D5146*$F5146*H5146","v":0},{"$f":"SUM(I5146:I5151)","v":0}]
[null,null,null,null,"อสังหาริมทรัพย์",null,{"$f":"D5146*F5147","v":0},null,{"$f":"$D5146*$F5147*H5147","v":0}]
[null,null,null,null,"สินค้าโภคภัณฑ์",null,{"$f":"D5146*F5148","v":0},null,{"$f":"$D5146*$F5148*H5148","v":0}]
[null,null,null,null,"เงินฝาก",null,{"$f":"D5146*F5149","v":0},null,{"$f":"$D5146*$F5149*H5149","v":0}]
[null,null,null,null,"ตราสารหนี้",null,{"$f":"D5146*F5150","v":0},null,{"$f":"$D5146*$F5150*H5150","v":0}]
[null,null,null,null,"อื่นๆ",null,{"$f":"D5146*F5151","v":0},null,{"$f":"$D5146*$F5151*H5151","v":0}]
[null,858,null,null,"ตราสารทุน",null,{"$f":"D5152*F5152","v":0},null,{"$f":"$D5152*$F5152*H5152","v":0},{"$f":"SUM(I5152:I5157)","v":0}]
[null,null,null,null,"อสังหาริมทรัพย์",null,{"$f":"D5152*F5153","v":0},null,{"$f":"$D5152*$F5153*H5153","v":0}]
[null,null,null,null,"สินค้าโภคภัณฑ์",null,{"$f":"D5152*F5154","v":0},null,{"$f":"$D5152*$F5154*H5154","v":0}]
[null,null,null,null,"เงินฝาก",null,{"$f":"D5152*F5155","v":0},null,{"$f":"$D5152*$F5155*H5155","v":0}]
[null,null,null,null,"ตราสารหนี้",null,{"$f":"D5152*F5156","v":0},null,{"$f":"$D5152*$F5156*H5156","v":0}]
[null,null,null,null,"อื่นๆ",null,{"$f":"D5152*F5157","v":0},null,{"$f":"$D5152*$F5157*H5157","v":0}]
[null,859,null,null,"ตราสารทุน",null,{"$f":"D5158*F5158","v":0},null,{"$f":"$D5158*$F5158*H5158","v":0},{"$f":"SUM(I5158:I5163)","v":0}]
[null,null,null,null,"อสังหาริมทรัพย์",null,{"$f":"D5158*F5159","v":0},null,{"$f":"$D5158*$F5159*H5159","v":0}]
[null,null,null,null,"สินค้าโภคภัณฑ์",null,{"$f":"D5158*F5160","v":0},null,{"$f":"$D5158*$F5160*H5160","v":0}]
[null,null,null,null,"เงินฝาก",null,{"$f":"D5158*F5161","v":0},null,{"$f":"$D5158*$F5161*H5161","v":0}]
[null,null,null,null,"ตราสารหนี้",null,{"$f":"D5158*F5162","v":0},null,{"$f":"$D5158*$F5162*H5162","v":0}]
[null,null,null,null,"อื่นๆ",null,{"$f":"D5158*F5163","v":0},null,{"$f":"$D5158*$F5163*H5163","v":0}]
[null,860,null,null,"ตราสารทุน",null,{"$f":"D5164*F5164","v":0},null,{"$f":"$D5164*$F5164*H5164","v":0},{"$f":"SUM(I5164:I5169)","v":0}]
[null,null,null,null,"อสังหาริมทรัพย์",null,{"$f":"D5164*F5165","v":0},null,{"$f":"$D5164*$F5165*H5165","v":0}]
[null,null,null,null,"สินค้าโภคภัณฑ์",null,{"$f":"D5164*F5166","v":0},null,{"$f":"$D5164*$F5166*H5166","v":0}]
[null,null,null,null,"เงินฝาก",null,{"$f":"D5164*F5167","v":0},null,{"$f":"$D5164*$F5167*H5167","v":0}]
[null,null,null,null,"ตราสารหนี้",null,{"$f":"D5164*F5168","v":0},null,{"$f":"$D5164*$F5168*H5168","v":0}]
[null,null,null,null,"อื่นๆ",null,{"$f":"D5164*F5169","v":0},null,{"$f":"$D5164*$F5169*H5169","v":0}]
[null,861,null,null,"ตราสารทุน",null,{"$f":"D5170*F5170","v":0},null,{"$f":"$D5170*$F5170*H5170","v":0},{"$f":"SUM(I5170:I5175)","v":0}]
[null,null,null,null,"อสังหาริมทรัพย์",null,{"$f":"D5170*F5171","v":0},null,{"$f":"$D5170*$F5171*H5171","v":0}]
[null,null,null,null,"สินค้าโภคภัณฑ์",null,{"$f":"D5170*F5172","v":0},null,{"$f":"$D5170*$F5172*H5172","v":0}]
[null,null,null,null,"เงินฝาก",null,{"$f":"D5170*F5173","v":0},null,{"$f":"$D5170*$F5173*H5173","v":0}]
[null,null,null,null,"ตราสารหนี้",null,{"$f":"D5170*F5174","v":0},null,{"$f":"$D5170*$F5174*H5174","v":0}]
[null,null,null,null,"อื่นๆ",null,{"$f":"D5170*F5175","v":0},null,{"$f":"$D5170*$F5175*H5175","v":0}]
[null,862,null,null,"ตราสารทุน",null,{"$f":"D5176*F5176","v":0},null,{"$f":"$D5176*$F5176*H5176","v":0},{"$f":"SUM(I5176:I5181)","v":0}]
[null,null,null,null,"อสังหาริมทรัพย์",null,{"$f":"D5176*F5177","v":0},null,{"$f":"$D5176*$F5177*H5177","v":0}]
[null,null,null,null,"สินค้าโภคภัณฑ์",null,{"$f":"D5176*F5178","v":0},null,{"$f":"$D5176*$F5178*H5178","v":0}]
[null,null,null,null,"เงินฝาก",null,{"$f":"D5176*F5179","v":0},null,{"$f":"$D5176*$F5179*H5179","v":0}]
[null,null,null,null,"ตราสารหนี้",null,{"$f":"D5176*F5180","v":0},null,{"$f":"$D5176*$F5180*H5180","v":0}]
[null,null,null,null,"อื่นๆ",null,{"$f":"D5176*F5181","v":0},null,{"$f":"$D5176*$F5181*H5181","v":0}]
[null,863,null,null,"ตราสารทุน",null,{"$f":"D5182*F5182","v":0},null,{"$f":"$D5182*$F5182*H5182","v":0},{"$f":"SUM(I5182:I5187)","v":0}]
[null,null,null,null,"อสังหาริมทรัพย์",null,{"$f":"D5182*F5183","v":0},null,{"$f":"$D5182*$F5183*H5183","v":0}]
[null,null,null,null,"สินค้าโภคภัณฑ์",null,{"$f":"D5182*F5184","v":0},null,{"$f":"$D5182*$F5184*H5184","v":0}]
[null,null,null,null,"เงินฝาก",null,{"$f":"D5182*F5185","v":0},null,{"$f":"$D5182*$F5185*H5185","v":0}]
[null,null,null,null,"ตราสารหนี้",null,{"$f":"D5182*F5186","v":0},null,{"$f":"$D5182*$F5186*H5186","v":0}]
[null,null,null,null,"อื่นๆ",null,{"$f":"D5182*F5187","v":0},null,{"$f":"$D5182*$F5187*H5187","v":0}]
[null,864,null,null,"ตราสารทุน",null,{"$f":"D5188*F5188","v":0},null,{"$f":"$D5188*$F5188*H5188","v":0},{"$f":"SUM(I5188:I5193)","v":0}]
[null,null,null,null,"อสังหาริมทรัพย์",null,{"$f":"D5188*F5189","v":0},null,{"$f":"$D5188*$F5189*H5189","v":0}]
[null,null,null,null,"สินค้าโภคภัณฑ์",null,{"$f":"D5188*F5190","v":0},null,{"$f":"$D5188*$F5190*H5190","v":0}]
[null,null,null,null,"เงินฝาก",null,{"$f":"D5188*F5191","v":0},null,{"$f":"$D5188*$F5191*H5191","v":0}]
[null,null,null,null,"ตราสารหนี้",null,{"$f":"D5188*F5192","v":0},null,{"$f":"$D5188*$F5192*H5192","v":0}]
[null,null,null,null,"อื่นๆ",null,{"$f":"D5188*F5193","v":0},null,{"$f":"$D5188*$F5193*H5193","v":0}]
[null,865,null,null,"ตราสารทุน",null,{"$f":"D5194*F5194","v":0},null,{"$f":"$D5194*$F5194*H5194","v":0},{"$f":"SUM(I5194:I5199)","v":0}]
[null,null,null,null,"อสังหาริมทรัพย์",null,{"$f":"D5194*F5195","v":0},null,{"$f":"$D5194*$F5195*H5195","v":0}]
[null,null,null,null,"สินค้าโภคภัณฑ์",null,{"$f":"D5194*F5196","v":0},null,{"$f":"$D5194*$F5196*H5196","v":0}]
[null,null,null,null,"เงินฝาก",null,{"$f":"D5194*F5197","v":0},null,{"$f":"$D5194*$F5197*H5197","v":0}]
[null,null,null,null,"ตราสารหนี้",null,{"$f":"D5194*F5198","v":0},null,{"$f":"$D5194*$F5198*H5198","v":0}]
[null,null,null,null,"อื่นๆ",null,{"$f":"D5194*F5199","v":0},null,{"$f":"$D5194*$F5199*H5199","v":0}]
[null,866,null,null,"ตราสารทุน",null,{"$f":"D5200*F5200","v":0},null,{"$f":"$D5200*$F5200*H5200","v":0},{"$f":"SUM(I5200:I5205)","v":0}]
[null,null,null,null,"อสังหาริมทรัพย์",null,{"$f":"D5200*F5201","v":0},null,{"$f":"$D5200*$F5201*H5201","v":0}]
[null,null,null,null,"สินค้าโภคภัณฑ์",null,{"$f":"D5200*F5202","v":0},null,{"$f":"$D5200*$F5202*H5202","v":0}]
[null,null,null,null,"เงินฝาก",null,{"$f":"D5200*F5203","v":0},null,{"$f":"$D5200*$F5203*H5203","v":0}]
[null,null,null,null,"ตราสารหนี้",null,{"$f":"D5200*F5204","v":0},null,{"$f":"$D5200*$F5204*H5204","v":0}]
[null,null,null,null,"อื่นๆ",null,{"$f":"D5200*F5205","v":0},null,{"$f":"$D5200*$F5205*H5205","v":0}]
[null,867,null,null,"ตราสารทุน",null,{"$f":"D5206*F5206","v":0},null,{"$f":"$D5206*$F5206*H5206","v":0},{"$f":"SUM(I5206:I5211)","v":0}]
[null,null,null,null,"อสังหาริมทรัพย์",null,{"$f":"D5206*F5207","v":0},null,{"$f":"$D5206*$F5207*H5207","v":0}]
[null,null,null,null,"สินค้าโภคภัณฑ์",null,{"$f":"D5206*F5208","v":0},null,{"$f":"$D5206*$F5208*H5208","v":0}]
[null,null,null,null,"เงินฝาก",null,{"$f":"D5206*F5209","v":0},null,{"$f":"$D5206*$F5209*H5209","v":0}]
[null,null,null,null,"ตราสารหนี้",null,{"$f":"D5206*F5210","v":0},null,{"$f":"$D5206*$F5210*H5210","v":0}]
[null,null,null,null,"อื่นๆ",null,{"$f":"D5206*F5211","v":0},null,{"$f":"$D5206*$F5211*H5211","v":0}]
[null,868,null,null,"ตราสารทุน",null,{"$f":"D5212*F5212","v":0},null,{"$f":"$D5212*$F5212*H5212","v":0},{"$f":"SUM(I5212:I5217)","v":0}]
[null,null,null,null,"อสังหาริมทรัพย์",null,{"$f":"D5212*F5213","v":0},null,{"$f":"$D5212*$F5213*H5213","v":0}]
[null,null,null,null,"สินค้าโภคภัณฑ์",null,{"$f":"D5212*F5214","v":0},null,{"$f":"$D5212*$F5214*H5214","v":0}]
[null,null,null,null,"เงินฝาก",null,{"$f":"D5212*F5215","v":0},null,{"$f":"$D5212*$F5215*H5215","v":0}]
[null,null,null,null,"ตราสารหนี้",null,{"$f":"D5212*F5216","v":0},null,{"$f":"$D5212*$F5216*H5216","v":0}]
[null,null,null,null,"อื่นๆ",null,{"$f":"D5212*F5217","v":0},null,{"$f":"$D5212*$F5217*H5217","v":0}]
[null,869,null,null,"ตราสารทุน",null,{"$f":"D5218*F5218","v":0},null,{"$f":"$D5218*$F5218*H5218","v":0},{"$f":"SUM(I5218:I5223)","v":0}]
[null,null,null,null,"อสังหาริมทรัพย์",null,{"$f":"D5218*F5219","v":0},null,{"$f":"$D5218*$F5219*H5219","v":0}]
[null,null,null,null,"สินค้าโภคภัณฑ์",null,{"$f":"D5218*F5220","v":0},null,{"$f":"$D5218*$F5220*H5220","v":0}]
[null,null,null,null,"เงินฝาก",null,{"$f":"D5218*F5221","v":0},null,{"$f":"$D5218*$F5221*H5221","v":0}]
[null,null,null,null,"ตราสารหนี้",null,{"$f":"D5218*F5222","v":0},null,{"$f":"$D5218*$F5222*H5222","v":0}]
[null,null,null,null,"อื่นๆ",null,{"$f":"D5218*F5223","v":0},null,{"$f":"$D5218*$F5223*H5223","v":0}]
[null,870,null,null,"ตราสารทุน",null,{"$f":"D5224*F5224","v":0},null,{"$f":"$D5224*$F5224*H5224","v":0},{"$f":"SUM(I5224:I5229)","v":0}]
[null,null,null,null,"อสังหาริมทรัพย์",null,{"$f":"D5224*F5225","v":0},null,{"$f":"$D5224*$F5225*H5225","v":0}]
[null,null,null,null,"สินค้าโภคภัณฑ์",null,{"$f":"D5224*F5226","v":0},null,{"$f":"$D5224*$F5226*H5226","v":0}]
[null,null,null,null,"เงินฝาก",null,{"$f":"D5224*F5227","v":0},null,{"$f":"$D5224*$F5227*H5227","v":0}]
[null,null,null,null,"ตราสารหนี้",null,{"$f":"D5224*F5228","v":0},null,{"$f":"$D5224*$F5228*H5228","v":0}]
[null,null,null,null,"อื่นๆ",null,{"$f":"D5224*F5229","v":0},null,{"$f":"$D5224*$F5229*H5229","v":0}]
[null,871,null,null,"ตราสารทุน",null,{"$f":"D5230*F5230","v":0},null,{"$f":"$D5230*$F5230*H5230","v":0},{"$f":"SUM(I5230:I5235)","v":0}]
[null,null,null,null,"อสังหาริมทรัพย์",null,{"$f":"D5230*F5231","v":0},null,{"$f":"$D5230*$F5231*H5231","v":0}]
[null,null,null,null,"สินค้าโภคภัณฑ์",null,{"$f":"D5230*F5232","v":0},null,{"$f":"$D5230*$F5232*H5232","v":0}]
[null,null,null,null,"เงินฝาก",null,{"$f":"D5230*F5233","v":0},null,{"$f":"$D5230*$F5233*H5233","v":0}]
[null,null,null,null,"ตราสารหนี้",null,{"$f":"D5230*F5234","v":0},null,{"$f":"$D5230*$F5234*H5234","v":0}]
[null,null,null,null,"อื่นๆ",null,{"$f":"D5230*F5235","v":0},null,{"$f":"$D5230*$F5235*H5235","v":0}]
[null,872,null,null,"ตราสารทุน",null,{"$f":"D5236*F5236","v":0},null,{"$f":"$D5236*$F5236*H5236","v":0},{"$f":"SUM(I5236:I5241)","v":0}]
[null,null,null,null,"อสังหาริมทรัพย์",null,{"$f":"D5236*F5237","v":0},null,{"$f":"$D5236*$F5237*H5237","v":0}]
[null,null,null,null,"สินค้าโภคภัณฑ์",null,{"$f":"D5236*F5238","v":0},null,{"$f":"$D5236*$F5238*H5238","v":0}]
[null,null,null,null,"เงินฝาก",null,{"$f":"D5236*F5239","v":0},null,{"$f":"$D5236*$F5239*H5239","v":0}]
[null,null,null,null,"ตราสารหนี้",null,{"$f":"D5236*F5240","v":0},null,{"$f":"$D5236*$F5240*H5240","v":0}]
[null,null,null,null,"อื่นๆ",null,{"$f":"D5236*F5241","v":0},null,{"$f":"$D5236*$F5241*H5241","v":0}]
[null,873,null,null,"ตราสารทุน",null,{"$f":"D5242*F5242","v":0},null,{"$f":"$D5242*$F5242*H5242","v":0},{"$f":"SUM(I5242:I5247)","v":0}]
[null,null,null,null,"อสังหาริมทรัพย์",null,{"$f":"D5242*F5243","v":0},null,{"$f":"$D5242*$F5243*H5243","v":0}]
[null,null,null,null,"สินค้าโภคภัณฑ์",null,{"$f":"D5242*F5244","v":0},null,{"$f":"$D5242*$F5244*H5244","v":0}]
[null,null,null,null,"เงินฝาก",null,{"$f":"D5242*F5245","v":0},null,{"$f":"$D5242*$F5245*H5245","v":0}]
[null,null,null,null,"ตราสารหนี้",null,{"$f":"D5242*F5246","v":0},null,{"$f":"$D5242*$F5246*H5246","v":0}]
[null,null,null,null,"อื่นๆ",null,{"$f":"D5242*F5247","v":0},null,{"$f":"$D5242*$F5247*H5247","v":0}]
[null,874,null,null,"ตราสารทุน",null,{"$f":"D5248*F5248","v":0},null,{"$f":"$D5248*$F5248*H5248","v":0},{"$f":"SUM(I5248:I5253)","v":0}]
[null,null,null,null,"อสังหาริมทรัพย์",null,{"$f":"D5248*F5249","v":0},null,{"$f":"$D5248*$F5249*H5249","v":0}]
[null,null,null,null,"สินค้าโภคภัณฑ์",null,{"$f":"D5248*F5250","v":0},null,{"$f":"$D5248*$F5250*H5250","v":0}]
[null,null,null,null,"เงินฝาก",null,{"$f":"D5248*F5251","v":0},null,{"$f":"$D5248*$F5251*H5251","v":0}]
[null,null,null,null,"ตราสารหนี้",null,{"$f":"D5248*F5252","v":0},null,{"$f":"$D5248*$F5252*H5252","v":0}]
[null,null,null,null,"อื่นๆ",null,{"$f":"D5248*F5253","v":0},null,{"$f":"$D5248*$F5253*H5253","v":0}]
[null,875,null,null,"ตราสารทุน",null,{"$f":"D5254*F5254","v":0},null,{"$f":"$D5254*$F5254*H5254","v":0},{"$f":"SUM(I5254:I5259)","v":0}]
[null,null,null,null,"อสังหาริมทรัพย์",null,{"$f":"D5254*F5255","v":0},null,{"$f":"$D5254*$F5255*H5255","v":0}]
[null,null,null,null,"สินค้าโภคภัณฑ์",null,{"$f":"D5254*F5256","v":0},null,{"$f":"$D5254*$F5256*H5256","v":0}]
[null,null,null,null,"เงินฝาก",null,{"$f":"D5254*F5257","v":0},null,{"$f":"$D5254*$F5257*H5257","v":0}]
[null,null,null,null,"ตราสารหนี้",null,{"$f":"D5254*F5258","v":0},null,{"$f":"$D5254*$F5258*H5258","v":0}]
[null,null,null,null,"อื่นๆ",null,{"$f":"D5254*F5259","v":0},null,{"$f":"$D5254*$F5259*H5259","v":0}]
[null,876,null,null,"ตราสารทุน",null,{"$f":"D5260*F5260","v":0},null,{"$f":"$D5260*$F5260*H5260","v":0},{"$f":"SUM(I5260:I5265)","v":0}]
[null,null,null,null,"อสังหาริมทรัพย์",null,{"$f":"D5260*F5261","v":0},null,{"$f":"$D5260*$F5261*H5261","v":0}]
[null,null,null,null,"สินค้าโภคภัณฑ์",null,{"$f":"D5260*F5262","v":0},null,{"$f":"$D5260*$F5262*H5262","v":0}]
[null,null,null,null,"เงินฝาก",null,{"$f":"D5260*F5263","v":0},null,{"$f":"$D5260*$F5263*H5263","v":0}]
[null,null,null,null,"ตราสารหนี้",null,{"$f":"D5260*F5264","v":0},null,{"$f":"$D5260*$F5264*H5264","v":0}]
[null,null,null,null,"อื่นๆ",null,{"$f":"D5260*F5265","v":0},null,{"$f":"$D5260*$F5265*H5265","v":0}]
[null,877,null,null,"ตราสารทุน",null,{"$f":"D5266*F5266","v":0},null,{"$f":"$D5266*$F5266*H5266","v":0},{"$f":"SUM(I5266:I5271)","v":0}]
[null,null,null,null,"อสังหาริมทรัพย์",null,{"$f":"D5266*F5267","v":0},null,{"$f":"$D5266*$F5267*H5267","v":0}]
[null,null,null,null,"สินค้าโภคภัณฑ์",null,{"$f":"D5266*F5268","v":0},null,{"$f":"$D5266*$F5268*H5268","v":0}]
[null,null,null,null,"เงินฝาก",null,{"$f":"D5266*F5269","v":0},null,{"$f":"$D5266*$F5269*H5269","v":0}]
[null,null,null,null,"ตราสารหนี้",null,{"$f":"D5266*F5270","v":0},null,{"$f":"$D5266*$F5270*H5270","v":0}]
[null,null,null,null,"อื่นๆ",null,{"$f":"D5266*F5271","v":0},null,{"$f":"$D5266*$F5271*H5271","v":0}]
[null,878,null,null,"ตราสารทุน",null,{"$f":"D5272*F5272","v":0},null,{"$f":"$D5272*$F5272*H5272","v":0},{"$f":"SUM(I5272:I5277)","v":0}]
[null,null,null,null,"อสังหาริมทรัพย์",null,{"$f":"D5272*F5273","v":0},null,{"$f":"$D5272*$F5273*H5273","v":0}]
[null,null,null,null,"สินค้าโภคภัณฑ์",null,{"$f":"D5272*F5274","v":0},null,{"$f":"$D5272*$F5274*H5274","v":0}]
[null,null,null,null,"เงินฝาก",null,{"$f":"D5272*F5275","v":0},null,{"$f":"$D5272*$F5275*H5275","v":0}]
[null,null,null,null,"ตราสารหนี้",null,{"$f":"D5272*F5276","v":0},null,{"$f":"$D5272*$F5276*H5276","v":0}]
[null,null,null,null,"อื่นๆ",null,{"$f":"D5272*F5277","v":0},null,{"$f":"$D5272*$F5277*H5277","v":0}]
[null,879,null,null,"ตราสารทุน",null,{"$f":"D5278*F5278","v":0},null,{"$f":"$D5278*$F5278*H5278","v":0},{"$f":"SUM(I5278:I5283)","v":0}]
[null,null,null,null,"อสังหาริมทรัพย์",null,{"$f":"D5278*F5279","v":0},null,{"$f":"$D5278*$F5279*H5279","v":0}]
[null,null,null,null,"สินค้าโภคภัณฑ์",null,{"$f":"D5278*F5280","v":0},null,{"$f":"$D5278*$F5280*H5280","v":0}]
[null,null,null,null,"เงินฝาก",null,{"$f":"D5278*F5281","v":0},null,{"$f":"$D5278*$F5281*H5281","v":0}]
[null,null,null,null,"ตราสารหนี้",null,{"$f":"D5278*F5282","v":0},null,{"$f":"$D5278*$F5282*H5282","v":0}]
[null,null,null,null,"อื่นๆ",null,{"$f":"D5278*F5283","v":0},null,{"$f":"$D5278*$F5283*H5283","v":0}]
[null,880,null,null,"ตราสารทุน",null,{"$f":"D5284*F5284","v":0},null,{"$f":"$D5284*$F5284*H5284","v":0},{"$f":"SUM(I5284:I5289)","v":0}]
[null,null,null,null,"อสังหาริมทรัพย์",null,{"$f":"D5284*F5285","v":0},null,{"$f":"$D5284*$F5285*H5285","v":0}]
[null,null,null,null,"สินค้าโภคภัณฑ์",null,{"$f":"D5284*F5286","v":0},null,{"$f":"$D5284*$F5286*H5286","v":0}]
[null,null,null,null,"เงินฝาก",null,{"$f":"D5284*F5287","v":0},null,{"$f":"$D5284*$F5287*H5287","v":0}]
[null,null,null,null,"ตราสารหนี้",null,{"$f":"D5284*F5288","v":0},null,{"$f":"$D5284*$F5288*H5288","v":0}]
[null,null,null,null,"อื่นๆ",null,{"$f":"D5284*F5289","v":0},null,{"$f":"$D5284*$F5289*H5289","v":0}]
[null,881,null,null,"ตราสารทุน",null,{"$f":"D5290*F5290","v":0},null,{"$f":"$D5290*$F5290*H5290","v":0},{"$f":"SUM(I5290:I5295)","v":0}]
[null,null,null,null,"อสังหาริมทรัพย์",null,{"$f":"D5290*F5291","v":0},null,{"$f":"$D5290*$F5291*H5291","v":0}]
[null,null,null,null,"สินค้าโภคภัณฑ์",null,{"$f":"D5290*F5292","v":0},null,{"$f":"$D5290*$F5292*H5292","v":0}]
[null,null,null,null,"เงินฝาก",null,{"$f":"D5290*F5293","v":0},null,{"$f":"$D5290*$F5293*H5293","v":0}]
[null,null,null,null,"ตราสารหนี้",null,{"$f":"D5290*F5294","v":0},null,{"$f":"$D5290*$F5294*H5294","v":0}]
[null,null,null,null,"อื่นๆ",null,{"$f":"D5290*F5295","v":0},null,{"$f":"$D5290*$F5295*H5295","v":0}]
[null,882,null,null,"ตราสารทุน",null,{"$f":"D5296*F5296","v":0},null,{"$f":"$D5296*$F5296*H5296","v":0},{"$f":"SUM(I5296:I5301)","v":0}]
[null,null,null,null,"อสังหาริมทรัพย์",null,{"$f":"D5296*F5297","v":0},null,{"$f":"$D5296*$F5297*H5297","v":0}]
[null,null,null,null,"สินค้าโภคภัณฑ์",null,{"$f":"D5296*F5298","v":0},null,{"$f":"$D5296*$F5298*H5298","v":0}]
[null,null,null,null,"เงินฝาก",null,{"$f":"D5296*F5299","v":0},null,{"$f":"$D5296*$F5299*H5299","v":0}]
[null,null,null,null,"ตราสารหนี้",null,{"$f":"D5296*F5300","v":0},null,{"$f":"$D5296*$F5300*H5300","v":0}]
[null,null,null,null,"อื่นๆ",null,{"$f":"D5296*F5301","v":0},null,{"$f":"$D5296*$F5301*H5301","v":0}]
[null,883,null,null,"ตราสารทุน",null,{"$f":"D5302*F5302","v":0},null,{"$f":"$D5302*$F5302*H5302","v":0},{"$f":"SUM(I5302:I5307)","v":0}]
[null,null,null,null,"อสังหาริมทรัพย์",null,{"$f":"D5302*F5303","v":0},null,{"$f":"$D5302*$F5303*H5303","v":0}]
[null,null,null,null,"สินค้าโภคภัณฑ์",null,{"$f":"D5302*F5304","v":0},null,{"$f":"$D5302*$F5304*H5304","v":0}]
[null,null,null,null,"เงินฝาก",null,{"$f":"D5302*F5305","v":0},null,{"$f":"$D5302*$F5305*H5305","v":0}]
[null,null,null,null,"ตราสารหนี้",null,{"$f":"D5302*F5306","v":0},null,{"$f":"$D5302*$F5306*H5306","v":0}]
[null,null,null,null,"อื่นๆ",null,{"$f":"D5302*F5307","v":0},null,{"$f":"$D5302*$F5307*H5307","v":0}]
[null,884,null,null,"ตราสารทุน",null,{"$f":"D5308*F5308","v":0},null,{"$f":"$D5308*$F5308*H5308","v":0},{"$f":"SUM(I5308:I5313)","v":0}]
[null,null,null,null,"อสังหาริมทรัพย์",null,{"$f":"D5308*F5309","v":0},null,{"$f":"$D5308*$F5309*H5309","v":0}]
[null,null,null,null,"สินค้าโภคภัณฑ์",null,{"$f":"D5308*F5310","v":0},null,{"$f":"$D5308*$F5310*H5310","v":0}]
[null,null,null,null,"เงินฝาก",null,{"$f":"D5308*F5311","v":0},null,{"$f":"$D5308*$F5311*H5311","v":0}]
[null,null,null,null,"ตราสารหนี้",null,{"$f":"D5308*F5312","v":0},null,{"$f":"$D5308*$F5312*H5312","v":0}]
[null,null,null,null,"อื่นๆ",null,{"$f":"D5308*F5313","v":0},null,{"$f":"$D5308*$F5313*H5313","v":0}]
[null,885,null,null,"ตราสารทุน",null,{"$f":"D5314*F5314","v":0},null,{"$f":"$D5314*$F5314*H5314","v":0},{"$f":"SUM(I5314:I5319)","v":0}]
[null,null,null,null,"อสังหาริมทรัพย์",null,{"$f":"D5314*F5315","v":0},null,{"$f":"$D5314*$F5315*H5315","v":0}]
[null,null,null,null,"สินค้าโภคภัณฑ์",null,{"$f":"D5314*F5316","v":0},null,{"$f":"$D5314*$F5316*H5316","v":0}]
[null,null,null,null,"เงินฝาก",null,{"$f":"D5314*F5317","v":0},null,{"$f":"$D5314*$F5317*H5317","v":0}]
[null,null,null,null,"ตราสารหนี้",null,{"$f":"D5314*F5318","v":0},null,{"$f":"$D5314*$F5318*H5318","v":0}]
[null,null,null,null,"อื่นๆ",null,{"$f":"D5314*F5319","v":0},null,{"$f":"$D5314*$F5319*H5319","v":0}]
[null,886,null,null,"ตราสารทุน",null,{"$f":"D5320*F5320","v":0},null,{"$f":"$D5320*$F5320*H5320","v":0},{"$f":"SUM(I5320:I5325)","v":0}]
[null,null,null,null,"อสังหาริมทรัพย์",null,{"$f":"D5320*F5321","v":0},null,{"$f":"$D5320*$F5321*H5321","v":0}]
[null,null,null,null,"สินค้าโภคภัณฑ์",null,{"$f":"D5320*F5322","v":0},null,{"$f":"$D5320*$F5322*H5322","v":0}]
[null,null,null,null,"เงินฝาก",null,{"$f":"D5320*F5323","v":0},null,{"$f":"$D5320*$F5323*H5323","v":0}]
[null,null,null,null,"ตราสารหนี้",null,{"$f":"D5320*F5324","v":0},null,{"$f":"$D5320*$F5324*H5324","v":0}]
[null,null,null,null,"อื่นๆ",null,{"$f":"D5320*F5325","v":0},null,{"$f":"$D5320*$F5325*H5325","v":0}]
[null,887,null,null,"ตราสารทุน",null,{"$f":"D5326*F5326","v":0},null,{"$f":"$D5326*$F5326*H5326","v":0},{"$f":"SUM(I5326:I5331)","v":0}]
[null,null,null,null,"อสังหาริมทรัพย์",null,{"$f":"D5326*F5327","v":0},null,{"$f":"$D5326*$F5327*H5327","v":0}]
[null,null,null,null,"สินค้าโภคภัณฑ์",null,{"$f":"D5326*F5328","v":0},null,{"$f":"$D5326*$F5328*H5328","v":0}]
[null,null,null,null,"เงินฝาก",null,{"$f":"D5326*F5329","v":0},null,{"$f":"$D5326*$F5329*H5329","v":0}]
[null,null,null,null,"ตราสารหนี้",null,{"$f":"D5326*F5330","v":0},null,{"$f":"$D5326*$F5330*H5330","v":0}]
[null,null,null,null,"อื่นๆ",null,{"$f":"D5326*F5331","v":0},null,{"$f":"$D5326*$F5331*H5331","v":0}]
[null,888,null,null,"ตราสารทุน",null,{"$f":"D5332*F5332","v":0},null,{"$f":"$D5332*$F5332*H5332","v":0},{"$f":"SUM(I5332:I5337)","v":0}]
[null,null,null,null,"อสังหาริมทรัพย์",null,{"$f":"D5332*F5333","v":0},null,{"$f":"$D5332*$F5333*H5333","v":0}]
[null,null,null,null,"สินค้าโภคภัณฑ์",null,{"$f":"D5332*F5334","v":0},null,{"$f":"$D5332*$F5334*H5334","v":0}]
[null,null,null,null,"เงินฝาก",null,{"$f":"D5332*F5335","v":0},null,{"$f":"$D5332*$F5335*H5335","v":0}]
[null,null,null,null,"ตราสารหนี้",null,{"$f":"D5332*F5336","v":0},null,{"$f":"$D5332*$F5336*H5336","v":0}]
[null,null,null,null,"อื่นๆ",null,{"$f":"D5332*F5337","v":0},null,{"$f":"$D5332*$F5337*H5337","v":0}]
[null,889,null,null,"ตราสารทุน",null,{"$f":"D5338*F5338","v":0},null,{"$f":"$D5338*$F5338*H5338","v":0},{"$f":"SUM(I5338:I5343)","v":0}]
[null,null,null,null,"อสังหาริมทรัพย์",null,{"$f":"D5338*F5339","v":0},null,{"$f":"$D5338*$F5339*H5339","v":0}]
[null,null,null,null,"สินค้าโภคภัณฑ์",null,{"$f":"D5338*F5340","v":0},null,{"$f":"$D5338*$F5340*H5340","v":0}]
[null,null,null,null,"เงินฝาก",null,{"$f":"D5338*F5341","v":0},null,{"$f":"$D5338*$F5341*H5341","v":0}]
[null,null,null,null,"ตราสารหนี้",null,{"$f":"D5338*F5342","v":0},null,{"$f":"$D5338*$F5342*H5342","v":0}]
[null,null,null,null,"อื่นๆ",null,{"$f":"D5338*F5343","v":0},null,{"$f":"$D5338*$F5343*H5343","v":0}]
[null,890,null,null,"ตราสารทุน",null,{"$f":"D5344*F5344","v":0},null,{"$f":"$D5344*$F5344*H5344","v":0},{"$f":"SUM(I5344:I5349)","v":0}]
[null,null,null,null,"อสังหาริมทรัพย์",null,{"$f":"D5344*F5345","v":0},null,{"$f":"$D5344*$F5345*H5345","v":0}]
[null,null,null,null,"สินค้าโภคภัณฑ์",null,{"$f":"D5344*F5346","v":0},null,{"$f":"$D5344*$F5346*H5346","v":0}]
[null,null,null,null,"เงินฝาก",null,{"$f":"D5344*F5347","v":0},null,{"$f":"$D5344*$F5347*H5347","v":0}]
[null,null,null,null,"ตราสารหนี้",null,{"$f":"D5344*F5348","v":0},null,{"$f":"$D5344*$F5348*H5348","v":0}]
[null,null,null,null,"อื่นๆ",null,{"$f":"D5344*F5349","v":0},null,{"$f":"$D5344*$F5349*H5349","v":0}]
[null,891,null,null,"ตราสารทุน",null,{"$f":"D5350*F5350","v":0},null,{"$f":"$D5350*$F5350*H5350","v":0},{"$f":"SUM(I5350:I5355)","v":0}]
[null,null,null,null,"อสังหาริมทรัพย์",null,{"$f":"D5350*F5351","v":0},null,{"$f":"$D5350*$F5351*H5351","v":0}]
[null,null,null,null,"สินค้าโภคภัณฑ์",null,{"$f":"D5350*F5352","v":0},null,{"$f":"$D5350*$F5352*H5352","v":0}]
[null,null,null,null,"เงินฝาก",null,{"$f":"D5350*F5353","v":0},null,{"$f":"$D5350*$F5353*H5353","v":0}]
[null,null,null,null,"ตราสารหนี้",null,{"$f":"D5350*F5354","v":0},null,{"$f":"$D5350*$F5354*H5354","v":0}]
[null,null,null,null,"อื่นๆ",null,{"$f":"D5350*F5355","v":0},null,{"$f":"$D5350*$F5355*H5355","v":0}]
[null,892,null,null,"ตราสารทุน",null,{"$f":"D5356*F5356","v":0},null,{"$f":"$D5356*$F5356*H5356","v":0},{"$f":"SUM(I5356:I5361)","v":0}]
[null,null,null,null,"อสังหาริมทรัพย์",null,{"$f":"D5356*F5357","v":0},null,{"$f":"$D5356*$F5357*H5357","v":0}]
[null,null,null,null,"สินค้าโภคภัณฑ์",null,{"$f":"D5356*F5358","v":0},null,{"$f":"$D5356*$F5358*H5358","v":0}]
[null,null,null,null,"เงินฝาก",null,{"$f":"D5356*F5359","v":0},null,{"$f":"$D5356*$F5359*H5359","v":0}]
[null,null,null,null,"ตราสารหนี้",null,{"$f":"D5356*F5360","v":0},null,{"$f":"$D5356*$F5360*H5360","v":0}]
[null,null,null,null,"อื่นๆ",null,{"$f":"D5356*F5361","v":0},null,{"$f":"$D5356*$F5361*H5361","v":0}]
[null,893,null,null,"ตราสารทุน",null,{"$f":"D5362*F5362","v":0},null,{"$f":"$D5362*$F5362*H5362","v":0},{"$f":"SUM(I5362:I5367)","v":0}]
[null,null,null,null,"อสังหาริมทรัพย์",null,{"$f":"D5362*F5363","v":0},null,{"$f":"$D5362*$F5363*H5363","v":0}]
[null,null,null,null,"สินค้าโภคภัณฑ์",null,{"$f":"D5362*F5364","v":0},null,{"$f":"$D5362*$F5364*H5364","v":0}]
[null,null,null,null,"เงินฝาก",null,{"$f":"D5362*F5365","v":0},null,{"$f":"$D5362*$F5365*H5365","v":0}]
[null,null,null,null,"ตราสารหนี้",null,{"$f":"D5362*F5366","v":0},null,{"$f":"$D5362*$F5366*H5366","v":0}]
[null,null,null,null,"อื่นๆ",null,{"$f":"D5362*F5367","v":0},null,{"$f":"$D5362*$F5367*H5367","v":0}]
[null,894,null,null,"ตราสารทุน",null,{"$f":"D5368*F5368","v":0},null,{"$f":"$D5368*$F5368*H5368","v":0},{"$f":"SUM(I5368:I5373)","v":0}]
[null,null,null,null,"อสังหาริมทรัพย์",null,{"$f":"D5368*F5369","v":0},null,{"$f":"$D5368*$F5369*H5369","v":0}]
[null,null,null,null,"สินค้าโภคภัณฑ์",null,{"$f":"D5368*F5370","v":0},null,{"$f":"$D5368*$F5370*H5370","v":0}]
[null,null,null,null,"เงินฝาก",null,{"$f":"D5368*F5371","v":0},null,{"$f":"$D5368*$F5371*H5371","v":0}]
[null,null,null,null,"ตราสารหนี้",null,{"$f":"D5368*F5372","v":0},null,{"$f":"$D5368*$F5372*H5372","v":0}]
[null,null,null,null,"อื่นๆ",null,{"$f":"D5368*F5373","v":0},null,{"$f":"$D5368*$F5373*H5373","v":0}]
[null,895,null,null,"ตราสารทุน",null,{"$f":"D5374*F5374","v":0},null,{"$f":"$D5374*$F5374*H5374","v":0},{"$f":"SUM(I5374:I5379)","v":0}]
[null,null,null,null,"อสังหาริมทรัพย์",null,{"$f":"D5374*F5375","v":0},null,{"$f":"$D5374*$F5375*H5375","v":0}]
[null,null,null,null,"สินค้าโภคภัณฑ์",null,{"$f":"D5374*F5376","v":0},null,{"$f":"$D5374*$F5376*H5376","v":0}]
[null,null,null,null,"เงินฝาก",null,{"$f":"D5374*F5377","v":0},null,{"$f":"$D5374*$F5377*H5377","v":0}]
[null,null,null,null,"ตราสารหนี้",null,{"$f":"D5374*F5378","v":0},null,{"$f":"$D5374*$F5378*H5378","v":0}]
[null,null,null,null,"อื่นๆ",null,{"$f":"D5374*F5379","v":0},null,{"$f":"$D5374*$F5379*H5379","v":0}]
[null,896,null,null,"ตราสารทุน",null,{"$f":"D5380*F5380","v":0},null,{"$f":"$D5380*$F5380*H5380","v":0},{"$f":"SUM(I5380:I5385)","v":0}]
[null,null,null,null,"อสังหาริมทรัพย์",null,{"$f":"D5380*F5381","v":0},null,{"$f":"$D5380*$F5381*H5381","v":0}]
[null,null,null,null,"สินค้าโภคภัณฑ์",null,{"$f":"D5380*F5382","v":0},null,{"$f":"$D5380*$F5382*H5382","v":0}]
[null,null,null,null,"เงินฝาก",null,{"$f":"D5380*F5383","v":0},null,{"$f":"$D5380*$F5383*H5383","v":0}]
[null,null,null,null,"ตราสารหนี้",null,{"$f":"D5380*F5384","v":0},null,{"$f":"$D5380*$F5384*H5384","v":0}]
[null,null,null,null,"อื่นๆ",null,{"$f":"D5380*F5385","v":0},null,{"$f":"$D5380*$F5385*H5385","v":0}]
[null,897,null,null,"ตราสารทุน",null,{"$f":"D5386*F5386","v":0},null,{"$f":"$D5386*$F5386*H5386","v":0},{"$f":"SUM(I5386:I5391)","v":0}]
[null,null,null,null,"อสังหาริมทรัพย์",null,{"$f":"D5386*F5387","v":0},null,{"$f":"$D5386*$F5387*H5387","v":0}]
[null,null,null,null,"สินค้าโภคภัณฑ์",null,{"$f":"D5386*F5388","v":0},null,{"$f":"$D5386*$F5388*H5388","v":0}]
[null,null,null,null,"เงินฝาก",null,{"$f":"D5386*F5389","v":0},null,{"$f":"$D5386*$F5389*H5389","v":0}]
[null,null,null,null,"ตราสารหนี้",null,{"$f":"D5386*F5390","v":0},null,{"$f":"$D5386*$F5390*H5390","v":0}]
[null,null,null,null,"อื่นๆ",null,{"$f":"D5386*F5391","v":0},null,{"$f":"$D5386*$F5391*H5391","v":0}]
[null,898,null,null,"ตราสารทุน",null,{"$f":"D5392*F5392","v":0},null,{"$f":"$D5392*$F5392*H5392","v":0},{"$f":"SUM(I5392:I5397)","v":0}]
[null,null,null,null,"อสังหาริมทรัพย์",null,{"$f":"D5392*F5393","v":0},null,{"$f":"$D5392*$F5393*H5393","v":0}]
[null,null,null,null,"สินค้าโภคภัณฑ์",null,{"$f":"D5392*F5394","v":0},null,{"$f":"$D5392*$F5394*H5394","v":0}]
[null,null,null,null,"เงินฝาก",null,{"$f":"D5392*F5395","v":0},null,{"$f":"$D5392*$F5395*H5395","v":0}]
[null,null,null,null,"ตราสารหนี้",null,{"$f":"D5392*F5396","v":0},null,{"$f":"$D5392*$F5396*H5396","v":0}]
[null,null,null,null,"อื่นๆ",null,{"$f":"D5392*F5397","v":0},null,{"$f":"$D5392*$F5397*H5397","v":0}]
[null,899,null,null,"ตราสารทุน",null,{"$f":"D5398*F5398","v":0},null,{"$f":"$D5398*$F5398*H5398","v":0},{"$f":"SUM(I5398:I5403)","v":0}]
[null,null,null,null,"อสังหาริมทรัพย์",null,{"$f":"D5398*F5399","v":0},null,{"$f":"$D5398*$F5399*H5399","v":0}]
[null,null,null,null,"สินค้าโภคภัณฑ์",null,{"$f":"D5398*F5400","v":0},null,{"$f":"$D5398*$F5400*H5400","v":0}]
[null,null,null,null,"เงินฝาก",null,{"$f":"D5398*F5401","v":0},null,{"$f":"$D5398*$F5401*H5401","v":0}]
[null,null,null,null,"ตราสารหนี้",null,{"$f":"D5398*F5402","v":0},null,{"$f":"$D5398*$F5402*H5402","v":0}]
[null,null,null,null,"อื่นๆ",null,{"$f":"D5398*F5403","v":0},null,{"$f":"$D5398*$F5403*H5403","v":0}]
[null,900,null,null,"ตราสารทุน",null,{"$f":"D5404*F5404","v":0},null,{"$f":"$D5404*$F5404*H5404","v":0},{"$f":"SUM(I5404:I5409)","v":0}]
[null,null,null,null,"อสังหาริมทรัพย์",null,{"$f":"D5404*F5405","v":0},null,{"$f":"$D5404*$F5405*H5405","v":0}]
[null,null,null,null,"สินค้าโภคภัณฑ์",null,{"$f":"D5404*F5406","v":0},null,{"$f":"$D5404*$F5406*H5406","v":0}]
[null,null,null,null,"เงินฝาก",null,{"$f":"D5404*F5407","v":0},null,{"$f":"$D5404*$F5407*H5407","v":0}]
[null,null,null,null,"ตราสารหนี้",null,{"$f":"D5404*F5408","v":0},null,{"$f":"$D5404*$F5408*H5408","v":0}]
[null,null,null,null,"อื่นๆ",null,{"$f":"D5404*F5409","v":0},null,{"$f":"$D5404*$F5409*H5409","v":0}]
[null,901,null,null,"ตราสารทุน",null,{"$f":"D5410*F5410","v":0},null,{"$f":"$D5410*$F5410*H5410","v":0},{"$f":"SUM(I5410:I5415)","v":0}]
[null,null,null,null,"อสังหาริมทรัพย์",null,{"$f":"D5410*F5411","v":0},null,{"$f":"$D5410*$F5411*H5411","v":0}]
[null,null,null,null,"สินค้าโภคภัณฑ์",null,{"$f":"D5410*F5412","v":0},null,{"$f":"$D5410*$F5412*H5412","v":0}]
[null,null,null,null,"เงินฝาก",null,{"$f":"D5410*F5413","v":0},null,{"$f":"$D5410*$F5413*H5413","v":0}]
[null,null,null,null,"ตราสารหนี้",null,{"$f":"D5410*F5414","v":0},null,{"$f":"$D5410*$F5414*H5414","v":0}]
[null,null,null,null,"อื่นๆ",null,{"$f":"D5410*F5415","v":0},null,{"$f":"$D5410*$F5415*H5415","v":0}]
[null,902,null,null,"ตราสารทุน",null,{"$f":"D5416*F5416","v":0},null,{"$f":"$D5416*$F5416*H5416","v":0},{"$f":"SUM(I5416:I5421)","v":0}]
[null,null,null,null,"อสังหาริมทรัพย์",null,{"$f":"D5416*F5417","v":0},null,{"$f":"$D5416*$F5417*H5417","v":0}]
[null,null,null,null,"สินค้าโภคภัณฑ์",null,{"$f":"D5416*F5418","v":0},null,{"$f":"$D5416*$F5418*H5418","v":0}]
[null,null,null,null,"เงินฝาก",null,{"$f":"D5416*F5419","v":0},null,{"$f":"$D5416*$F5419*H5419","v":0}]
[null,null,null,null,"ตราสารหนี้",null,{"$f":"D5416*F5420","v":0},null,{"$f":"$D5416*$F5420*H5420","v":0}]
[null,null,null,null,"อื่นๆ",null,{"$f":"D5416*F5421","v":0},null,{"$f":"$D5416*$F5421*H5421","v":0}]
[null,903,null,null,"ตราสารทุน",null,{"$f":"D5422*F5422","v":0},null,{"$f":"$D5422*$F5422*H5422","v":0},{"$f":"SUM(I5422:I5427)","v":0}]
[null,null,null,null,"อสังหาริมทรัพย์",null,{"$f":"D5422*F5423","v":0},null,{"$f":"$D5422*$F5423*H5423","v":0}]
[null,null,null,null,"สินค้าโภคภัณฑ์",null,{"$f":"D5422*F5424","v":0},null,{"$f":"$D5422*$F5424*H5424","v":0}]
[null,null,null,null,"เงินฝาก",null,{"$f":"D5422*F5425","v":0},null,{"$f":"$D5422*$F5425*H5425","v":0}]
[null,null,null,null,"ตราสารหนี้",null,{"$f":"D5422*F5426","v":0},null,{"$f":"$D5422*$F5426*H5426","v":0}]
[null,null,null,null,"อื่นๆ",null,{"$f":"D5422*F5427","v":0},null,{"$f":"$D5422*$F5427*H5427","v":0}]
[null,904,null,null,"ตราสารทุน",null,{"$f":"D5428*F5428","v":0},null,{"$f":"$D5428*$F5428*H5428","v":0},{"$f":"SUM(I5428:I5433)","v":0}]
[null,null,null,null,"อสังหาริมทรัพย์",null,{"$f":"D5428*F5429","v":0},null,{"$f":"$D5428*$F5429*H5429","v":0}]
[null,null,null,null,"สินค้าโภคภัณฑ์",null,{"$f":"D5428*F5430","v":0},null,{"$f":"$D5428*$F5430*H5430","v":0}]
[null,null,null,null,"เงินฝาก",null,{"$f":"D5428*F5431","v":0},null,{"$f":"$D5428*$F5431*H5431","v":0}]
[null,null,null,null,"ตราสารหนี้",null,{"$f":"D5428*F5432","v":0},null,{"$f":"$D5428*$F5432*H5432","v":0}]
[null,null,null,null,"อื่นๆ",null,{"$f":"D5428*F5433","v":0},null,{"$f":"$D5428*$F5433*H5433","v":0}]
[null,905,null,null,"ตราสารทุน",null,{"$f":"D5434*F5434","v":0},null,{"$f":"$D5434*$F5434*H5434","v":0},{"$f":"SUM(I5434:I5439)","v":0}]
[null,null,null,null,"อสังหาริมทรัพย์",null,{"$f":"D5434*F5435","v":0},null,{"$f":"$D5434*$F5435*H5435","v":0}]
[null,null,null,null,"สินค้าโภคภัณฑ์",null,{"$f":"D5434*F5436","v":0},null,{"$f":"$D5434*$F5436*H5436","v":0}]
[null,null,null,null,"เงินฝาก",null,{"$f":"D5434*F5437","v":0},null,{"$f":"$D5434*$F5437*H5437","v":0}]
[null,null,null,null,"ตราสารหนี้",null,{"$f":"D5434*F5438","v":0},null,{"$f":"$D5434*$F5438*H5438","v":0}]
[null,null,null,null,"อื่นๆ",null,{"$f":"D5434*F5439","v":0},null,{"$f":"$D5434*$F5439*H5439","v":0}]
[null,906,null,null,"ตราสารทุน",null,{"$f":"D5440*F5440","v":0},null,{"$f":"$D5440*$F5440*H5440","v":0},{"$f":"SUM(I5440:I5445)","v":0}]
[null,null,null,null,"อสังหาริมทรัพย์",null,{"$f":"D5440*F5441","v":0},null,{"$f":"$D5440*$F5441*H5441","v":0}]
[null,null,null,null,"สินค้าโภคภัณฑ์",null,{"$f":"D5440*F5442","v":0},null,{"$f":"$D5440*$F5442*H5442","v":0}]
[null,null,null,null,"เงินฝาก",null,{"$f":"D5440*F5443","v":0},null,{"$f":"$D5440*$F5443*H5443","v":0}]
[null,null,null,null,"ตราสารหนี้",null,{"$f":"D5440*F5444","v":0},null,{"$f":"$D5440*$F5444*H5444","v":0}]
[null,null,null,null,"อื่นๆ",null,{"$f":"D5440*F5445","v":0},null,{"$f":"$D5440*$F5445*H5445","v":0}]
[null,907,null,null,"ตราสารทุน",null,{"$f":"D5446*F5446","v":0},null,{"$f":"$D5446*$F5446*H5446","v":0},{"$f":"SUM(I5446:I5451)","v":0}]
[null,null,null,null,"อสังหาริมทรัพย์",null,{"$f":"D5446*F5447","v":0},null,{"$f":"$D5446*$F5447*H5447","v":0}]
[null,null,null,null,"สินค้าโภคภัณฑ์",null,{"$f":"D5446*F5448","v":0},null,{"$f":"$D5446*$F5448*H5448","v":0}]
[null,null,null,null,"เงินฝาก",null,{"$f":"D5446*F5449","v":0},null,{"$f":"$D5446*$F5449*H5449","v":0}]
[null,null,null,null,"ตราสารหนี้",null,{"$f":"D5446*F5450","v":0},null,{"$f":"$D5446*$F5450*H5450","v":0}]
[null,null,null,null,"อื่นๆ",null,{"$f":"D5446*F5451","v":0},null,{"$f":"$D5446*$F5451*H5451","v":0}]
[null,908,null,null,"ตราสารทุน",null,{"$f":"D5452*F5452","v":0},null,{"$f":"$D5452*$F5452*H5452","v":0},{"$f":"SUM(I5452:I5457)","v":0}]
[null,null,null,null,"อสังหาริมทรัพย์",null,{"$f":"D5452*F5453","v":0},null,{"$f":"$D5452*$F5453*H5453","v":0}]
[null,null,null,null,"สินค้าโภคภัณฑ์",null,{"$f":"D5452*F5454","v":0},null,{"$f":"$D5452*$F5454*H5454","v":0}]
[null,null,null,null,"เงินฝาก",null,{"$f":"D5452*F5455","v":0},null,{"$f":"$D5452*$F5455*H5455","v":0}]
[null,null,null,null,"ตราสารหนี้",null,{"$f":"D5452*F5456","v":0},null,{"$f":"$D5452*$F5456*H5456","v":0}]
[null,null,null,null,"อื่นๆ",null,{"$f":"D5452*F5457","v":0},null,{"$f":"$D5452*$F5457*H5457","v":0}]
[null,909,null,null,"ตราสารทุน",null,{"$f":"D5458*F5458","v":0},null,{"$f":"$D5458*$F5458*H5458","v":0},{"$f":"SUM(I5458:I5463)","v":0}]
[null,null,null,null,"อสังหาริมทรัพย์",null,{"$f":"D5458*F5459","v":0},null,{"$f":"$D5458*$F5459*H5459","v":0}]
[null,null,null,null,"สินค้าโภคภัณฑ์",null,{"$f":"D5458*F5460","v":0},null,{"$f":"$D5458*$F5460*H5460","v":0}]
[null,null,null,null,"เงินฝาก",null,{"$f":"D5458*F5461","v":0},null,{"$f":"$D5458*$F5461*H5461","v":0}]
[null,null,null,null,"ตราสารหนี้",null,{"$f":"D5458*F5462","v":0},null,{"$f":"$D5458*$F5462*H5462","v":0}]
[null,null,null,null,"อื่นๆ",null,{"$f":"D5458*F5463","v":0},null,{"$f":"$D5458*$F5463*H5463","v":0}]
[null,910,null,null,"ตราสารทุน",null,{"$f":"D5464*F5464","v":0},null,{"$f":"$D5464*$F5464*H5464","v":0},{"$f":"SUM(I5464:I5469)","v":0}]
[null,null,null,null,"อสังหาริมทรัพย์",null,{"$f":"D5464*F5465","v":0},null,{"$f":"$D5464*$F5465*H5465","v":0}]
[null,null,null,null,"สินค้าโภคภัณฑ์",null,{"$f":"D5464*F5466","v":0},null,{"$f":"$D5464*$F5466*H5466","v":0}]
[null,null,null,null,"เงินฝาก",null,{"$f":"D5464*F5467","v":0},null,{"$f":"$D5464*$F5467*H5467","v":0}]
[null,null,null,null,"ตราสารหนี้",null,{"$f":"D5464*F5468","v":0},null,{"$f":"$D5464*$F5468*H5468","v":0}]
[null,null,null,null,"อื่นๆ",null,{"$f":"D5464*F5469","v":0},null,{"$f":"$D5464*$F5469*H5469","v":0}]
[null,911,null,null,"ตราสารทุน",null,{"$f":"D5470*F5470","v":0},null,{"$f":"$D5470*$F5470*H5470","v":0},{"$f":"SUM(I5470:I5475)","v":0}]
[null,null,null,null,"อสังหาริมทรัพย์",null,{"$f":"D5470*F5471","v":0},null,{"$f":"$D5470*$F5471*H5471","v":0}]
[null,null,null,null,"สินค้าโภคภัณฑ์",null,{"$f":"D5470*F5472","v":0},null,{"$f":"$D5470*$F5472*H5472","v":0}]
[null,null,null,null,"เงินฝาก",null,{"$f":"D5470*F5473","v":0},null,{"$f":"$D5470*$F5473*H5473","v":0}]
[null,null,null,null,"ตราสารหนี้",null,{"$f":"D5470*F5474","v":0},null,{"$f":"$D5470*$F5474*H5474","v":0}]
[null,null,null,null,"อื่นๆ",null,{"$f":"D5470*F5475","v":0},null,{"$f":"$D5470*$F5475*H5475","v":0}]
[null,912,null,null,"ตราสารทุน",null,{"$f":"D5476*F5476","v":0},null,{"$f":"$D5476*$F5476*H5476","v":0},{"$f":"SUM(I5476:I5481)","v":0}]
[null,null,null,null,"อสังหาริมทรัพย์",null,{"$f":"D5476*F5477","v":0},null,{"$f":"$D5476*$F5477*H5477","v":0}]
[null,null,null,null,"สินค้าโภคภัณฑ์",null,{"$f":"D5476*F5478","v":0},null,{"$f":"$D5476*$F5478*H5478","v":0}]
[null,null,null,null,"เงินฝาก",null,{"$f":"D5476*F5479","v":0},null,{"$f":"$D5476*$F5479*H5479","v":0}]
[null,null,null,null,"ตราสารหนี้",null,{"$f":"D5476*F5480","v":0},null,{"$f":"$D5476*$F5480*H5480","v":0}]
[null,null,null,null,"อื่นๆ",null,{"$f":"D5476*F5481","v":0},null,{"$f":"$D5476*$F5481*H5481","v":0}]
[null,913,null,null,"ตราสารทุน",null,{"$f":"D5482*F5482","v":0},null,{"$f":"$D5482*$F5482*H5482","v":0},{"$f":"SUM(I5482:I5487)","v":0}]
[null,null,null,null,"อสังหาริมทรัพย์",null,{"$f":"D5482*F5483","v":0},null,{"$f":"$D5482*$F5483*H5483","v":0}]
[null,null,null,null,"สินค้าโภคภัณฑ์",null,{"$f":"D5482*F5484","v":0},null,{"$f":"$D5482*$F5484*H5484","v":0}]
[null,null,null,null,"เงินฝาก",null,{"$f":"D5482*F5485","v":0},null,{"$f":"$D5482*$F5485*H5485","v":0}]
[null,null,null,null,"ตราสารหนี้",null,{"$f":"D5482*F5486","v":0},null,{"$f":"$D5482*$F5486*H5486","v":0}]
[null,null,null,null,"อื่นๆ",null,{"$f":"D5482*F5487","v":0},null,{"$f":"$D5482*$F5487*H5487","v":0}]
[null,914,null,null,"ตราสารทุน",null,{"$f":"D5488*F5488","v":0},null,{"$f":"$D5488*$F5488*H5488","v":0},{"$f":"SUM(I5488:I5493)","v":0}]
[null,null,null,null,"อสังหาริมทรัพย์",null,{"$f":"D5488*F5489","v":0},null,{"$f":"$D5488*$F5489*H5489","v":0}]
[null,null,null,null,"สินค้าโภคภัณฑ์",null,{"$f":"D5488*F5490","v":0},null,{"$f":"$D5488*$F5490*H5490","v":0}]
[null,null,null,null,"เงินฝาก",null,{"$f":"D5488*F5491","v":0},null,{"$f":"$D5488*$F5491*H5491","v":0}]
[null,null,null,null,"ตราสารหนี้",null,{"$f":"D5488*F5492","v":0},null,{"$f":"$D5488*$F5492*H5492","v":0}]
[null,null,null,null,"อื่นๆ",null,{"$f":"D5488*F5493","v":0},null,{"$f":"$D5488*$F5493*H5493","v":0}]
[null,915,null,null,"ตราสารทุน",null,{"$f":"D5494*F5494","v":0},null,{"$f":"$D5494*$F5494*H5494","v":0},{"$f":"SUM(I5494:I5499)","v":0}]
[null,null,null,null,"อสังหาริมทรัพย์",null,{"$f":"D5494*F5495","v":0},null,{"$f":"$D5494*$F5495*H5495","v":0}]
[null,null,null,null,"สินค้าโภคภัณฑ์",null,{"$f":"D5494*F5496","v":0},null,{"$f":"$D5494*$F5496*H5496","v":0}]
[null,null,null,null,"เงินฝาก",null,{"$f":"D5494*F5497","v":0},null,{"$f":"$D5494*$F5497*H5497","v":0}]
[null,null,null,null,"ตราสารหนี้",null,{"$f":"D5494*F5498","v":0},null,{"$f":"$D5494*$F5498*H5498","v":0}]
[null,null,null,null,"อื่นๆ",null,{"$f":"D5494*F5499","v":0},null,{"$f":"$D5494*$F5499*H5499","v":0}]
[null,916,null,null,"ตราสารทุน",null,{"$f":"D5500*F5500","v":0},null,{"$f":"$D5500*$F5500*H5500","v":0},{"$f":"SUM(I5500:I5505)","v":0}]
[null,null,null,null,"อสังหาริมทรัพย์",null,{"$f":"D5500*F5501","v":0},null,{"$f":"$D5500*$F5501*H5501","v":0}]
[null,null,null,null,"สินค้าโภคภัณฑ์",null,{"$f":"D5500*F5502","v":0},null,{"$f":"$D5500*$F5502*H5502","v":0}]
[null,null,null,null,"เงินฝาก",null,{"$f":"D5500*F5503","v":0},null,{"$f":"$D5500*$F5503*H5503","v":0}]
[null,null,null,null,"ตราสารหนี้",null,{"$f":"D5500*F5504","v":0},null,{"$f":"$D5500*$F5504*H5504","v":0}]
[null,null,null,null,"อื่นๆ",null,{"$f":"D5500*F5505","v":0},null,{"$f":"$D5500*$F5505*H5505","v":0}]
[null,917,null,null,"ตราสารทุน",null,{"$f":"D5506*F5506","v":0},null,{"$f":"$D5506*$F5506*H5506","v":0},{"$f":"SUM(I5506:I5511)","v":0}]
[null,null,null,null,"อสังหาริมทรัพย์",null,{"$f":"D5506*F5507","v":0},null,{"$f":"$D5506*$F5507*H5507","v":0}]
[null,null,null,null,"สินค้าโภคภัณฑ์",null,{"$f":"D5506*F5508","v":0},null,{"$f":"$D5506*$F5508*H5508","v":0}]
[null,null,null,null,"เงินฝาก",null,{"$f":"D5506*F5509","v":0},null,{"$f":"$D5506*$F5509*H5509","v":0}]
[null,null,null,null,"ตราสารหนี้",null,{"$f":"D5506*F5510","v":0},null,{"$f":"$D5506*$F5510*H5510","v":0}]
[null,null,null,null,"อื่นๆ",null,{"$f":"D5506*F5511","v":0},null,{"$f":"$D5506*$F5511*H5511","v":0}]
[null,918,null,null,"ตราสารทุน",null,{"$f":"D5512*F5512","v":0},null,{"$f":"$D5512*$F5512*H5512","v":0},{"$f":"SUM(I5512:I5517)","v":0}]
[null,null,null,null,"อสังหาริมทรัพย์",null,{"$f":"D5512*F5513","v":0},null,{"$f":"$D5512*$F5513*H5513","v":0}]
[null,null,null,null,"สินค้าโภคภัณฑ์",null,{"$f":"D5512*F5514","v":0},null,{"$f":"$D5512*$F5514*H5514","v":0}]
[null,null,null,null,"เงินฝาก",null,{"$f":"D5512*F5515","v":0},null,{"$f":"$D5512*$F5515*H5515","v":0}]
[null,null,null,null,"ตราสารหนี้",null,{"$f":"D5512*F5516","v":0},null,{"$f":"$D5512*$F5516*H5516","v":0}]
[null,null,null,null,"อื่นๆ",null,{"$f":"D5512*F5517","v":0},null,{"$f":"$D5512*$F5517*H5517","v":0}]
[null,919,null,null,"ตราสารทุน",null,{"$f":"D5518*F5518","v":0},null,{"$f":"$D5518*$F5518*H5518","v":0},{"$f":"SUM(I5518:I5523)","v":0}]
[null,null,null,null,"อสังหาริมทรัพย์",null,{"$f":"D5518*F5519","v":0},null,{"$f":"$D5518*$F5519*H5519","v":0}]
[null,null,null,null,"สินค้าโภคภัณฑ์",null,{"$f":"D5518*F5520","v":0},null,{"$f":"$D5518*$F5520*H5520","v":0}]
[null,null,null,null,"เงินฝาก",null,{"$f":"D5518*F5521","v":0},null,{"$f":"$D5518*$F5521*H5521","v":0}]
[null,null,null,null,"ตราสารหนี้",null,{"$f":"D5518*F5522","v":0},null,{"$f":"$D5518*$F5522*H5522","v":0}]
[null,null,null,null,"อื่นๆ",null,{"$f":"D5518*F5523","v":0},null,{"$f":"$D5518*$F5523*H5523","v":0}]
[null,920,null,null,"ตราสารทุน",null,{"$f":"D5524*F5524","v":0},null,{"$f":"$D5524*$F5524*H5524","v":0},{"$f":"SUM(I5524:I5529)","v":0}]
[null,null,null,null,"อสังหาริมทรัพย์",null,{"$f":"D5524*F5525","v":0},null,{"$f":"$D5524*$F5525*H5525","v":0}]
[null,null,null,null,"สินค้าโภคภัณฑ์",null,{"$f":"D5524*F5526","v":0},null,{"$f":"$D5524*$F5526*H5526","v":0}]
[null,null,null,null,"เงินฝาก",null,{"$f":"D5524*F5527","v":0},null,{"$f":"$D5524*$F5527*H5527","v":0}]
[null,null,null,null,"ตราสารหนี้",null,{"$f":"D5524*F5528","v":0},null,{"$f":"$D5524*$F5528*H5528","v":0}]
[null,null,null,null,"อื่นๆ",null,{"$f":"D5524*F5529","v":0},null,{"$f":"$D5524*$F5529*H5529","v":0}]
[null,921,null,null,"ตราสารทุน",null,{"$f":"D5530*F5530","v":0},null,{"$f":"$D5530*$F5530*H5530","v":0},{"$f":"SUM(I5530:I5535)","v":0}]
[null,null,null,null,"อสังหาริมทรัพย์",null,{"$f":"D5530*F5531","v":0},null,{"$f":"$D5530*$F5531*H5531","v":0}]
[null,null,null,null,"สินค้าโภคภัณฑ์",null,{"$f":"D5530*F5532","v":0},null,{"$f":"$D5530*$F5532*H5532","v":0}]
[null,null,null,null,"เงินฝาก",null,{"$f":"D5530*F5533","v":0},null,{"$f":"$D5530*$F5533*H5533","v":0}]
[null,null,null,null,"ตราสารหนี้",null,{"$f":"D5530*F5534","v":0},null,{"$f":"$D5530*$F5534*H5534","v":0}]
[null,null,null,null,"อื่นๆ",null,{"$f":"D5530*F5535","v":0},null,{"$f":"$D5530*$F5535*H5535","v":0}]
[null,922,null,null,"ตราสารทุน",null,{"$f":"D5536*F5536","v":0},null,{"$f":"$D5536*$F5536*H5536","v":0},{"$f":"SUM(I5536:I5541)","v":0}]
[null,null,null,null,"อสังหาริมทรัพย์",null,{"$f":"D5536*F5537","v":0},null,{"$f":"$D5536*$F5537*H5537","v":0}]
[null,null,null,null,"สินค้าโภคภัณฑ์",null,{"$f":"D5536*F5538","v":0},null,{"$f":"$D5536*$F5538*H5538","v":0}]
[null,null,null,null,"เงินฝาก",null,{"$f":"D5536*F5539","v":0},null,{"$f":"$D5536*$F5539*H5539","v":0}]
[null,null,null,null,"ตราสารหนี้",null,{"$f":"D5536*F5540","v":0},null,{"$f":"$D5536*$F5540*H5540","v":0}]
[null,null,null,null,"อื่นๆ",null,{"$f":"D5536*F5541","v":0},null,{"$f":"$D5536*$F5541*H5541","v":0}]
[null,923,null,null,"ตราสารทุน",null,{"$f":"D5542*F5542","v":0},null,{"$f":"$D5542*$F5542*H5542","v":0},{"$f":"SUM(I5542:I5547)","v":0}]
[null,null,null,null,"อสังหาริมทรัพย์",null,{"$f":"D5542*F5543","v":0},null,{"$f":"$D5542*$F5543*H5543","v":0}]
[null,null,null,null,"สินค้าโภคภัณฑ์",null,{"$f":"D5542*F5544","v":0},null,{"$f":"$D5542*$F5544*H5544","v":0}]
[null,null,null,null,"เงินฝาก",null,{"$f":"D5542*F5545","v":0},null,{"$f":"$D5542*$F5545*H5545","v":0}]
[null,null,null,null,"ตราสารหนี้",null,{"$f":"D5542*F5546","v":0},null,{"$f":"$D5542*$F5546*H5546","v":0}]
[null,null,null,null,"อื่นๆ",null,{"$f":"D5542*F5547","v":0},null,{"$f":"$D5542*$F5547*H5547","v":0}]
[null,924,null,null,"ตราสารทุน",null,{"$f":"D5548*F5548","v":0},null,{"$f":"$D5548*$F5548*H5548","v":0},{"$f":"SUM(I5548:I5553)","v":0}]
[null,null,null,null,"อสังหาริมทรัพย์",null,{"$f":"D5548*F5549","v":0},null,{"$f":"$D5548*$F5549*H5549","v":0}]
[null,null,null,null,"สินค้าโภคภัณฑ์",null,{"$f":"D5548*F5550","v":0},null,{"$f":"$D5548*$F5550*H5550","v":0}]
[null,null,null,null,"เงินฝาก",null,{"$f":"D5548*F5551","v":0},null,{"$f":"$D5548*$F5551*H5551","v":0}]
[null,null,null,null,"ตราสารหนี้",null,{"$f":"D5548*F5552","v":0},null,{"$f":"$D5548*$F5552*H5552","v":0}]
[null,null,null,null,"อื่นๆ",null,{"$f":"D5548*F5553","v":0},null,{"$f":"$D5548*$F5553*H5553","v":0}]
[null,925,null,null,"ตราสารทุน",null,{"$f":"D5554*F5554","v":0},null,{"$f":"$D5554*$F5554*H5554","v":0},{"$f":"SUM(I5554:I5559)","v":0}]
[null,null,null,null,"อสังหาริมทรัพย์",null,{"$f":"D5554*F5555","v":0},null,{"$f":"$D5554*$F5555*H5555","v":0}]
[null,null,null,null,"สินค้าโภคภัณฑ์",null,{"$f":"D5554*F5556","v":0},null,{"$f":"$D5554*$F5556*H5556","v":0}]
[null,null,null,null,"เงินฝาก",null,{"$f":"D5554*F5557","v":0},null,{"$f":"$D5554*$F5557*H5557","v":0}]
[null,null,null,null,"ตราสารหนี้",null,{"$f":"D5554*F5558","v":0},null,{"$f":"$D5554*$F5558*H5558","v":0}]
[null,null,null,null,"อื่นๆ",null,{"$f":"D5554*F5559","v":0},null,{"$f":"$D5554*$F5559*H5559","v":0}]
[null,926,null,null,"ตราสารทุน",null,{"$f":"D5560*F5560","v":0},null,{"$f":"$D5560*$F5560*H5560","v":0},{"$f":"SUM(I5560:I5565)","v":0}]
[null,null,null,null,"อสังหาริมทรัพย์",null,{"$f":"D5560*F5561","v":0},null,{"$f":"$D5560*$F5561*H5561","v":0}]
[null,null,null,null,"สินค้าโภคภัณฑ์",null,{"$f":"D5560*F5562","v":0},null,{"$f":"$D5560*$F5562*H5562","v":0}]
[null,null,null,null,"เงินฝาก",null,{"$f":"D5560*F5563","v":0},null,{"$f":"$D5560*$F5563*H5563","v":0}]
[null,null,null,null,"ตราสารหนี้",null,{"$f":"D5560*F5564","v":0},null,{"$f":"$D5560*$F5564*H5564","v":0}]
[null,null,null,null,"อื่นๆ",null,{"$f":"D5560*F5565","v":0},null,{"$f":"$D5560*$F5565*H5565","v":0}]
[null,927,null,null,"ตราสารทุน",null,{"$f":"D5566*F5566","v":0},null,{"$f":"$D5566*$F5566*H5566","v":0},{"$f":"SUM(I5566:I5571)","v":0}]
[null,null,null,null,"อสังหาริมทรัพย์",null,{"$f":"D5566*F5567","v":0},null,{"$f":"$D5566*$F5567*H5567","v":0}]
[null,null,null,null,"สินค้าโภคภัณฑ์",null,{"$f":"D5566*F5568","v":0},null,{"$f":"$D5566*$F5568*H5568","v":0}]
[null,null,null,null,"เงินฝาก",null,{"$f":"D5566*F5569","v":0},null,{"$f":"$D5566*$F5569*H5569","v":0}]
[null,null,null,null,"ตราสารหนี้",null,{"$f":"D5566*F5570","v":0},null,{"$f":"$D5566*$F5570*H5570","v":0}]
[null,null,null,null,"อื่นๆ",null,{"$f":"D5566*F5571","v":0},null,{"$f":"$D5566*$F5571*H5571","v":0}]
[null,928,null,null,"ตราสารทุน",null,{"$f":"D5572*F5572","v":0},null,{"$f":"$D5572*$F5572*H5572","v":0},{"$f":"SUM(I5572:I5577)","v":0}]
[null,null,null,null,"อสังหาริมทรัพย์",null,{"$f":"D5572*F5573","v":0},null,{"$f":"$D5572*$F5573*H5573","v":0}]
[null,null,null,null,"สินค้าโภคภัณฑ์",null,{"$f":"D5572*F5574","v":0},null,{"$f":"$D5572*$F5574*H5574","v":0}]
[null,null,null,null,"เงินฝาก",null,{"$f":"D5572*F5575","v":0},null,{"$f":"$D5572*$F5575*H5575","v":0}]
[null,null,null,null,"ตราสารหนี้",null,{"$f":"D5572*F5576","v":0},null,{"$f":"$D5572*$F5576*H5576","v":0}]
[null,null,null,null,"อื่นๆ",null,{"$f":"D5572*F5577","v":0},null,{"$f":"$D5572*$F5577*H5577","v":0}]
[null,929,null,null,"ตราสารทุน",null,{"$f":"D5578*F5578","v":0},null,{"$f":"$D5578*$F5578*H5578","v":0},{"$f":"SUM(I5578:I5583)","v":0}]
[null,null,null,null,"อสังหาริมทรัพย์",null,{"$f":"D5578*F5579","v":0},null,{"$f":"$D5578*$F5579*H5579","v":0}]
[null,null,null,null,"สินค้าโภคภัณฑ์",null,{"$f":"D5578*F5580","v":0},null,{"$f":"$D5578*$F5580*H5580","v":0}]
[null,null,null,null,"เงินฝาก",null,{"$f":"D5578*F5581","v":0},null,{"$f":"$D5578*$F5581*H5581","v":0}]
[null,null,null,null,"ตราสารหนี้",null,{"$f":"D5578*F5582","v":0},null,{"$f":"$D5578*$F5582*H5582","v":0}]
[null,null,null,null,"อื่นๆ",null,{"$f":"D5578*F5583","v":0},null,{"$f":"$D5578*$F5583*H5583","v":0}]
[null,930,null,null,"ตราสารทุน",null,{"$f":"D5584*F5584","v":0},null,{"$f":"$D5584*$F5584*H5584","v":0},{"$f":"SUM(I5584:I5589)","v":0}]
[null,null,null,null,"อสังหาริมทรัพย์",null,{"$f":"D5584*F5585","v":0},null,{"$f":"$D5584*$F5585*H5585","v":0}]
[null,null,null,null,"สินค้าโภคภัณฑ์",null,{"$f":"D5584*F5586","v":0},null,{"$f":"$D5584*$F5586*H5586","v":0}]
[null,null,null,null,"เงินฝาก",null,{"$f":"D5584*F5587","v":0},null,{"$f":"$D5584*$F5587*H5587","v":0}]
[null,null,null,null,"ตราสารหนี้",null,{"$f":"D5584*F5588","v":0},null,{"$f":"$D5584*$F5588*H5588","v":0}]
[null,null,null,null,"อื่นๆ",null,{"$f":"D5584*F5589","v":0},null,{"$f":"$D5584*$F5589*H5589","v":0}]
[null,931,null,null,"ตราสารทุน",null,{"$f":"D5590*F5590","v":0},null,{"$f":"$D5590*$F5590*H5590","v":0},{"$f":"SUM(I5590:I5595)","v":0}]
[null,null,null,null,"อสังหาริมทรัพย์",null,{"$f":"D5590*F5591","v":0},null,{"$f":"$D5590*$F5591*H5591","v":0}]
[null,null,null,null,"สินค้าโภคภัณฑ์",null,{"$f":"D5590*F5592","v":0},null,{"$f":"$D5590*$F5592*H5592","v":0}]
[null,null,null,null,"เงินฝาก",null,{"$f":"D5590*F5593","v":0},null,{"$f":"$D5590*$F5593*H5593","v":0}]
[null,null,null,null,"ตราสารหนี้",null,{"$f":"D5590*F5594","v":0},null,{"$f":"$D5590*$F5594*H5594","v":0}]
[null,null,null,null,"อื่นๆ",null,{"$f":"D5590*F5595","v":0},null,{"$f":"$D5590*$F5595*H5595","v":0}]
[null,932,null,null,"ตราสารทุน",null,{"$f":"D5596*F5596","v":0},null,{"$f":"$D5596*$F5596*H5596","v":0},{"$f":"SUM(I5596:I5601)","v":0}]
[null,null,null,null,"อสังหาริมทรัพย์",null,{"$f":"D5596*F5597","v":0},null,{"$f":"$D5596*$F5597*H5597","v":0}]
[null,null,null,null,"สินค้าโภคภัณฑ์",null,{"$f":"D5596*F5598","v":0},null,{"$f":"$D5596*$F5598*H5598","v":0}]
[null,null,null,null,"เงินฝาก",null,{"$f":"D5596*F5599","v":0},null,{"$f":"$D5596*$F5599*H5599","v":0}]
[null,null,null,null,"ตราสารหนี้",null,{"$f":"D5596*F5600","v":0},null,{"$f":"$D5596*$F5600*H5600","v":0}]
[null,null,null,null,"อื่นๆ",null,{"$f":"D5596*F5601","v":0},null,{"$f":"$D5596*$F5601*H5601","v":0}]
[null,933,null,null,"ตราสารทุน",null,{"$f":"D5602*F5602","v":0},null,{"$f":"$D5602*$F5602*H5602","v":0},{"$f":"SUM(I5602:I5607)","v":0}]
[null,null,null,null,"อสังหาริมทรัพย์",null,{"$f":"D5602*F5603","v":0},null,{"$f":"$D5602*$F5603*H5603","v":0}]
[null,null,null,null,"สินค้าโภคภัณฑ์",null,{"$f":"D5602*F5604","v":0},null,{"$f":"$D5602*$F5604*H5604","v":0}]
[null,null,null,null,"เงินฝาก",null,{"$f":"D5602*F5605","v":0},null,{"$f":"$D5602*$F5605*H5605","v":0}]
[null,null,null,null,"ตราสารหนี้",null,{"$f":"D5602*F5606","v":0},null,{"$f":"$D5602*$F5606*H5606","v":0}]
[null,null,null,null,"อื่นๆ",null,{"$f":"D5602*F5607","v":0},null,{"$f":"$D5602*$F5607*H5607","v":0}]
[null,934,null,null,"ตราสารทุน",null,{"$f":"D5608*F5608","v":0},null,{"$f":"$D5608*$F5608*H5608","v":0},{"$f":"SUM(I5608:I5613)","v":0}]
[null,null,null,null,"อสังหาริมทรัพย์",null,{"$f":"D5608*F5609","v":0},null,{"$f":"$D5608*$F5609*H5609","v":0}]
[null,null,null,null,"สินค้าโภคภัณฑ์",null,{"$f":"D5608*F5610","v":0},null,{"$f":"$D5608*$F5610*H5610","v":0}]
[null,null,null,null,"เงินฝาก",null,{"$f":"D5608*F5611","v":0},null,{"$f":"$D5608*$F5611*H5611","v":0}]
[null,null,null,null,"ตราสารหนี้",null,{"$f":"D5608*F5612","v":0},null,{"$f":"$D5608*$F5612*H5612","v":0}]
[null,null,null,null,"อื่นๆ",null,{"$f":"D5608*F5613","v":0},null,{"$f":"$D5608*$F5613*H5613","v":0}]
[null,935,null,null,"ตราสารทุน",null,{"$f":"D5614*F5614","v":0},null,{"$f":"$D5614*$F5614*H5614","v":0},{"$f":"SUM(I5614:I5619)","v":0}]
[null,null,null,null,"อสังหาริมทรัพย์",null,{"$f":"D5614*F5615","v":0},null,{"$f":"$D5614*$F5615*H5615","v":0}]
[null,null,null,null,"สินค้าโภคภัณฑ์",null,{"$f":"D5614*F5616","v":0},null,{"$f":"$D5614*$F5616*H5616","v":0}]
[null,null,null,null,"เงินฝาก",null,{"$f":"D5614*F5617","v":0},null,{"$f":"$D5614*$F5617*H5617","v":0}]
[null,null,null,null,"ตราสารหนี้",null,{"$f":"D5614*F5618","v":0},null,{"$f":"$D5614*$F5618*H5618","v":0}]
[null,null,null,null,"อื่นๆ",null,{"$f":"D5614*F5619","v":0},null,{"$f":"$D5614*$F5619*H5619","v":0}]
[null,936,null,null,"ตราสารทุน",null,{"$f":"D5620*F5620","v":0},null,{"$f":"$D5620*$F5620*H5620","v":0},{"$f":"SUM(I5620:I5625)","v":0}]
[null,null,null,null,"อสังหาริมทรัพย์",null,{"$f":"D5620*F5621","v":0},null,{"$f":"$D5620*$F5621*H5621","v":0}]
[null,null,null,null,"สินค้าโภคภัณฑ์",null,{"$f":"D5620*F5622","v":0},null,{"$f":"$D5620*$F5622*H5622","v":0}]
[null,null,null,null,"เงินฝาก",null,{"$f":"D5620*F5623","v":0},null,{"$f":"$D5620*$F5623*H5623","v":0}]
[null,null,null,null,"ตราสารหนี้",null,{"$f":"D5620*F5624","v":0},null,{"$f":"$D5620*$F5624*H5624","v":0}]
[null,null,null,null,"อื่นๆ",null,{"$f":"D5620*F5625","v":0},null,{"$f":"$D5620*$F5625*H5625","v":0}]
[null,937,null,null,"ตราสารทุน",null,{"$f":"D5626*F5626","v":0},null,{"$f":"$D5626*$F5626*H5626","v":0},{"$f":"SUM(I5626:I5631)","v":0}]
[null,null,null,null,"อสังหาริมทรัพย์",null,{"$f":"D5626*F5627","v":0},null,{"$f":"$D5626*$F5627*H5627","v":0}]
[null,null,null,null,"สินค้าโภคภัณฑ์",null,{"$f":"D5626*F5628","v":0},null,{"$f":"$D5626*$F5628*H5628","v":0}]
[null,null,null,null,"เงินฝาก",null,{"$f":"D5626*F5629","v":0},null,{"$f":"$D5626*$F5629*H5629","v":0}]
[null,null,null,null,"ตราสารหนี้",null,{"$f":"D5626*F5630","v":0},null,{"$f":"$D5626*$F5630*H5630","v":0}]
[null,null,null,null,"อื่นๆ",null,{"$f":"D5626*F5631","v":0},null,{"$f":"$D5626*$F5631*H5631","v":0}]
[null,938,null,null,"ตราสารทุน",null,{"$f":"D5632*F5632","v":0},null,{"$f":"$D5632*$F5632*H5632","v":0},{"$f":"SUM(I5632:I5637)","v":0}]
[null,null,null,null,"อสังหาริมทรัพย์",null,{"$f":"D5632*F5633","v":0},null,{"$f":"$D5632*$F5633*H5633","v":0}]
[null,null,null,null,"สินค้าโภคภัณฑ์",null,{"$f":"D5632*F5634","v":0},null,{"$f":"$D5632*$F5634*H5634","v":0}]
[null,null,null,null,"เงินฝาก",null,{"$f":"D5632*F5635","v":0},null,{"$f":"$D5632*$F5635*H5635","v":0}]
[null,null,null,null,"ตราสารหนี้",null,{"$f":"D5632*F5636","v":0},null,{"$f":"$D5632*$F5636*H5636","v":0}]
[null,null,null,null,"อื่นๆ",null,{"$f":"D5632*F5637","v":0},null,{"$f":"$D5632*$F5637*H5637","v":0}]
[null,939,null,null,"ตราสารทุน",null,{"$f":"D5638*F5638","v":0},null,{"$f":"$D5638*$F5638*H5638","v":0},{"$f":"SUM(I5638:I5643)","v":0}]
[null,null,null,null,"อสังหาริมทรัพย์",null,{"$f":"D5638*F5639","v":0},null,{"$f":"$D5638*$F5639*H5639","v":0}]
[null,null,null,null,"สินค้าโภคภัณฑ์",null,{"$f":"D5638*F5640","v":0},null,{"$f":"$D5638*$F5640*H5640","v":0}]
[null,null,null,null,"เงินฝาก",null,{"$f":"D5638*F5641","v":0},null,{"$f":"$D5638*$F5641*H5641","v":0}]
[null,null,null,null,"ตราสารหนี้",null,{"$f":"D5638*F5642","v":0},null,{"$f":"$D5638*$F5642*H5642","v":0}]
[null,null,null,null,"อื่นๆ",null,{"$f":"D5638*F5643","v":0},null,{"$f":"$D5638*$F5643*H5643","v":0}]
[null,940,null,null,"ตราสารทุน",null,{"$f":"D5644*F5644","v":0},null,{"$f":"$D5644*$F5644*H5644","v":0},{"$f":"SUM(I5644:I5649)","v":0}]
[null,null,null,null,"อสังหาริมทรัพย์",null,{"$f":"D5644*F5645","v":0},null,{"$f":"$D5644*$F5645*H5645","v":0}]
[null,null,null,null,"สินค้าโภคภัณฑ์",null,{"$f":"D5644*F5646","v":0},null,{"$f":"$D5644*$F5646*H5646","v":0}]
[null,null,null,null,"เงินฝาก",null,{"$f":"D5644*F5647","v":0},null,{"$f":"$D5644*$F5647*H5647","v":0}]
[null,null,null,null,"ตราสารหนี้",null,{"$f":"D5644*F5648","v":0},null,{"$f":"$D5644*$F5648*H5648","v":0}]
[null,null,null,null,"อื่นๆ",null,{"$f":"D5644*F5649","v":0},null,{"$f":"$D5644*$F5649*H5649","v":0}]
[null,941,null,null,"ตราสารทุน",null,{"$f":"D5650*F5650","v":0},null,{"$f":"$D5650*$F5650*H5650","v":0},{"$f":"SUM(I5650:I5655)","v":0}]
[null,null,null,null,"อสังหาริมทรัพย์",null,{"$f":"D5650*F5651","v":0},null,{"$f":"$D5650*$F5651*H5651","v":0}]
[null,null,null,null,"สินค้าโภคภัณฑ์",null,{"$f":"D5650*F5652","v":0},null,{"$f":"$D5650*$F5652*H5652","v":0}]
[null,null,null,null,"เงินฝาก",null,{"$f":"D5650*F5653","v":0},null,{"$f":"$D5650*$F5653*H5653","v":0}]
[null,null,null,null,"ตราสารหนี้",null,{"$f":"D5650*F5654","v":0},null,{"$f":"$D5650*$F5654*H5654","v":0}]
[null,null,null,null,"อื่นๆ",null,{"$f":"D5650*F5655","v":0},null,{"$f":"$D5650*$F5655*H5655","v":0}]
[null,942,null,null,"ตราสารทุน",null,{"$f":"D5656*F5656","v":0},null,{"$f":"$D5656*$F5656*H5656","v":0},{"$f":"SUM(I5656:I5661)","v":0}]
[null,null,null,null,"อสังหาริมทรัพย์",null,{"$f":"D5656*F5657","v":0},null,{"$f":"$D5656*$F5657*H5657","v":0}]
[null,null,null,null,"สินค้าโภคภัณฑ์",null,{"$f":"D5656*F5658","v":0},null,{"$f":"$D5656*$F5658*H5658","v":0}]
[null,null,null,null,"เงินฝาก",null,{"$f":"D5656*F5659","v":0},null,{"$f":"$D5656*$F5659*H5659","v":0}]
[null,null,null,null,"ตราสารหนี้",null,{"$f":"D5656*F5660","v":0},null,{"$f":"$D5656*$F5660*H5660","v":0}]
[null,null,null,null,"อื่นๆ",null,{"$f":"D5656*F5661","v":0},null,{"$f":"$D5656*$F5661*H5661","v":0}]
[null,943,null,null,"ตราสารทุน",null,{"$f":"D5662*F5662","v":0},null,{"$f":"$D5662*$F5662*H5662","v":0},{"$f":"SUM(I5662:I5667)","v":0}]
[null,null,null,null,"อสังหาริมทรัพย์",null,{"$f":"D5662*F5663","v":0},null,{"$f":"$D5662*$F5663*H5663","v":0}]
[null,null,null,null,"สินค้าโภคภัณฑ์",null,{"$f":"D5662*F5664","v":0},null,{"$f":"$D5662*$F5664*H5664","v":0}]
[null,null,null,null,"เงินฝาก",null,{"$f":"D5662*F5665","v":0},null,{"$f":"$D5662*$F5665*H5665","v":0}]
[null,null,null,null,"ตราสารหนี้",null,{"$f":"D5662*F5666","v":0},null,{"$f":"$D5662*$F5666*H5666","v":0}]
[null,null,null,null,"อื่นๆ",null,{"$f":"D5662*F5667","v":0},null,{"$f":"$D5662*$F5667*H5667","v":0}]
[null,944,null,null,"ตราสารทุน",null,{"$f":"D5668*F5668","v":0},null,{"$f":"$D5668*$F5668*H5668","v":0},{"$f":"SUM(I5668:I5673)","v":0}]
[null,null,null,null,"อสังหาริมทรัพย์",null,{"$f":"D5668*F5669","v":0},null,{"$f":"$D5668*$F5669*H5669","v":0}]
[null,null,null,null,"สินค้าโภคภัณฑ์",null,{"$f":"D5668*F5670","v":0},null,{"$f":"$D5668*$F5670*H5670","v":0}]
[null,null,null,null,"เงินฝาก",null,{"$f":"D5668*F5671","v":0},null,{"$f":"$D5668*$F5671*H5671","v":0}]
[null,null,null,null,"ตราสารหนี้",null,{"$f":"D5668*F5672","v":0},null,{"$f":"$D5668*$F5672*H5672","v":0}]
[null,null,null,null,"อื่นๆ",null,{"$f":"D5668*F5673","v":0},null,{"$f":"$D5668*$F5673*H5673","v":0}]
[null,945,null,null,"ตราสารทุน",null,{"$f":"D5674*F5674","v":0},null,{"$f":"$D5674*$F5674*H5674","v":0},{"$f":"SUM(I5674:I5679)","v":0}]
[null,null,null,null,"อสังหาริมทรัพย์",null,{"$f":"D5674*F5675","v":0},null,{"$f":"$D5674*$F5675*H5675","v":0}]
[null,null,null,null,"สินค้าโภคภัณฑ์",null,{"$f":"D5674*F5676","v":0},null,{"$f":"$D5674*$F5676*H5676","v":0}]
[null,null,null,null,"เงินฝาก",null,{"$f":"D5674*F5677","v":0},null,{"$f":"$D5674*$F5677*H5677","v":0}]
[null,null,null,null,"ตราสารหนี้",null,{"$f":"D5674*F5678","v":0},null,{"$f":"$D5674*$F5678*H5678","v":0}]
[null,null,null,null,"อื่นๆ",null,{"$f":"D5674*F5679","v":0},null,{"$f":"$D5674*$F5679*H5679","v":0}]
[null,946,null,null,"ตราสารทุน",null,{"$f":"D5680*F5680","v":0},null,{"$f":"$D5680*$F5680*H5680","v":0},{"$f":"SUM(I5680:I5685)","v":0}]
[null,null,null,null,"อสังหาริมทรัพย์",null,{"$f":"D5680*F5681","v":0},null,{"$f":"$D5680*$F5681*H5681","v":0}]
[null,null,null,null,"สินค้าโภคภัณฑ์",null,{"$f":"D5680*F5682","v":0},null,{"$f":"$D5680*$F5682*H5682","v":0}]
[null,null,null,null,"เงินฝาก",null,{"$f":"D5680*F5683","v":0},null,{"$f":"$D5680*$F5683*H5683","v":0}]
[null,null,null,null,"ตราสารหนี้",null,{"$f":"D5680*F5684","v":0},null,{"$f":"$D5680*$F5684*H5684","v":0}]
[null,null,null,null,"อื่นๆ",null,{"$f":"D5680*F5685","v":0},null,{"$f":"$D5680*$F5685*H5685","v":0}]
[null,947,null,null,"ตราสารทุน",null,{"$f":"D5686*F5686","v":0},null,{"$f":"$D5686*$F5686*H5686","v":0},{"$f":"SUM(I5686:I5691)","v":0}]
[null,null,null,null,"อสังหาริมทรัพย์",null,{"$f":"D5686*F5687","v":0},null,{"$f":"$D5686*$F5687*H5687","v":0}]
[null,null,null,null,"สินค้าโภคภัณฑ์",null,{"$f":"D5686*F5688","v":0},null,{"$f":"$D5686*$F5688*H5688","v":0}]
[null,null,null,null,"เงินฝาก",null,{"$f":"D5686*F5689","v":0},null,{"$f":"$D5686*$F5689*H5689","v":0}]
[null,null,null,null,"ตราสารหนี้",null,{"$f":"D5686*F5690","v":0},null,{"$f":"$D5686*$F5690*H5690","v":0}]
[null,null,null,null,"อื่นๆ",null,{"$f":"D5686*F5691","v":0},null,{"$f":"$D5686*$F5691*H5691","v":0}]
[null,948,null,null,"ตราสารทุน",null,{"$f":"D5692*F5692","v":0},null,{"$f":"$D5692*$F5692*H5692","v":0},{"$f":"SUM(I5692:I5697)","v":0}]
[null,null,null,null,"อสังหาริมทรัพย์",null,{"$f":"D5692*F5693","v":0},null,{"$f":"$D5692*$F5693*H5693","v":0}]
[null,null,null,null,"สินค้าโภคภัณฑ์",null,{"$f":"D5692*F5694","v":0},null,{"$f":"$D5692*$F5694*H5694","v":0}]
[null,null,null,null,"เงินฝาก",null,{"$f":"D5692*F5695","v":0},null,{"$f":"$D5692*$F5695*H5695","v":0}]
[null,null,null,null,"ตราสารหนี้",null,{"$f":"D5692*F5696","v":0},null,{"$f":"$D5692*$F5696*H5696","v":0}]
[null,null,null,null,"อื่นๆ",null,{"$f":"D5692*F5697","v":0},null,{"$f":"$D5692*$F5697*H5697","v":0}]
[null,949,null,null,"ตราสารทุน",null,{"$f":"D5698*F5698","v":0},null,{"$f":"$D5698*$F5698*H5698","v":0},{"$f":"SUM(I5698:I5703)","v":0}]
[null,null,null,null,"อสังหาริมทรัพย์",null,{"$f":"D5698*F5699","v":0},null,{"$f":"$D5698*$F5699*H5699","v":0}]
[null,null,null,null,"สินค้าโภคภัณฑ์",null,{"$f":"D5698*F5700","v":0},null,{"$f":"$D5698*$F5700*H5700","v":0}]
[null,null,null,null,"เงินฝาก",null,{"$f":"D5698*F5701","v":0},null,{"$f":"$D5698*$F5701*H5701","v":0}]
[null,null,null,null,"ตราสารหนี้",null,{"$f":"D5698*F5702","v":0},null,{"$f":"$D5698*$F5702*H5702","v":0}]
[null,null,null,null,"อื่นๆ",null,{"$f":"D5698*F5703","v":0},null,{"$f":"$D5698*$F5703*H5703","v":0}]
[null,950,null,null,"ตราสารทุน",null,{"$f":"D5704*F5704","v":0},null,{"$f":"$D5704*$F5704*H5704","v":0},{"$f":"SUM(I5704:I5709)","v":0}]
[null,null,null,null,"อสังหาริมทรัพย์",null,{"$f":"D5704*F5705","v":0},null,{"$f":"$D5704*$F5705*H5705","v":0}]
[null,null,null,null,"สินค้าโภคภัณฑ์",null,{"$f":"D5704*F5706","v":0},null,{"$f":"$D5704*$F5706*H5706","v":0}]
[null,null,null,null,"เงินฝาก",null,{"$f":"D5704*F5707","v":0},null,{"$f":"$D5704*$F5707*H5707","v":0}]
[null,null,null,null,"ตราสารหนี้",null,{"$f":"D5704*F5708","v":0},null,{"$f":"$D5704*$F5708*H5708","v":0}]
[null,null,null,null,"อื่นๆ",null,{"$f":"D5704*F5709","v":0},null,{"$f":"$D5704*$F5709*H5709","v":0}]
[null,951,null,null,"ตราสารทุน",null,{"$f":"D5710*F5710","v":0},null,{"$f":"$D5710*$F5710*H5710","v":0},{"$f":"SUM(I5710:I5715)","v":0}]
[null,null,null,null,"อสังหาริมทรัพย์",null,{"$f":"D5710*F5711","v":0},null,{"$f":"$D5710*$F5711*H5711","v":0}]
[null,null,null,null,"สินค้าโภคภัณฑ์",null,{"$f":"D5710*F5712","v":0},null,{"$f":"$D5710*$F5712*H5712","v":0}]
[null,null,null,null,"เงินฝาก",null,{"$f":"D5710*F5713","v":0},null,{"$f":"$D5710*$F5713*H5713","v":0}]
[null,null,null,null,"ตราสารหนี้",null,{"$f":"D5710*F5714","v":0},null,{"$f":"$D5710*$F5714*H5714","v":0}]
[null,null,null,null,"อื่นๆ",null,{"$f":"D5710*F5715","v":0},null,{"$f":"$D5710*$F5715*H5715","v":0}]
[null,952,null,null,"ตราสารทุน",null,{"$f":"D5716*F5716","v":0},null,{"$f":"$D5716*$F5716*H5716","v":0},{"$f":"SUM(I5716:I5721)","v":0}]
[null,null,null,null,"อสังหาริมทรัพย์",null,{"$f":"D5716*F5717","v":0},null,{"$f":"$D5716*$F5717*H5717","v":0}]
[null,null,null,null,"สินค้าโภคภัณฑ์",null,{"$f":"D5716*F5718","v":0},null,{"$f":"$D5716*$F5718*H5718","v":0}]
[null,null,null,null,"เงินฝาก",null,{"$f":"D5716*F5719","v":0},null,{"$f":"$D5716*$F5719*H5719","v":0}]
[null,null,null,null,"ตราสารหนี้",null,{"$f":"D5716*F5720","v":0},null,{"$f":"$D5716*$F5720*H5720","v":0}]
[null,null,null,null,"อื่นๆ",null,{"$f":"D5716*F5721","v":0},null,{"$f":"$D5716*$F5721*H5721","v":0}]
[null,953,null,null,"ตราสารทุน",null,{"$f":"D5722*F5722","v":0},null,{"$f":"$D5722*$F5722*H5722","v":0},{"$f":"SUM(I5722:I5727)","v":0}]
[null,null,null,null,"อสังหาริมทรัพย์",null,{"$f":"D5722*F5723","v":0},null,{"$f":"$D5722*$F5723*H5723","v":0}]
[null,null,null,null,"สินค้าโภคภัณฑ์",null,{"$f":"D5722*F5724","v":0},null,{"$f":"$D5722*$F5724*H5724","v":0}]
[null,null,null,null,"เงินฝาก",null,{"$f":"D5722*F5725","v":0},null,{"$f":"$D5722*$F5725*H5725","v":0}]
[null,null,null,null,"ตราสารหนี้",null,{"$f":"D5722*F5726","v":0},null,{"$f":"$D5722*$F5726*H5726","v":0}]
[null,null,null,null,"อื่นๆ",null,{"$f":"D5722*F5727","v":0},null,{"$f":"$D5722*$F5727*H5727","v":0}]
[null,954,null,null,"ตราสารทุน",null,{"$f":"D5728*F5728","v":0},null,{"$f":"$D5728*$F5728*H5728","v":0},{"$f":"SUM(I5728:I5733)","v":0}]
[null,null,null,null,"อสังหาริมทรัพย์",null,{"$f":"D5728*F5729","v":0},null,{"$f":"$D5728*$F5729*H5729","v":0}]
[null,null,null,null,"สินค้าโภคภัณฑ์",null,{"$f":"D5728*F5730","v":0},null,{"$f":"$D5728*$F5730*H5730","v":0}]
[null,null,null,null,"เงินฝาก",null,{"$f":"D5728*F5731","v":0},null,{"$f":"$D5728*$F5731*H5731","v":0}]
[null,null,null,null,"ตราสารหนี้",null,{"$f":"D5728*F5732","v":0},null,{"$f":"$D5728*$F5732*H5732","v":0}]
[null,null,null,null,"อื่นๆ",null,{"$f":"D5728*F5733","v":0},null,{"$f":"$D5728*$F5733*H5733","v":0}]
[null,955,null,null,"ตราสารทุน",null,{"$f":"D5734*F5734","v":0},null,{"$f":"$D5734*$F5734*H5734","v":0},{"$f":"SUM(I5734:I5739)","v":0}]
[null,null,null,null,"อสังหาริมทรัพย์",null,{"$f":"D5734*F5735","v":0},null,{"$f":"$D5734*$F5735*H5735","v":0}]
[null,null,null,null,"สินค้าโภคภัณฑ์",null,{"$f":"D5734*F5736","v":0},null,{"$f":"$D5734*$F5736*H5736","v":0}]
[null,null,null,null,"เงินฝาก",null,{"$f":"D5734*F5737","v":0},null,{"$f":"$D5734*$F5737*H5737","v":0}]
[null,null,null,null,"ตราสารหนี้",null,{"$f":"D5734*F5738","v":0},null,{"$f":"$D5734*$F5738*H5738","v":0}]
[null,null,null,null,"อื่นๆ",null,{"$f":"D5734*F5739","v":0},null,{"$f":"$D5734*$F5739*H5739","v":0}]
[null,956,null,null,"ตราสารทุน",null,{"$f":"D5740*F5740","v":0},null,{"$f":"$D5740*$F5740*H5740","v":0},{"$f":"SUM(I5740:I5745)","v":0}]
[null,null,null,null,"อสังหาริมทรัพย์",null,{"$f":"D5740*F5741","v":0},null,{"$f":"$D5740*$F5741*H5741","v":0}]
[null,null,null,null,"สินค้าโภคภัณฑ์",null,{"$f":"D5740*F5742","v":0},null,{"$f":"$D5740*$F5742*H5742","v":0}]
[null,null,null,null,"เงินฝาก",null,{"$f":"D5740*F5743","v":0},null,{"$f":"$D5740*$F5743*H5743","v":0}]
[null,null,null,null,"ตราสารหนี้",null,{"$f":"D5740*F5744","v":0},null,{"$f":"$D5740*$F5744*H5744","v":0}]
[null,null,null,null,"อื่นๆ",null,{"$f":"D5740*F5745","v":0},null,{"$f":"$D5740*$F5745*H5745","v":0}]
[null,957,null,null,"ตราสารทุน",null,{"$f":"D5746*F5746","v":0},null,{"$f":"$D5746*$F5746*H5746","v":0},{"$f":"SUM(I5746:I5751)","v":0}]
[null,null,null,null,"อสังหาริมทรัพย์",null,{"$f":"D5746*F5747","v":0},null,{"$f":"$D5746*$F5747*H5747","v":0}]
[null,null,null,null,"สินค้าโภคภัณฑ์",null,{"$f":"D5746*F5748","v":0},null,{"$f":"$D5746*$F5748*H5748","v":0}]
[null,null,null,null,"เงินฝาก",null,{"$f":"D5746*F5749","v":0},null,{"$f":"$D5746*$F5749*H5749","v":0}]
[null,null,null,null,"ตราสารหนี้",null,{"$f":"D5746*F5750","v":0},null,{"$f":"$D5746*$F5750*H5750","v":0}]
[null,null,null,null,"อื่นๆ",null,{"$f":"D5746*F5751","v":0},null,{"$f":"$D5746*$F5751*H5751","v":0}]
[null,958,null,null,"ตราสารทุน",null,{"$f":"D5752*F5752","v":0},null,{"$f":"$D5752*$F5752*H5752","v":0},{"$f":"SUM(I5752:I5757)","v":0}]
[null,null,null,null,"อสังหาริมทรัพย์",null,{"$f":"D5752*F5753","v":0},null,{"$f":"$D5752*$F5753*H5753","v":0}]
[null,null,null,null,"สินค้าโภคภัณฑ์",null,{"$f":"D5752*F5754","v":0},null,{"$f":"$D5752*$F5754*H5754","v":0}]
[null,null,null,null,"เงินฝาก",null,{"$f":"D5752*F5755","v":0},null,{"$f":"$D5752*$F5755*H5755","v":0}]
[null,null,null,null,"ตราสารหนี้",null,{"$f":"D5752*F5756","v":0},null,{"$f":"$D5752*$F5756*H5756","v":0}]
[null,null,null,null,"อื่นๆ",null,{"$f":"D5752*F5757","v":0},null,{"$f":"$D5752*$F5757*H5757","v":0}]
[null,959,null,null,"ตราสารทุน",null,{"$f":"D5758*F5758","v":0},null,{"$f":"$D5758*$F5758*H5758","v":0},{"$f":"SUM(I5758:I5763)","v":0}]
[null,null,null,null,"อสังหาริมทรัพย์",null,{"$f":"D5758*F5759","v":0},null,{"$f":"$D5758*$F5759*H5759","v":0}]
[null,null,null,null,"สินค้าโภคภัณฑ์",null,{"$f":"D5758*F5760","v":0},null,{"$f":"$D5758*$F5760*H5760","v":0}]
[null,null,null,null,"เงินฝาก",null,{"$f":"D5758*F5761","v":0},null,{"$f":"$D5758*$F5761*H5761","v":0}]
[null,null,null,null,"ตราสารหนี้",null,{"$f":"D5758*F5762","v":0},null,{"$f":"$D5758*$F5762*H5762","v":0}]
[null,null,null,null,"อื่นๆ",null,{"$f":"D5758*F5763","v":0},null,{"$f":"$D5758*$F5763*H5763","v":0}]
[null,960,null,null,"ตราสารทุน",null,{"$f":"D5764*F5764","v":0},null,{"$f":"$D5764*$F5764*H5764","v":0},{"$f":"SUM(I5764:I5769)","v":0}]
[null,null,null,null,"อสังหาริมทรัพย์",null,{"$f":"D5764*F5765","v":0},null,{"$f":"$D5764*$F5765*H5765","v":0}]
[null,null,null,null,"สินค้าโภคภัณฑ์",null,{"$f":"D5764*F5766","v":0},null,{"$f":"$D5764*$F5766*H5766","v":0}]
[null,null,null,null,"เงินฝาก",null,{"$f":"D5764*F5767","v":0},null,{"$f":"$D5764*$F5767*H5767","v":0}]
[null,null,null,null,"ตราสารหนี้",null,{"$f":"D5764*F5768","v":0},null,{"$f":"$D5764*$F5768*H5768","v":0}]
[null,null,null,null,"อื่นๆ",null,{"$f":"D5764*F5769","v":0},null,{"$f":"$D5764*$F5769*H5769","v":0}]
[null,961,null,null,"ตราสารทุน",null,{"$f":"D5770*F5770","v":0},null,{"$f":"$D5770*$F5770*H5770","v":0},{"$f":"SUM(I5770:I5775)","v":0}]
[null,null,null,null,"อสังหาริมทรัพย์",null,{"$f":"D5770*F5771","v":0},null,{"$f":"$D5770*$F5771*H5771","v":0}]
[null,null,null,null,"สินค้าโภคภัณฑ์",null,{"$f":"D5770*F5772","v":0},null,{"$f":"$D5770*$F5772*H5772","v":0}]
[null,null,null,null,"เงินฝาก",null,{"$f":"D5770*F5773","v":0},null,{"$f":"$D5770*$F5773*H5773","v":0}]
[null,null,null,null,"ตราสารหนี้",null,{"$f":"D5770*F5774","v":0},null,{"$f":"$D5770*$F5774*H5774","v":0}]
[null,null,null,null,"อื่นๆ",null,{"$f":"D5770*F5775","v":0},null,{"$f":"$D5770*$F5775*H5775","v":0}]
[null,962,null,null,"ตราสารทุน",null,{"$f":"D5776*F5776","v":0},null,{"$f":"$D5776*$F5776*H5776","v":0},{"$f":"SUM(I5776:I5781)","v":0}]
[null,null,null,null,"อสังหาริมทรัพย์",null,{"$f":"D5776*F5777","v":0},null,{"$f":"$D5776*$F5777*H5777","v":0}]
[null,null,null,null,"สินค้าโภคภัณฑ์",null,{"$f":"D5776*F5778","v":0},null,{"$f":"$D5776*$F5778*H5778","v":0}]
[null,null,null,null,"เงินฝาก",null,{"$f":"D5776*F5779","v":0},null,{"$f":"$D5776*$F5779*H5779","v":0}]
[null,null,null,null,"ตราสารหนี้",null,{"$f":"D5776*F5780","v":0},null,{"$f":"$D5776*$F5780*H5780","v":0}]
[null,null,null,null,"อื่นๆ",null,{"$f":"D5776*F5781","v":0},null,{"$f":"$D5776*$F5781*H5781","v":0}]
[null,963,null,null,"ตราสารทุน",null,{"$f":"D5782*F5782","v":0},null,{"$f":"$D5782*$F5782*H5782","v":0},{"$f":"SUM(I5782:I5787)","v":0}]
[null,null,null,null,"อสังหาริมทรัพย์",null,{"$f":"D5782*F5783","v":0},null,{"$f":"$D5782*$F5783*H5783","v":0}]
[null,null,null,null,"สินค้าโภคภัณฑ์",null,{"$f":"D5782*F5784","v":0},null,{"$f":"$D5782*$F5784*H5784","v":0}]
[null,null,null,null,"เงินฝาก",null,{"$f":"D5782*F5785","v":0},null,{"$f":"$D5782*$F5785*H5785","v":0}]
[null,null,null,null,"ตราสารหนี้",null,{"$f":"D5782*F5786","v":0},null,{"$f":"$D5782*$F5786*H5786","v":0}]
[null,null,null,null,"อื่นๆ",null,{"$f":"D5782*F5787","v":0},null,{"$f":"$D5782*$F5787*H5787","v":0}]
[null,964,null,null,"ตราสารทุน",null,{"$f":"D5788*F5788","v":0},null,{"$f":"$D5788*$F5788*H5788","v":0},{"$f":"SUM(I5788:I5793)","v":0}]
[null,null,null,null,"อสังหาริมทรัพย์",null,{"$f":"D5788*F5789","v":0},null,{"$f":"$D5788*$F5789*H5789","v":0}]
[null,null,null,null,"สินค้าโภคภัณฑ์",null,{"$f":"D5788*F5790","v":0},null,{"$f":"$D5788*$F5790*H5790","v":0}]
[null,null,null,null,"เงินฝาก",null,{"$f":"D5788*F5791","v":0},null,{"$f":"$D5788*$F5791*H5791","v":0}]
[null,null,null,null,"ตราสารหนี้",null,{"$f":"D5788*F5792","v":0},null,{"$f":"$D5788*$F5792*H5792","v":0}]
[null,null,null,null,"อื่นๆ",null,{"$f":"D5788*F5793","v":0},null,{"$f":"$D5788*$F5793*H5793","v":0}]
[null,965,null,null,"ตราสารทุน",null,{"$f":"D5794*F5794","v":0},null,{"$f":"$D5794*$F5794*H5794","v":0},{"$f":"SUM(I5794:I5799)","v":0}]
[null,null,null,null,"อสังหาริมทรัพย์",null,{"$f":"D5794*F5795","v":0},null,{"$f":"$D5794*$F5795*H5795","v":0}]
[null,null,null,null,"สินค้าโภคภัณฑ์",null,{"$f":"D5794*F5796","v":0},null,{"$f":"$D5794*$F5796*H5796","v":0}]
[null,null,null,null,"เงินฝาก",null,{"$f":"D5794*F5797","v":0},null,{"$f":"$D5794*$F5797*H5797","v":0}]
[null,null,null,null,"ตราสารหนี้",null,{"$f":"D5794*F5798","v":0},null,{"$f":"$D5794*$F5798*H5798","v":0}]
[null,null,null,null,"อื่นๆ",null,{"$f":"D5794*F5799","v":0},null,{"$f":"$D5794*$F5799*H5799","v":0}]
[null,966,null,null,"ตราสารทุน",null,{"$f":"D5800*F5800","v":0},null,{"$f":"$D5800*$F5800*H5800","v":0},{"$f":"SUM(I5800:I5805)","v":0}]
[null,null,null,null,"อสังหาริมทรัพย์",null,{"$f":"D5800*F5801","v":0},null,{"$f":"$D5800*$F5801*H5801","v":0}]
[null,null,null,null,"สินค้าโภคภัณฑ์",null,{"$f":"D5800*F5802","v":0},null,{"$f":"$D5800*$F5802*H5802","v":0}]
[null,null,null,null,"เงินฝาก",null,{"$f":"D5800*F5803","v":0},null,{"$f":"$D5800*$F5803*H5803","v":0}]
[null,null,null,null,"ตราสารหนี้",null,{"$f":"D5800*F5804","v":0},null,{"$f":"$D5800*$F5804*H5804","v":0}]
[null,null,null,null,"อื่นๆ",null,{"$f":"D5800*F5805","v":0},null,{"$f":"$D5800*$F5805*H5805","v":0}]
[null,967,null,null,"ตราสารทุน",null,{"$f":"D5806*F5806","v":0},null,{"$f":"$D5806*$F5806*H5806","v":0},{"$f":"SUM(I5806:I5811)","v":0}]
[null,null,null,null,"อสังหาริมทรัพย์",null,{"$f":"D5806*F5807","v":0},null,{"$f":"$D5806*$F5807*H5807","v":0}]
[null,null,null,null,"สินค้าโภคภัณฑ์",null,{"$f":"D5806*F5808","v":0},null,{"$f":"$D5806*$F5808*H5808","v":0}]
[null,null,null,null,"เงินฝาก",null,{"$f":"D5806*F5809","v":0},null,{"$f":"$D5806*$F5809*H5809","v":0}]
[null,null,null,null,"ตราสารหนี้",null,{"$f":"D5806*F5810","v":0},null,{"$f":"$D5806*$F5810*H5810","v":0}]
[null,null,null,null,"อื่นๆ",null,{"$f":"D5806*F5811","v":0},null,{"$f":"$D5806*$F5811*H5811","v":0}]
[null,968,null,null,"ตราสารทุน",null,{"$f":"D5812*F5812","v":0},null,{"$f":"$D5812*$F5812*H5812","v":0},{"$f":"SUM(I5812:I5817)","v":0}]
[null,null,null,null,"อสังหาริมทรัพย์",null,{"$f":"D5812*F5813","v":0},null,{"$f":"$D5812*$F5813*H5813","v":0}]
[null,null,null,null,"สินค้าโภคภัณฑ์",null,{"$f":"D5812*F5814","v":0},null,{"$f":"$D5812*$F5814*H5814","v":0}]
[null,null,null,null,"เงินฝาก",null,{"$f":"D5812*F5815","v":0},null,{"$f":"$D5812*$F5815*H5815","v":0}]
[null,null,null,null,"ตราสารหนี้",null,{"$f":"D5812*F5816","v":0},null,{"$f":"$D5812*$F5816*H5816","v":0}]
[null,null,null,null,"อื่นๆ",null,{"$f":"D5812*F5817","v":0},null,{"$f":"$D5812*$F5817*H5817","v":0}]
[null,969,null,null,"ตราสารทุน",null,{"$f":"D5818*F5818","v":0},null,{"$f":"$D5818*$F5818*H5818","v":0},{"$f":"SUM(I5818:I5823)","v":0}]
[null,null,null,null,"อสังหาริมทรัพย์",null,{"$f":"D5818*F5819","v":0},null,{"$f":"$D5818*$F5819*H5819","v":0}]
[null,null,null,null,"สินค้าโภคภัณฑ์",null,{"$f":"D5818*F5820","v":0},null,{"$f":"$D5818*$F5820*H5820","v":0}]
[null,null,null,null,"เงินฝาก",null,{"$f":"D5818*F5821","v":0},null,{"$f":"$D5818*$F5821*H5821","v":0}]
[null,null,null,null,"ตราสารหนี้",null,{"$f":"D5818*F5822","v":0},null,{"$f":"$D5818*$F5822*H5822","v":0}]
[null,null,null,null,"อื่นๆ",null,{"$f":"D5818*F5823","v":0},null,{"$f":"$D5818*$F5823*H5823","v":0}]
[null,970,null,null,"ตราสารทุน",null,{"$f":"D5824*F5824","v":0},null,{"$f":"$D5824*$F5824*H5824","v":0},{"$f":"SUM(I5824:I5829)","v":0}]
[null,null,null,null,"อสังหาริมทรัพย์",null,{"$f":"D5824*F5825","v":0},null,{"$f":"$D5824*$F5825*H5825","v":0}]
[null,null,null,null,"สินค้าโภคภัณฑ์",null,{"$f":"D5824*F5826","v":0},null,{"$f":"$D5824*$F5826*H5826","v":0}]
[null,null,null,null,"เงินฝาก",null,{"$f":"D5824*F5827","v":0},null,{"$f":"$D5824*$F5827*H5827","v":0}]
[null,null,null,null,"ตราสารหนี้",null,{"$f":"D5824*F5828","v":0},null,{"$f":"$D5824*$F5828*H5828","v":0}]
[null,null,null,null,"อื่นๆ",null,{"$f":"D5824*F5829","v":0},null,{"$f":"$D5824*$F5829*H5829","v":0}]
[null,971,null,null,"ตราสารทุน",null,{"$f":"D5830*F5830","v":0},null,{"$f":"$D5830*$F5830*H5830","v":0},{"$f":"SUM(I5830:I5835)","v":0}]
[null,null,null,null,"อสังหาริมทรัพย์",null,{"$f":"D5830*F5831","v":0},null,{"$f":"$D5830*$F5831*H5831","v":0}]
[null,null,null,null,"สินค้าโภคภัณฑ์",null,{"$f":"D5830*F5832","v":0},null,{"$f":"$D5830*$F5832*H5832","v":0}]
[null,null,null,null,"เงินฝาก",null,{"$f":"D5830*F5833","v":0},null,{"$f":"$D5830*$F5833*H5833","v":0}]
[null,null,null,null,"ตราสารหนี้",null,{"$f":"D5830*F5834","v":0},null,{"$f":"$D5830*$F5834*H5834","v":0}]
[null,null,null,null,"อื่นๆ",null,{"$f":"D5830*F5835","v":0},null,{"$f":"$D5830*$F5835*H5835","v":0}]
[null,972,null,null,"ตราสารทุน",null,{"$f":"D5836*F5836","v":0},null,{"$f":"$D5836*$F5836*H5836","v":0},{"$f":"SUM(I5836:I5841)","v":0}]
[null,null,null,null,"อสังหาริมทรัพย์",null,{"$f":"D5836*F5837","v":0},null,{"$f":"$D5836*$F5837*H5837","v":0}]
[null,null,null,null,"สินค้าโภคภัณฑ์",null,{"$f":"D5836*F5838","v":0},null,{"$f":"$D5836*$F5838*H5838","v":0}]
[null,null,null,null,"เงินฝาก",null,{"$f":"D5836*F5839","v":0},null,{"$f":"$D5836*$F5839*H5839","v":0}]
[null,null,null,null,"ตราสารหนี้",null,{"$f":"D5836*F5840","v":0},null,{"$f":"$D5836*$F5840*H5840","v":0}]
[null,null,null,null,"อื่นๆ",null,{"$f":"D5836*F5841","v":0},null,{"$f":"$D5836*$F5841*H5841","v":0}]
[null,973,null,null,"ตราสารทุน",null,{"$f":"D5842*F5842","v":0},null,{"$f":"$D5842*$F5842*H5842","v":0},{"$f":"SUM(I5842:I5847)","v":0}]
[null,null,null,null,"อสังหาริมทรัพย์",null,{"$f":"D5842*F5843","v":0},null,{"$f":"$D5842*$F5843*H5843","v":0}]
[null,null,null,null,"สินค้าโภคภัณฑ์",null,{"$f":"D5842*F5844","v":0},null,{"$f":"$D5842*$F5844*H5844","v":0}]
[null,null,null,null,"เงินฝาก",null,{"$f":"D5842*F5845","v":0},null,{"$f":"$D5842*$F5845*H5845","v":0}]
[null,null,null,null,"ตราสารหนี้",null,{"$f":"D5842*F5846","v":0},null,{"$f":"$D5842*$F5846*H5846","v":0}]
[null,null,null,null,"อื่นๆ",null,{"$f":"D5842*F5847","v":0},null,{"$f":"$D5842*$F5847*H5847","v":0}]
[null,974,null,null,"ตราสารทุน",null,{"$f":"D5848*F5848","v":0},null,{"$f":"$D5848*$F5848*H5848","v":0},{"$f":"SUM(I5848:I5853)","v":0}]
[null,null,null,null,"อสังหาริมทรัพย์",null,{"$f":"D5848*F5849","v":0},null,{"$f":"$D5848*$F5849*H5849","v":0}]
[null,null,null,null,"สินค้าโภคภัณฑ์",null,{"$f":"D5848*F5850","v":0},null,{"$f":"$D5848*$F5850*H5850","v":0}]
[null,null,null,null,"เงินฝาก",null,{"$f":"D5848*F5851","v":0},null,{"$f":"$D5848*$F5851*H5851","v":0}]
[null,null,null,null,"ตราสารหนี้",null,{"$f":"D5848*F5852","v":0},null,{"$f":"$D5848*$F5852*H5852","v":0}]
[null,null,null,null,"อื่นๆ",null,{"$f":"D5848*F5853","v":0},null,{"$f":"$D5848*$F5853*H5853","v":0}]
[null,975,null,null,"ตราสารทุน",null,{"$f":"D5854*F5854","v":0},null,{"$f":"$D5854*$F5854*H5854","v":0},{"$f":"SUM(I5854:I5859)","v":0}]
[null,null,null,null,"อสังหาริมทรัพย์",null,{"$f":"D5854*F5855","v":0},null,{"$f":"$D5854*$F5855*H5855","v":0}]
[null,null,null,null,"สินค้าโภคภัณฑ์",null,{"$f":"D5854*F5856","v":0},null,{"$f":"$D5854*$F5856*H5856","v":0}]
[null,null,null,null,"เงินฝาก",null,{"$f":"D5854*F5857","v":0},null,{"$f":"$D5854*$F5857*H5857","v":0}]
[null,null,null,null,"ตราสารหนี้",null,{"$f":"D5854*F5858","v":0},null,{"$f":"$D5854*$F5858*H5858","v":0}]
[null,null,null,null,"อื่นๆ",null,{"$f":"D5854*F5859","v":0},null,{"$f":"$D5854*$F5859*H5859","v":0}]
[null,976,null,null,"ตราสารทุน",null,{"$f":"D5860*F5860","v":0},null,{"$f":"$D5860*$F5860*H5860","v":0},{"$f":"SUM(I5860:I5865)","v":0}]
[null,null,null,null,"อสังหาริมทรัพย์",null,{"$f":"D5860*F5861","v":0},null,{"$f":"$D5860*$F5861*H5861","v":0}]
[null,null,null,null,"สินค้าโภคภัณฑ์",null,{"$f":"D5860*F5862","v":0},null,{"$f":"$D5860*$F5862*H5862","v":0}]
[null,null,null,null,"เงินฝาก",null,{"$f":"D5860*F5863","v":0},null,{"$f":"$D5860*$F5863*H5863","v":0}]
[null,null,null,null,"ตราสารหนี้",null,{"$f":"D5860*F5864","v":0},null,{"$f":"$D5860*$F5864*H5864","v":0}]
[null,null,null,null,"อื่นๆ",null,{"$f":"D5860*F5865","v":0},null,{"$f":"$D5860*$F5865*H5865","v":0}]
[null,977,null,null,"ตราสารทุน",null,{"$f":"D5866*F5866","v":0},null,{"$f":"$D5866*$F5866*H5866","v":0},{"$f":"SUM(I5866:I5871)","v":0}]
[null,null,null,null,"อสังหาริมทรัพย์",null,{"$f":"D5866*F5867","v":0},null,{"$f":"$D5866*$F5867*H5867","v":0}]
[null,null,null,null,"สินค้าโภคภัณฑ์",null,{"$f":"D5866*F5868","v":0},null,{"$f":"$D5866*$F5868*H5868","v":0}]
[null,null,null,null,"เงินฝาก",null,{"$f":"D5866*F5869","v":0},null,{"$f":"$D5866*$F5869*H5869","v":0}]
[null,null,null,null,"ตราสารหนี้",null,{"$f":"D5866*F5870","v":0},null,{"$f":"$D5866*$F5870*H5870","v":0}]
[null,null,null,null,"อื่นๆ",null,{"$f":"D5866*F5871","v":0},null,{"$f":"$D5866*$F5871*H5871","v":0}]
[null,978,null,null,"ตราสารทุน",null,{"$f":"D5872*F5872","v":0},null,{"$f":"$D5872*$F5872*H5872","v":0},{"$f":"SUM(I5872:I5877)","v":0}]
[null,null,null,null,"อสังหาริมทรัพย์",null,{"$f":"D5872*F5873","v":0},null,{"$f":"$D5872*$F5873*H5873","v":0}]
[null,null,null,null,"สินค้าโภคภัณฑ์",null,{"$f":"D5872*F5874","v":0},null,{"$f":"$D5872*$F5874*H5874","v":0}]
[null,null,null,null,"เงินฝาก",null,{"$f":"D5872*F5875","v":0},null,{"$f":"$D5872*$F5875*H5875","v":0}]
[null,null,null,null,"ตราสารหนี้",null,{"$f":"D5872*F5876","v":0},null,{"$f":"$D5872*$F5876*H5876","v":0}]
[null,null,null,null,"อื่นๆ",null,{"$f":"D5872*F5877","v":0},null,{"$f":"$D5872*$F5877*H5877","v":0}]
[null,979,null,null,"ตราสารทุน",null,{"$f":"D5878*F5878","v":0},null,{"$f":"$D5878*$F5878*H5878","v":0},{"$f":"SUM(I5878:I5883)","v":0}]
[null,null,null,null,"อสังหาริมทรัพย์",null,{"$f":"D5878*F5879","v":0},null,{"$f":"$D5878*$F5879*H5879","v":0}]
[null,null,null,null,"สินค้าโภคภัณฑ์",null,{"$f":"D5878*F5880","v":0},null,{"$f":"$D5878*$F5880*H5880","v":0}]
[null,null,null,null,"เงินฝาก",null,{"$f":"D5878*F5881","v":0},null,{"$f":"$D5878*$F5881*H5881","v":0}]
[null,null,null,null,"ตราสารหนี้",null,{"$f":"D5878*F5882","v":0},null,{"$f":"$D5878*$F5882*H5882","v":0}]
[null,null,null,null,"อื่นๆ",null,{"$f":"D5878*F5883","v":0},null,{"$f":"$D5878*$F5883*H5883","v":0}]
[null,980,null,null,"ตราสารทุน",null,{"$f":"D5884*F5884","v":0},null,{"$f":"$D5884*$F5884*H5884","v":0},{"$f":"SUM(I5884:I5889)","v":0}]
[null,null,null,null,"อสังหาริมทรัพย์",null,{"$f":"D5884*F5885","v":0},null,{"$f":"$D5884*$F5885*H5885","v":0}]
[null,null,null,null,"สินค้าโภคภัณฑ์",null,{"$f":"D5884*F5886","v":0},null,{"$f":"$D5884*$F5886*H5886","v":0}]
[null,null,null,null,"เงินฝาก",null,{"$f":"D5884*F5887","v":0},null,{"$f":"$D5884*$F5887*H5887","v":0}]
[null,null,null,null,"ตราสารหนี้",null,{"$f":"D5884*F5888","v":0},null,{"$f":"$D5884*$F5888*H5888","v":0}]
[null,null,null,null,"อื่นๆ",null,{"$f":"D5884*F5889","v":0},null,{"$f":"$D5884*$F5889*H5889","v":0}]
[null,981,null,null,"ตราสารทุน",null,{"$f":"D5890*F5890","v":0},null,{"$f":"$D5890*$F5890*H5890","v":0},{"$f":"SUM(I5890:I5895)","v":0}]
[null,null,null,null,"อสังหาริมทรัพย์",null,{"$f":"D5890*F5891","v":0},null,{"$f":"$D5890*$F5891*H5891","v":0}]
[null,null,null,null,"สินค้าโภคภัณฑ์",null,{"$f":"D5890*F5892","v":0},null,{"$f":"$D5890*$F5892*H5892","v":0}]
[null,null,null,null,"เงินฝาก",null,{"$f":"D5890*F5893","v":0},null,{"$f":"$D5890*$F5893*H5893","v":0}]
[null,null,null,null,"ตราสารหนี้",null,{"$f":"D5890*F5894","v":0},null,{"$f":"$D5890*$F5894*H5894","v":0}]
[null,null,null,null,"อื่นๆ",null,{"$f":"D5890*F5895","v":0},null,{"$f":"$D5890*$F5895*H5895","v":0}]
[null,982,null,null,"ตราสารทุน",null,{"$f":"D5896*F5896","v":0},null,{"$f":"$D5896*$F5896*H5896","v":0},{"$f":"SUM(I5896:I5901)","v":0}]
[null,null,null,null,"อสังหาริมทรัพย์",null,{"$f":"D5896*F5897","v":0},null,{"$f":"$D5896*$F5897*H5897","v":0}]
[null,null,null,null,"สินค้าโภคภัณฑ์",null,{"$f":"D5896*F5898","v":0},null,{"$f":"$D5896*$F5898*H5898","v":0}]
[null,null,null,null,"เงินฝาก",null,{"$f":"D5896*F5899","v":0},null,{"$f":"$D5896*$F5899*H5899","v":0}]
[null,null,null,null,"ตราสารหนี้",null,{"$f":"D5896*F5900","v":0},null,{"$f":"$D5896*$F5900*H5900","v":0}]
[null,null,null,null,"อื่นๆ",null,{"$f":"D5896*F5901","v":0},null,{"$f":"$D5896*$F5901*H5901","v":0}]
[null,983,null,null,"ตราสารทุน",null,{"$f":"D5902*F5902","v":0},null,{"$f":"$D5902*$F5902*H5902","v":0},{"$f":"SUM(I5902:I5907)","v":0}]
[null,null,null,null,"อสังหาริมทรัพย์",null,{"$f":"D5902*F5903","v":0},null,{"$f":"$D5902*$F5903*H5903","v":0}]
[null,null,null,null,"สินค้าโภคภัณฑ์",null,{"$f":"D5902*F5904","v":0},null,{"$f":"$D5902*$F5904*H5904","v":0}]
[null,null,null,null,"เงินฝาก",null,{"$f":"D5902*F5905","v":0},null,{"$f":"$D5902*$F5905*H5905","v":0}]
[null,null,null,null,"ตราสารหนี้",null,{"$f":"D5902*F5906","v":0},null,{"$f":"$D5902*$F5906*H5906","v":0}]
[null,null,null,null,"อื่นๆ",null,{"$f":"D5902*F5907","v":0},null,{"$f":"$D5902*$F5907*H5907","v":0}]
[null,984,null,null,"ตราสารทุน",null,{"$f":"D5908*F5908","v":0},null,{"$f":"$D5908*$F5908*H5908","v":0},{"$f":"SUM(I5908:I5913)","v":0}]
[null,null,null,null,"อสังหาริมทรัพย์",null,{"$f":"D5908*F5909","v":0},null,{"$f":"$D5908*$F5909*H5909","v":0}]
[null,null,null,null,"สินค้าโภคภัณฑ์",null,{"$f":"D5908*F5910","v":0},null,{"$f":"$D5908*$F5910*H5910","v":0}]
[null,null,null,null,"เงินฝาก",null,{"$f":"D5908*F5911","v":0},null,{"$f":"$D5908*$F5911*H5911","v":0}]
[null,null,null,null,"ตราสารหนี้",null,{"$f":"D5908*F5912","v":0},null,{"$f":"$D5908*$F5912*H5912","v":0}]
[null,null,null,null,"อื่นๆ",null,{"$f":"D5908*F5913","v":0},null,{"$f":"$D5908*$F5913*H5913","v":0}]
[null,985,null,null,"ตราสารทุน",null,{"$f":"D5914*F5914","v":0},null,{"$f":"$D5914*$F5914*H5914","v":0},{"$f":"SUM(I5914:I5919)","v":0}]
[null,null,null,null,"อสังหาริมทรัพย์",null,{"$f":"D5914*F5915","v":0},null,{"$f":"$D5914*$F5915*H5915","v":0}]
[null,null,null,null,"สินค้าโภคภัณฑ์",null,{"$f":"D5914*F5916","v":0},null,{"$f":"$D5914*$F5916*H5916","v":0}]
[null,null,null,null,"เงินฝาก",null,{"$f":"D5914*F5917","v":0},null,{"$f":"$D5914*$F5917*H5917","v":0}]
[null,null,null,null,"ตราสารหนี้",null,{"$f":"D5914*F5918","v":0},null,{"$f":"$D5914*$F5918*H5918","v":0}]
[null,null,null,null,"อื่นๆ",null,{"$f":"D5914*F5919","v":0},null,{"$f":"$D5914*$F5919*H5919","v":0}]
[null,986,null,null,"ตราสารทุน",null,{"$f":"D5920*F5920","v":0},null,{"$f":"$D5920*$F5920*H5920","v":0},{"$f":"SUM(I5920:I5925)","v":0}]
[null,null,null,null,"อสังหาริมทรัพย์",null,{"$f":"D5920*F5921","v":0},null,{"$f":"$D5920*$F5921*H5921","v":0}]
[null,null,null,null,"สินค้าโภคภัณฑ์",null,{"$f":"D5920*F5922","v":0},null,{"$f":"$D5920*$F5922*H5922","v":0}]
[null,null,null,null,"เงินฝาก",null,{"$f":"D5920*F5923","v":0},null,{"$f":"$D5920*$F5923*H5923","v":0}]
[null,null,null,null,"ตราสารหนี้",null,{"$f":"D5920*F5924","v":0},null,{"$f":"$D5920*$F5924*H5924","v":0}]
[null,null,null,null,"อื่นๆ",null,{"$f":"D5920*F5925","v":0},null,{"$f":"$D5920*$F5925*H5925","v":0}]
[null,987,null,null,"ตราสารทุน",null,{"$f":"D5926*F5926","v":0},null,{"$f":"$D5926*$F5926*H5926","v":0},{"$f":"SUM(I5926:I5931)","v":0}]
[null,null,null,null,"อสังหาริมทรัพย์",null,{"$f":"D5926*F5927","v":0},null,{"$f":"$D5926*$F5927*H5927","v":0}]
[null,null,null,null,"สินค้าโภคภัณฑ์",null,{"$f":"D5926*F5928","v":0},null,{"$f":"$D5926*$F5928*H5928","v":0}]
[null,null,null,null,"เงินฝาก",null,{"$f":"D5926*F5929","v":0},null,{"$f":"$D5926*$F5929*H5929","v":0}]
[null,null,null,null,"ตราสารหนี้",null,{"$f":"D5926*F5930","v":0},null,{"$f":"$D5926*$F5930*H5930","v":0}]
[null,null,null,null,"อื่นๆ",null,{"$f":"D5926*F5931","v":0},null,{"$f":"$D5926*$F5931*H5931","v":0}]
[null,988,null,null,"ตราสารทุน",null,{"$f":"D5932*F5932","v":0},null,{"$f":"$D5932*$F5932*H5932","v":0},{"$f":"SUM(I5932:I5937)","v":0}]
[null,null,null,null,"อสังหาริมทรัพย์",null,{"$f":"D5932*F5933","v":0},null,{"$f":"$D5932*$F5933*H5933","v":0}]
[null,null,null,null,"สินค้าโภคภัณฑ์",null,{"$f":"D5932*F5934","v":0},null,{"$f":"$D5932*$F5934*H5934","v":0}]
[null,null,null,null,"เงินฝาก",null,{"$f":"D5932*F5935","v":0},null,{"$f":"$D5932*$F5935*H5935","v":0}]
[null,null,null,null,"ตราสารหนี้",null,{"$f":"D5932*F5936","v":0},null,{"$f":"$D5932*$F5936*H5936","v":0}]
[null,null,null,null,"อื่นๆ",null,{"$f":"D5932*F5937","v":0},null,{"$f":"$D5932*$F5937*H5937","v":0}]
[null,989,null,null,"ตราสารทุน",null,{"$f":"D5938*F5938","v":0},null,{"$f":"$D5938*$F5938*H5938","v":0},{"$f":"SUM(I5938:I5943)","v":0}]
[null,null,null,null,"อสังหาริมทรัพย์",null,{"$f":"D5938*F5939","v":0},null,{"$f":"$D5938*$F5939*H5939","v":0}]
[null,null,null,null,"สินค้าโภคภัณฑ์",null,{"$f":"D5938*F5940","v":0},null,{"$f":"$D5938*$F5940*H5940","v":0}]
[null,null,null,null,"เงินฝาก",null,{"$f":"D5938*F5941","v":0},null,{"$f":"$D5938*$F5941*H5941","v":0}]
[null,null,null,null,"ตราสารหนี้",null,{"$f":"D5938*F5942","v":0},null,{"$f":"$D5938*$F5942*H5942","v":0}]
[null,null,null,null,"อื่นๆ",null,{"$f":"D5938*F5943","v":0},null,{"$f":"$D5938*$F5943*H5943","v":0}]
[null,990,null,null,"ตราสารทุน",null,{"$f":"D5944*F5944","v":0},null,{"$f":"$D5944*$F5944*H5944","v":0},{"$f":"SUM(I5944:I5949)","v":0}]
[null,null,null,null,"อสังหาริมทรัพย์",null,{"$f":"D5944*F5945","v":0},null,{"$f":"$D5944*$F5945*H5945","v":0}]
[null,null,null,null,"สินค้าโภคภัณฑ์",null,{"$f":"D5944*F5946","v":0},null,{"$f":"$D5944*$F5946*H5946","v":0}]
[null,null,null,null,"เงินฝาก",null,{"$f":"D5944*F5947","v":0},null,{"$f":"$D5944*$F5947*H5947","v":0}]
[null,null,null,null,"ตราสารหนี้",null,{"$f":"D5944*F5948","v":0},null,{"$f":"$D5944*$F5948*H5948","v":0}]
[null,null,null,null,"อื่นๆ",null,{"$f":"D5944*F5949","v":0},null,{"$f":"$D5944*$F5949*H5949","v":0}]
[null,991,null,null,"ตราสารทุน",null,{"$f":"D5950*F5950","v":0},null,{"$f":"$D5950*$F5950*H5950","v":0},{"$f":"SUM(I5950:I5955)","v":0}]
[null,null,null,null,"อสังหาริมทรัพย์",null,{"$f":"D5950*F5951","v":0},null,{"$f":"$D5950*$F5951*H5951","v":0}]
[null,null,null,null,"สินค้าโภคภัณฑ์",null,{"$f":"D5950*F5952","v":0},null,{"$f":"$D5950*$F5952*H5952","v":0}]
[null,null,null,null,"เงินฝาก",null,{"$f":"D5950*F5953","v":0},null,{"$f":"$D5950*$F5953*H5953","v":0}]
[null,null,null,null,"ตราสารหนี้",null,{"$f":"D5950*F5954","v":0},null,{"$f":"$D5950*$F5954*H5954","v":0}]
[null,null,null,null,"อื่นๆ",null,{"$f":"D5950*F5955","v":0},null,{"$f":"$D5950*$F5955*H5955","v":0}]
[null,992,null,null,"ตราสารทุน",null,{"$f":"D5956*F5956","v":0},null,{"$f":"$D5956*$F5956*H5956","v":0},{"$f":"SUM(I5956:I5961)","v":0}]
[null,null,null,null,"อสังหาริมทรัพย์",null,{"$f":"D5956*F5957","v":0},null,{"$f":"$D5956*$F5957*H5957","v":0}]
[null,null,null,null,"สินค้าโภคภัณฑ์",null,{"$f":"D5956*F5958","v":0},null,{"$f":"$D5956*$F5958*H5958","v":0}]
[null,null,null,null,"เงินฝาก",null,{"$f":"D5956*F5959","v":0},null,{"$f":"$D5956*$F5959*H5959","v":0}]
[null,null,null,null,"ตราสารหนี้",null,{"$f":"D5956*F5960","v":0},null,{"$f":"$D5956*$F5960*H5960","v":0}]
[null,null,null,null,"อื่นๆ",null,{"$f":"D5956*F5961","v":0},null,{"$f":"$D5956*$F5961*H5961","v":0}]
[null,993,null,null,"ตราสารทุน",null,{"$f":"D5962*F5962","v":0},null,{"$f":"$D5962*$F5962*H5962","v":0},{"$f":"SUM(I5962:I5967)","v":0}]
[null,null,null,null,"อสังหาริมทรัพย์",null,{"$f":"D5962*F5963","v":0},null,{"$f":"$D5962*$F5963*H5963","v":0}]
[null,null,null,null,"สินค้าโภคภัณฑ์",null,{"$f":"D5962*F5964","v":0},null,{"$f":"$D5962*$F5964*H5964","v":0}]
[null,null,null,null,"เงินฝาก",null,{"$f":"D5962*F5965","v":0},null,{"$f":"$D5962*$F5965*H5965","v":0}]
[null,null,null,null,"ตราสารหนี้",null,{"$f":"D5962*F5966","v":0},null,{"$f":"$D5962*$F5966*H5966","v":0}]
[null,null,null,null,"อื่นๆ",null,{"$f":"D5962*F5967","v":0},null,{"$f":"$D5962*$F5967*H5967","v":0}]
[null,994,null,null,"ตราสารทุน",null,{"$f":"D5968*F5968","v":0},null,{"$f":"$D5968*$F5968*H5968","v":0},{"$f":"SUM(I5968:I5973)","v":0}]
[null,null,null,null,"อสังหาริมทรัพย์",null,{"$f":"D5968*F5969","v":0},null,{"$f":"$D5968*$F5969*H5969","v":0}]
[null,null,null,null,"สินค้าโภคภัณฑ์",null,{"$f":"D5968*F5970","v":0},null,{"$f":"$D5968*$F5970*H5970","v":0}]
[null,null,null,null,"เงินฝาก",null,{"$f":"D5968*F5971","v":0},null,{"$f":"$D5968*$F5971*H5971","v":0}]
[null,null,null,null,"ตราสารหนี้",null,{"$f":"D5968*F5972","v":0},null,{"$f":"$D5968*$F5972*H5972","v":0}]
[null,null,null,null,"อื่นๆ",null,{"$f":"D5968*F5973","v":0},null,{"$f":"$D5968*$F5973*H5973","v":0}]
[null,995,null,null,"ตราสารทุน",null,{"$f":"D5974*F5974","v":0},null,{"$f":"$D5974*$F5974*H5974","v":0},{"$f":"SUM(I5974:I5979)","v":0}]
[null,null,null,null,"อสังหาริมทรัพย์",null,{"$f":"D5974*F5975","v":0},null,{"$f":"$D5974*$F5975*H5975","v":0}]
[null,null,null,null,"สินค้าโภคภัณฑ์",null,{"$f":"D5974*F5976","v":0},null,{"$f":"$D5974*$F5976*H5976","v":0}]
[null,null,null,null,"เงินฝาก",null,{"$f":"D5974*F5977","v":0},null,{"$f":"$D5974*$F5977*H5977","v":0}]
[null,null,null,null,"ตราสารหนี้",null,{"$f":"D5974*F5978","v":0},null,{"$f":"$D5974*$F5978*H5978","v":0}]
[null,null,null,null,"อื่นๆ",null,{"$f":"D5974*F5979","v":0},null,{"$f":"$D5974*$F5979*H5979","v":0}]
[null,996,null,null,"ตราสารทุน",null,{"$f":"D5980*F5980","v":0},null,{"$f":"$D5980*$F5980*H5980","v":0},{"$f":"SUM(I5980:I5985)","v":0}]
[null,null,null,null,"อสังหาริมทรัพย์",null,{"$f":"D5980*F5981","v":0},null,{"$f":"$D5980*$F5981*H5981","v":0}]
[null,null,null,null,"สินค้าโภคภัณฑ์",null,{"$f":"D5980*F5982","v":0},null,{"$f":"$D5980*$F5982*H5982","v":0}]
[null,null,null,null,"เงินฝาก",null,{"$f":"D5980*F5983","v":0},null,{"$f":"$D5980*$F5983*H5983","v":0}]
[null,null,null,null,"ตราสารหนี้",null,{"$f":"D5980*F5984","v":0},null,{"$f":"$D5980*$F5984*H5984","v":0}]
[null,null,null,null,"อื่นๆ",null,{"$f":"D5980*F5985","v":0},null,{"$f":"$D5980*$F5985*H5985","v":0}]
[null,997,null,null,"ตราสารทุน",null,{"$f":"D5986*F5986","v":0},null,{"$f":"$D5986*$F5986*H5986","v":0},{"$f":"SUM(I5986:I5991)","v":0}]
[null,null,null,null,"อสังหาริมทรัพย์",null,{"$f":"D5986*F5987","v":0},null,{"$f":"$D5986*$F5987*H5987","v":0}]
[null,null,null,null,"สินค้าโภคภัณฑ์",null,{"$f":"D5986*F5988","v":0},null,{"$f":"$D5986*$F5988*H5988","v":0}]
[null,null,null,null,"เงินฝาก",null,{"$f":"D5986*F5989","v":0},null,{"$f":"$D5986*$F5989*H5989","v":0}]
[null,null,null,null,"ตราสารหนี้",null,{"$f":"D5986*F5990","v":0},null,{"$f":"$D5986*$F5990*H5990","v":0}]
[null,null,null,null,"อื่นๆ",null,{"$f":"D5986*F5991","v":0},null,{"$f":"$D5986*$F5991*H5991","v":0}]
[null,998,null,null,"ตราสารทุน",null,{"$f":"D5992*F5992","v":0},null,{"$f":"$D5992*$F5992*H5992","v":0},{"$f":"SUM(I5992:I5997)","v":0}]
[null,null,null,null,"อสังหาริมทรัพย์",null,{"$f":"D5992*F5993","v":0},null,{"$f":"$D5992*$F5993*H5993","v":0}]
[null,null,null,null,"สินค้าโภคภัณฑ์",null,{"$f":"D5992*F5994","v":0},null,{"$f":"$D5992*$F5994*H5994","v":0}]
[null,null,null,null,"เงินฝาก",null,{"$f":"D5992*F5995","v":0},null,{"$f":"$D5992*$F5995*H5995","v":0}]
[null,null,null,null,"ตราสารหนี้",null,{"$f":"D5992*F5996","v":0},null,{"$f":"$D5992*$F5996*H5996","v":0}]
[null,null,null,null,"อื่นๆ",null,{"$f":"D5992*F5997","v":0},null,{"$f":"$D5992*$F5997*H5997","v":0}]
[null,999,null,null,"ตราสารทุน",null,{"$f":"D5998*F5998","v":0},null,{"$f":"$D5998*$F5998*H5998","v":0},{"$f":"SUM(I5998:I6003)","v":0}]
[null,null,null,null,"อสังหาริมทรัพย์",null,{"$f":"D5998*F5999","v":0},null,{"$f":"$D5998*$F5999*H5999","v":0}]
[null,null,null,null,"สินค้าโภคภัณฑ์",null,{"$f":"D5998*F6000","v":0},null,{"$f":"$D5998*$F6000*H6000","v":0}]
[null,null,null,null,"เงินฝาก",null,{"$f":"D5998*F6001","v":0},null,{"$f":"$D5998*$F6001*H6001","v":0}]
[null,null,null,null,"ตราสารหนี้",null,{"$f":"D5998*F6002","v":0},null,{"$f":"$D5998*$F6002*H6002","v":0}]
[null,null,null,null,"อื่นๆ",null,{"$f":"D5998*F6003","v":0},null,{"$f":"$D5998*$F6003*H6003","v":0}]
[null,1000,null,null,"ตราสารทุน",null,{"$f":"D6004*F6004","v":0},null,{"$f":"$D6004*$F6004*H6004","v":0},{"$f":"SUM(I6004:I6009)","v":0}]
[null,null,null,null,"อสังหาริมทรัพย์",null,{"$f":"D6004*F6005","v":0},null,{"$f":"$D6004*$F6005*H6005","v":0}]
[null,null,null,null,"สินค้าโภคภัณฑ์",null,{"$f":"D6004*F6006","v":0},null,{"$f":"$D6004*$F6006*H6006","v":0}]
[null,null,null,null,"เงินฝาก",null,{"$f":"D6004*F6007","v":0},null,{"$f":"$D6004*$F6007*H6007","v":0}]
[null,null,null,null,"ตราสารหนี้",null,{"$f":"D6004*F6008","v":0},null,{"$f":"$D6004*$F6008*H6008","v":0}]
[null,null,null,null,"อื่นๆ",null,{"$f":"D6004*F6009","v":0},null,{"$f":"$D6004*$F6009*H6009","v":0}]
[null,1001,"รวม",{"$f":"SUM(D10:D6009)","v":0},"ตราสารทุน",null,{"$f":"SUMIF($E$10:$E$6009,E6010,$G$10:$G$6009)","v":0},"ตราสารทุน",{"$f":"SUMIF($E$10:$E$6009,H6010,$I$10:$I$6009)","v":0},{"$f":"SUM($J$10:$J$6009)","v":0}]
[null,null,null,null,"อสังหาริมทรัพย์",null,0,"อสังหาริมทรัพย์",0]
[null,null,null,null,"สินค้าโภคภัณฑ์",null,0,"สินค้าโภคภัณฑ์",0]
[null,null,null,null,"เงินฝาก",null,0,"เงินฝาก",0]
[null,null,null,null,"ตราสารหนี้",null,0,"ตราสารหนี้",0]
[null,null,null,null,"อื่นๆ",null,0,"อื่นๆ",0]
[]
[]
[]
[]
[null,"ตารางที่ 5.6.2 เงินกองทุนสำหรับความเสี่ยงด้านตลาดจากราคาหน่วยลงทุน ที่ได้รับการป้องกันความเสี่ยงด้านตลาดสำหรับราคาตราสารทุน",null,null,null,null,null,null,null,"บาท",null,"ตารางที่ 5.6.3 รายละเอียดการพิจารณาประสิทธิภาพในการป้องกันความเสี่ยง และการคำนวณเงินกองทุนสำหรับความเสี่ยงด้านตลาดจากราคาตราสารทุนในพอร์ตการลงทุนที่ได้รับการป้องกันความเสี่ยง (hedged portfolio) ของหน่วยลงทุน",null,null,null,null,null,null,null,null,null,null,null,null,null,null,null,null,null,null,null,null,null,null,null,"บาท"]
[null,"ลำดับที่","ชื่อหน่วยลงทุน และชื่อผู้จัดการหน่วยลงทุน","ความเสี่ยงภัยทั้งหมด","การแบ่งประเภทของเงินทุน หรือการจัดสรรสินทรัพย์",null,"มูลค่าสินทรัพย์แต่ละประเภท","ร้อยละของค่าความเสี่ยง","เงินกองทุนตามระดับความเสี่ยงแยกตามประเภทของสินทรัพย์ในหน่วยลงทุน","เงินกองทุนตามระดับ\nความเสี่ยง",null,"ลำดับที่","พอร์ตการลงทุนในตราสารทุนที่ต้องการป้องกันความเสี่ยง",null,null,null,"มูลค่าของตราสารทุน\nแต่ละประเภท","เครื่องมือป้องกันความเสี่ยง",null,"รายละเอียดของพอร์ตการลงทุนในตราสารทุนที่ต้องการป้องกันความเสี่ยง เครื่องมือป้องกันความเสี่ยง และกลยุทธในการป้องกันความเสี่ยง",null,"การพิจารณาประสิทธิภาพในการป้องกันความเสี่ยง (ตามประกาศ คปภ. ว่าด้วยการคำนวณเงินกองทุนของบริษัทประกันชีวิต)",null,null,null,null,null,"มูลค่าที่ได้รับ\nการป้องกันความเสี่ยง \n(hedged exposure)","มูลค่าที่ได้รับ\nการป้องกันความเสี่ยง \n(hedged exposure)\nแยกตามประเภทของตราสารทุน","มูลค่าสุทธิ\n(net exposure)","มูลค่าสุทธิ\n(net exposure)\nแยกตามประเภทของตราสารทุน","Over-hedged position","Over-hedged position\nแยกตามประเภทของตราสารทุน","ค่าความเสี่ยง","เงินกองทุนตามระดับความเสี่ยงแยกตามประเภทของตราสารทุน","เงินกองทุนตามระดับความเสี่ยง"]
[null,null,null,null,"ประเภท","ร้อยละของกองทุน",null,null,null,null,null,null,"การแบ่งประเภทของตราสารทุน",null,null,null,null,"ชื่อย่อสัญญา ตลาดที่ทำการซื้อขาย/ชื่อคู่สัญญา \nและประเทศ","มูลค่าตลาดของสินทรัพย์อ้างอิง\nของเครื่องมือป้องกันความเสี่ยง \n(underlying asset) ",null,null,"regression analysis verification",null,null,null,"coverage ratio verification"]
[null,null,null,null,null,null,null,null,null,null,null,null,"ประเภท",null,null,"ร้อยละ",null,null,null,null,null,"มีข้อมูลเพียงพอในการทำ regression analysis หรือไม่","สินทรัพย์อ้างอิงของ\nเครื่องมือป้องกันความเสี่ยง\nตรงกับพอร์ตการลงทุน\nที่ต้องการป้องกันความเสี่ยง","ค่าความชัน (slope) \nของ line of best fit ","ค่าสัมประสิทธิ์สหสัมพันธ์ (correlation coefficient)","มูลค่าของพอร์ตการลงทุนส่วนที่ต้องการป้องกันความเสี่ยงหารด้วยมูลค่าของสินทรัพย์อ้างอิงของเครื่องมือป้องกันความเสี่ยง ","มูลค่าของสินทรัพย์อ้างอิงของเครื่องมือป้องกันความเสี่ยงหารด้วยมูลค่าของพอร์ตการลงทุนส่วนที่ต้องการป้องกันความเสี่ยง "]
[null,1,null,null,"ตราสารทุน",null,{"$f":"D6024*F6024","v":0},null,{"$f":"$AJ6024","v":0},{"$f":"SUM(I6024:I6029)","v":0},null,1,"(1) ตราสารทุนที่จดทะเบียนในตลาดหลักทรัพย์แห่งประเทศไทย และตลาดหลักทรัพย์ เอ็ม เอ ไอ",null,null,null,{"$f":"G6024*$P6024","v":0},null,null,null,null,null,null,null,null,{"$f":"IF(AND(SUM($Q6024:$Q6027)=0,$S6024=\"\"),\"\",SUM($Q6024:$Q6027)/$S6024)","v":""},{"$f":"IF(AND(SUM($Q6024:$Q6027)=0,$S6024=\"\"),\"\",$S6024/SUM($Q6024:$Q6027))","v":""},{"$f":"IF(G6024=\"\",0,IF(V6024=\"ใช่\",IF(AND(X6024<=-0.8,X6024>=-1.25,Y6024<=-0.9,Y6024>=-1,Z6024>=0.95,AA6024>=0.95),MIN(SUM(Q6024:Q6026),S6024),0),IF(W6024=\"ใช่\",IF(AND(Z6024>=0.95,AA6024>=0.95),MIN(SUM(Q6024:Q6026),S6024),0),0)))","v":0},{"$f":"IF(AB6024=0,0,IF(AH6024=0.25,IF(SUM(Q6024:Q6025)>AB6024,AB6024*(Q6024/SUM(Q6024:Q6025)),Q6024),IF(AB6024>SUM(AC6024:AC6025),AB6024-SUM(AC6024:AC6025),0)))","v":0},{"$f":"SUM(AE6024:AE6027)","v":0},{"$f":"Q6024-AC6024","v":0},{"$f":"IF(G6024=\"\",0,IF(V6024=\"ใช่\",IF(AND(X6024<=-0.8,X6024>=-1.25,Y6024<=-0.9,Y6024>=-1,Z6024>=0.95,AA6024>=0.95),0,MAX(S6024-SUM(AE6024:AE6027),0)),IF(W6024=\"ใช่\",IF(AND(Z6024>=0.95,AA6024>=0.95),0,MAX(S6024-SUM(AE6024:AE6027),0)),MAX(S6024-SUM(AE6024:AE6027),0))))","v":0},{"$f":"IF(AF6024=0,0,AF6024*$Q6024/SUM(Q6024:Q6026))","v":0},0.25,{"$f":"AE6024*AH6024+AG6024","v":0},{"$f":"SUM(AI6024:AI6027)","v":0}]
[null,null,null,null,"อสังหาริมทรัพย์",null,{"$f":"D6024*F6025","v":0},null,{"$f":"$D6024*$F6025*H6025","v":0},null,null,null,"(2) ตราสารทุนที่จดทะเบียนในตลาดหลักทรัพย์อื่น และอยู่ในดัชนีตลาดหลักทรัพย์ตามที่กำหนดไว้",null,null,null,{"$f":"G6024*$P6025","v":0},null,null,null,null,null,null,null,null,null,null,null,{"$f":"IF(AB6024=0,0,IF(AH6025=0.25,IF(SUM(Q6024:Q6025)>AB6024,AB6024*(Q6025/SUM(Q6024:Q6025)),Q6025),IF(AB6024>SUM(AC6024:AC6025),AB6024-SUM(AC6024:AC6025),0)))","v":0},null,{"$f":"Q6025-AC6025","v":0},null,{"$f":"IF(AF6024=0,0,AF6024*Q6025/SUM(Q6024:Q6026))","v":0},0.25,{"$f":"AE6025*AH6025+AG6025","v":0}]
[null,null,null,null,"สินค้าโภคภัณฑ์",null,{"$f":"D6024*F6026","v":0},null,{"$f":"$D6024*$F6026*H6026","v":0},null,null,null,"(3) ตราสารทุนที่จดทะเบียนในตลาดหลักทรัพย์อื่น แต่ไม่อยู่ในดัชนีตลาดหลักทรัพย์ตามที่กำหนดไว้ในตาราง",null,null,null,{"$f":"G6024*$P6026","v":0},null,null,null,null,null,null,null,null,null,null,null,{"$f":"IF(AB6024=0,0,IF(AH6026=0.25,IF(SUM(Q6024:Q6025)>AB6024,AB6024*(Q6026/SUM(Q6024:Q6025)),Q6026),IF(AB6024>SUM(AC6024:AC6025),AB6024-SUM(AC6024:AC6025),0)))","v":0},null,{"$f":"Q6026-AC6026","v":0},null,{"$f":"IF(AF6024=0,0,AF6024*Q6026/SUM(Q6024:Q6026))","v":0},0.35,0]
[null,null,null,null,"เงินฝาก",null,{"$f":"D6024*F6027","v":0},null,{"$f":"$D6024*$F6027*H6027","v":0},null,null,null,"(4) ตราสารทุนอื่น นอกเหนือจาก (1) ถึง (3)",null,null,null,{"$f":"G6024*$P6027","v":0},null,null,null,null,null,null,null,null,null,null,null,null,null,{"$f":"Q6027-AC6027","v":0},null,null,0.5,0]
[null,null,null,null,"ตราสารหนี้",null,{"$f":"D6024*F6028","v":0},null,{"$f":"$D6024*$F6028*H6028","v":0}]
[null,null,null,null,"อื่นๆ",null,{"$f":"D6024*F6029","v":0},null,{"$f":"$D6024*$F6029*H6029","v":0}]
[null,2,null,null,"ตราสารทุน",null,{"$f":"D6030*F6030","v":0},null,{"$f":"$AJ6030","v":0},{"$f":"SUM(I6030:I6035)","v":0},null,2,"(1) ตราสารทุนที่จดทะเบียนในตลาดหลักทรัพย์แห่งประเทศไทย และตลาดหลักทรัพย์ เอ็ม เอ ไอ",null,null,null,{"$f":"G6030*$P6030","v":0},null,null,null,null,null,null,null,null,{"$f":"IF(AND(SUM($Q6030:$Q6033)=0,$S6030=\"\"),\"\",SUM($Q6030:$Q6033)/$S6030)","v":""},{"$f":"IF(AND(SUM($Q6030:$Q6033)=0,$S6030=\"\"),\"\",$S6030/SUM($Q6030:$Q6033))","v":""},{"$f":"IF(G6030=\"\",0,IF(V6030=\"ใช่\",IF(AND(X6030<=-0.8,X6030>=-1.25,Y6030<=-0.9,Y6030>=-1,Z6030>=0.95,AA6030>=0.95),MIN(SUM(Q6030:Q6032),S6030),0),IF(W6030=\"ใช่\",IF(AND(Z6030>=0.95,AA6030>=0.95),MIN(SUM(Q6030:Q6032),S6030),0),0)))","v":0},{"$f":"IF(AB6030=0,0,IF(AH6030=0.25,IF(SUM(Q6030:Q6031)>AB6030,AB6030*(Q6030/SUM(Q6030:Q6031)),Q6030),IF(AB6030>SUM(AC6030:AC6031),AB6030-SUM(AC6030:AC6031),0)))","v":0},{"$f":"SUM(AE6030:AE6033)","v":0},{"$f":"Q6030-AC6030","v":0},{"$f":"IF(G6030=\"\",0,IF(V6030=\"ใช่\",IF(AND(X6030<=-0.8,X6030>=-1.25,Y6030<=-0.9,Y6030>=-1,Z6030>=0.95,AA6030>=0.95),0,MAX(S6030-SUM(AE6030:AE6033),0)),IF(W6030=\"ใช่\",IF(AND(Z6030>=0.95,AA6030>=0.95),0,MAX(S6030-SUM(AE6030:AE6033),0)),MAX(S6030-SUM(AE6030:AE6033),0))))","v":0},{"$f":"IF(AF6030=0,0,AF6030*$Q6030/SUM(Q6030:Q6032))","v":0},0.25,{"$f":"AE6030*AH6030+AG6030","v":0},{"$f":"SUM(AI6030:AI6033)","v":0}]
[null,null,null,null,"อสังหาริมทรัพย์",null,{"$f":"D6030*F6031","v":0},null,{"$f":"$D6030*$F6031*H6031","v":0},null,null,null,"(2) ตราสารทุนที่จดทะเบียนในตลาดหลักทรัพย์อื่น และอยู่ในดัชนีตลาดหลักทรัพย์ตามที่กำหนดไว้",null,null,null,{"$f":"G6030*$P6031","v":0},null,null,null,null,null,null,null,null,null,null,null,{"$f":"IF(AB6030=0,0,IF(AH6031=0.25,IF(SUM(Q6030:Q6031)>AB6030,AB6030*(Q6031/SUM(Q6030:Q6031)),Q6031),IF(AB6030>SUM(AC6030:AC6031),AB6030-SUM(AC6030:AC6031),0)))","v":0},null,{"$f":"Q6031-AC6031","v":0},null,{"$f":"IF(AF6030=0,0,AF6030*Q6031/SUM(Q6030:Q6032))","v":0},0.25,{"$f":"AE6031*AH6031+AG6031","v":0}]
[null,null,null,null,"สินค้าโภคภัณฑ์",null,{"$f":"D6030*F6032","v":0},null,{"$f":"$D6030*$F6032*H6032","v":0},null,null,null,"(3) ตราสารทุนที่จดทะเบียนในตลาดหลักทรัพย์อื่น แต่ไม่อยู่ในดัชนีตลาดหลักทรัพย์ตามที่กำหนดไว้ในตาราง",null,null,null,{"$f":"G6030*$P6032","v":0},null,null,null,null,null,null,null,null,null,null,null,{"$f":"IF(AB6030=0,0,IF(AH6032=0.25,IF(SUM(Q6030:Q6031)>AB6030,AB6030*(Q6032/SUM(Q6030:Q6031)),Q6032),IF(AB6030>SUM(AC6030:AC6031),AB6030-SUM(AC6030:AC6031),0)))","v":0},null,{"$f":"Q6032-AC6032","v":0},null,{"$f":"IF(AF6030=0,0,AF6030*Q6032/SUM(Q6030:Q6032))","v":0},0.35,0]
[null,null,null,null,"เงินฝาก",null,{"$f":"D6030*F6033","v":0},null,{"$f":"$D6030*$F6033*H6033","v":0},null,null,null,"(4) ตราสารทุนอื่น นอกเหนือจาก (1) ถึง (3)",null,null,null,{"$f":"G6030*$P6033","v":0},null,null,null,null,null,null,null,null,null,null,null,null,null,{"$f":"Q6033-AC6033","v":0},null,null,0.5,0]
[null,null,null,null,"ตราสารหนี้",null,{"$f":"D6030*F6034","v":0},null,{"$f":"$D6030*$F6034*H6034","v":0}]
[null,null,null,null,"อื่นๆ",null,{"$f":"D6030*F6035","v":0},null,{"$f":"$D6030*$F6035*H6035","v":0}]
[null,3,null,null,"ตราสารทุน",null,{"$f":"D6036*F6036","v":0},null,{"$f":"$AJ6036","v":0},{"$f":"SUM(I6036:I6041)","v":0},null,3,"(1) ตราสารทุนที่จดทะเบียนในตลาดหลักทรัพย์แห่งประเทศไทย และตลาดหลักทรัพย์ เอ็ม เอ ไอ",null,null,null,{"$f":"G6036*$P6036","v":0},null,null,null,null,null,null,null,null,{"$f":"IF(AND(SUM($Q6036:$Q6039)=0,$S6036=\"\"),\"\",SUM($Q6036:$Q6039)/$S6036)","v":""},{"$f":"IF(AND(SUM($Q6036:$Q6039)=0,$S6036=\"\"),\"\",$S6036/SUM($Q6036:$Q6039))","v":""},{"$f":"IF(G6036=\"\",0,IF(V6036=\"ใช่\",IF(AND(X6036<=-0.8,X6036>=-1.25,Y6036<=-0.9,Y6036>=-1,Z6036>=0.95,AA6036>=0.95),MIN(SUM(Q6036:Q6038),S6036),0),IF(W6036=\"ใช่\",IF(AND(Z6036>=0.95,AA6036>=0.95),MIN(SUM(Q6036:Q6038),S6036),0),0)))","v":0},{"$f":"IF(AB6036=0,0,IF(AH6036=0.25,IF(SUM(Q6036:Q6037)>AB6036,AB6036*(Q6036/SUM(Q6036:Q6037)),Q6036),IF(AB6036>SUM(AC6036:AC6037),AB6036-SUM(AC6036:AC6037),0)))","v":0},{"$f":"SUM(AE6036:AE6039)","v":0},{"$f":"Q6036-AC6036","v":0},{"$f":"IF(G6036=\"\",0,IF(V6036=\"ใช่\",IF(AND(X6036<=-0.8,X6036>=-1.25,Y6036<=-0.9,Y6036>=-1,Z6036>=0.95,AA6036>=0.95),0,MAX(S6036-SUM(AE6036:AE6039),0)),IF(W6036=\"ใช่\",IF(AND(Z6036>=0.95,AA6036>=0.95),0,MAX(S6036-SUM(AE6036:AE6039),0)),MAX(S6036-SUM(AE6036:AE6039),0))))","v":0},{"$f":"IF(AF6036=0,0,AF6036*$Q6036/SUM(Q6036:Q6038))","v":0},0.25,{"$f":"AE6036*AH6036+AG6036","v":0},{"$f":"SUM(AI6036:AI6039)","v":0}]
[null,null,null,null,"อสังหาริมทรัพย์",null,{"$f":"D6036*F6037","v":0},null,{"$f":"$D6036*$F6037*H6037","v":0},null,null,null,"(2) ตราสารทุนที่จดทะเบียนในตลาดหลักทรัพย์อื่น และอยู่ในดัชนีตลาดหลักทรัพย์ตามที่กำหนดไว้",null,null,null,{"$f":"G6036*$P6037","v":0},null,null,null,null,null,null,null,null,null,null,null,{"$f":"IF(AB6036=0,0,IF(AH6037=0.25,IF(SUM(Q6036:Q6037)>AB6036,AB6036*(Q6037/SUM(Q6036:Q6037)),Q6037),IF(AB6036>SUM(AC6036:AC6037),AB6036-SUM(AC6036:AC6037),0)))","v":0},null,{"$f":"Q6037-AC6037","v":0},null,{"$f":"IF(AF6036=0,0,AF6036*Q6037/SUM(Q6036:Q6038))","v":0},0.25,{"$f":"AE6037*AH6037+AG6037","v":0}]
[null,null,null,null,"สินค้าโภคภัณฑ์",null,{"$f":"D6036*F6038","v":0},null,{"$f":"$D6036*$F6038*H6038","v":0},null,null,null,"(3) ตราสารทุนที่จดทะเบียนในตลาดหลักทรัพย์อื่น แต่ไม่อยู่ในดัชนีตลาดหลักทรัพย์ตามที่กำหนดไว้ในตาราง",null,null,null,{"$f":"G6036*$P6038","v":0},null,null,null,null,null,null,null,null,null,null,null,{"$f":"IF(AB6036=0,0,IF(AH6038=0.25,IF(SUM(Q6036:Q6037)>AB6036,AB6036*(Q6038/SUM(Q6036:Q6037)),Q6038),IF(AB6036>SUM(AC6036:AC6037),AB6036-SUM(AC6036:AC6037),0)))","v":0},null,{"$f":"Q6038-AC6038","v":0},null,{"$f":"IF(AF6036=0,0,AF6036*Q6038/SUM(Q6036:Q6038))","v":0},0.35,0]
[null,null,null,null,"เงินฝาก",null,{"$f":"D6036*F6039","v":0},null,{"$f":"$D6036*$F6039*H6039","v":0},null,null,null,"(4) ตราสารทุนอื่น นอกเหนือจาก (1) ถึง (3)",null,null,null,{"$f":"G6036*$P6039","v":0},null,null,null,null,null,null,null,null,null,null,null,null,null,{"$f":"Q6039-AC6039","v":0},null,null,0.5,0]
[null,null,null,null,"ตราสารหนี้",null,{"$f":"D6036*F6040","v":0},null,{"$f":"$D6036*$F6040*H6040","v":0}]
[null,null,null,null,"อื่นๆ",null,{"$f":"D6036*F6041","v":0},null,{"$f":"$D6036*$F6041*H6041","v":0}]
[null,4,null,null,"ตราสารทุน",null,{"$f":"D6042*F6042","v":0},null,{"$f":"$AJ6042","v":0},{"$f":"SUM(I6042:I6047)","v":0},null,4,"(1) ตราสารทุนที่จดทะเบียนในตลาดหลักทรัพย์แห่งประเทศไทย และตลาดหลักทรัพย์ เอ็ม เอ ไอ",null,null,null,{"$f":"G6042*$P6042","v":0},null,null,null,null,null,null,null,null,{"$f":"IF(AND(SUM($Q6042:$Q6045)=0,$S6042=\"\"),\"\",SUM($Q6042:$Q6045)/$S6042)","v":""},{"$f":"IF(AND(SUM($Q6042:$Q6045)=0,$S6042=\"\"),\"\",$S6042/SUM($Q6042:$Q6045))","v":""},{"$f":"IF(G6042=\"\",0,IF(V6042=\"ใช่\",IF(AND(X6042<=-0.8,X6042>=-1.25,Y6042<=-0.9,Y6042>=-1,Z6042>=0.95,AA6042>=0.95),MIN(SUM(Q6042:Q6044),S6042),0),IF(W6042=\"ใช่\",IF(AND(Z6042>=0.95,AA6042>=0.95),MIN(SUM(Q6042:Q6044),S6042),0),0)))","v":0},{"$f":"IF(AB6042=0,0,IF(AH6042=0.25,IF(SUM(Q6042:Q6043)>AB6042,AB6042*(Q6042/SUM(Q6042:Q6043)),Q6042),IF(AB6042>SUM(AC6042:AC6043),AB6042-SUM(AC6042:AC6043),0)))","v":0},{"$f":"SUM(AE6042:AE6045)","v":0},{"$f":"Q6042-AC6042","v":0},{"$f":"IF(G6042=\"\",0,IF(V6042=\"ใช่\",IF(AND(X6042<=-0.8,X6042>=-1.25,Y6042<=-0.9,Y6042>=-1,Z6042>=0.95,AA6042>=0.95),0,MAX(S6042-SUM(AE6042:AE6045),0)),IF(W6042=\"ใช่\",IF(AND(Z6042>=0.95,AA6042>=0.95),0,MAX(S6042-SUM(AE6042:AE6045),0)),MAX(S6042-SUM(AE6042:AE6045),0))))","v":0},{"$f":"IF(AF6042=0,0,AF6042*$Q6042/SUM(Q6042:Q6044))","v":0},0.25,{"$f":"AE6042*AH6042+AG6042","v":0},{"$f":"SUM(AI6042:AI6045)","v":0}]
[null,null,null,null,"อสังหาริมทรัพย์",null,{"$f":"D6042*F6043","v":0},null,{"$f":"$D6042*$F6043*H6043","v":0},null,null,null,"(2) ตราสารทุนที่จดทะเบียนในตลาดหลักทรัพย์อื่น และอยู่ในดัชนีตลาดหลักทรัพย์ตามที่กำหนดไว้",null,null,null,{"$f":"G6042*$P6043","v":0},null,null,null,null,null,null,null,null,null,null,null,{"$f":"IF(AB6042=0,0,IF(AH6043=0.25,IF(SUM(Q6042:Q6043)>AB6042,AB6042*(Q6043/SUM(Q6042:Q6043)),Q6043),IF(AB6042>SUM(AC6042:AC6043),AB6042-SUM(AC6042:AC6043),0)))","v":0},null,{"$f":"Q6043-AC6043","v":0},null,{"$f":"IF(AF6042=0,0,AF6042*Q6043/SUM(Q6042:Q6044))","v":0},0.25,{"$f":"AE6043*AH6043+AG6043","v":0}]
[null,null,null,null,"สินค้าโภคภัณฑ์",null,{"$f":"D6042*F6044","v":0},null,{"$f":"$D6042*$F6044*H6044","v":0},null,null,null,"(3) ตราสารทุนที่จดทะเบียนในตลาดหลักทรัพย์อื่น แต่ไม่อยู่ในดัชนีตลาดหลักทรัพย์ตามที่กำหนดไว้ในตาราง",null,null,null,{"$f":"G6042*$P6044","v":0},null,null,null,null,null,null,null,null,null,null,null,{"$f":"IF(AB6042=0,0,IF(AH6044=0.25,IF(SUM(Q6042:Q6043)>AB6042,AB6042*(Q6044/SUM(Q6042:Q6043)),Q6044),IF(AB6042>SUM(AC6042:AC6043),AB6042-SUM(AC6042:AC6043),0)))","v":0},null,{"$f":"Q6044-AC6044","v":0},null,{"$f":"IF(AF6042=0,0,AF6042*Q6044/SUM(Q6042:Q6044))","v":0},0.35,0]
[null,null,null,null,"เงินฝาก",null,{"$f":"D6042*F6045","v":0},null,{"$f":"$D6042*$F6045*H6045","v":0},null,null,null,"(4) ตราสารทุนอื่น นอกเหนือจาก (1) ถึง (3)",null,null,null,{"$f":"G6042*$P6045","v":0},null,null,null,null,null,null,null,null,null,null,null,null,null,{"$f":"Q6045-AC6045","v":0},null,null,0.5,0]
[null,null,null,null,"ตราสารหนี้",null,{"$f":"D6042*F6046","v":0},null,{"$f":"$D6042*$F6046*H6046","v":0}]
[null,null,null,null,"อื่นๆ",null,{"$f":"D6042*F6047","v":0},null,{"$f":"$D6042*$F6047*H6047","v":0}]
[null,5,null,null,"ตราสารทุน",null,{"$f":"D6048*F6048","v":0},null,{"$f":"$AJ6048","v":0},{"$f":"SUM(I6048:I6053)","v":0},null,5,"(1) ตราสารทุนที่จดทะเบียนในตลาดหลักทรัพย์แห่งประเทศไทย และตลาดหลักทรัพย์ เอ็ม เอ ไอ",null,null,null,{"$f":"G6048*$P6048","v":0},null,null,null,null,null,null,null,null,{"$f":"IF(AND(SUM($Q6048:$Q6051)=0,$S6048=\"\"),\"\",SUM($Q6048:$Q6051)/$S6048)","v":""},{"$f":"IF(AND(SUM($Q6048:$Q6051)=0,$S6048=\"\"),\"\",$S6048/SUM($Q6048:$Q6051))","v":""},{"$f":"IF(G6048=\"\",0,IF(V6048=\"ใช่\",IF(AND(X6048<=-0.8,X6048>=-1.25,Y6048<=-0.9,Y6048>=-1,Z6048>=0.95,AA6048>=0.95),MIN(SUM(Q6048:Q6050),S6048),0),IF(W6048=\"ใช่\",IF(AND(Z6048>=0.95,AA6048>=0.95),MIN(SUM(Q6048:Q6050),S6048),0),0)))","v":0},{"$f":"IF(AB6048=0,0,IF(AH6048=0.25,IF(SUM(Q6048:Q6049)>AB6048,AB6048*(Q6048/SUM(Q6048:Q6049)),Q6048),IF(AB6048>SUM(AC6048:AC6049),AB6048-SUM(AC6048:AC6049),0)))","v":0},{"$f":"SUM(AE6048:AE6051)","v":0},{"$f":"Q6048-AC6048","v":0},{"$f":"IF(G6048=\"\",0,IF(V6048=\"ใช่\",IF(AND(X6048<=-0.8,X6048>=-1.25,Y6048<=-0.9,Y6048>=-1,Z6048>=0.95,AA6048>=0.95),0,MAX(S6048-SUM(AE6048:AE6051),0)),IF(W6048=\"ใช่\",IF(AND(Z6048>=0.95,AA6048>=0.95),0,MAX(S6048-SUM(AE6048:AE6051),0)),MAX(S6048-SUM(AE6048:AE6051),0))))","v":0},{"$f":"IF(AF6048=0,0,AF6048*$Q6048/SUM(Q6048:Q6050))","v":0},0.25,{"$f":"AE6048*AH6048+AG6048","v":0},{"$f":"SUM(AI6048:AI6051)","v":0}]
[null,null,null,null,"อสังหาริมทรัพย์",null,{"$f":"D6048*F6049","v":0},null,{"$f":"$D6048*$F6049*H6049","v":0},null,null,null,"(2) ตราสารทุนที่จดทะเบียนในตลาดหลักทรัพย์อื่น และอยู่ในดัชนีตลาดหลักทรัพย์ตามที่กำหนดไว้",null,null,null,{"$f":"G6048*$P6049","v":0},null,null,null,null,null,null,null,null,null,null,null,{"$f":"IF(AB6048=0,0,IF(AH6049=0.25,IF(SUM(Q6048:Q6049)>AB6048,AB6048*(Q6049/SUM(Q6048:Q6049)),Q6049),IF(AB6048>SUM(AC6048:AC6049),AB6048-SUM(AC6048:AC6049),0)))","v":0},null,{"$f":"Q6049-AC6049","v":0},null,{"$f":"IF(AF6048=0,0,AF6048*Q6049/SUM(Q6048:Q6050))","v":0},0.25,{"$f":"AE6049*AH6049+AG6049","v":0}]
[null,null,null,null,"สินค้าโภคภัณฑ์",null,{"$f":"D6048*F6050","v":0},null,{"$f":"$D6048*$F6050*H6050","v":0},null,null,null,"(3) ตราสารทุนที่จดทะเบียนในตลาดหลักทรัพย์อื่น แต่ไม่อยู่ในดัชนีตลาดหลักทรัพย์ตามที่กำหนดไว้ในตาราง",null,null,null,{"$f":"G6048*$P6050","v":0},null,null,null,null,null,null,null,null,null,null,null,{"$f":"IF(AB6048=0,0,IF(AH6050=0.25,IF(SUM(Q6048:Q6049)>AB6048,AB6048*(Q6050/SUM(Q6048:Q6049)),Q6050),IF(AB6048>SUM(AC6048:AC6049),AB6048-SUM(AC6048:AC6049),0)))","v":0},null,{"$f":"Q6050-AC6050","v":0},null,{"$f":"IF(AF6048=0,0,AF6048*Q6050/SUM(Q6048:Q6050))","v":0},0.35,0]
[null,null,null,null,"เงินฝาก",null,{"$f":"D6048*F6051","v":0},null,{"$f":"$D6048*$F6051*H6051","v":0},null,null,null,"(4) ตราสารทุนอื่น นอกเหนือจาก (1) ถึง (3)",null,null,null,{"$f":"G6048*$P6051","v":0},null,null,null,null,null,null,null,null,null,null,null,null,null,{"$f":"Q6051-AC6051","v":0},null,null,0.5,0]
[null,null,null,null,"ตราสารหนี้",null,{"$f":"D6048*F6052","v":0},null,{"$f":"$D6048*$F6052*H6052","v":0}]
[null,null,null,null,"อื่นๆ",null,{"$f":"D6048*F6053","v":0},null,{"$f":"$D6048*$F6053*H6053","v":0}]
[null,6,null,null,"ตราสารทุน",null,{"$f":"D6054*F6054","v":0},null,{"$f":"$AJ6054","v":0},{"$f":"SUM(I6054:I6059)","v":0},null,6,"(1) ตราสารทุนที่จดทะเบียนในตลาดหลักทรัพย์แห่งประเทศไทย และตลาดหลักทรัพย์ เอ็ม เอ ไอ",null,null,null,{"$f":"G6054*$P6054","v":0},null,null,null,null,null,null,null,null,{"$f":"IF(AND(SUM($Q6054:$Q6057)=0,$S6054=\"\"),\"\",SUM($Q6054:$Q6057)/$S6054)","v":""},{"$f":"IF(AND(SUM($Q6054:$Q6057)=0,$S6054=\"\"),\"\",$S6054/SUM($Q6054:$Q6057))","v":""},{"$f":"IF(G6054=\"\",0,IF(V6054=\"ใช่\",IF(AND(X6054<=-0.8,X6054>=-1.25,Y6054<=-0.9,Y6054>=-1,Z6054>=0.95,AA6054>=0.95),MIN(SUM(Q6054:Q6056),S6054),0),IF(W6054=\"ใช่\",IF(AND(Z6054>=0.95,AA6054>=0.95),MIN(SUM(Q6054:Q6056),S6054),0),0)))","v":0},{"$f":"IF(AB6054=0,0,IF(AH6054=0.25,IF(SUM(Q6054:Q6055)>AB6054,AB6054*(Q6054/SUM(Q6054:Q6055)),Q6054),IF(AB6054>SUM(AC6054:AC6055),AB6054-SUM(AC6054:AC6055),0)))","v":0},{"$f":"SUM(AE6054:AE6057)","v":0},{"$f":"Q6054-AC6054","v":0},{"$f":"IF(G6054=\"\",0,IF(V6054=\"ใช่\",IF(AND(X6054<=-0.8,X6054>=-1.25,Y6054<=-0.9,Y6054>=-1,Z6054>=0.95,AA6054>=0.95),0,MAX(S6054-SUM(AE6054:AE6057),0)),IF(W6054=\"ใช่\",IF(AND(Z6054>=0.95,AA6054>=0.95),0,MAX(S6054-SUM(AE6054:AE6057),0)),MAX(S6054-SUM(AE6054:AE6057),0))))","v":0},{"$f":"IF(AF6054=0,0,AF6054*$Q6054/SUM(Q6054:Q6056))","v":0},0.25,{"$f":"AE6054*AH6054+AG6054","v":0},{"$f":"SUM(AI6054:AI6057)","v":0}]
[null,null,null,null,"อสังหาริมทรัพย์",null,{"$f":"D6054*F6055","v":0},null,{"$f":"$D6054*$F6055*H6055","v":0},null,null,null,"(2) ตราสารทุนที่จดทะเบียนในตลาดหลักทรัพย์อื่น และอยู่ในดัชนีตลาดหลักทรัพย์ตามที่กำหนดไว้",null,null,null,{"$f":"G6054*$P6055","v":0},null,null,null,null,null,null,null,null,null,null,null,{"$f":"IF(AB6054=0,0,IF(AH6055=0.25,IF(SUM(Q6054:Q6055)>AB6054,AB6054*(Q6055/SUM(Q6054:Q6055)),Q6055),IF(AB6054>SUM(AC6054:AC6055),AB6054-SUM(AC6054:AC6055),0)))","v":0},null,{"$f":"Q6055-AC6055","v":0},null,{"$f":"IF(AF6054=0,0,AF6054*Q6055/SUM(Q6054:Q6056))","v":0},0.25,{"$f":"AE6055*AH6055+AG6055","v":0}]
[null,null,null,null,"สินค้าโภคภัณฑ์",null,{"$f":"D6054*F6056","v":0},null,{"$f":"$D6054*$F6056*H6056","v":0},null,null,null,"(3) ตราสารทุนที่จดทะเบียนในตลาดหลักทรัพย์อื่น แต่ไม่อยู่ในดัชนีตลาดหลักทรัพย์ตามที่กำหนดไว้ในตาราง",null,null,null,{"$f":"G6054*$P6056","v":0},null,null,null,null,null,null,null,null,null,null,null,{"$f":"IF(AB6054=0,0,IF(AH6056=0.25,IF(SUM(Q6054:Q6055)>AB6054,AB6054*(Q6056/SUM(Q6054:Q6055)),Q6056),IF(AB6054>SUM(AC6054:AC6055),AB6054-SUM(AC6054:AC6055),0)))","v":0},null,{"$f":"Q6056-AC6056","v":0},null,{"$f":"IF(AF6054=0,0,AF6054*Q6056/SUM(Q6054:Q6056))","v":0},0.35,0]
[null,null,null,null,"เงินฝาก",null,{"$f":"D6054*F6057","v":0},null,{"$f":"$D6054*$F6057*H6057","v":0},null,null,null,"(4) ตราสารทุนอื่น นอกเหนือจาก (1) ถึง (3)",null,null,null,{"$f":"G6054*$P6057","v":0},null,null,null,null,null,null,null,null,null,null,null,null,null,{"$f":"Q6057-AC6057","v":0},null,null,0.5,0]
[null,null,null,null,"ตราสารหนี้",null,{"$f":"D6054*F6058","v":0},null,{"$f":"$D6054*$F6058*H6058","v":0}]
[null,null,null,null,"อื่นๆ",null,{"$f":"D6054*F6059","v":0},null,{"$f":"$D6054*$F6059*H6059","v":0}]
[null,7,null,null,"ตราสารทุน",null,{"$f":"D6060*F6060","v":0},null,{"$f":"$AJ6060","v":0},{"$f":"SUM(I6060:I6065)","v":0},null,7,"(1) ตราสารทุนที่จดทะเบียนในตลาดหลักทรัพย์แห่งประเทศไทย และตลาดหลักทรัพย์ เอ็ม เอ ไอ",null,null,null,{"$f":"G6060*$P6060","v":0},null,null,null,null,null,null,null,null,{"$f":"IF(AND(SUM($Q6060:$Q6063)=0,$S6060=\"\"),\"\",SUM($Q6060:$Q6063)/$S6060)","v":""},{"$f":"IF(AND(SUM($Q6060:$Q6063)=0,$S6060=\"\"),\"\",$S6060/SUM($Q6060:$Q6063))","v":""},{"$f":"IF(G6060=\"\",0,IF(V6060=\"ใช่\",IF(AND(X6060<=-0.8,X6060>=-1.25,Y6060<=-0.9,Y6060>=-1,Z6060>=0.95,AA6060>=0.95),MIN(SUM(Q6060:Q6062),S6060),0),IF(W6060=\"ใช่\",IF(AND(Z6060>=0.95,AA6060>=0.95),MIN(SUM(Q6060:Q6062),S6060),0),0)))","v":0},{"$f":"IF(AB6060=0,0,IF(AH6060=0.25,IF(SUM(Q6060:Q6061)>AB6060,AB6060*(Q6060/SUM(Q6060:Q6061)),Q6060),IF(AB6060>SUM(AC6060:AC6061),AB6060-SUM(AC6060:AC6061),0)))","v":0},{"$f":"SUM(AE6060:AE6063)","v":0},{"$f":"Q6060-AC6060","v":0},{"$f":"IF(G6060=\"\",0,IF(V6060=\"ใช่\",IF(AND(X6060<=-0.8,X6060>=-1.25,Y6060<=-0.9,Y6060>=-1,Z6060>=0.95,AA6060>=0.95),0,MAX(S6060-SUM(AE6060:AE6063),0)),IF(W6060=\"ใช่\",IF(AND(Z6060>=0.95,AA6060>=0.95),0,MAX(S6060-SUM(AE6060:AE6063),0)),MAX(S6060-SUM(AE6060:AE6063),0))))","v":0},{"$f":"IF(AF6060=0,0,AF6060*$Q6060/SUM(Q6060:Q6062))","v":0},0.25,{"$f":"AE6060*AH6060+AG6060","v":0},{"$f":"SUM(AI6060:AI6063)","v":0}]
[null,null,null,null,"อสังหาริมทรัพย์",null,{"$f":"D6060*F6061","v":0},null,{"$f":"$D6060*$F6061*H6061","v":0},null,null,null,"(2) ตราสารทุนที่จดทะเบียนในตลาดหลักทรัพย์อื่น และอยู่ในดัชนีตลาดหลักทรัพย์ตามที่กำหนดไว้",null,null,null,{"$f":"G6060*$P6061","v":0},null,null,null,null,null,null,null,null,null,null,null,{"$f":"IF(AB6060=0,0,IF(AH6061=0.25,IF(SUM(Q6060:Q6061)>AB6060,AB6060*(Q6061/SUM(Q6060:Q6061)),Q6061),IF(AB6060>SUM(AC6060:AC6061),AB6060-SUM(AC6060:AC6061),0)))","v":0},null,{"$f":"Q6061-AC6061","v":0},null,{"$f":"IF(AF6060=0,0,AF6060*Q6061/SUM(Q6060:Q6062))","v":0},0.25,{"$f":"AE6061*AH6061+AG6061","v":0}]
[null,null,null,null,"สินค้าโภคภัณฑ์",null,{"$f":"D6060*F6062","v":0},null,{"$f":"$D6060*$F6062*H6062","v":0},null,null,null,"(3) ตราสารทุนที่จดทะเบียนในตลาดหลักทรัพย์อื่น แต่ไม่อยู่ในดัชนีตลาดหลักทรัพย์ตามที่กำหนดไว้ในตาราง",null,null,null,{"$f":"G6060*$P6062","v":0},null,null,null,null,null,null,null,null,null,null,null,{"$f":"IF(AB6060=0,0,IF(AH6062=0.25,IF(SUM(Q6060:Q6061)>AB6060,AB6060*(Q6062/SUM(Q6060:Q6061)),Q6062),IF(AB6060>SUM(AC6060:AC6061),AB6060-SUM(AC6060:AC6061),0)))","v":0},null,{"$f":"Q6062-AC6062","v":0},null,{"$f":"IF(AF6060=0,0,AF6060*Q6062/SUM(Q6060:Q6062))","v":0},0.35,0]
[null,null,null,null,"เงินฝาก",null,{"$f":"D6060*F6063","v":0},null,{"$f":"$D6060*$F6063*H6063","v":0},null,null,null,"(4) ตราสารทุนอื่น นอกเหนือจาก (1) ถึง (3)",null,null,null,{"$f":"G6060*$P6063","v":0},null,null,null,null,null,null,null,null,null,null,null,null,null,{"$f":"Q6063-AC6063","v":0},null,null,0.5,0]
[null,null,null,null,"ตราสารหนี้",null,{"$f":"D6060*F6064","v":0},null,{"$f":"$D6060*$F6064*H6064","v":0}]
[null,null,null,null,"อื่นๆ",null,{"$f":"D6060*F6065","v":0},null,{"$f":"$D6060*$F6065*H6065","v":0}]
[null,8,null,null,"ตราสารทุน",null,{"$f":"D6066*F6066","v":0},null,{"$f":"$AJ6066","v":0},{"$f":"SUM(I6066:I6071)","v":0},null,8,"(1) ตราสารทุนที่จดทะเบียนในตลาดหลักทรัพย์แห่งประเทศไทย และตลาดหลักทรัพย์ เอ็ม เอ ไอ",null,null,null,{"$f":"G6066*$P6066","v":0},null,null,null,null,null,null,null,null,{"$f":"IF(AND(SUM($Q6066:$Q6069)=0,$S6066=\"\"),\"\",SUM($Q6066:$Q6069)/$S6066)","v":""},{"$f":"IF(AND(SUM($Q6066:$Q6069)=0,$S6066=\"\"),\"\",$S6066/SUM($Q6066:$Q6069))","v":""},{"$f":"IF(G6066=\"\",0,IF(V6066=\"ใช่\",IF(AND(X6066<=-0.8,X6066>=-1.25,Y6066<=-0.9,Y6066>=-1,Z6066>=0.95,AA6066>=0.95),MIN(SUM(Q6066:Q6068),S6066),0),IF(W6066=\"ใช่\",IF(AND(Z6066>=0.95,AA6066>=0.95),MIN(SUM(Q6066:Q6068),S6066),0),0)))","v":0},{"$f":"IF(AB6066=0,0,IF(AH6066=0.25,IF(SUM(Q6066:Q6067)>AB6066,AB6066*(Q6066/SUM(Q6066:Q6067)),Q6066),IF(AB6066>SUM(AC6066:AC6067),AB6066-SUM(AC6066:AC6067),0)))","v":0},{"$f":"SUM(AE6066:AE6069)","v":0},{"$f":"Q6066-AC6066","v":0},{"$f":"IF(G6066=\"\",0,IF(V6066=\"ใช่\",IF(AND(X6066<=-0.8,X6066>=-1.25,Y6066<=-0.9,Y6066>=-1,Z6066>=0.95,AA6066>=0.95),0,MAX(S6066-SUM(AE6066:AE6069),0)),IF(W6066=\"ใช่\",IF(AND(Z6066>=0.95,AA6066>=0.95),0,MAX(S6066-SUM(AE6066:AE6069),0)),MAX(S6066-SUM(AE6066:AE6069),0))))","v":0},{"$f":"IF(AF6066=0,0,AF6066*$Q6066/SUM(Q6066:Q6068))","v":0},0.25,{"$f":"AE6066*AH6066+AG6066","v":0},{"$f":"SUM(AI6066:AI6069)","v":0}]
[null,null,null,null,"อสังหาริมทรัพย์",null,{"$f":"D6066*F6067","v":0},null,{"$f":"$D6066*$F6067*H6067","v":0},null,null,null,"(2) ตราสารทุนที่จดทะเบียนในตลาดหลักทรัพย์อื่น และอยู่ในดัชนีตลาดหลักทรัพย์ตามที่กำหนดไว้",null,null,null,{"$f":"G6066*$P6067","v":0},null,null,null,null,null,null,null,null,null,null,null,{"$f":"IF(AB6066=0,0,IF(AH6067=0.25,IF(SUM(Q6066:Q6067)>AB6066,AB6066*(Q6067/SUM(Q6066:Q6067)),Q6067),IF(AB6066>SUM(AC6066:AC6067),AB6066-SUM(AC6066:AC6067),0)))","v":0},null,{"$f":"Q6067-AC6067","v":0},null,{"$f":"IF(AF6066=0,0,AF6066*Q6067/SUM(Q6066:Q6068))","v":0},0.25,{"$f":"AE6067*AH6067+AG6067","v":0}]
[null,null,null,null,"สินค้าโภคภัณฑ์",null,{"$f":"D6066*F6068","v":0},null,{"$f":"$D6066*$F6068*H6068","v":0},null,null,null,"(3) ตราสารทุนที่จดทะเบียนในตลาดหลักทรัพย์อื่น แต่ไม่อยู่ในดัชนีตลาดหลักทรัพย์ตามที่กำหนดไว้ในตาราง",null,null,null,{"$f":"G6066*$P6068","v":0},null,null,null,null,null,null,null,null,null,null,null,{"$f":"IF(AB6066=0,0,IF(AH6068=0.25,IF(SUM(Q6066:Q6067)>AB6066,AB6066*(Q6068/SUM(Q6066:Q6067)),Q6068),IF(AB6066>SUM(AC6066:AC6067),AB6066-SUM(AC6066:AC6067),0)))","v":0},null,{"$f":"Q6068-AC6068","v":0},null,{"$f":"IF(AF6066=0,0,AF6066*Q6068/SUM(Q6066:Q6068))","v":0},0.35,0]
[null,null,null,null,"เงินฝาก",null,{"$f":"D6066*F6069","v":0},null,{"$f":"$D6066*$F6069*H6069","v":0},null,null,null,"(4) ตราสารทุนอื่น นอกเหนือจาก (1) ถึง (3)",null,null,null,{"$f":"G6066*$P6069","v":0},null,null,null,null,null,null,null,null,null,null,null,null,null,{"$f":"Q6069-AC6069","v":0},null,null,0.5,0]
[null,null,null,null,"ตราสารหนี้",null,{"$f":"D6066*F6070","v":0},null,{"$f":"$D6066*$F6070*H6070","v":0}]
[null,null,null,null,"อื่นๆ",null,{"$f":"D6066*F6071","v":0},null,{"$f":"$D6066*$F6071*H6071","v":0}]
[null,9,null,null,"ตราสารทุน",null,{"$f":"D6072*F6072","v":0},null,{"$f":"$AJ6072","v":0},{"$f":"SUM(I6072:I6077)","v":0},null,9,"(1) ตราสารทุนที่จดทะเบียนในตลาดหลักทรัพย์แห่งประเทศไทย และตลาดหลักทรัพย์ เอ็ม เอ ไอ",null,null,null,{"$f":"G6072*$P6072","v":0},null,null,null,null,null,null,null,null,{"$f":"IF(AND(SUM($Q6072:$Q6075)=0,$S6072=\"\"),\"\",SUM($Q6072:$Q6075)/$S6072)","v":""},{"$f":"IF(AND(SUM($Q6072:$Q6075)=0,$S6072=\"\"),\"\",$S6072/SUM($Q6072:$Q6075))","v":""},{"$f":"IF(G6072=\"\",0,IF(V6072=\"ใช่\",IF(AND(X6072<=-0.8,X6072>=-1.25,Y6072<=-0.9,Y6072>=-1,Z6072>=0.95,AA6072>=0.95),MIN(SUM(Q6072:Q6074),S6072),0),IF(W6072=\"ใช่\",IF(AND(Z6072>=0.95,AA6072>=0.95),MIN(SUM(Q6072:Q6074),S6072),0),0)))","v":0},{"$f":"IF(AB6072=0,0,IF(AH6072=0.25,IF(SUM(Q6072:Q6073)>AB6072,AB6072*(Q6072/SUM(Q6072:Q6073)),Q6072),IF(AB6072>SUM(AC6072:AC6073),AB6072-SUM(AC6072:AC6073),0)))","v":0},{"$f":"SUM(AE6072:AE6075)","v":0},{"$f":"Q6072-AC6072","v":0},{"$f":"IF(G6072=\"\",0,IF(V6072=\"ใช่\",IF(AND(X6072<=-0.8,X6072>=-1.25,Y6072<=-0.9,Y6072>=-1,Z6072>=0.95,AA6072>=0.95),0,MAX(S6072-SUM(AE6072:AE6075),0)),IF(W6072=\"ใช่\",IF(AND(Z6072>=0.95,AA6072>=0.95),0,MAX(S6072-SUM(AE6072:AE6075),0)),MAX(S6072-SUM(AE6072:AE6075),0))))","v":0},{"$f":"IF(AF6072=0,0,AF6072*$Q6072/SUM(Q6072:Q6074))","v":0},0.25,{"$f":"AE6072*AH6072+AG6072","v":0},{"$f":"SUM(AI6072:AI6075)","v":0}]
[null,null,null,null,"อสังหาริมทรัพย์",null,{"$f":"D6072*F6073","v":0},null,{"$f":"$D6072*$F6073*H6073","v":0},null,null,null,"(2) ตราสารทุนที่จดทะเบียนในตลาดหลักทรัพย์อื่น และอยู่ในดัชนีตลาดหลักทรัพย์ตามที่กำหนดไว้",null,null,null,{"$f":"G6072*$P6073","v":0},null,null,null,null,null,null,null,null,null,null,null,{"$f":"IF(AB6072=0,0,IF(AH6073=0.25,IF(SUM(Q6072:Q6073)>AB6072,AB6072*(Q6073/SUM(Q6072:Q6073)),Q6073),IF(AB6072>SUM(AC6072:AC6073),AB6072-SUM(AC6072:AC6073),0)))","v":0},null,{"$f":"Q6073-AC6073","v":0},null,{"$f":"IF(AF6072=0,0,AF6072*Q6073/SUM(Q6072:Q6074))","v":0},0.25,{"$f":"AE6073*AH6073+AG6073","v":0}]
[null,null,null,null,"สินค้าโภคภัณฑ์",null,{"$f":"D6072*F6074","v":0},null,{"$f":"$D6072*$F6074*H6074","v":0},null,null,null,"(3) ตราสารทุนที่จดทะเบียนในตลาดหลักทรัพย์อื่น แต่ไม่อยู่ในดัชนีตลาดหลักทรัพย์ตามที่กำหนดไว้ในตาราง",null,null,null,{"$f":"G6072*$P6074","v":0},null,null,null,null,null,null,null,null,null,null,null,{"$f":"IF(AB6072=0,0,IF(AH6074=0.25,IF(SUM(Q6072:Q6073)>AB6072,AB6072*(Q6074/SUM(Q6072:Q6073)),Q6074),IF(AB6072>SUM(AC6072:AC6073),AB6072-SUM(AC6072:AC6073),0)))","v":0},null,{"$f":"Q6074-AC6074","v":0},null,{"$f":"IF(AF6072=0,0,AF6072*Q6074/SUM(Q6072:Q6074))","v":0},0.35,0]
[null,null,null,null,"เงินฝาก",null,{"$f":"D6072*F6075","v":0},null,{"$f":"$D6072*$F6075*H6075","v":0},null,null,null,"(4) ตราสารทุนอื่น นอกเหนือจาก (1) ถึง (3)",null,null,null,{"$f":"G6072*$P6075","v":0},null,null,null,null,null,null,null,null,null,null,null,null,null,{"$f":"Q6075-AC6075","v":0},null,null,0.5,0]
[null,null,null,null,"ตราสารหนี้",null,{"$f":"D6072*F6076","v":0},null,{"$f":"$D6072*$F6076*H6076","v":0}]
[null,null,null,null,"อื่นๆ",null,{"$f":"D6072*F6077","v":0},null,{"$f":"$D6072*$F6077*H6077","v":0}]
[null,10,null,null,"ตราสารทุน",null,{"$f":"D6078*F6078","v":0},null,{"$f":"$AJ6078","v":0},{"$f":"SUM(I6078:I6083)","v":0},null,10,"(1) ตราสารทุนที่จดทะเบียนในตลาดหลักทรัพย์แห่งประเทศไทย และตลาดหลักทรัพย์ เอ็ม เอ ไอ",null,null,null,{"$f":"G6078*$P6078","v":0},null,null,null,null,null,null,null,null,{"$f":"IF(AND(SUM($Q6078:$Q6081)=0,$S6078=\"\"),\"\",SUM($Q6078:$Q6081)/$S6078)","v":""},{"$f":"IF(AND(SUM($Q6078:$Q6081)=0,$S6078=\"\"),\"\",$S6078/SUM($Q6078:$Q6081))","v":""},{"$f":"IF(G6078=\"\",0,IF(V6078=\"ใช่\",IF(AND(X6078<=-0.8,X6078>=-1.25,Y6078<=-0.9,Y6078>=-1,Z6078>=0.95,AA6078>=0.95),MIN(SUM(Q6078:Q6080),S6078),0),IF(W6078=\"ใช่\",IF(AND(Z6078>=0.95,AA6078>=0.95),MIN(SUM(Q6078:Q6080),S6078),0),0)))","v":0},{"$f":"IF(AB6078=0,0,IF(AH6078=0.25,IF(SUM(Q6078:Q6079)>AB6078,AB6078*(Q6078/SUM(Q6078:Q6079)),Q6078),IF(AB6078>SUM(AC6078:AC6079),AB6078-SUM(AC6078:AC6079),0)))","v":0},{"$f":"SUM(AE6078:AE6081)","v":0},{"$f":"Q6078-AC6078","v":0},{"$f":"IF(G6078=\"\",0,IF(V6078=\"ใช่\",IF(AND(X6078<=-0.8,X6078>=-1.25,Y6078<=-0.9,Y6078>=-1,Z6078>=0.95,AA6078>=0.95),0,MAX(S6078-SUM(AE6078:AE6081),0)),IF(W6078=\"ใช่\",IF(AND(Z6078>=0.95,AA6078>=0.95),0,MAX(S6078-SUM(AE6078:AE6081),0)),MAX(S6078-SUM(AE6078:AE6081),0))))","v":0},{"$f":"IF(AF6078=0,0,AF6078*$Q6078/SUM(Q6078:Q6080))","v":0},0.25,{"$f":"AE6078*AH6078+AG6078","v":0},{"$f":"SUM(AI6078:AI6081)","v":0}]
[null,null,null,null,"อสังหาริมทรัพย์",null,{"$f":"D6078*F6079","v":0},null,{"$f":"$D6078*$F6079*H6079","v":0},null,null,null,"(2) ตราสารทุนที่จดทะเบียนในตลาดหลักทรัพย์อื่น และอยู่ในดัชนีตลาดหลักทรัพย์ตามที่กำหนดไว้",null,null,null,{"$f":"G6078*$P6079","v":0},null,null,null,null,null,null,null,null,null,null,null,{"$f":"IF(AB6078=0,0,IF(AH6079=0.25,IF(SUM(Q6078:Q6079)>AB6078,AB6078*(Q6079/SUM(Q6078:Q6079)),Q6079),IF(AB6078>SUM(AC6078:AC6079),AB6078-SUM(AC6078:AC6079),0)))","v":0},null,{"$f":"Q6079-AC6079","v":0},null,{"$f":"IF(AF6078=0,0,AF6078*Q6079/SUM(Q6078:Q6080))","v":0},0.25,{"$f":"AE6079*AH6079+AG6079","v":0}]
[null,null,null,null,"สินค้าโภคภัณฑ์",null,{"$f":"D6078*F6080","v":0},null,{"$f":"$D6078*$F6080*H6080","v":0},null,null,null,"(3) ตราสารทุนที่จดทะเบียนในตลาดหลักทรัพย์อื่น แต่ไม่อยู่ในดัชนีตลาดหลักทรัพย์ตามที่กำหนดไว้ในตาราง",null,null,null,{"$f":"G6078*$P6080","v":0},null,null,null,null,null,null,null,null,null,null,null,{"$f":"IF(AB6078=0,0,IF(AH6080=0.25,IF(SUM(Q6078:Q6079)>AB6078,AB6078*(Q6080/SUM(Q6078:Q6079)),Q6080),IF(AB6078>SUM(AC6078:AC6079),AB6078-SUM(AC6078:AC6079),0)))","v":0},null,{"$f":"Q6080-AC6080","v":0},null,{"$f":"IF(AF6078=0,0,AF6078*Q6080/SUM(Q6078:Q6080))","v":0},0.35,0]
[null,null,null,null,"เงินฝาก",null,{"$f":"D6078*F6081","v":0},null,{"$f":"$D6078*$F6081*H6081","v":0},null,null,null,"(4) ตราสารทุนอื่น นอกเหนือจาก (1) ถึง (3)",null,null,null,{"$f":"G6078*$P6081","v":0},null,null,null,null,null,null,null,null,null,null,null,null,null,{"$f":"Q6081-AC6081","v":0},null,null,0.5,0]
[null,null,null,null,"ตราสารหนี้",null,{"$f":"D6078*F6082","v":0},null,{"$f":"$D6078*$F6082*H6082","v":0}]
[null,null,null,null,"อื่นๆ",null,{"$f":"D6078*F6083","v":0},null,{"$f":"$D6078*$F6083*H6083","v":0}]
[null,11,null,null,"ตราสารทุน",null,{"$f":"D6084*F6084","v":0},null,{"$f":"$AJ6084","v":0},{"$f":"SUM(I6084:I6089)","v":0},null,11,"(1) ตราสารทุนที่จดทะเบียนในตลาดหลักทรัพย์แห่งประเทศไทย และตลาดหลักทรัพย์ เอ็ม เอ ไอ",null,null,null,{"$f":"G6084*$P6084","v":0},null,null,null,null,null,null,null,null,{"$f":"IF(AND(SUM($Q6084:$Q6087)=0,$S6084=\"\"),\"\",SUM($Q6084:$Q6087)/$S6084)","v":""},{"$f":"IF(AND(SUM($Q6084:$Q6087)=0,$S6084=\"\"),\"\",$S6084/SUM($Q6084:$Q6087))","v":""},{"$f":"IF(G6084=\"\",0,IF(V6084=\"ใช่\",IF(AND(X6084<=-0.8,X6084>=-1.25,Y6084<=-0.9,Y6084>=-1,Z6084>=0.95,AA6084>=0.95),MIN(SUM(Q6084:Q6086),S6084),0),IF(W6084=\"ใช่\",IF(AND(Z6084>=0.95,AA6084>=0.95),MIN(SUM(Q6084:Q6086),S6084),0),0)))","v":0},{"$f":"IF(AB6084=0,0,IF(AH6084=0.25,IF(SUM(Q6084:Q6085)>AB6084,AB6084*(Q6084/SUM(Q6084:Q6085)),Q6084),IF(AB6084>SUM(AC6084:AC6085),AB6084-SUM(AC6084:AC6085),0)))","v":0},{"$f":"SUM(AE6084:AE6087)","v":0},{"$f":"Q6084-AC6084","v":0},{"$f":"IF(G6084=\"\",0,IF(V6084=\"ใช่\",IF(AND(X6084<=-0.8,X6084>=-1.25,Y6084<=-0.9,Y6084>=-1,Z6084>=0.95,AA6084>=0.95),0,MAX(S6084-SUM(AE6084:AE6087),0)),IF(W6084=\"ใช่\",IF(AND(Z6084>=0.95,AA6084>=0.95),0,MAX(S6084-SUM(AE6084:AE6087),0)),MAX(S6084-SUM(AE6084:AE6087),0))))","v":0},{"$f":"IF(AF6084=0,0,AF6084*$Q6084/SUM(Q6084:Q6086))","v":0},0.25,{"$f":"AE6084*AH6084+AG6084","v":0},{"$f":"SUM(AI6084:AI6087)","v":0}]
[null,null,null,null,"อสังหาริมทรัพย์",null,{"$f":"D6084*F6085","v":0},null,{"$f":"$D6084*$F6085*H6085","v":0},null,null,null,"(2) ตราสารทุนที่จดทะเบียนในตลาดหลักทรัพย์อื่น และอยู่ในดัชนีตลาดหลักทรัพย์ตามที่กำหนดไว้",null,null,null,{"$f":"G6084*$P6085","v":0},null,null,null,null,null,null,null,null,null,null,null,{"$f":"IF(AB6084=0,0,IF(AH6085=0.25,IF(SUM(Q6084:Q6085)>AB6084,AB6084*(Q6085/SUM(Q6084:Q6085)),Q6085),IF(AB6084>SUM(AC6084:AC6085),AB6084-SUM(AC6084:AC6085),0)))","v":0},null,{"$f":"Q6085-AC6085","v":0},null,{"$f":"IF(AF6084=0,0,AF6084*Q6085/SUM(Q6084:Q6086))","v":0},0.25,{"$f":"AE6085*AH6085+AG6085","v":0}]
[null,null,null,null,"สินค้าโภคภัณฑ์",null,{"$f":"D6084*F6086","v":0},null,{"$f":"$D6084*$F6086*H6086","v":0},null,null,null,"(3) ตราสารทุนที่จดทะเบียนในตลาดหลักทรัพย์อื่น แต่ไม่อยู่ในดัชนีตลาดหลักทรัพย์ตามที่กำหนดไว้ในตาราง",null,null,null,{"$f":"G6084*$P6086","v":0},null,null,null,null,null,null,null,null,null,null,null,{"$f":"IF(AB6084=0,0,IF(AH6086=0.25,IF(SUM(Q6084:Q6085)>AB6084,AB6084*(Q6086/SUM(Q6084:Q6085)),Q6086),IF(AB6084>SUM(AC6084:AC6085),AB6084-SUM(AC6084:AC6085),0)))","v":0},null,{"$f":"Q6086-AC6086","v":0},null,{"$f":"IF(AF6084=0,0,AF6084*Q6086/SUM(Q6084:Q6086))","v":0},0.35,0]
[null,null,null,null,"เงินฝาก",null,{"$f":"D6084*F6087","v":0},null,{"$f":"$D6084*$F6087*H6087","v":0},null,null,null,"(4) ตราสารทุนอื่น นอกเหนือจาก (1) ถึง (3)",null,null,null,{"$f":"G6084*$P6087","v":0},null,null,null,null,null,null,null,null,null,null,null,null,null,{"$f":"Q6087-AC6087","v":0},null,null,0.5,0]
[null,null,null,null,"ตราสารหนี้",null,{"$f":"D6084*F6088","v":0},null,{"$f":"$D6084*$F6088*H6088","v":0}]
[null,null,null,null,"อื่นๆ",null,{"$f":"D6084*F6089","v":0},null,{"$f":"$D6084*$F6089*H6089","v":0}]
[null,12,null,null,"ตราสารทุน",null,{"$f":"D6090*F6090","v":0},null,{"$f":"$AJ6090","v":0},{"$f":"SUM(I6090:I6095)","v":0},null,12,"(1) ตราสารทุนที่จดทะเบียนในตลาดหลักทรัพย์แห่งประเทศไทย และตลาดหลักทรัพย์ เอ็ม เอ ไอ",null,null,null,{"$f":"G6090*$P6090","v":0},null,null,null,null,null,null,null,null,{"$f":"IF(AND(SUM($Q6090:$Q6093)=0,$S6090=\"\"),\"\",SUM($Q6090:$Q6093)/$S6090)","v":""},{"$f":"IF(AND(SUM($Q6090:$Q6093)=0,$S6090=\"\"),\"\",$S6090/SUM($Q6090:$Q6093))","v":""},{"$f":"IF(G6090=\"\",0,IF(V6090=\"ใช่\",IF(AND(X6090<=-0.8,X6090>=-1.25,Y6090<=-0.9,Y6090>=-1,Z6090>=0.95,AA6090>=0.95),MIN(SUM(Q6090:Q6092),S6090),0),IF(W6090=\"ใช่\",IF(AND(Z6090>=0.95,AA6090>=0.95),MIN(SUM(Q6090:Q6092),S6090),0),0)))","v":0},{"$f":"IF(AB6090=0,0,IF(AH6090=0.25,IF(SUM(Q6090:Q6091)>AB6090,AB6090*(Q6090/SUM(Q6090:Q6091)),Q6090),IF(AB6090>SUM(AC6090:AC6091),AB6090-SUM(AC6090:AC6091),0)))","v":0},{"$f":"SUM(AE6090:AE6093)","v":0},{"$f":"Q6090-AC6090","v":0},{"$f":"IF(G6090=\"\",0,IF(V6090=\"ใช่\",IF(AND(X6090<=-0.8,X6090>=-1.25,Y6090<=-0.9,Y6090>=-1,Z6090>=0.95,AA6090>=0.95),0,MAX(S6090-SUM(AE6090:AE6093),0)),IF(W6090=\"ใช่\",IF(AND(Z6090>=0.95,AA6090>=0.95),0,MAX(S6090-SUM(AE6090:AE6093),0)),MAX(S6090-SUM(AE6090:AE6093),0))))","v":0},{"$f":"IF(AF6090=0,0,AF6090*$Q6090/SUM(Q6090:Q6092))","v":0},0.25,{"$f":"AE6090*AH6090+AG6090","v":0},{"$f":"SUM(AI6090:AI6093)","v":0}]
[null,null,null,null,"อสังหาริมทรัพย์",null,{"$f":"D6090*F6091","v":0},null,{"$f":"$D6090*$F6091*H6091","v":0},null,null,null,"(2) ตราสารทุนที่จดทะเบียนในตลาดหลักทรัพย์อื่น และอยู่ในดัชนีตลาดหลักทรัพย์ตามที่กำหนดไว้",null,null,null,{"$f":"G6090*$P6091","v":0},null,null,null,null,null,null,null,null,null,null,null,{"$f":"IF(AB6090=0,0,IF(AH6091=0.25,IF(SUM(Q6090:Q6091)>AB6090,AB6090*(Q6091/SUM(Q6090:Q6091)),Q6091),IF(AB6090>SUM(AC6090:AC6091),AB6090-SUM(AC6090:AC6091),0)))","v":0},null,{"$f":"Q6091-AC6091","v":0},null,{"$f":"IF(AF6090=0,0,AF6090*Q6091/SUM(Q6090:Q6092))","v":0},0.25,{"$f":"AE6091*AH6091+AG6091","v":0}]
[null,null,null,null,"สินค้าโภคภัณฑ์",null,{"$f":"D6090*F6092","v":0},null,{"$f":"$D6090*$F6092*H6092","v":0},null,null,null,"(3) ตราสารทุนที่จดทะเบียนในตลาดหลักทรัพย์อื่น แต่ไม่อยู่ในดัชนีตลาดหลักทรัพย์ตามที่กำหนดไว้ในตาราง",null,null,null,{"$f":"G6090*$P6092","v":0},null,null,null,null,null,null,null,null,null,null,null,{"$f":"IF(AB6090=0,0,IF(AH6092=0.25,IF(SUM(Q6090:Q6091)>AB6090,AB6090*(Q6092/SUM(Q6090:Q6091)),Q6092),IF(AB6090>SUM(AC6090:AC6091),AB6090-SUM(AC6090:AC6091),0)))","v":0},null,{"$f":"Q6092-AC6092","v":0},null,{"$f":"IF(AF6090=0,0,AF6090*Q6092/SUM(Q6090:Q6092))","v":0},0.35,0]
[null,null,null,null,"เงินฝาก",null,{"$f":"D6090*F6093","v":0},null,{"$f":"$D6090*$F6093*H6093","v":0},null,null,null,"(4) ตราสารทุนอื่น นอกเหนือจาก (1) ถึง (3)",null,null,null,{"$f":"G6090*$P6093","v":0},null,null,null,null,null,null,null,null,null,null,null,null,null,{"$f":"Q6093-AC6093","v":0},null,null,0.5,0]
[null,null,null,null,"ตราสารหนี้",null,{"$f":"D6090*F6094","v":0},null,{"$f":"$D6090*$F6094*H6094","v":0}]
[null,null,null,null,"อื่นๆ",null,{"$f":"D6090*F6095","v":0},null,{"$f":"$D6090*$F6095*H6095","v":0}]
[null,13,null,null,"ตราสารทุน",null,{"$f":"D6096*F6096","v":0},null,{"$f":"$AJ6096","v":0},{"$f":"SUM(I6096:I6101)","v":0},null,13,"(1) ตราสารทุนที่จดทะเบียนในตลาดหลักทรัพย์แห่งประเทศไทย และตลาดหลักทรัพย์ เอ็ม เอ ไอ",null,null,null,{"$f":"G6096*$P6096","v":0},null,null,null,null,null,null,null,null,{"$f":"IF(AND(SUM($Q6096:$Q6099)=0,$S6096=\"\"),\"\",SUM($Q6096:$Q6099)/$S6096)","v":""},{"$f":"IF(AND(SUM($Q6096:$Q6099)=0,$S6096=\"\"),\"\",$S6096/SUM($Q6096:$Q6099))","v":""},{"$f":"IF(G6096=\"\",0,IF(V6096=\"ใช่\",IF(AND(X6096<=-0.8,X6096>=-1.25,Y6096<=-0.9,Y6096>=-1,Z6096>=0.95,AA6096>=0.95),MIN(SUM(Q6096:Q6098),S6096),0),IF(W6096=\"ใช่\",IF(AND(Z6096>=0.95,AA6096>=0.95),MIN(SUM(Q6096:Q6098),S6096),0),0)))","v":0},{"$f":"IF(AB6096=0,0,IF(AH6096=0.25,IF(SUM(Q6096:Q6097)>AB6096,AB6096*(Q6096/SUM(Q6096:Q6097)),Q6096),IF(AB6096>SUM(AC6096:AC6097),AB6096-SUM(AC6096:AC6097),0)))","v":0},{"$f":"SUM(AE6096:AE6099)","v":0},{"$f":"Q6096-AC6096","v":0},{"$f":"IF(G6096=\"\",0,IF(V6096=\"ใช่\",IF(AND(X6096<=-0.8,X6096>=-1.25,Y6096<=-0.9,Y6096>=-1,Z6096>=0.95,AA6096>=0.95),0,MAX(S6096-SUM(AE6096:AE6099),0)),IF(W6096=\"ใช่\",IF(AND(Z6096>=0.95,AA6096>=0.95),0,MAX(S6096-SUM(AE6096:AE6099),0)),MAX(S6096-SUM(AE6096:AE6099),0))))","v":0},{"$f":"IF(AF6096=0,0,AF6096*$Q6096/SUM(Q6096:Q6098))","v":0},0.25,{"$f":"AE6096*AH6096+AG6096","v":0},{"$f":"SUM(AI6096:AI6099)","v":0}]
[null,null,null,null,"อสังหาริมทรัพย์",null,{"$f":"D6096*F6097","v":0},null,{"$f":"$D6096*$F6097*H6097","v":0},null,null,null,"(2) ตราสารทุนที่จดทะเบียนในตลาดหลักทรัพย์อื่น และอยู่ในดัชนีตลาดหลักทรัพย์ตามที่กำหนดไว้",null,null,null,{"$f":"G6096*$P6097","v":0},null,null,null,null,null,null,null,null,null,null,null,{"$f":"IF(AB6096=0,0,IF(AH6097=0.25,IF(SUM(Q6096:Q6097)>AB6096,AB6096*(Q6097/SUM(Q6096:Q6097)),Q6097),IF(AB6096>SUM(AC6096:AC6097),AB6096-SUM(AC6096:AC6097),0)))","v":0},null,{"$f":"Q6097-AC6097","v":0},null,{"$f":"IF(AF6096=0,0,AF6096*Q6097/SUM(Q6096:Q6098))","v":0},0.25,{"$f":"AE6097*AH6097+AG6097","v":0}]
[null,null,null,null,"สินค้าโภคภัณฑ์",null,{"$f":"D6096*F6098","v":0},null,{"$f":"$D6096*$F6098*H6098","v":0},null,null,null,"(3) ตราสารทุนที่จดทะเบียนในตลาดหลักทรัพย์อื่น แต่ไม่อยู่ในดัชนีตลาดหลักทรัพย์ตามที่กำหนดไว้ในตาราง",null,null,null,{"$f":"G6096*$P6098","v":0},null,null,null,null,null,null,null,null,null,null,null,{"$f":"IF(AB6096=0,0,IF(AH6098=0.25,IF(SUM(Q6096:Q6097)>AB6096,AB6096*(Q6098/SUM(Q6096:Q6097)),Q6098),IF(AB6096>SUM(AC6096:AC6097),AB6096-SUM(AC6096:AC6097),0)))","v":0},null,{"$f":"Q6098-AC6098","v":0},null,{"$f":"IF(AF6096=0,0,AF6096*Q6098/SUM(Q6096:Q6098))","v":0},0.35,0]
[null,null,null,null,"เงินฝาก",null,{"$f":"D6096*F6099","v":0},null,{"$f":"$D6096*$F6099*H6099","v":0},null,null,null,"(4) ตราสารทุนอื่น นอกเหนือจาก (1) ถึง (3)",null,null,null,{"$f":"G6096*$P6099","v":0},null,null,null,null,null,null,null,null,null,null,null,null,null,{"$f":"Q6099-AC6099","v":0},null,null,0.5,0]
[null,null,null,null,"ตราสารหนี้",null,{"$f":"D6096*F6100","v":0},null,{"$f":"$D6096*$F6100*H6100","v":0}]
[null,null,null,null,"อื่นๆ",null,{"$f":"D6096*F6101","v":0},null,{"$f":"$D6096*$F6101*H6101","v":0}]
[null,14,null,null,"ตราสารทุน",null,{"$f":"D6102*F6102","v":0},null,{"$f":"$AJ6102","v":0},{"$f":"SUM(I6102:I6107)","v":0},null,14,"(1) ตราสารทุนที่จดทะเบียนในตลาดหลักทรัพย์แห่งประเทศไทย และตลาดหลักทรัพย์ เอ็ม เอ ไอ",null,null,null,{"$f":"G6102*$P6102","v":0},null,null,null,null,null,null,null,null,{"$f":"IF(AND(SUM($Q6102:$Q6105)=0,$S6102=\"\"),\"\",SUM($Q6102:$Q6105)/$S6102)","v":""},{"$f":"IF(AND(SUM($Q6102:$Q6105)=0,$S6102=\"\"),\"\",$S6102/SUM($Q6102:$Q6105))","v":""},{"$f":"IF(G6102=\"\",0,IF(V6102=\"ใช่\",IF(AND(X6102<=-0.8,X6102>=-1.25,Y6102<=-0.9,Y6102>=-1,Z6102>=0.95,AA6102>=0.95),MIN(SUM(Q6102:Q6104),S6102),0),IF(W6102=\"ใช่\",IF(AND(Z6102>=0.95,AA6102>=0.95),MIN(SUM(Q6102:Q6104),S6102),0),0)))","v":0},{"$f":"IF(AB6102=0,0,IF(AH6102=0.25,IF(SUM(Q6102:Q6103)>AB6102,AB6102*(Q6102/SUM(Q6102:Q6103)),Q6102),IF(AB6102>SUM(AC6102:AC6103),AB6102-SUM(AC6102:AC6103),0)))","v":0},{"$f":"SUM(AE6102:AE6105)","v":0},{"$f":"Q6102-AC6102","v":0},{"$f":"IF(G6102=\"\",0,IF(V6102=\"ใช่\",IF(AND(X6102<=-0.8,X6102>=-1.25,Y6102<=-0.9,Y6102>=-1,Z6102>=0.95,AA6102>=0.95),0,MAX(S6102-SUM(AE6102:AE6105),0)),IF(W6102=\"ใช่\",IF(AND(Z6102>=0.95,AA6102>=0.95),0,MAX(S6102-SUM(AE6102:AE6105),0)),MAX(S6102-SUM(AE6102:AE6105),0))))","v":0},{"$f":"IF(AF6102=0,0,AF6102*$Q6102/SUM(Q6102:Q6104))","v":0},0.25,{"$f":"AE6102*AH6102+AG6102","v":0},{"$f":"SUM(AI6102:AI6105)","v":0}]
[null,null,null,null,"อสังหาริมทรัพย์",null,{"$f":"D6102*F6103","v":0},null,{"$f":"$D6102*$F6103*H6103","v":0},null,null,null,"(2) ตราสารทุนที่จดทะเบียนในตลาดหลักทรัพย์อื่น และอยู่ในดัชนีตลาดหลักทรัพย์ตามที่กำหนดไว้",null,null,null,{"$f":"G6102*$P6103","v":0},null,null,null,null,null,null,null,null,null,null,null,{"$f":"IF(AB6102=0,0,IF(AH6103=0.25,IF(SUM(Q6102:Q6103)>AB6102,AB6102*(Q6103/SUM(Q6102:Q6103)),Q6103),IF(AB6102>SUM(AC6102:AC6103),AB6102-SUM(AC6102:AC6103),0)))","v":0},null,{"$f":"Q6103-AC6103","v":0},null,{"$f":"IF(AF6102=0,0,AF6102*Q6103/SUM(Q6102:Q6104))","v":0},0.25,{"$f":"AE6103*AH6103+AG6103","v":0}]
[null,null,null,null,"สินค้าโภคภัณฑ์",null,{"$f":"D6102*F6104","v":0},null,{"$f":"$D6102*$F6104*H6104","v":0},null,null,null,"(3) ตราสารทุนที่จดทะเบียนในตลาดหลักทรัพย์อื่น แต่ไม่อยู่ในดัชนีตลาดหลักทรัพย์ตามที่กำหนดไว้ในตาราง",null,null,null,{"$f":"G6102*$P6104","v":0},null,null,null,null,null,null,null,null,null,null,null,{"$f":"IF(AB6102=0,0,IF(AH6104=0.25,IF(SUM(Q6102:Q6103)>AB6102,AB6102*(Q6104/SUM(Q6102:Q6103)),Q6104),IF(AB6102>SUM(AC6102:AC6103),AB6102-SUM(AC6102:AC6103),0)))","v":0},null,{"$f":"Q6104-AC6104","v":0},null,{"$f":"IF(AF6102=0,0,AF6102*Q6104/SUM(Q6102:Q6104))","v":0},0.35,0]
[null,null,null,null,"เงินฝาก",null,{"$f":"D6102*F6105","v":0},null,{"$f":"$D6102*$F6105*H6105","v":0},null,null,null,"(4) ตราสารทุนอื่น นอกเหนือจาก (1) ถึง (3)",null,null,null,{"$f":"G6102*$P6105","v":0},null,null,null,null,null,null,null,null,null,null,null,null,null,{"$f":"Q6105-AC6105","v":0},null,null,0.5,0]
[null,null,null,null,"ตราสารหนี้",null,{"$f":"D6102*F6106","v":0},null,{"$f":"$D6102*$F6106*H6106","v":0}]
[null,null,null,null,"อื่นๆ",null,{"$f":"D6102*F6107","v":0},null,{"$f":"$D6102*$F6107*H6107","v":0}]
[null,15,null,null,"ตราสารทุน",null,{"$f":"D6108*F6108","v":0},null,{"$f":"$AJ6108","v":0},{"$f":"SUM(I6108:I6113)","v":0},null,15,"(1) ตราสารทุนที่จดทะเบียนในตลาดหลักทรัพย์แห่งประเทศไทย และตลาดหลักทรัพย์ เอ็ม เอ ไอ",null,null,null,{"$f":"G6108*$P6108","v":0},null,null,null,null,null,null,null,null,{"$f":"IF(AND(SUM($Q6108:$Q6111)=0,$S6108=\"\"),\"\",SUM($Q6108:$Q6111)/$S6108)","v":""},{"$f":"IF(AND(SUM($Q6108:$Q6111)=0,$S6108=\"\"),\"\",$S6108/SUM($Q6108:$Q6111))","v":""},{"$f":"IF(G6108=\"\",0,IF(V6108=\"ใช่\",IF(AND(X6108<=-0.8,X6108>=-1.25,Y6108<=-0.9,Y6108>=-1,Z6108>=0.95,AA6108>=0.95),MIN(SUM(Q6108:Q6110),S6108),0),IF(W6108=\"ใช่\",IF(AND(Z6108>=0.95,AA6108>=0.95),MIN(SUM(Q6108:Q6110),S6108),0),0)))","v":0},{"$f":"IF(AB6108=0,0,IF(AH6108=0.25,IF(SUM(Q6108:Q6109)>AB6108,AB6108*(Q6108/SUM(Q6108:Q6109)),Q6108),IF(AB6108>SUM(AC6108:AC6109),AB6108-SUM(AC6108:AC6109),0)))","v":0},{"$f":"SUM(AE6108:AE6111)","v":0},{"$f":"Q6108-AC6108","v":0},{"$f":"IF(G6108=\"\",0,IF(V6108=\"ใช่\",IF(AND(X6108<=-0.8,X6108>=-1.25,Y6108<=-0.9,Y6108>=-1,Z6108>=0.95,AA6108>=0.95),0,MAX(S6108-SUM(AE6108:AE6111),0)),IF(W6108=\"ใช่\",IF(AND(Z6108>=0.95,AA6108>=0.95),0,MAX(S6108-SUM(AE6108:AE6111),0)),MAX(S6108-SUM(AE6108:AE6111),0))))","v":0},{"$f":"IF(AF6108=0,0,AF6108*$Q6108/SUM(Q6108:Q6110))","v":0},0.25,{"$f":"AE6108*AH6108+AG6108","v":0},{"$f":"SUM(AI6108:AI6111)","v":0}]
[null,null,null,null,"อสังหาริมทรัพย์",null,{"$f":"D6108*F6109","v":0},null,{"$f":"$D6108*$F6109*H6109","v":0},null,null,null,"(2) ตราสารทุนที่จดทะเบียนในตลาดหลักทรัพย์อื่น และอยู่ในดัชนีตลาดหลักทรัพย์ตามที่กำหนดไว้",null,null,null,{"$f":"G6108*$P6109","v":0},null,null,null,null,null,null,null,null,null,null,null,{"$f":"IF(AB6108=0,0,IF(AH6109=0.25,IF(SUM(Q6108:Q6109)>AB6108,AB6108*(Q6109/SUM(Q6108:Q6109)),Q6109),IF(AB6108>SUM(AC6108:AC6109),AB6108-SUM(AC6108:AC6109),0)))","v":0},null,{"$f":"Q6109-AC6109","v":0},null,{"$f":"IF(AF6108=0,0,AF6108*Q6109/SUM(Q6108:Q6110))","v":0},0.25,{"$f":"AE6109*AH6109+AG6109","v":0}]
[null,null,null,null,"สินค้าโภคภัณฑ์",null,{"$f":"D6108*F6110","v":0},null,{"$f":"$D6108*$F6110*H6110","v":0},null,null,null,"(3) ตราสารทุนที่จดทะเบียนในตลาดหลักทรัพย์อื่น แต่ไม่อยู่ในดัชนีตลาดหลักทรัพย์ตามที่กำหนดไว้ในตาราง",null,null,null,{"$f":"G6108*$P6110","v":0},null,null,null,null,null,null,null,null,null,null,null,{"$f":"IF(AB6108=0,0,IF(AH6110=0.25,IF(SUM(Q6108:Q6109)>AB6108,AB6108*(Q6110/SUM(Q6108:Q6109)),Q6110),IF(AB6108>SUM(AC6108:AC6109),AB6108-SUM(AC6108:AC6109),0)))","v":0},null,{"$f":"Q6110-AC6110","v":0},null,{"$f":"IF(AF6108=0,0,AF6108*Q6110/SUM(Q6108:Q6110))","v":0},0.35,0]
[null,null,null,null,"เงินฝาก",null,{"$f":"D6108*F6111","v":0},null,{"$f":"$D6108*$F6111*H6111","v":0},null,null,null,"(4) ตราสารทุนอื่น นอกเหนือจาก (1) ถึง (3)",null,null,null,{"$f":"G6108*$P6111","v":0},null,null,null,null,null,null,null,null,null,null,null,null,null,{"$f":"Q6111-AC6111","v":0},null,null,0.5,0]
[null,null,null,null,"ตราสารหนี้",null,{"$f":"D6108*F6112","v":0},null,{"$f":"$D6108*$F6112*H6112","v":0}]
[null,null,null,null,"อื่นๆ",null,{"$f":"D6108*F6113","v":0},null,{"$f":"$D6108*$F6113*H6113","v":0}]
[null,16,null,null,"ตราสารทุน",null,{"$f":"D6114*F6114","v":0},null,{"$f":"$AJ6114","v":0},{"$f":"SUM(I6114:I6119)","v":0},null,16,"(1) ตราสารทุนที่จดทะเบียนในตลาดหลักทรัพย์แห่งประเทศไทย และตลาดหลักทรัพย์ เอ็ม เอ ไอ",null,null,null,{"$f":"G6114*$P6114","v":0},null,null,null,null,null,null,null,null,{"$f":"IF(AND(SUM($Q6114:$Q6117)=0,$S6114=\"\"),\"\",SUM($Q6114:$Q6117)/$S6114)","v":""},{"$f":"IF(AND(SUM($Q6114:$Q6117)=0,$S6114=\"\"),\"\",$S6114/SUM($Q6114:$Q6117))","v":""},{"$f":"IF(G6114=\"\",0,IF(V6114=\"ใช่\",IF(AND(X6114<=-0.8,X6114>=-1.25,Y6114<=-0.9,Y6114>=-1,Z6114>=0.95,AA6114>=0.95),MIN(SUM(Q6114:Q6116),S6114),0),IF(W6114=\"ใช่\",IF(AND(Z6114>=0.95,AA6114>=0.95),MIN(SUM(Q6114:Q6116),S6114),0),0)))","v":0},{"$f":"IF(AB6114=0,0,IF(AH6114=0.25,IF(SUM(Q6114:Q6115)>AB6114,AB6114*(Q6114/SUM(Q6114:Q6115)),Q6114),IF(AB6114>SUM(AC6114:AC6115),AB6114-SUM(AC6114:AC6115),0)))","v":0},{"$f":"SUM(AE6114:AE6117)","v":0},{"$f":"Q6114-AC6114","v":0},{"$f":"IF(G6114=\"\",0,IF(V6114=\"ใช่\",IF(AND(X6114<=-0.8,X6114>=-1.25,Y6114<=-0.9,Y6114>=-1,Z6114>=0.95,AA6114>=0.95),0,MAX(S6114-SUM(AE6114:AE6117),0)),IF(W6114=\"ใช่\",IF(AND(Z6114>=0.95,AA6114>=0.95),0,MAX(S6114-SUM(AE6114:AE6117),0)),MAX(S6114-SUM(AE6114:AE6117),0))))","v":0},{"$f":"IF(AF6114=0,0,AF6114*$Q6114/SUM(Q6114:Q6116))","v":0},0.25,{"$f":"AE6114*AH6114+AG6114","v":0},{"$f":"SUM(AI6114:AI6117)","v":0}]
[null,null,null,null,"อสังหาริมทรัพย์",null,{"$f":"D6114*F6115","v":0},null,{"$f":"$D6114*$F6115*H6115","v":0},null,null,null,"(2) ตราสารทุนที่จดทะเบียนในตลาดหลักทรัพย์อื่น และอยู่ในดัชนีตลาดหลักทรัพย์ตามที่กำหนดไว้",null,null,null,{"$f":"G6114*$P6115","v":0},null,null,null,null,null,null,null,null,null,null,null,{"$f":"IF(AB6114=0,0,IF(AH6115=0.25,IF(SUM(Q6114:Q6115)>AB6114,AB6114*(Q6115/SUM(Q6114:Q6115)),Q6115),IF(AB6114>SUM(AC6114:AC6115),AB6114-SUM(AC6114:AC6115),0)))","v":0},null,{"$f":"Q6115-AC6115","v":0},null,{"$f":"IF(AF6114=0,0,AF6114*Q6115/SUM(Q6114:Q6116))","v":0},0.25,{"$f":"AE6115*AH6115+AG6115","v":0}]
[null,null,null,null,"สินค้าโภคภัณฑ์",null,{"$f":"D6114*F6116","v":0},null,{"$f":"$D6114*$F6116*H6116","v":0},null,null,null,"(3) ตราสารทุนที่จดทะเบียนในตลาดหลักทรัพย์อื่น แต่ไม่อยู่ในดัชนีตลาดหลักทรัพย์ตามที่กำหนดไว้ในตาราง",null,null,null,{"$f":"G6114*$P6116","v":0},null,null,null,null,null,null,null,null,null,null,null,{"$f":"IF(AB6114=0,0,IF(AH6116=0.25,IF(SUM(Q6114:Q6115)>AB6114,AB6114*(Q6116/SUM(Q6114:Q6115)),Q6116),IF(AB6114>SUM(AC6114:AC6115),AB6114-SUM(AC6114:AC6115),0)))","v":0},null,{"$f":"Q6116-AC6116","v":0},null,{"$f":"IF(AF6114=0,0,AF6114*Q6116/SUM(Q6114:Q6116))","v":0},0.35,0]
[null,null,null,null,"เงินฝาก",null,{"$f":"D6114*F6117","v":0},null,{"$f":"$D6114*$F6117*H6117","v":0},null,null,null,"(4) ตราสารทุนอื่น นอกเหนือจาก (1) ถึง (3)",null,null,null,{"$f":"G6114*$P6117","v":0},null,null,null,null,null,null,null,null,null,null,null,null,null,{"$f":"Q6117-AC6117","v":0},null,null,0.5,0]
[null,null,null,null,"ตราสารหนี้",null,{"$f":"D6114*F6118","v":0},null,{"$f":"$D6114*$F6118*H6118","v":0}]
[null,null,null,null,"อื่นๆ",null,{"$f":"D6114*F6119","v":0},null,{"$f":"$D6114*$F6119*H6119","v":0}]
[null,17,null,null,"ตราสารทุน",null,{"$f":"D6120*F6120","v":0},null,{"$f":"$AJ6120","v":0},{"$f":"SUM(I6120:I6125)","v":0},null,17,"(1) ตราสารทุนที่จดทะเบียนในตลาดหลักทรัพย์แห่งประเทศไทย และตลาดหลักทรัพย์ เอ็ม เอ ไอ",null,null,null,{"$f":"G6120*$P6120","v":0},null,null,null,null,null,null,null,null,{"$f":"IF(AND(SUM($Q6120:$Q6123)=0,$S6120=\"\"),\"\",SUM($Q6120:$Q6123)/$S6120)","v":""},{"$f":"IF(AND(SUM($Q6120:$Q6123)=0,$S6120=\"\"),\"\",$S6120/SUM($Q6120:$Q6123))","v":""},{"$f":"IF(G6120=\"\",0,IF(V6120=\"ใช่\",IF(AND(X6120<=-0.8,X6120>=-1.25,Y6120<=-0.9,Y6120>=-1,Z6120>=0.95,AA6120>=0.95),MIN(SUM(Q6120:Q6122),S6120),0),IF(W6120=\"ใช่\",IF(AND(Z6120>=0.95,AA6120>=0.95),MIN(SUM(Q6120:Q6122),S6120),0),0)))","v":0},{"$f":"IF(AB6120=0,0,IF(AH6120=0.25,IF(SUM(Q6120:Q6121)>AB6120,AB6120*(Q6120/SUM(Q6120:Q6121)),Q6120),IF(AB6120>SUM(AC6120:AC6121),AB6120-SUM(AC6120:AC6121),0)))","v":0},{"$f":"SUM(AE6120:AE6123)","v":0},{"$f":"Q6120-AC6120","v":0},{"$f":"IF(G6120=\"\",0,IF(V6120=\"ใช่\",IF(AND(X6120<=-0.8,X6120>=-1.25,Y6120<=-0.9,Y6120>=-1,Z6120>=0.95,AA6120>=0.95),0,MAX(S6120-SUM(AE6120:AE6123),0)),IF(W6120=\"ใช่\",IF(AND(Z6120>=0.95,AA6120>=0.95),0,MAX(S6120-SUM(AE6120:AE6123),0)),MAX(S6120-SUM(AE6120:AE6123),0))))","v":0},{"$f":"IF(AF6120=0,0,AF6120*$Q6120/SUM(Q6120:Q6122))","v":0},0.25,{"$f":"AE6120*AH6120+AG6120","v":0},{"$f":"SUM(AI6120:AI6123)","v":0}]
[null,null,null,null,"อสังหาริมทรัพย์",null,{"$f":"D6120*F6121","v":0},null,{"$f":"$D6120*$F6121*H6121","v":0},null,null,null,"(2) ตราสารทุนที่จดทะเบียนในตลาดหลักทรัพย์อื่น และอยู่ในดัชนีตลาดหลักทรัพย์ตามที่กำหนดไว้",null,null,null,{"$f":"G6120*$P6121","v":0},null,null,null,null,null,null,null,null,null,null,null,{"$f":"IF(AB6120=0,0,IF(AH6121=0.25,IF(SUM(Q6120:Q6121)>AB6120,AB6120*(Q6121/SUM(Q6120:Q6121)),Q6121),IF(AB6120>SUM(AC6120:AC6121),AB6120-SUM(AC6120:AC6121),0)))","v":0},null,{"$f":"Q6121-AC6121","v":0},null,{"$f":"IF(AF6120=0,0,AF6120*Q6121/SUM(Q6120:Q6122))","v":0},0.25,{"$f":"AE6121*AH6121+AG6121","v":0}]
[null,null,null,null,"สินค้าโภคภัณฑ์",null,{"$f":"D6120*F6122","v":0},null,{"$f":"$D6120*$F6122*H6122","v":0},null,null,null,"(3) ตราสารทุนที่จดทะเบียนในตลาดหลักทรัพย์อื่น แต่ไม่อยู่ในดัชนีตลาดหลักทรัพย์ตามที่กำหนดไว้ในตาราง",null,null,null,{"$f":"G6120*$P6122","v":0},null,null,null,null,null,null,null,null,null,null,null,{"$f":"IF(AB6120=0,0,IF(AH6122=0.25,IF(SUM(Q6120:Q6121)>AB6120,AB6120*(Q6122/SUM(Q6120:Q6121)),Q6122),IF(AB6120>SUM(AC6120:AC6121),AB6120-SUM(AC6120:AC6121),0)))","v":0},null,{"$f":"Q6122-AC6122","v":0},null,{"$f":"IF(AF6120=0,0,AF6120*Q6122/SUM(Q6120:Q6122))","v":0},0.35,0]
[null,null,null,null,"เงินฝาก",null,{"$f":"D6120*F6123","v":0},null,{"$f":"$D6120*$F6123*H6123","v":0},null,null,null,"(4) ตราสารทุนอื่น นอกเหนือจาก (1) ถึง (3)",null,null,null,{"$f":"G6120*$P6123","v":0},null,null,null,null,null,null,null,null,null,null,null,null,null,{"$f":"Q6123-AC6123","v":0},null,null,0.5,0]
[null,null,null,null,"ตราสารหนี้",null,{"$f":"D6120*F6124","v":0},null,{"$f":"$D6120*$F6124*H6124","v":0}]
[null,null,null,null,"อื่นๆ",null,{"$f":"D6120*F6125","v":0},null,{"$f":"$D6120*$F6125*H6125","v":0}]
[null,18,null,null,"ตราสารทุน",null,{"$f":"D6126*F6126","v":0},null,{"$f":"$AJ6126","v":0},{"$f":"SUM(I6126:I6131)","v":0},null,18,"(1) ตราสารทุนที่จดทะเบียนในตลาดหลักทรัพย์แห่งประเทศไทย และตลาดหลักทรัพย์ เอ็ม เอ ไอ",null,null,null,{"$f":"G6126*$P6126","v":0},null,null,null,null,null,null,null,null,{"$f":"IF(AND(SUM($Q6126:$Q6129)=0,$S6126=\"\"),\"\",SUM($Q6126:$Q6129)/$S6126)","v":""},{"$f":"IF(AND(SUM($Q6126:$Q6129)=0,$S6126=\"\"),\"\",$S6126/SUM($Q6126:$Q6129))","v":""},{"$f":"IF(G6126=\"\",0,IF(V6126=\"ใช่\",IF(AND(X6126<=-0.8,X6126>=-1.25,Y6126<=-0.9,Y6126>=-1,Z6126>=0.95,AA6126>=0.95),MIN(SUM(Q6126:Q6128),S6126),0),IF(W6126=\"ใช่\",IF(AND(Z6126>=0.95,AA6126>=0.95),MIN(SUM(Q6126:Q6128),S6126),0),0)))","v":0},{"$f":"IF(AB6126=0,0,IF(AH6126=0.25,IF(SUM(Q6126:Q6127)>AB6126,AB6126*(Q6126/SUM(Q6126:Q6127)),Q6126),IF(AB6126>SUM(AC6126:AC6127),AB6126-SUM(AC6126:AC6127),0)))","v":0},{"$f":"SUM(AE6126:AE6129)","v":0},{"$f":"Q6126-AC6126","v":0},{"$f":"IF(G6126=\"\",0,IF(V6126=\"ใช่\",IF(AND(X6126<=-0.8,X6126>=-1.25,Y6126<=-0.9,Y6126>=-1,Z6126>=0.95,AA6126>=0.95),0,MAX(S6126-SUM(AE6126:AE6129),0)),IF(W6126=\"ใช่\",IF(AND(Z6126>=0.95,AA6126>=0.95),0,MAX(S6126-SUM(AE6126:AE6129),0)),MAX(S6126-SUM(AE6126:AE6129),0))))","v":0},{"$f":"IF(AF6126=0,0,AF6126*$Q6126/SUM(Q6126:Q6128))","v":0},0.25,{"$f":"AE6126*AH6126+AG6126","v":0},{"$f":"SUM(AI6126:AI6129)","v":0}]
[null,null,null,null,"อสังหาริมทรัพย์",null,{"$f":"D6126*F6127","v":0},null,{"$f":"$D6126*$F6127*H6127","v":0},null,null,null,"(2) ตราสารทุนที่จดทะเบียนในตลาดหลักทรัพย์อื่น และอยู่ในดัชนีตลาดหลักทรัพย์ตามที่กำหนดไว้",null,null,null,{"$f":"G6126*$P6127","v":0},null,null,null,null,null,null,null,null,null,null,null,{"$f":"IF(AB6126=0,0,IF(AH6127=0.25,IF(SUM(Q6126:Q6127)>AB6126,AB6126*(Q6127/SUM(Q6126:Q6127)),Q6127),IF(AB6126>SUM(AC6126:AC6127),AB6126-SUM(AC6126:AC6127),0)))","v":0},null,{"$f":"Q6127-AC6127","v":0},null,{"$f":"IF(AF6126=0,0,AF6126*Q6127/SUM(Q6126:Q6128))","v":0},0.25,{"$f":"AE6127*AH6127+AG6127","v":0}]
[null,null,null,null,"สินค้าโภคภัณฑ์",null,{"$f":"D6126*F6128","v":0},null,{"$f":"$D6126*$F6128*H6128","v":0},null,null,null,"(3) ตราสารทุนที่จดทะเบียนในตลาดหลักทรัพย์อื่น แต่ไม่อยู่ในดัชนีตลาดหลักทรัพย์ตามที่กำหนดไว้ในตาราง",null,null,null,{"$f":"G6126*$P6128","v":0},null,null,null,null,null,null,null,null,null,null,null,{"$f":"IF(AB6126=0,0,IF(AH6128=0.25,IF(SUM(Q6126:Q6127)>AB6126,AB6126*(Q6128/SUM(Q6126:Q6127)),Q6128),IF(AB6126>SUM(AC6126:AC6127),AB6126-SUM(AC6126:AC6127),0)))","v":0},null,{"$f":"Q6128-AC6128","v":0},null,{"$f":"IF(AF6126=0,0,AF6126*Q6128/SUM(Q6126:Q6128))","v":0},0.35,0]
[null,null,null,null,"เงินฝาก",null,{"$f":"D6126*F6129","v":0},null,{"$f":"$D6126*$F6129*H6129","v":0},null,null,null,"(4) ตราสารทุนอื่น นอกเหนือจาก (1) ถึง (3)",null,null,null,{"$f":"G6126*$P6129","v":0},null,null,null,null,null,null,null,null,null,null,null,null,null,{"$f":"Q6129-AC6129","v":0},null,null,0.5,0]
[null,null,null,null,"ตราสารหนี้",null,{"$f":"D6126*F6130","v":0},null,{"$f":"$D6126*$F6130*H6130","v":0}]
[null,null,null,null,"อื่นๆ",null,{"$f":"D6126*F6131","v":0},null,{"$f":"$D6126*$F6131*H6131","v":0}]
[null,19,null,null,"ตราสารทุน",null,{"$f":"D6132*F6132","v":0},null,{"$f":"$AJ6132","v":0},{"$f":"SUM(I6132:I6137)","v":0},null,19,"(1) ตราสารทุนที่จดทะเบียนในตลาดหลักทรัพย์แห่งประเทศไทย และตลาดหลักทรัพย์ เอ็ม เอ ไอ",null,null,null,{"$f":"G6132*$P6132","v":0},null,null,null,null,null,null,null,null,{"$f":"IF(AND(SUM($Q6132:$Q6135)=0,$S6132=\"\"),\"\",SUM($Q6132:$Q6135)/$S6132)","v":""},{"$f":"IF(AND(SUM($Q6132:$Q6135)=0,$S6132=\"\"),\"\",$S6132/SUM($Q6132:$Q6135))","v":""},{"$f":"IF(G6132=\"\",0,IF(V6132=\"ใช่\",IF(AND(X6132<=-0.8,X6132>=-1.25,Y6132<=-0.9,Y6132>=-1,Z6132>=0.95,AA6132>=0.95),MIN(SUM(Q6132:Q6134),S6132),0),IF(W6132=\"ใช่\",IF(AND(Z6132>=0.95,AA6132>=0.95),MIN(SUM(Q6132:Q6134),S6132),0),0)))","v":0},{"$f":"IF(AB6132=0,0,IF(AH6132=0.25,IF(SUM(Q6132:Q6133)>AB6132,AB6132*(Q6132/SUM(Q6132:Q6133)),Q6132),IF(AB6132>SUM(AC6132:AC6133),AB6132-SUM(AC6132:AC6133),0)))","v":0},{"$f":"SUM(AE6132:AE6135)","v":0},{"$f":"Q6132-AC6132","v":0},{"$f":"IF(G6132=\"\",0,IF(V6132=\"ใช่\",IF(AND(X6132<=-0.8,X6132>=-1.25,Y6132<=-0.9,Y6132>=-1,Z6132>=0.95,AA6132>=0.95),0,MAX(S6132-SUM(AE6132:AE6135),0)),IF(W6132=\"ใช่\",IF(AND(Z6132>=0.95,AA6132>=0.95),0,MAX(S6132-SUM(AE6132:AE6135),0)),MAX(S6132-SUM(AE6132:AE6135),0))))","v":0},{"$f":"IF(AF6132=0,0,AF6132*$Q6132/SUM(Q6132:Q6134))","v":0},0.25,{"$f":"AE6132*AH6132+AG6132","v":0},{"$f":"SUM(AI6132:AI6135)","v":0}]
[null,null,null,null,"อสังหาริมทรัพย์",null,{"$f":"D6132*F6133","v":0},null,{"$f":"$D6132*$F6133*H6133","v":0},null,null,null,"(2) ตราสารทุนที่จดทะเบียนในตลาดหลักทรัพย์อื่น และอยู่ในดัชนีตลาดหลักทรัพย์ตามที่กำหนดไว้",null,null,null,{"$f":"G6132*$P6133","v":0},null,null,null,null,null,null,null,null,null,null,null,{"$f":"IF(AB6132=0,0,IF(AH6133=0.25,IF(SUM(Q6132:Q6133)>AB6132,AB6132*(Q6133/SUM(Q6132:Q6133)),Q6133),IF(AB6132>SUM(AC6132:AC6133),AB6132-SUM(AC6132:AC6133),0)))","v":0},null,{"$f":"Q6133-AC6133","v":0},null,{"$f":"IF(AF6132=0,0,AF6132*Q6133/SUM(Q6132:Q6134))","v":0},0.25,{"$f":"AE6133*AH6133+AG6133","v":0}]
[null,null,null,null,"สินค้าโภคภัณฑ์",null,{"$f":"D6132*F6134","v":0},null,{"$f":"$D6132*$F6134*H6134","v":0},null,null,null,"(3) ตราสารทุนที่จดทะเบียนในตลาดหลักทรัพย์อื่น แต่ไม่อยู่ในดัชนีตลาดหลักทรัพย์ตามที่กำหนดไว้ในตาราง",null,null,null,{"$f":"G6132*$P6134","v":0},null,null,null,null,null,null,null,null,null,null,null,{"$f":"IF(AB6132=0,0,IF(AH6134=0.25,IF(SUM(Q6132:Q6133)>AB6132,AB6132*(Q6134/SUM(Q6132:Q6133)),Q6134),IF(AB6132>SUM(AC6132:AC6133),AB6132-SUM(AC6132:AC6133),0)))","v":0},null,{"$f":"Q6134-AC6134","v":0},null,{"$f":"IF(AF6132=0,0,AF6132*Q6134/SUM(Q6132:Q6134))","v":0},0.35,0]
[null,null,null,null,"เงินฝาก",null,{"$f":"D6132*F6135","v":0},null,{"$f":"$D6132*$F6135*H6135","v":0},null,null,null,"(4) ตราสารทุนอื่น นอกเหนือจาก (1) ถึง (3)",null,null,null,{"$f":"G6132*$P6135","v":0},null,null,null,null,null,null,null,null,null,null,null,null,null,{"$f":"Q6135-AC6135","v":0},null,null,0.5,0]
[null,null,null,null,"ตราสารหนี้",null,{"$f":"D6132*F6136","v":0},null,{"$f":"$D6132*$F6136*H6136","v":0}]
[null,null,null,null,"อื่นๆ",null,{"$f":"D6132*F6137","v":0},null,{"$f":"$D6132*$F6137*H6137","v":0}]
[null,20,null,null,"ตราสารทุน",null,{"$f":"D6138*F6138","v":0},null,{"$f":"$AJ6138","v":0},{"$f":"SUM(I6138:I6143)","v":0},null,20,"(1) ตราสารทุนที่จดทะเบียนในตลาดหลักทรัพย์แห่งประเทศไทย และตลาดหลักทรัพย์ เอ็ม เอ ไอ",null,null,null,{"$f":"G6138*$P6138","v":0},null,null,null,null,null,null,null,null,{"$f":"IF(AND(SUM($Q6138:$Q6141)=0,$S6138=\"\"),\"\",SUM($Q6138:$Q6141)/$S6138)","v":""},{"$f":"IF(AND(SUM($Q6138:$Q6141)=0,$S6138=\"\"),\"\",$S6138/SUM($Q6138:$Q6141))","v":""},{"$f":"IF(G6138=\"\",0,IF(V6138=\"ใช่\",IF(AND(X6138<=-0.8,X6138>=-1.25,Y6138<=-0.9,Y6138>=-1,Z6138>=0.95,AA6138>=0.95),MIN(SUM(Q6138:Q6140),S6138),0),IF(W6138=\"ใช่\",IF(AND(Z6138>=0.95,AA6138>=0.95),MIN(SUM(Q6138:Q6140),S6138),0),0)))","v":0},{"$f":"IF(AB6138=0,0,IF(AH6138=0.25,IF(SUM(Q6138:Q6139)>AB6138,AB6138*(Q6138/SUM(Q6138:Q6139)),Q6138),IF(AB6138>SUM(AC6138:AC6139),AB6138-SUM(AC6138:AC6139),0)))","v":0},{"$f":"SUM(AE6138:AE6141)","v":0},{"$f":"Q6138-AC6138","v":0},{"$f":"IF(G6138=\"\",0,IF(V6138=\"ใช่\",IF(AND(X6138<=-0.8,X6138>=-1.25,Y6138<=-0.9,Y6138>=-1,Z6138>=0.95,AA6138>=0.95),0,MAX(S6138-SUM(AE6138:AE6141),0)),IF(W6138=\"ใช่\",IF(AND(Z6138>=0.95,AA6138>=0.95),0,MAX(S6138-SUM(AE6138:AE6141),0)),MAX(S6138-SUM(AE6138:AE6141),0))))","v":0},{"$f":"IF(AF6138=0,0,AF6138*$Q6138/SUM(Q6138:Q6140))","v":0},0.25,{"$f":"AE6138*AH6138+AG6138","v":0},{"$f":"SUM(AI6138:AI6141)","v":0}]
[null,null,null,null,"อสังหาริมทรัพย์",null,{"$f":"D6138*F6139","v":0},null,{"$f":"$D6138*$F6139*H6139","v":0},null,null,null,"(2) ตราสารทุนที่จดทะเบียนในตลาดหลักทรัพย์อื่น และอยู่ในดัชนีตลาดหลักทรัพย์ตามที่กำหนดไว้",null,null,null,{"$f":"G6138*$P6139","v":0},null,null,null,null,null,null,null,null,null,null,null,{"$f":"IF(AB6138=0,0,IF(AH6139=0.25,IF(SUM(Q6138:Q6139)>AB6138,AB6138*(Q6139/SUM(Q6138:Q6139)),Q6139),IF(AB6138>SUM(AC6138:AC6139),AB6138-SUM(AC6138:AC6139),0)))","v":0},null,{"$f":"Q6139-AC6139","v":0},null,{"$f":"IF(AF6138=0,0,AF6138*Q6139/SUM(Q6138:Q6140))","v":0},0.25,{"$f":"AE6139*AH6139+AG6139","v":0}]
[null,null,null,null,"สินค้าโภคภัณฑ์",null,{"$f":"D6138*F6140","v":0},null,{"$f":"$D6138*$F6140*H6140","v":0},null,null,null,"(3) ตราสารทุนที่จดทะเบียนในตลาดหลักทรัพย์อื่น แต่ไม่อยู่ในดัชนีตลาดหลักทรัพย์ตามที่กำหนดไว้ในตาราง",null,null,null,{"$f":"G6138*$P6140","v":0},null,null,null,null,null,null,null,null,null,null,null,{"$f":"IF(AB6138=0,0,IF(AH6140=0.25,IF(SUM(Q6138:Q6139)>AB6138,AB6138*(Q6140/SUM(Q6138:Q6139)),Q6140),IF(AB6138>SUM(AC6138:AC6139),AB6138-SUM(AC6138:AC6139),0)))","v":0},null,{"$f":"Q6140-AC6140","v":0},null,{"$f":"IF(AF6138=0,0,AF6138*Q6140/SUM(Q6138:Q6140))","v":0},0.35,0]
[null,null,null,null,"เงินฝาก",null,{"$f":"D6138*F6141","v":0},null,{"$f":"$D6138*$F6141*H6141","v":0},null,null,null,"(4) ตราสารทุนอื่น นอกเหนือจาก (1) ถึง (3)",null,null,null,{"$f":"G6138*$P6141","v":0},null,null,null,null,null,null,null,null,null,null,null,null,null,{"$f":"Q6141-AC6141","v":0},null,null,0.5,0]
[null,null,null,null,"ตราสารหนี้",null,{"$f":"D6138*F6142","v":0},null,{"$f":"$D6138*$F6142*H6142","v":0}]
[null,null,null,null,"อื่นๆ",null,{"$f":"D6138*F6143","v":0},null,{"$f":"$D6138*$F6143*H6143","v":0}]
[null,21,null,null,"ตราสารทุน",null,{"$f":"D6144*F6144","v":0},null,{"$f":"$AJ6144","v":0},{"$f":"SUM(I6144:I6149)","v":0},null,21,"(1) ตราสารทุนที่จดทะเบียนในตลาดหลักทรัพย์แห่งประเทศไทย และตลาดหลักทรัพย์ เอ็ม เอ ไอ",null,null,null,{"$f":"G6144*$P6144","v":0},null,null,null,null,null,null,null,null,{"$f":"IF(AND(SUM($Q6144:$Q6147)=0,$S6144=\"\"),\"\",SUM($Q6144:$Q6147)/$S6144)","v":""},{"$f":"IF(AND(SUM($Q6144:$Q6147)=0,$S6144=\"\"),\"\",$S6144/SUM($Q6144:$Q6147))","v":""},{"$f":"IF(G6144=\"\",0,IF(V6144=\"ใช่\",IF(AND(X6144<=-0.8,X6144>=-1.25,Y6144<=-0.9,Y6144>=-1,Z6144>=0.95,AA6144>=0.95),MIN(SUM(Q6144:Q6146),S6144),0),IF(W6144=\"ใช่\",IF(AND(Z6144>=0.95,AA6144>=0.95),MIN(SUM(Q6144:Q6146),S6144),0),0)))","v":0},{"$f":"IF(AB6144=0,0,IF(AH6144=0.25,IF(SUM(Q6144:Q6145)>AB6144,AB6144*(Q6144/SUM(Q6144:Q6145)),Q6144),IF(AB6144>SUM(AC6144:AC6145),AB6144-SUM(AC6144:AC6145),0)))","v":0},{"$f":"SUM(AE6144:AE6147)","v":0},{"$f":"Q6144-AC6144","v":0},{"$f":"IF(G6144=\"\",0,IF(V6144=\"ใช่\",IF(AND(X6144<=-0.8,X6144>=-1.25,Y6144<=-0.9,Y6144>=-1,Z6144>=0.95,AA6144>=0.95),0,MAX(S6144-SUM(AE6144:AE6147),0)),IF(W6144=\"ใช่\",IF(AND(Z6144>=0.95,AA6144>=0.95),0,MAX(S6144-SUM(AE6144:AE6147),0)),MAX(S6144-SUM(AE6144:AE6147),0))))","v":0},{"$f":"IF(AF6144=0,0,AF6144*$Q6144/SUM(Q6144:Q6146))","v":0},0.25,{"$f":"AE6144*AH6144+AG6144","v":0},{"$f":"SUM(AI6144:AI6147)","v":0}]
[null,null,null,null,"อสังหาริมทรัพย์",null,{"$f":"D6144*F6145","v":0},null,{"$f":"$D6144*$F6145*H6145","v":0},null,null,null,"(2) ตราสารทุนที่จดทะเบียนในตลาดหลักทรัพย์อื่น และอยู่ในดัชนีตลาดหลักทรัพย์ตามที่กำหนดไว้",null,null,null,{"$f":"G6144*$P6145","v":0},null,null,null,null,null,null,null,null,null,null,null,{"$f":"IF(AB6144=0,0,IF(AH6145=0.25,IF(SUM(Q6144:Q6145)>AB6144,AB6144*(Q6145/SUM(Q6144:Q6145)),Q6145),IF(AB6144>SUM(AC6144:AC6145),AB6144-SUM(AC6144:AC6145),0)))","v":0},null,{"$f":"Q6145-AC6145","v":0},null,{"$f":"IF(AF6144=0,0,AF6144*Q6145/SUM(Q6144:Q6146))","v":0},0.25,{"$f":"AE6145*AH6145+AG6145","v":0}]
[null,null,null,null,"สินค้าโภคภัณฑ์",null,{"$f":"D6144*F6146","v":0},null,{"$f":"$D6144*$F6146*H6146","v":0},null,null,null,"(3) ตราสารทุนที่จดทะเบียนในตลาดหลักทรัพย์อื่น แต่ไม่อยู่ในดัชนีตลาดหลักทรัพย์ตามที่กำหนดไว้ในตาราง",null,null,null,{"$f":"G6144*$P6146","v":0},null,null,null,null,null,null,null,null,null,null,null,{"$f":"IF(AB6144=0,0,IF(AH6146=0.25,IF(SUM(Q6144:Q6145)>AB6144,AB6144*(Q6146/SUM(Q6144:Q6145)),Q6146),IF(AB6144>SUM(AC6144:AC6145),AB6144-SUM(AC6144:AC6145),0)))","v":0},null,{"$f":"Q6146-AC6146","v":0},null,{"$f":"IF(AF6144=0,0,AF6144*Q6146/SUM(Q6144:Q6146))","v":0},0.35,0]
[null,null,null,null,"เงินฝาก",null,{"$f":"D6144*F6147","v":0},null,{"$f":"$D6144*$F6147*H6147","v":0},null,null,null,"(4) ตราสารทุนอื่น นอกเหนือจาก (1) ถึง (3)",null,null,null,{"$f":"G6144*$P6147","v":0},null,null,null,null,null,null,null,null,null,null,null,null,null,{"$f":"Q6147-AC6147","v":0},null,null,0.5,0]
[null,null,null,null,"ตราสารหนี้",null,{"$f":"D6144*F6148","v":0},null,{"$f":"$D6144*$F6148*H6148","v":0}]
[null,null,null,null,"อื่นๆ",null,{"$f":"D6144*F6149","v":0},null,{"$f":"$D6144*$F6149*H6149","v":0}]
[null,22,null,null,"ตราสารทุน",null,{"$f":"D6150*F6150","v":0},null,{"$f":"$AJ6150","v":0},{"$f":"SUM(I6150:I6155)","v":0},null,22,"(1) ตราสารทุนที่จดทะเบียนในตลาดหลักทรัพย์แห่งประเทศไทย และตลาดหลักทรัพย์ เอ็ม เอ ไอ",null,null,null,{"$f":"G6150*$P6150","v":0},null,null,null,null,null,null,null,null,{"$f":"IF(AND(SUM($Q6150:$Q6153)=0,$S6150=\"\"),\"\",SUM($Q6150:$Q6153)/$S6150)","v":""},{"$f":"IF(AND(SUM($Q6150:$Q6153)=0,$S6150=\"\"),\"\",$S6150/SUM($Q6150:$Q6153))","v":""},{"$f":"IF(G6150=\"\",0,IF(V6150=\"ใช่\",IF(AND(X6150<=-0.8,X6150>=-1.25,Y6150<=-0.9,Y6150>=-1,Z6150>=0.95,AA6150>=0.95),MIN(SUM(Q6150:Q6152),S6150),0),IF(W6150=\"ใช่\",IF(AND(Z6150>=0.95,AA6150>=0.95),MIN(SUM(Q6150:Q6152),S6150),0),0)))","v":0},{"$f":"IF(AB6150=0,0,IF(AH6150=0.25,IF(SUM(Q6150:Q6151)>AB6150,AB6150*(Q6150/SUM(Q6150:Q6151)),Q6150),IF(AB6150>SUM(AC6150:AC6151),AB6150-SUM(AC6150:AC6151),0)))","v":0},{"$f":"SUM(AE6150:AE6153)","v":0},{"$f":"Q6150-AC6150","v":0},{"$f":"IF(G6150=\"\",0,IF(V6150=\"ใช่\",IF(AND(X6150<=-0.8,X6150>=-1.25,Y6150<=-0.9,Y6150>=-1,Z6150>=0.95,AA6150>=0.95),0,MAX(S6150-SUM(AE6150:AE6153),0)),IF(W6150=\"ใช่\",IF(AND(Z6150>=0.95,AA6150>=0.95),0,MAX(S6150-SUM(AE6150:AE6153),0)),MAX(S6150-SUM(AE6150:AE6153),0))))","v":0},{"$f":"IF(AF6150=0,0,AF6150*$Q6150/SUM(Q6150:Q6152))","v":0},0.25,{"$f":"AE6150*AH6150+AG6150","v":0},{"$f":"SUM(AI6150:AI6153)","v":0}]
[null,null,null,null,"อสังหาริมทรัพย์",null,{"$f":"D6150*F6151","v":0},null,{"$f":"$D6150*$F6151*H6151","v":0},null,null,null,"(2) ตราสารทุนที่จดทะเบียนในตลาดหลักทรัพย์อื่น และอยู่ในดัชนีตลาดหลักทรัพย์ตามที่กำหนดไว้",null,null,null,{"$f":"G6150*$P6151","v":0},null,null,null,null,null,null,null,null,null,null,null,{"$f":"IF(AB6150=0,0,IF(AH6151=0.25,IF(SUM(Q6150:Q6151)>AB6150,AB6150*(Q6151/SUM(Q6150:Q6151)),Q6151),IF(AB6150>SUM(AC6150:AC6151),AB6150-SUM(AC6150:AC6151),0)))","v":0},null,{"$f":"Q6151-AC6151","v":0},null,{"$f":"IF(AF6150=0,0,AF6150*Q6151/SUM(Q6150:Q6152))","v":0},0.25,{"$f":"AE6151*AH6151+AG6151","v":0}]
[null,null,null,null,"สินค้าโภคภัณฑ์",null,{"$f":"D6150*F6152","v":0},null,{"$f":"$D6150*$F6152*H6152","v":0},null,null,null,"(3) ตราสารทุนที่จดทะเบียนในตลาดหลักทรัพย์อื่น แต่ไม่อยู่ในดัชนีตลาดหลักทรัพย์ตามที่กำหนดไว้ในตาราง",null,null,null,{"$f":"G6150*$P6152","v":0},null,null,null,null,null,null,null,null,null,null,null,{"$f":"IF(AB6150=0,0,IF(AH6152=0.25,IF(SUM(Q6150:Q6151)>AB6150,AB6150*(Q6152/SUM(Q6150:Q6151)),Q6152),IF(AB6150>SUM(AC6150:AC6151),AB6150-SUM(AC6150:AC6151),0)))","v":0},null,{"$f":"Q6152-AC6152","v":0},null,{"$f":"IF(AF6150=0,0,AF6150*Q6152/SUM(Q6150:Q6152))","v":0},0.35,0]
[null,null,null,null,"เงินฝาก",null,{"$f":"D6150*F6153","v":0},null,{"$f":"$D6150*$F6153*H6153","v":0},null,null,null,"(4) ตราสารทุนอื่น นอกเหนือจาก (1) ถึง (3)",null,null,null,{"$f":"G6150*$P6153","v":0},null,null,null,null,null,null,null,null,null,null,null,null,null,{"$f":"Q6153-AC6153","v":0},null,null,0.5,0]
[null,null,null,null,"ตราสารหนี้",null,{"$f":"D6150*F6154","v":0},null,{"$f":"$D6150*$F6154*H6154","v":0}]
[null,null,null,null,"อื่นๆ",null,{"$f":"D6150*F6155","v":0},null,{"$f":"$D6150*$F6155*H6155","v":0}]
[null,23,null,null,"ตราสารทุน",null,{"$f":"D6156*F6156","v":0},null,{"$f":"$AJ6156","v":0},{"$f":"SUM(I6156:I6161)","v":0},null,23,"(1) ตราสารทุนที่จดทะเบียนในตลาดหลักทรัพย์แห่งประเทศไทย และตลาดหลักทรัพย์ เอ็ม เอ ไอ",null,null,null,{"$f":"G6156*$P6156","v":0},null,null,null,null,null,null,null,null,{"$f":"IF(AND(SUM($Q6156:$Q6159)=0,$S6156=\"\"),\"\",SUM($Q6156:$Q6159)/$S6156)","v":""},{"$f":"IF(AND(SUM($Q6156:$Q6159)=0,$S6156=\"\"),\"\",$S6156/SUM($Q6156:$Q6159))","v":""},{"$f":"IF(G6156=\"\",0,IF(V6156=\"ใช่\",IF(AND(X6156<=-0.8,X6156>=-1.25,Y6156<=-0.9,Y6156>=-1,Z6156>=0.95,AA6156>=0.95),MIN(SUM(Q6156:Q6158),S6156),0),IF(W6156=\"ใช่\",IF(AND(Z6156>=0.95,AA6156>=0.95),MIN(SUM(Q6156:Q6158),S6156),0),0)))","v":0},{"$f":"IF(AB6156=0,0,IF(AH6156=0.25,IF(SUM(Q6156:Q6157)>AB6156,AB6156*(Q6156/SUM(Q6156:Q6157)),Q6156),IF(AB6156>SUM(AC6156:AC6157),AB6156-SUM(AC6156:AC6157),0)))","v":0},{"$f":"SUM(AE6156:AE6159)","v":0},{"$f":"Q6156-AC6156","v":0},{"$f":"IF(G6156=\"\",0,IF(V6156=\"ใช่\",IF(AND(X6156<=-0.8,X6156>=-1.25,Y6156<=-0.9,Y6156>=-1,Z6156>=0.95,AA6156>=0.95),0,MAX(S6156-SUM(AE6156:AE6159),0)),IF(W6156=\"ใช่\",IF(AND(Z6156>=0.95,AA6156>=0.95),0,MAX(S6156-SUM(AE6156:AE6159),0)),MAX(S6156-SUM(AE6156:AE6159),0))))","v":0},{"$f":"IF(AF6156=0,0,AF6156*$Q6156/SUM(Q6156:Q6158))","v":0},0.25,{"$f":"AE6156*AH6156+AG6156","v":0},{"$f":"SUM(AI6156:AI6159)","v":0}]
[null,null,null,null,"อสังหาริมทรัพย์",null,{"$f":"D6156*F6157","v":0},null,{"$f":"$D6156*$F6157*H6157","v":0},null,null,null,"(2) ตราสารทุนที่จดทะเบียนในตลาดหลักทรัพย์อื่น และอยู่ในดัชนีตลาดหลักทรัพย์ตามที่กำหนดไว้",null,null,null,{"$f":"G6156*$P6157","v":0},null,null,null,null,null,null,null,null,null,null,null,{"$f":"IF(AB6156=0,0,IF(AH6157=0.25,IF(SUM(Q6156:Q6157)>AB6156,AB6156*(Q6157/SUM(Q6156:Q6157)),Q6157),IF(AB6156>SUM(AC6156:AC6157),AB6156-SUM(AC6156:AC6157),0)))","v":0},null,{"$f":"Q6157-AC6157","v":0},null,{"$f":"IF(AF6156=0,0,AF6156*Q6157/SUM(Q6156:Q6158))","v":0},0.25,{"$f":"AE6157*AH6157+AG6157","v":0}]
[null,null,null,null,"สินค้าโภคภัณฑ์",null,{"$f":"D6156*F6158","v":0},null,{"$f":"$D6156*$F6158*H6158","v":0},null,null,null,"(3) ตราสารทุนที่จดทะเบียนในตลาดหลักทรัพย์อื่น แต่ไม่อยู่ในดัชนีตลาดหลักทรัพย์ตามที่กำหนดไว้ในตาราง",null,null,null,{"$f":"G6156*$P6158","v":0},null,null,null,null,null,null,null,null,null,null,null,{"$f":"IF(AB6156=0,0,IF(AH6158=0.25,IF(SUM(Q6156:Q6157)>AB6156,AB6156*(Q6158/SUM(Q6156:Q6157)),Q6158),IF(AB6156>SUM(AC6156:AC6157),AB6156-SUM(AC6156:AC6157),0)))","v":0},null,{"$f":"Q6158-AC6158","v":0},null,{"$f":"IF(AF6156=0,0,AF6156*Q6158/SUM(Q6156:Q6158))","v":0},0.35,0]
[null,null,null,null,"เงินฝาก",null,{"$f":"D6156*F6159","v":0},null,{"$f":"$D6156*$F6159*H6159","v":0},null,null,null,"(4) ตราสารทุนอื่น นอกเหนือจาก (1) ถึง (3)",null,null,null,{"$f":"G6156*$P6159","v":0},null,null,null,null,null,null,null,null,null,null,null,null,null,{"$f":"Q6159-AC6159","v":0},null,null,0.5,0]
[null,null,null,null,"ตราสารหนี้",null,{"$f":"D6156*F6160","v":0},null,{"$f":"$D6156*$F6160*H6160","v":0}]
[null,null,null,null,"อื่นๆ",null,{"$f":"D6156*F6161","v":0},null,{"$f":"$D6156*$F6161*H6161","v":0}]
[null,24,null,null,"ตราสารทุน",null,{"$f":"D6162*F6162","v":0},null,{"$f":"$AJ6162","v":0},{"$f":"SUM(I6162:I6167)","v":0},null,24,"(1) ตราสารทุนที่จดทะเบียนในตลาดหลักทรัพย์แห่งประเทศไทย และตลาดหลักทรัพย์ เอ็ม เอ ไอ",null,null,null,{"$f":"G6162*$P6162","v":0},null,null,null,null,null,null,null,null,{"$f":"IF(AND(SUM($Q6162:$Q6165)=0,$S6162=\"\"),\"\",SUM($Q6162:$Q6165)/$S6162)","v":""},{"$f":"IF(AND(SUM($Q6162:$Q6165)=0,$S6162=\"\"),\"\",$S6162/SUM($Q6162:$Q6165))","v":""},{"$f":"IF(G6162=\"\",0,IF(V6162=\"ใช่\",IF(AND(X6162<=-0.8,X6162>=-1.25,Y6162<=-0.9,Y6162>=-1,Z6162>=0.95,AA6162>=0.95),MIN(SUM(Q6162:Q6164),S6162),0),IF(W6162=\"ใช่\",IF(AND(Z6162>=0.95,AA6162>=0.95),MIN(SUM(Q6162:Q6164),S6162),0),0)))","v":0},{"$f":"IF(AB6162=0,0,IF(AH6162=0.25,IF(SUM(Q6162:Q6163)>AB6162,AB6162*(Q6162/SUM(Q6162:Q6163)),Q6162),IF(AB6162>SUM(AC6162:AC6163),AB6162-SUM(AC6162:AC6163),0)))","v":0},{"$f":"SUM(AE6162:AE6165)","v":0},{"$f":"Q6162-AC6162","v":0},{"$f":"IF(G6162=\"\",0,IF(V6162=\"ใช่\",IF(AND(X6162<=-0.8,X6162>=-1.25,Y6162<=-0.9,Y6162>=-1,Z6162>=0.95,AA6162>=0.95),0,MAX(S6162-SUM(AE6162:AE6165),0)),IF(W6162=\"ใช่\",IF(AND(Z6162>=0.95,AA6162>=0.95),0,MAX(S6162-SUM(AE6162:AE6165),0)),MAX(S6162-SUM(AE6162:AE6165),0))))","v":0},{"$f":"IF(AF6162=0,0,AF6162*$Q6162/SUM(Q6162:Q6164))","v":0},0.25,{"$f":"AE6162*AH6162+AG6162","v":0},{"$f":"SUM(AI6162:AI6165)","v":0}]
[null,null,null,null,"อสังหาริมทรัพย์",null,{"$f":"D6162*F6163","v":0},null,{"$f":"$D6162*$F6163*H6163","v":0},null,null,null,"(2) ตราสารทุนที่จดทะเบียนในตลาดหลักทรัพย์อื่น และอยู่ในดัชนีตลาดหลักทรัพย์ตามที่กำหนดไว้",null,null,null,{"$f":"G6162*$P6163","v":0},null,null,null,null,null,null,null,null,null,null,null,{"$f":"IF(AB6162=0,0,IF(AH6163=0.25,IF(SUM(Q6162:Q6163)>AB6162,AB6162*(Q6163/SUM(Q6162:Q6163)),Q6163),IF(AB6162>SUM(AC6162:AC6163),AB6162-SUM(AC6162:AC6163),0)))","v":0},null,{"$f":"Q6163-AC6163","v":0},null,{"$f":"IF(AF6162=0,0,AF6162*Q6163/SUM(Q6162:Q6164))","v":0},0.25,{"$f":"AE6163*AH6163+AG6163","v":0}]
[null,null,null,null,"สินค้าโภคภัณฑ์",null,{"$f":"D6162*F6164","v":0},null,{"$f":"$D6162*$F6164*H6164","v":0},null,null,null,"(3) ตราสารทุนที่จดทะเบียนในตลาดหลักทรัพย์อื่น แต่ไม่อยู่ในดัชนีตลาดหลักทรัพย์ตามที่กำหนดไว้ในตาราง",null,null,null,{"$f":"G6162*$P6164","v":0},null,null,null,null,null,null,null,null,null,null,null,{"$f":"IF(AB6162=0,0,IF(AH6164=0.25,IF(SUM(Q6162:Q6163)>AB6162,AB6162*(Q6164/SUM(Q6162:Q6163)),Q6164),IF(AB6162>SUM(AC6162:AC6163),AB6162-SUM(AC6162:AC6163),0)))","v":0},null,{"$f":"Q6164-AC6164","v":0},null,{"$f":"IF(AF6162=0,0,AF6162*Q6164/SUM(Q6162:Q6164))","v":0},0.35,0]
[null,null,null,null,"เงินฝาก",null,{"$f":"D6162*F6165","v":0},null,{"$f":"$D6162*$F6165*H6165","v":0},null,null,null,"(4) ตราสารทุนอื่น นอกเหนือจาก (1) ถึง (3)",null,null,null,{"$f":"G6162*$P6165","v":0},null,null,null,null,null,null,null,null,null,null,null,null,null,{"$f":"Q6165-AC6165","v":0},null,null,0.5,0]
[null,null,null,null,"ตราสารหนี้",null,{"$f":"D6162*F6166","v":0},null,{"$f":"$D6162*$F6166*H6166","v":0}]
[null,null,null,null,"อื่นๆ",null,{"$f":"D6162*F6167","v":0},null,{"$f":"$D6162*$F6167*H6167","v":0}]
[null,25,null,null,"ตราสารทุน",null,{"$f":"D6168*F6168","v":0},null,{"$f":"$AJ6168","v":0},{"$f":"SUM(I6168:I6173)","v":0},null,25,"(1) ตราสารทุนที่จดทะเบียนในตลาดหลักทรัพย์แห่งประเทศไทย และตลาดหลักทรัพย์ เอ็ม เอ ไอ",null,null,null,{"$f":"G6168*$P6168","v":0},null,null,null,null,null,null,null,null,{"$f":"IF(AND(SUM($Q6168:$Q6171)=0,$S6168=\"\"),\"\",SUM($Q6168:$Q6171)/$S6168)","v":""},{"$f":"IF(AND(SUM($Q6168:$Q6171)=0,$S6168=\"\"),\"\",$S6168/SUM($Q6168:$Q6171))","v":""},{"$f":"IF(G6168=\"\",0,IF(V6168=\"ใช่\",IF(AND(X6168<=-0.8,X6168>=-1.25,Y6168<=-0.9,Y6168>=-1,Z6168>=0.95,AA6168>=0.95),MIN(SUM(Q6168:Q6170),S6168),0),IF(W6168=\"ใช่\",IF(AND(Z6168>=0.95,AA6168>=0.95),MIN(SUM(Q6168:Q6170),S6168),0),0)))","v":0},{"$f":"IF(AB6168=0,0,IF(AH6168=0.25,IF(SUM(Q6168:Q6169)>AB6168,AB6168*(Q6168/SUM(Q6168:Q6169)),Q6168),IF(AB6168>SUM(AC6168:AC6169),AB6168-SUM(AC6168:AC6169),0)))","v":0},{"$f":"SUM(AE6168:AE6171)","v":0},{"$f":"Q6168-AC6168","v":0},{"$f":"IF(G6168=\"\",0,IF(V6168=\"ใช่\",IF(AND(X6168<=-0.8,X6168>=-1.25,Y6168<=-0.9,Y6168>=-1,Z6168>=0.95,AA6168>=0.95),0,MAX(S6168-SUM(AE6168:AE6171),0)),IF(W6168=\"ใช่\",IF(AND(Z6168>=0.95,AA6168>=0.95),0,MAX(S6168-SUM(AE6168:AE6171),0)),MAX(S6168-SUM(AE6168:AE6171),0))))","v":0},{"$f":"IF(AF6168=0,0,AF6168*$Q6168/SUM(Q6168:Q6170))","v":0},0.25,{"$f":"AE6168*AH6168+AG6168","v":0},{"$f":"SUM(AI6168:AI6171)","v":0}]
[null,null,null,null,"อสังหาริมทรัพย์",null,{"$f":"D6168*F6169","v":0},null,{"$f":"$D6168*$F6169*H6169","v":0},null,null,null,"(2) ตราสารทุนที่จดทะเบียนในตลาดหลักทรัพย์อื่น และอยู่ในดัชนีตลาดหลักทรัพย์ตามที่กำหนดไว้",null,null,null,{"$f":"G6168*$P6169","v":0},null,null,null,null,null,null,null,null,null,null,null,{"$f":"IF(AB6168=0,0,IF(AH6169=0.25,IF(SUM(Q6168:Q6169)>AB6168,AB6168*(Q6169/SUM(Q6168:Q6169)),Q6169),IF(AB6168>SUM(AC6168:AC6169),AB6168-SUM(AC6168:AC6169),0)))","v":0},null,{"$f":"Q6169-AC6169","v":0},null,{"$f":"IF(AF6168=0,0,AF6168*Q6169/SUM(Q6168:Q6170))","v":0},0.25,{"$f":"AE6169*AH6169+AG6169","v":0}]
[null,null,null,null,"สินค้าโภคภัณฑ์",null,{"$f":"D6168*F6170","v":0},null,{"$f":"$D6168*$F6170*H6170","v":0},null,null,null,"(3) ตราสารทุนที่จดทะเบียนในตลาดหลักทรัพย์อื่น แต่ไม่อยู่ในดัชนีตลาดหลักทรัพย์ตามที่กำหนดไว้ในตาราง",null,null,null,{"$f":"G6168*$P6170","v":0},null,null,null,null,null,null,null,null,null,null,null,{"$f":"IF(AB6168=0,0,IF(AH6170=0.25,IF(SUM(Q6168:Q6169)>AB6168,AB6168*(Q6170/SUM(Q6168:Q6169)),Q6170),IF(AB6168>SUM(AC6168:AC6169),AB6168-SUM(AC6168:AC6169),0)))","v":0},null,{"$f":"Q6170-AC6170","v":0},null,{"$f":"IF(AF6168=0,0,AF6168*Q6170/SUM(Q6168:Q6170))","v":0},0.35,0]
[null,null,null,null,"เงินฝาก",null,{"$f":"D6168*F6171","v":0},null,{"$f":"$D6168*$F6171*H6171","v":0},null,null,null,"(4) ตราสารทุนอื่น นอกเหนือจาก (1) ถึง (3)",null,null,null,{"$f":"G6168*$P6171","v":0},null,null,null,null,null,null,null,null,null,null,null,null,null,{"$f":"Q6171-AC6171","v":0},null,null,0.5,0]
[null,null,null,null,"ตราสารหนี้",null,{"$f":"D6168*F6172","v":0},null,{"$f":"$D6168*$F6172*H6172","v":0}]
[null,null,null,null,"อื่นๆ",null,{"$f":"D6168*F6173","v":0},null,{"$f":"$D6168*$F6173*H6173","v":0}]
[null,26,null,null,"ตราสารทุน",null,{"$f":"D6174*F6174","v":0},null,{"$f":"$AJ6174","v":0},{"$f":"SUM(I6174:I6179)","v":0},null,26,"(1) ตราสารทุนที่จดทะเบียนในตลาดหลักทรัพย์แห่งประเทศไทย และตลาดหลักทรัพย์ เอ็ม เอ ไอ",null,null,null,{"$f":"G6174*$P6174","v":0},null,null,null,null,null,null,null,null,{"$f":"IF(AND(SUM($Q6174:$Q6177)=0,$S6174=\"\"),\"\",SUM($Q6174:$Q6177)/$S6174)","v":""},{"$f":"IF(AND(SUM($Q6174:$Q6177)=0,$S6174=\"\"),\"\",$S6174/SUM($Q6174:$Q6177))","v":""},{"$f":"IF(G6174=\"\",0,IF(V6174=\"ใช่\",IF(AND(X6174<=-0.8,X6174>=-1.25,Y6174<=-0.9,Y6174>=-1,Z6174>=0.95,AA6174>=0.95),MIN(SUM(Q6174:Q6176),S6174),0),IF(W6174=\"ใช่\",IF(AND(Z6174>=0.95,AA6174>=0.95),MIN(SUM(Q6174:Q6176),S6174),0),0)))","v":0},{"$f":"IF(AB6174=0,0,IF(AH6174=0.25,IF(SUM(Q6174:Q6175)>AB6174,AB6174*(Q6174/SUM(Q6174:Q6175)),Q6174),IF(AB6174>SUM(AC6174:AC6175),AB6174-SUM(AC6174:AC6175),0)))","v":0},{"$f":"SUM(AE6174:AE6177)","v":0},{"$f":"Q6174-AC6174","v":0},{"$f":"IF(G6174=\"\",0,IF(V6174=\"ใช่\",IF(AND(X6174<=-0.8,X6174>=-1.25,Y6174<=-0.9,Y6174>=-1,Z6174>=0.95,AA6174>=0.95),0,MAX(S6174-SUM(AE6174:AE6177),0)),IF(W6174=\"ใช่\",IF(AND(Z6174>=0.95,AA6174>=0.95),0,MAX(S6174-SUM(AE6174:AE6177),0)),MAX(S6174-SUM(AE6174:AE6177),0))))","v":0},{"$f":"IF(AF6174=0,0,AF6174*$Q6174/SUM(Q6174:Q6176))","v":0},0.25,{"$f":"AE6174*AH6174+AG6174","v":0},{"$f":"SUM(AI6174:AI6177)","v":0}]
[null,null,null,null,"อสังหาริมทรัพย์",null,{"$f":"D6174*F6175","v":0},null,{"$f":"$D6174*$F6175*H6175","v":0},null,null,null,"(2) ตราสารทุนที่จดทะเบียนในตลาดหลักทรัพย์อื่น และอยู่ในดัชนีตลาดหลักทรัพย์ตามที่กำหนดไว้",null,null,null,{"$f":"G6174*$P6175","v":0},null,null,null,null,null,null,null,null,null,null,null,{"$f":"IF(AB6174=0,0,IF(AH6175=0.25,IF(SUM(Q6174:Q6175)>AB6174,AB6174*(Q6175/SUM(Q6174:Q6175)),Q6175),IF(AB6174>SUM(AC6174:AC6175),AB6174-SUM(AC6174:AC6175),0)))","v":0},null,{"$f":"Q6175-AC6175","v":0},null,{"$f":"IF(AF6174=0,0,AF6174*Q6175/SUM(Q6174:Q6176))","v":0},0.25,{"$f":"AE6175*AH6175+AG6175","v":0}]
[null,null,null,null,"สินค้าโภคภัณฑ์",null,{"$f":"D6174*F6176","v":0},null,{"$f":"$D6174*$F6176*H6176","v":0},null,null,null,"(3) ตราสารทุนที่จดทะเบียนในตลาดหลักทรัพย์อื่น แต่ไม่อยู่ในดัชนีตลาดหลักทรัพย์ตามที่กำหนดไว้ในตาราง",null,null,null,{"$f":"G6174*$P6176","v":0},null,null,null,null,null,null,null,null,null,null,null,{"$f":"IF(AB6174=0,0,IF(AH6176=0.25,IF(SUM(Q6174:Q6175)>AB6174,AB6174*(Q6176/SUM(Q6174:Q6175)),Q6176),IF(AB6174>SUM(AC6174:AC6175),AB6174-SUM(AC6174:AC6175),0)))","v":0},null,{"$f":"Q6176-AC6176","v":0},null,{"$f":"IF(AF6174=0,0,AF6174*Q6176/SUM(Q6174:Q6176))","v":0},0.35,0]
[null,null,null,null,"เงินฝาก",null,{"$f":"D6174*F6177","v":0},null,{"$f":"$D6174*$F6177*H6177","v":0},null,null,null,"(4) ตราสารทุนอื่น นอกเหนือจาก (1) ถึง (3)",null,null,null,{"$f":"G6174*$P6177","v":0},null,null,null,null,null,null,null,null,null,null,null,null,null,{"$f":"Q6177-AC6177","v":0},null,null,0.5,0]
[null,null,null,null,"ตราสารหนี้",null,{"$f":"D6174*F6178","v":0},null,{"$f":"$D6174*$F6178*H6178","v":0}]
[null,null,null,null,"อื่นๆ",null,{"$f":"D6174*F6179","v":0},null,{"$f":"$D6174*$F6179*H6179","v":0}]
[null,27,null,null,"ตราสารทุน",null,{"$f":"D6180*F6180","v":0},null,{"$f":"$AJ6180","v":0},{"$f":"SUM(I6180:I6185)","v":0},null,27,"(1) ตราสารทุนที่จดทะเบียนในตลาดหลักทรัพย์แห่งประเทศไทย และตลาดหลักทรัพย์ เอ็ม เอ ไอ",null,null,null,{"$f":"G6180*$P6180","v":0},null,null,null,null,null,null,null,null,{"$f":"IF(AND(SUM($Q6180:$Q6183)=0,$S6180=\"\"),\"\",SUM($Q6180:$Q6183)/$S6180)","v":""},{"$f":"IF(AND(SUM($Q6180:$Q6183)=0,$S6180=\"\"),\"\",$S6180/SUM($Q6180:$Q6183))","v":""},{"$f":"IF(G6180=\"\",0,IF(V6180=\"ใช่\",IF(AND(X6180<=-0.8,X6180>=-1.25,Y6180<=-0.9,Y6180>=-1,Z6180>=0.95,AA6180>=0.95),MIN(SUM(Q6180:Q6182),S6180),0),IF(W6180=\"ใช่\",IF(AND(Z6180>=0.95,AA6180>=0.95),MIN(SUM(Q6180:Q6182),S6180),0),0)))","v":0},{"$f":"IF(AB6180=0,0,IF(AH6180=0.25,IF(SUM(Q6180:Q6181)>AB6180,AB6180*(Q6180/SUM(Q6180:Q6181)),Q6180),IF(AB6180>SUM(AC6180:AC6181),AB6180-SUM(AC6180:AC6181),0)))","v":0},{"$f":"SUM(AE6180:AE6183)","v":0},{"$f":"Q6180-AC6180","v":0},{"$f":"IF(G6180=\"\",0,IF(V6180=\"ใช่\",IF(AND(X6180<=-0.8,X6180>=-1.25,Y6180<=-0.9,Y6180>=-1,Z6180>=0.95,AA6180>=0.95),0,MAX(S6180-SUM(AE6180:AE6183),0)),IF(W6180=\"ใช่\",IF(AND(Z6180>=0.95,AA6180>=0.95),0,MAX(S6180-SUM(AE6180:AE6183),0)),MAX(S6180-SUM(AE6180:AE6183),0))))","v":0},{"$f":"IF(AF6180=0,0,AF6180*$Q6180/SUM(Q6180:Q6182))","v":0},0.25,{"$f":"AE6180*AH6180+AG6180","v":0},{"$f":"SUM(AI6180:AI6183)","v":0}]
[null,null,null,null,"อสังหาริมทรัพย์",null,{"$f":"D6180*F6181","v":0},null,{"$f":"$D6180*$F6181*H6181","v":0},null,null,null,"(2) ตราสารทุนที่จดทะเบียนในตลาดหลักทรัพย์อื่น และอยู่ในดัชนีตลาดหลักทรัพย์ตามที่กำหนดไว้",null,null,null,{"$f":"G6180*$P6181","v":0},null,null,null,null,null,null,null,null,null,null,null,{"$f":"IF(AB6180=0,0,IF(AH6181=0.25,IF(SUM(Q6180:Q6181)>AB6180,AB6180*(Q6181/SUM(Q6180:Q6181)),Q6181),IF(AB6180>SUM(AC6180:AC6181),AB6180-SUM(AC6180:AC6181),0)))","v":0},null,{"$f":"Q6181-AC6181","v":0},null,{"$f":"IF(AF6180=0,0,AF6180*Q6181/SUM(Q6180:Q6182))","v":0},0.25,{"$f":"AE6181*AH6181+AG6181","v":0}]
[null,null,null,null,"สินค้าโภคภัณฑ์",null,{"$f":"D6180*F6182","v":0},null,{"$f":"$D6180*$F6182*H6182","v":0},null,null,null,"(3) ตราสารทุนที่จดทะเบียนในตลาดหลักทรัพย์อื่น แต่ไม่อยู่ในดัชนีตลาดหลักทรัพย์ตามที่กำหนดไว้ในตาราง",null,null,null,{"$f":"G6180*$P6182","v":0},null,null,null,null,null,null,null,null,null,null,null,{"$f":"IF(AB6180=0,0,IF(AH6182=0.25,IF(SUM(Q6180:Q6181)>AB6180,AB6180*(Q6182/SUM(Q6180:Q6181)),Q6182),IF(AB6180>SUM(AC6180:AC6181),AB6180-SUM(AC6180:AC6181),0)))","v":0},null,{"$f":"Q6182-AC6182","v":0},null,{"$f":"IF(AF6180=0,0,AF6180*Q6182/SUM(Q6180:Q6182))","v":0},0.35,0]
[null,null,null,null,"เงินฝาก",null,{"$f":"D6180*F6183","v":0},null,{"$f":"$D6180*$F6183*H6183","v":0},null,null,null,"(4) ตราสารทุนอื่น นอกเหนือจาก (1) ถึง (3)",null,null,null,{"$f":"G6180*$P6183","v":0},null,null,null,null,null,null,null,null,null,null,null,null,null,{"$f":"Q6183-AC6183","v":0},null,null,0.5,0]
[null,null,null,null,"ตราสารหนี้",null,{"$f":"D6180*F6184","v":0},null,{"$f":"$D6180*$F6184*H6184","v":0}]
[null,null,null,null,"อื่นๆ",null,{"$f":"D6180*F6185","v":0},null,{"$f":"$D6180*$F6185*H6185","v":0}]
[null,28,null,null,"ตราสารทุน",null,{"$f":"D6186*F6186","v":0},null,{"$f":"$AJ6186","v":0},{"$f":"SUM(I6186:I6191)","v":0},null,28,"(1) ตราสารทุนที่จดทะเบียนในตลาดหลักทรัพย์แห่งประเทศไทย และตลาดหลักทรัพย์ เอ็ม เอ ไอ",null,null,null,{"$f":"G6186*$P6186","v":0},null,null,null,null,null,null,null,null,{"$f":"IF(AND(SUM($Q6186:$Q6189)=0,$S6186=\"\"),\"\",SUM($Q6186:$Q6189)/$S6186)","v":""},{"$f":"IF(AND(SUM($Q6186:$Q6189)=0,$S6186=\"\"),\"\",$S6186/SUM($Q6186:$Q6189))","v":""},{"$f":"IF(G6186=\"\",0,IF(V6186=\"ใช่\",IF(AND(X6186<=-0.8,X6186>=-1.25,Y6186<=-0.9,Y6186>=-1,Z6186>=0.95,AA6186>=0.95),MIN(SUM(Q6186:Q6188),S6186),0),IF(W6186=\"ใช่\",IF(AND(Z6186>=0.95,AA6186>=0.95),MIN(SUM(Q6186:Q6188),S6186),0),0)))","v":0},{"$f":"IF(AB6186=0,0,IF(AH6186=0.25,IF(SUM(Q6186:Q6187)>AB6186,AB6186*(Q6186/SUM(Q6186:Q6187)),Q6186),IF(AB6186>SUM(AC6186:AC6187),AB6186-SUM(AC6186:AC6187),0)))","v":0},{"$f":"SUM(AE6186:AE6189)","v":0},{"$f":"Q6186-AC6186","v":0},{"$f":"IF(G6186=\"\",0,IF(V6186=\"ใช่\",IF(AND(X6186<=-0.8,X6186>=-1.25,Y6186<=-0.9,Y6186>=-1,Z6186>=0.95,AA6186>=0.95),0,MAX(S6186-SUM(AE6186:AE6189),0)),IF(W6186=\"ใช่\",IF(AND(Z6186>=0.95,AA6186>=0.95),0,MAX(S6186-SUM(AE6186:AE6189),0)),MAX(S6186-SUM(AE6186:AE6189),0))))","v":0},{"$f":"IF(AF6186=0,0,AF6186*$Q6186/SUM(Q6186:Q6188))","v":0},0.25,{"$f":"AE6186*AH6186+AG6186","v":0},{"$f":"SUM(AI6186:AI6189)","v":0}]
[null,null,null,null,"อสังหาริมทรัพย์",null,{"$f":"D6186*F6187","v":0},null,{"$f":"$D6186*$F6187*H6187","v":0},null,null,null,"(2) ตราสารทุนที่จดทะเบียนในตลาดหลักทรัพย์อื่น และอยู่ในดัชนีตลาดหลักทรัพย์ตามที่กำหนดไว้",null,null,null,{"$f":"G6186*$P6187","v":0},null,null,null,null,null,null,null,null,null,null,null,{"$f":"IF(AB6186=0,0,IF(AH6187=0.25,IF(SUM(Q6186:Q6187)>AB6186,AB6186*(Q6187/SUM(Q6186:Q6187)),Q6187),IF(AB6186>SUM(AC6186:AC6187),AB6186-SUM(AC6186:AC6187),0)))","v":0},null,{"$f":"Q6187-AC6187","v":0},null,{"$f":"IF(AF6186=0,0,AF6186*Q6187/SUM(Q6186:Q6188))","v":0},0.25,{"$f":"AE6187*AH6187+AG6187","v":0}]
[null,null,null,null,"สินค้าโภคภัณฑ์",null,{"$f":"D6186*F6188","v":0},null,{"$f":"$D6186*$F6188*H6188","v":0},null,null,null,"(3) ตราสารทุนที่จดทะเบียนในตลาดหลักทรัพย์อื่น แต่ไม่อยู่ในดัชนีตลาดหลักทรัพย์ตามที่กำหนดไว้ในตาราง",null,null,null,{"$f":"G6186*$P6188","v":0},null,null,null,null,null,null,null,null,null,null,null,{"$f":"IF(AB6186=0,0,IF(AH6188=0.25,IF(SUM(Q6186:Q6187)>AB6186,AB6186*(Q6188/SUM(Q6186:Q6187)),Q6188),IF(AB6186>SUM(AC6186:AC6187),AB6186-SUM(AC6186:AC6187),0)))","v":0},null,{"$f":"Q6188-AC6188","v":0},null,{"$f":"IF(AF6186=0,0,AF6186*Q6188/SUM(Q6186:Q6188))","v":0},0.35,0]
[null,null,null,null,"เงินฝาก",null,{"$f":"D6186*F6189","v":0},null,{"$f":"$D6186*$F6189*H6189","v":0},null,null,null,"(4) ตราสารทุนอื่น นอกเหนือจาก (1) ถึง (3)",null,null,null,{"$f":"G6186*$P6189","v":0},null,null,null,null,null,null,null,null,null,null,null,null,null,{"$f":"Q6189-AC6189","v":0},null,null,0.5,0]
[null,null,null,null,"ตราสารหนี้",null,{"$f":"D6186*F6190","v":0},null,{"$f":"$D6186*$F6190*H6190","v":0}]
[null,null,null,null,"อื่นๆ",null,{"$f":"D6186*F6191","v":0},null,{"$f":"$D6186*$F6191*H6191","v":0}]
[null,29,null,null,"ตราสารทุน",null,{"$f":"D6192*F6192","v":0},null,{"$f":"$AJ6192","v":0},{"$f":"SUM(I6192:I6197)","v":0},null,29,"(1) ตราสารทุนที่จดทะเบียนในตลาดหลักทรัพย์แห่งประเทศไทย และตลาดหลักทรัพย์ เอ็ม เอ ไอ",null,null,null,{"$f":"G6192*$P6192","v":0},null,null,null,null,null,null,null,null,{"$f":"IF(AND(SUM($Q6192:$Q6195)=0,$S6192=\"\"),\"\",SUM($Q6192:$Q6195)/$S6192)","v":""},{"$f":"IF(AND(SUM($Q6192:$Q6195)=0,$S6192=\"\"),\"\",$S6192/SUM($Q6192:$Q6195))","v":""},{"$f":"IF(G6192=\"\",0,IF(V6192=\"ใช่\",IF(AND(X6192<=-0.8,X6192>=-1.25,Y6192<=-0.9,Y6192>=-1,Z6192>=0.95,AA6192>=0.95),MIN(SUM(Q6192:Q6194),S6192),0),IF(W6192=\"ใช่\",IF(AND(Z6192>=0.95,AA6192>=0.95),MIN(SUM(Q6192:Q6194),S6192),0),0)))","v":0},{"$f":"IF(AB6192=0,0,IF(AH6192=0.25,IF(SUM(Q6192:Q6193)>AB6192,AB6192*(Q6192/SUM(Q6192:Q6193)),Q6192),IF(AB6192>SUM(AC6192:AC6193),AB6192-SUM(AC6192:AC6193),0)))","v":0},{"$f":"SUM(AE6192:AE6195)","v":0},{"$f":"Q6192-AC6192","v":0},{"$f":"IF(G6192=\"\",0,IF(V6192=\"ใช่\",IF(AND(X6192<=-0.8,X6192>=-1.25,Y6192<=-0.9,Y6192>=-1,Z6192>=0.95,AA6192>=0.95),0,MAX(S6192-SUM(AE6192:AE6195),0)),IF(W6192=\"ใช่\",IF(AND(Z6192>=0.95,AA6192>=0.95),0,MAX(S6192-SUM(AE6192:AE6195),0)),MAX(S6192-SUM(AE6192:AE6195),0))))","v":0},{"$f":"IF(AF6192=0,0,AF6192*$Q6192/SUM(Q6192:Q6194))","v":0},0.25,{"$f":"AE6192*AH6192+AG6192","v":0},{"$f":"SUM(AI6192:AI6195)","v":0}]
[null,null,null,null,"อสังหาริมทรัพย์",null,{"$f":"D6192*F6193","v":0},null,{"$f":"$D6192*$F6193*H6193","v":0},null,null,null,"(2) ตราสารทุนที่จดทะเบียนในตลาดหลักทรัพย์อื่น และอยู่ในดัชนีตลาดหลักทรัพย์ตามที่กำหนดไว้",null,null,null,{"$f":"G6192*$P6193","v":0},null,null,null,null,null,null,null,null,null,null,null,{"$f":"IF(AB6192=0,0,IF(AH6193=0.25,IF(SUM(Q6192:Q6193)>AB6192,AB6192*(Q6193/SUM(Q6192:Q6193)),Q6193),IF(AB6192>SUM(AC6192:AC6193),AB6192-SUM(AC6192:AC6193),0)))","v":0},null,{"$f":"Q6193-AC6193","v":0},null,{"$f":"IF(AF6192=0,0,AF6192*Q6193/SUM(Q6192:Q6194))","v":0},0.25,{"$f":"AE6193*AH6193+AG6193","v":0}]
[null,null,null,null,"สินค้าโภคภัณฑ์",null,{"$f":"D6192*F6194","v":0},null,{"$f":"$D6192*$F6194*H6194","v":0},null,null,null,"(3) ตราสารทุนที่จดทะเบียนในตลาดหลักทรัพย์อื่น แต่ไม่อยู่ในดัชนีตลาดหลักทรัพย์ตามที่กำหนดไว้ในตาราง",null,null,null,{"$f":"G6192*$P6194","v":0},null,null,null,null,null,null,null,null,null,null,null,{"$f":"IF(AB6192=0,0,IF(AH6194=0.25,IF(SUM(Q6192:Q6193)>AB6192,AB6192*(Q6194/SUM(Q6192:Q6193)),Q6194),IF(AB6192>SUM(AC6192:AC6193),AB6192-SUM(AC6192:AC6193),0)))","v":0},null,{"$f":"Q6194-AC6194","v":0},null,{"$f":"IF(AF6192=0,0,AF6192*Q6194/SUM(Q6192:Q6194))","v":0},0.35,0]
[null,null,null,null,"เงินฝาก",null,{"$f":"D6192*F6195","v":0},null,{"$f":"$D6192*$F6195*H6195","v":0},null,null,null,"(4) ตราสารทุนอื่น นอกเหนือจาก (1) ถึง (3)",null,null,null,{"$f":"G6192*$P6195","v":0},null,null,null,null,null,null,null,null,null,null,null,null,null,{"$f":"Q6195-AC6195","v":0},null,null,0.5,0]
[null,null,null,null,"ตราสารหนี้",null,{"$f":"D6192*F6196","v":0},null,{"$f":"$D6192*$F6196*H6196","v":0}]
[null,null,null,null,"อื่นๆ",null,{"$f":"D6192*F6197","v":0},null,{"$f":"$D6192*$F6197*H6197","v":0}]
[null,30,null,null,"ตราสารทุน",null,{"$f":"D6198*F6198","v":0},null,{"$f":"$AJ6198","v":0},{"$f":"SUM(I6198:I6203)","v":0},null,30,"(1) ตราสารทุนที่จดทะเบียนในตลาดหลักทรัพย์แห่งประเทศไทย และตลาดหลักทรัพย์ เอ็ม เอ ไอ",null,null,null,{"$f":"G6198*$P6198","v":0},null,null,null,null,null,null,null,null,{"$f":"IF(AND(SUM($Q6198:$Q6201)=0,$S6198=\"\"),\"\",SUM($Q6198:$Q6201)/$S6198)","v":""},{"$f":"IF(AND(SUM($Q6198:$Q6201)=0,$S6198=\"\"),\"\",$S6198/SUM($Q6198:$Q6201))","v":""},{"$f":"IF(G6198=\"\",0,IF(V6198=\"ใช่\",IF(AND(X6198<=-0.8,X6198>=-1.25,Y6198<=-0.9,Y6198>=-1,Z6198>=0.95,AA6198>=0.95),MIN(SUM(Q6198:Q6200),S6198),0),IF(W6198=\"ใช่\",IF(AND(Z6198>=0.95,AA6198>=0.95),MIN(SUM(Q6198:Q6200),S6198),0),0)))","v":0},{"$f":"IF(AB6198=0,0,IF(AH6198=0.25,IF(SUM(Q6198:Q6199)>AB6198,AB6198*(Q6198/SUM(Q6198:Q6199)),Q6198),IF(AB6198>SUM(AC6198:AC6199),AB6198-SUM(AC6198:AC6199),0)))","v":0},{"$f":"SUM(AE6198:AE6201)","v":0},{"$f":"Q6198-AC6198","v":0},{"$f":"IF(G6198=\"\",0,IF(V6198=\"ใช่\",IF(AND(X6198<=-0.8,X6198>=-1.25,Y6198<=-0.9,Y6198>=-1,Z6198>=0.95,AA6198>=0.95),0,MAX(S6198-SUM(AE6198:AE6201),0)),IF(W6198=\"ใช่\",IF(AND(Z6198>=0.95,AA6198>=0.95),0,MAX(S6198-SUM(AE6198:AE6201),0)),MAX(S6198-SUM(AE6198:AE6201),0))))","v":0},{"$f":"IF(AF6198=0,0,AF6198*$Q6198/SUM(Q6198:Q6200))","v":0},0.25,{"$f":"AE6198*AH6198+AG6198","v":0},{"$f":"SUM(AI6198:AI6201)","v":0}]
[null,null,null,null,"อสังหาริมทรัพย์",null,{"$f":"D6198*F6199","v":0},null,{"$f":"$D6198*$F6199*H6199","v":0},null,null,null,"(2) ตราสารทุนที่จดทะเบียนในตลาดหลักทรัพย์อื่น และอยู่ในดัชนีตลาดหลักทรัพย์ตามที่กำหนดไว้",null,null,null,{"$f":"G6198*$P6199","v":0},null,null,null,null,null,null,null,null,null,null,null,{"$f":"IF(AB6198=0,0,IF(AH6199=0.25,IF(SUM(Q6198:Q6199)>AB6198,AB6198*(Q6199/SUM(Q6198:Q6199)),Q6199),IF(AB6198>SUM(AC6198:AC6199),AB6198-SUM(AC6198:AC6199),0)))","v":0},null,{"$f":"Q6199-AC6199","v":0},null,{"$f":"IF(AF6198=0,0,AF6198*Q6199/SUM(Q6198:Q6200))","v":0},0.25,{"$f":"AE6199*AH6199+AG6199","v":0}]
[null,null,null,null,"สินค้าโภคภัณฑ์",null,{"$f":"D6198*F6200","v":0},null,{"$f":"$D6198*$F6200*H6200","v":0},null,null,null,"(3) ตราสารทุนที่จดทะเบียนในตลาดหลักทรัพย์อื่น แต่ไม่อยู่ในดัชนีตลาดหลักทรัพย์ตามที่กำหนดไว้ในตาราง",null,null,null,{"$f":"G6198*$P6200","v":0},null,null,null,null,null,null,null,null,null,null,null,{"$f":"IF(AB6198=0,0,IF(AH6200=0.25,IF(SUM(Q6198:Q6199)>AB6198,AB6198*(Q6200/SUM(Q6198:Q6199)),Q6200),IF(AB6198>SUM(AC6198:AC6199),AB6198-SUM(AC6198:AC6199),0)))","v":0},null,{"$f":"Q6200-AC6200","v":0},null,{"$f":"IF(AF6198=0,0,AF6198*Q6200/SUM(Q6198:Q6200))","v":0},0.35,0]
[null,null,null,null,"เงินฝาก",null,{"$f":"D6198*F6201","v":0},null,{"$f":"$D6198*$F6201*H6201","v":0},null,null,null,"(4) ตราสารทุนอื่น นอกเหนือจาก (1) ถึง (3)",null,null,null,{"$f":"G6198*$P6201","v":0},null,null,null,null,null,null,null,null,null,null,null,null,null,{"$f":"Q6201-AC6201","v":0},null,null,0.5,0]
[null,null,null,null,"ตราสารหนี้",null,{"$f":"D6198*F6202","v":0},null,{"$f":"$D6198*$F6202*H6202","v":0}]
[null,null,null,null,"อื่นๆ",null,{"$f":"D6198*F6203","v":0},null,{"$f":"$D6198*$F6203*H6203","v":0}]
[null,31,null,null,"ตราสารทุน",null,{"$f":"D6204*F6204","v":0},null,{"$f":"$AJ6204","v":0},{"$f":"SUM(I6204:I6209)","v":0},null,31,"(1) ตราสารทุนที่จดทะเบียนในตลาดหลักทรัพย์แห่งประเทศไทย และตลาดหลักทรัพย์ เอ็ม เอ ไอ",null,null,null,{"$f":"G6204*$P6204","v":0},null,null,null,null,null,null,null,null,{"$f":"IF(AND(SUM($Q6204:$Q6207)=0,$S6204=\"\"),\"\",SUM($Q6204:$Q6207)/$S6204)","v":""},{"$f":"IF(AND(SUM($Q6204:$Q6207)=0,$S6204=\"\"),\"\",$S6204/SUM($Q6204:$Q6207))","v":""},{"$f":"IF(G6204=\"\",0,IF(V6204=\"ใช่\",IF(AND(X6204<=-0.8,X6204>=-1.25,Y6204<=-0.9,Y6204>=-1,Z6204>=0.95,AA6204>=0.95),MIN(SUM(Q6204:Q6206),S6204),0),IF(W6204=\"ใช่\",IF(AND(Z6204>=0.95,AA6204>=0.95),MIN(SUM(Q6204:Q6206),S6204),0),0)))","v":0},{"$f":"IF(AB6204=0,0,IF(AH6204=0.25,IF(SUM(Q6204:Q6205)>AB6204,AB6204*(Q6204/SUM(Q6204:Q6205)),Q6204),IF(AB6204>SUM(AC6204:AC6205),AB6204-SUM(AC6204:AC6205),0)))","v":0},{"$f":"SUM(AE6204:AE6207)","v":0},{"$f":"Q6204-AC6204","v":0},{"$f":"IF(G6204=\"\",0,IF(V6204=\"ใช่\",IF(AND(X6204<=-0.8,X6204>=-1.25,Y6204<=-0.9,Y6204>=-1,Z6204>=0.95,AA6204>=0.95),0,MAX(S6204-SUM(AE6204:AE6207),0)),IF(W6204=\"ใช่\",IF(AND(Z6204>=0.95,AA6204>=0.95),0,MAX(S6204-SUM(AE6204:AE6207),0)),MAX(S6204-SUM(AE6204:AE6207),0))))","v":0},{"$f":"IF(AF6204=0,0,AF6204*$Q6204/SUM(Q6204:Q6206))","v":0},0.25,{"$f":"AE6204*AH6204+AG6204","v":0},{"$f":"SUM(AI6204:AI6207)","v":0}]
[null,null,null,null,"อสังหาริมทรัพย์",null,{"$f":"D6204*F6205","v":0},null,{"$f":"$D6204*$F6205*H6205","v":0},null,null,null,"(2) ตราสารทุนที่จดทะเบียนในตลาดหลักทรัพย์อื่น และอยู่ในดัชนีตลาดหลักทรัพย์ตามที่กำหนดไว้",null,null,null,{"$f":"G6204*$P6205","v":0},null,null,null,null,null,null,null,null,null,null,null,{"$f":"IF(AB6204=0,0,IF(AH6205=0.25,IF(SUM(Q6204:Q6205)>AB6204,AB6204*(Q6205/SUM(Q6204:Q6205)),Q6205),IF(AB6204>SUM(AC6204:AC6205),AB6204-SUM(AC6204:AC6205),0)))","v":0},null,{"$f":"Q6205-AC6205","v":0},null,{"$f":"IF(AF6204=0,0,AF6204*Q6205/SUM(Q6204:Q6206))","v":0},0.25,{"$f":"AE6205*AH6205+AG6205","v":0}]
[null,null,null,null,"สินค้าโภคภัณฑ์",null,{"$f":"D6204*F6206","v":0},null,{"$f":"$D6204*$F6206*H6206","v":0},null,null,null,"(3) ตราสารทุนที่จดทะเบียนในตลาดหลักทรัพย์อื่น แต่ไม่อยู่ในดัชนีตลาดหลักทรัพย์ตามที่กำหนดไว้ในตาราง",null,null,null,{"$f":"G6204*$P6206","v":0},null,null,null,null,null,null,null,null,null,null,null,{"$f":"IF(AB6204=0,0,IF(AH6206=0.25,IF(SUM(Q6204:Q6205)>AB6204,AB6204*(Q6206/SUM(Q6204:Q6205)),Q6206),IF(AB6204>SUM(AC6204:AC6205),AB6204-SUM(AC6204:AC6205),0)))","v":0},null,{"$f":"Q6206-AC6206","v":0},null,{"$f":"IF(AF6204=0,0,AF6204*Q6206/SUM(Q6204:Q6206))","v":0},0.35,0]
[null,null,null,null,"เงินฝาก",null,{"$f":"D6204*F6207","v":0},null,{"$f":"$D6204*$F6207*H6207","v":0},null,null,null,"(4) ตราสารทุนอื่น นอกเหนือจาก (1) ถึง (3)",null,null,null,{"$f":"G6204*$P6207","v":0},null,null,null,null,null,null,null,null,null,null,null,null,null,{"$f":"Q6207-AC6207","v":0},null,null,0.5,0]
[null,null,null,null,"ตราสารหนี้",null,{"$f":"D6204*F6208","v":0},null,{"$f":"$D6204*$F6208*H6208","v":0}]
[null,null,null,null,"อื่นๆ",null,{"$f":"D6204*F6209","v":0},null,{"$f":"$D6204*$F6209*H6209","v":0}]
[null,32,null,null,"ตราสารทุน",null,{"$f":"D6210*F6210","v":0},null,{"$f":"$AJ6210","v":0},{"$f":"SUM(I6210:I6215)","v":0},null,32,"(1) ตราสารทุนที่จดทะเบียนในตลาดหลักทรัพย์แห่งประเทศไทย และตลาดหลักทรัพย์ เอ็ม เอ ไอ",null,null,null,{"$f":"G6210*$P6210","v":0},null,null,null,null,null,null,null,null,{"$f":"IF(AND(SUM($Q6210:$Q6213)=0,$S6210=\"\"),\"\",SUM($Q6210:$Q6213)/$S6210)","v":""},{"$f":"IF(AND(SUM($Q6210:$Q6213)=0,$S6210=\"\"),\"\",$S6210/SUM($Q6210:$Q6213))","v":""},{"$f":"IF(G6210=\"\",0,IF(V6210=\"ใช่\",IF(AND(X6210<=-0.8,X6210>=-1.25,Y6210<=-0.9,Y6210>=-1,Z6210>=0.95,AA6210>=0.95),MIN(SUM(Q6210:Q6212),S6210),0),IF(W6210=\"ใช่\",IF(AND(Z6210>=0.95,AA6210>=0.95),MIN(SUM(Q6210:Q6212),S6210),0),0)))","v":0},{"$f":"IF(AB6210=0,0,IF(AH6210=0.25,IF(SUM(Q6210:Q6211)>AB6210,AB6210*(Q6210/SUM(Q6210:Q6211)),Q6210),IF(AB6210>SUM(AC6210:AC6211),AB6210-SUM(AC6210:AC6211),0)))","v":0},{"$f":"SUM(AE6210:AE6213)","v":0},{"$f":"Q6210-AC6210","v":0},{"$f":"IF(G6210=\"\",0,IF(V6210=\"ใช่\",IF(AND(X6210<=-0.8,X6210>=-1.25,Y6210<=-0.9,Y6210>=-1,Z6210>=0.95,AA6210>=0.95),0,MAX(S6210-SUM(AE6210:AE6213),0)),IF(W6210=\"ใช่\",IF(AND(Z6210>=0.95,AA6210>=0.95),0,MAX(S6210-SUM(AE6210:AE6213),0)),MAX(S6210-SUM(AE6210:AE6213),0))))","v":0},{"$f":"IF(AF6210=0,0,AF6210*$Q6210/SUM(Q6210:Q6212))","v":0},0.25,{"$f":"AE6210*AH6210+AG6210","v":0},{"$f":"SUM(AI6210:AI6213)","v":0}]
[null,null,null,null,"อสังหาริมทรัพย์",null,{"$f":"D6210*F6211","v":0},null,{"$f":"$D6210*$F6211*H6211","v":0},null,null,null,"(2) ตราสารทุนที่จดทะเบียนในตลาดหลักทรัพย์อื่น และอยู่ในดัชนีตลาดหลักทรัพย์ตามที่กำหนดไว้",null,null,null,{"$f":"G6210*$P6211","v":0},null,null,null,null,null,null,null,null,null,null,null,{"$f":"IF(AB6210=0,0,IF(AH6211=0.25,IF(SUM(Q6210:Q6211)>AB6210,AB6210*(Q6211/SUM(Q6210:Q6211)),Q6211),IF(AB6210>SUM(AC6210:AC6211),AB6210-SUM(AC6210:AC6211),0)))","v":0},null,{"$f":"Q6211-AC6211","v":0},null,{"$f":"IF(AF6210=0,0,AF6210*Q6211/SUM(Q6210:Q6212))","v":0},0.25,{"$f":"AE6211*AH6211+AG6211","v":0}]
[null,null,null,null,"สินค้าโภคภัณฑ์",null,{"$f":"D6210*F6212","v":0},null,{"$f":"$D6210*$F6212*H6212","v":0},null,null,null,"(3) ตราสารทุนที่จดทะเบียนในตลาดหลักทรัพย์อื่น แต่ไม่อยู่ในดัชนีตลาดหลักทรัพย์ตามที่กำหนดไว้ในตาราง",null,null,null,{"$f":"G6210*$P6212","v":0},null,null,null,null,null,null,null,null,null,null,null,{"$f":"IF(AB6210=0,0,IF(AH6212=0.25,IF(SUM(Q6210:Q6211)>AB6210,AB6210*(Q6212/SUM(Q6210:Q6211)),Q6212),IF(AB6210>SUM(AC6210:AC6211),AB6210-SUM(AC6210:AC6211),0)))","v":0},null,{"$f":"Q6212-AC6212","v":0},null,{"$f":"IF(AF6210=0,0,AF6210*Q6212/SUM(Q6210:Q6212))","v":0},0.35,0]
[null,null,null,null,"เงินฝาก",null,{"$f":"D6210*F6213","v":0},null,{"$f":"$D6210*$F6213*H6213","v":0},null,null,null,"(4) ตราสารทุนอื่น นอกเหนือจาก (1) ถึง (3)",null,null,null,{"$f":"G6210*$P6213","v":0},null,null,null,null,null,null,null,null,null,null,null,null,null,{"$f":"Q6213-AC6213","v":0},null,null,0.5,0]
[null,null,null,null,"ตราสารหนี้",null,{"$f":"D6210*F6214","v":0},null,{"$f":"$D6210*$F6214*H6214","v":0}]
[null,null,null,null,"อื่นๆ",null,{"$f":"D6210*F6215","v":0},null,{"$f":"$D6210*$F6215*H6215","v":0}]
[null,33,null,null,"ตราสารทุน",null,{"$f":"D6216*F6216","v":0},null,{"$f":"$AJ6216","v":0},{"$f":"SUM(I6216:I6221)","v":0},null,33,"(1) ตราสารทุนที่จดทะเบียนในตลาดหลักทรัพย์แห่งประเทศไทย และตลาดหลักทรัพย์ เอ็ม เอ ไอ",null,null,null,{"$f":"G6216*$P6216","v":0},null,null,null,null,null,null,null,null,{"$f":"IF(AND(SUM($Q6216:$Q6219)=0,$S6216=\"\"),\"\",SUM($Q6216:$Q6219)/$S6216)","v":""},{"$f":"IF(AND(SUM($Q6216:$Q6219)=0,$S6216=\"\"),\"\",$S6216/SUM($Q6216:$Q6219))","v":""},{"$f":"IF(G6216=\"\",0,IF(V6216=\"ใช่\",IF(AND(X6216<=-0.8,X6216>=-1.25,Y6216<=-0.9,Y6216>=-1,Z6216>=0.95,AA6216>=0.95),MIN(SUM(Q6216:Q6218),S6216),0),IF(W6216=\"ใช่\",IF(AND(Z6216>=0.95,AA6216>=0.95),MIN(SUM(Q6216:Q6218),S6216),0),0)))","v":0},{"$f":"IF(AB6216=0,0,IF(AH6216=0.25,IF(SUM(Q6216:Q6217)>AB6216,AB6216*(Q6216/SUM(Q6216:Q6217)),Q6216),IF(AB6216>SUM(AC6216:AC6217),AB6216-SUM(AC6216:AC6217),0)))","v":0},{"$f":"SUM(AE6216:AE6219)","v":0},{"$f":"Q6216-AC6216","v":0},{"$f":"IF(G6216=\"\",0,IF(V6216=\"ใช่\",IF(AND(X6216<=-0.8,X6216>=-1.25,Y6216<=-0.9,Y6216>=-1,Z6216>=0.95,AA6216>=0.95),0,MAX(S6216-SUM(AE6216:AE6219),0)),IF(W6216=\"ใช่\",IF(AND(Z6216>=0.95,AA6216>=0.95),0,MAX(S6216-SUM(AE6216:AE6219),0)),MAX(S6216-SUM(AE6216:AE6219),0))))","v":0},{"$f":"IF(AF6216=0,0,AF6216*$Q6216/SUM(Q6216:Q6218))","v":0},0.25,{"$f":"AE6216*AH6216+AG6216","v":0},{"$f":"SUM(AI6216:AI6219)","v":0}]
[null,null,null,null,"อสังหาริมทรัพย์",null,{"$f":"D6216*F6217","v":0},null,{"$f":"$D6216*$F6217*H6217","v":0},null,null,null,"(2) ตราสารทุนที่จดทะเบียนในตลาดหลักทรัพย์อื่น และอยู่ในดัชนีตลาดหลักทรัพย์ตามที่กำหนดไว้",null,null,null,{"$f":"G6216*$P6217","v":0},null,null,null,null,null,null,null,null,null,null,null,{"$f":"IF(AB6216=0,0,IF(AH6217=0.25,IF(SUM(Q6216:Q6217)>AB6216,AB6216*(Q6217/SUM(Q6216:Q6217)),Q6217),IF(AB6216>SUM(AC6216:AC6217),AB6216-SUM(AC6216:AC6217),0)))","v":0},null,{"$f":"Q6217-AC6217","v":0},null,{"$f":"IF(AF6216=0,0,AF6216*Q6217/SUM(Q6216:Q6218))","v":0},0.25,{"$f":"AE6217*AH6217+AG6217","v":0}]
[null,null,null,null,"สินค้าโภคภัณฑ์",null,{"$f":"D6216*F6218","v":0},null,{"$f":"$D6216*$F6218*H6218","v":0},null,null,null,"(3) ตราสารทุนที่จดทะเบียนในตลาดหลักทรัพย์อื่น แต่ไม่อยู่ในดัชนีตลาดหลักทรัพย์ตามที่กำหนดไว้ในตาราง",null,null,null,{"$f":"G6216*$P6218","v":0},null,null,null,null,null,null,null,null,null,null,null,{"$f":"IF(AB6216=0,0,IF(AH6218=0.25,IF(SUM(Q6216:Q6217)>AB6216,AB6216*(Q6218/SUM(Q6216:Q6217)),Q6218),IF(AB6216>SUM(AC6216:AC6217),AB6216-SUM(AC6216:AC6217),0)))","v":0},null,{"$f":"Q6218-AC6218","v":0},null,{"$f":"IF(AF6216=0,0,AF6216*Q6218/SUM(Q6216:Q6218))","v":0},0.35,0]
[null,null,null,null,"เงินฝาก",null,{"$f":"D6216*F6219","v":0},null,{"$f":"$D6216*$F6219*H6219","v":0},null,null,null,"(4) ตราสารทุนอื่น นอกเหนือจาก (1) ถึง (3)",null,null,null,{"$f":"G6216*$P6219","v":0},null,null,null,null,null,null,null,null,null,null,null,null,null,{"$f":"Q6219-AC6219","v":0},null,null,0.5,0]
[null,null,null,null,"ตราสารหนี้",null,{"$f":"D6216*F6220","v":0},null,{"$f":"$D6216*$F6220*H6220","v":0}]
[null,null,null,null,"อื่นๆ",null,{"$f":"D6216*F6221","v":0},null,{"$f":"$D6216*$F6221*H6221","v":0}]
[null,34,null,null,"ตราสารทุน",null,{"$f":"D6222*F6222","v":0},null,{"$f":"$AJ6222","v":0},{"$f":"SUM(I6222:I6227)","v":0},null,34,"(1) ตราสารทุนที่จดทะเบียนในตลาดหลักทรัพย์แห่งประเทศไทย และตลาดหลักทรัพย์ เอ็ม เอ ไอ",null,null,null,{"$f":"G6222*$P6222","v":0},null,null,null,null,null,null,null,null,{"$f":"IF(AND(SUM($Q6222:$Q6225)=0,$S6222=\"\"),\"\",SUM($Q6222:$Q6225)/$S6222)","v":""},{"$f":"IF(AND(SUM($Q6222:$Q6225)=0,$S6222=\"\"),\"\",$S6222/SUM($Q6222:$Q6225))","v":""},{"$f":"IF(G6222=\"\",0,IF(V6222=\"ใช่\",IF(AND(X6222<=-0.8,X6222>=-1.25,Y6222<=-0.9,Y6222>=-1,Z6222>=0.95,AA6222>=0.95),MIN(SUM(Q6222:Q6224),S6222),0),IF(W6222=\"ใช่\",IF(AND(Z6222>=0.95,AA6222>=0.95),MIN(SUM(Q6222:Q6224),S6222),0),0)))","v":0},{"$f":"IF(AB6222=0,0,IF(AH6222=0.25,IF(SUM(Q6222:Q6223)>AB6222,AB6222*(Q6222/SUM(Q6222:Q6223)),Q6222),IF(AB6222>SUM(AC6222:AC6223),AB6222-SUM(AC6222:AC6223),0)))","v":0},{"$f":"SUM(AE6222:AE6225)","v":0},{"$f":"Q6222-AC6222","v":0},{"$f":"IF(G6222=\"\",0,IF(V6222=\"ใช่\",IF(AND(X6222<=-0.8,X6222>=-1.25,Y6222<=-0.9,Y6222>=-1,Z6222>=0.95,AA6222>=0.95),0,MAX(S6222-SUM(AE6222:AE6225),0)),IF(W6222=\"ใช่\",IF(AND(Z6222>=0.95,AA6222>=0.95),0,MAX(S6222-SUM(AE6222:AE6225),0)),MAX(S6222-SUM(AE6222:AE6225),0))))","v":0},{"$f":"IF(AF6222=0,0,AF6222*$Q6222/SUM(Q6222:Q6224))","v":0},0.25,{"$f":"AE6222*AH6222+AG6222","v":0},{"$f":"SUM(AI6222:AI6225)","v":0}]
[null,null,null,null,"อสังหาริมทรัพย์",null,{"$f":"D6222*F6223","v":0},null,{"$f":"$D6222*$F6223*H6223","v":0},null,null,null,"(2) ตราสารทุนที่จดทะเบียนในตลาดหลักทรัพย์อื่น และอยู่ในดัชนีตลาดหลักทรัพย์ตามที่กำหนดไว้",null,null,null,{"$f":"G6222*$P6223","v":0},null,null,null,null,null,null,null,null,null,null,null,{"$f":"IF(AB6222=0,0,IF(AH6223=0.25,IF(SUM(Q6222:Q6223)>AB6222,AB6222*(Q6223/SUM(Q6222:Q6223)),Q6223),IF(AB6222>SUM(AC6222:AC6223),AB6222-SUM(AC6222:AC6223),0)))","v":0},null,{"$f":"Q6223-AC6223","v":0},null,{"$f":"IF(AF6222=0,0,AF6222*Q6223/SUM(Q6222:Q6224))","v":0},0.25,{"$f":"AE6223*AH6223+AG6223","v":0}]
[null,null,null,null,"สินค้าโภคภัณฑ์",null,{"$f":"D6222*F6224","v":0},null,{"$f":"$D6222*$F6224*H6224","v":0},null,null,null,"(3) ตราสารทุนที่จดทะเบียนในตลาดหลักทรัพย์อื่น แต่ไม่อยู่ในดัชนีตลาดหลักทรัพย์ตามที่กำหนดไว้ในตาราง",null,null,null,{"$f":"G6222*$P6224","v":0},null,null,null,null,null,null,null,null,null,null,null,{"$f":"IF(AB6222=0,0,IF(AH6224=0.25,IF(SUM(Q6222:Q6223)>AB6222,AB6222*(Q6224/SUM(Q6222:Q6223)),Q6224),IF(AB6222>SUM(AC6222:AC6223),AB6222-SUM(AC6222:AC6223),0)))","v":0},null,{"$f":"Q6224-AC6224","v":0},null,{"$f":"IF(AF6222=0,0,AF6222*Q6224/SUM(Q6222:Q6224))","v":0},0.35,0]
[null,null,null,null,"เงินฝาก",null,{"$f":"D6222*F6225","v":0},null,{"$f":"$D6222*$F6225*H6225","v":0},null,null,null,"(4) ตราสารทุนอื่น นอกเหนือจาก (1) ถึง (3)",null,null,null,{"$f":"G6222*$P6225","v":0},null,null,null,null,null,null,null,null,null,null,null,null,null,{"$f":"Q6225-AC6225","v":0},null,null,0.5,0]
[null,null,null,null,"ตราสารหนี้",null,{"$f":"D6222*F6226","v":0},null,{"$f":"$D6222*$F6226*H6226","v":0}]
[null,null,null,null,"อื่นๆ",null,{"$f":"D6222*F6227","v":0},null,{"$f":"$D6222*$F6227*H6227","v":0}]
[null,35,null,null,"ตราสารทุน",null,{"$f":"D6228*F6228","v":0},null,{"$f":"$AJ6228","v":0},{"$f":"SUM(I6228:I6233)","v":0},null,35,"(1) ตราสารทุนที่จดทะเบียนในตลาดหลักทรัพย์แห่งประเทศไทย และตลาดหลักทรัพย์ เอ็ม เอ ไอ",null,null,null,{"$f":"G6228*$P6228","v":0},null,null,null,null,null,null,null,null,{"$f":"IF(AND(SUM($Q6228:$Q6231)=0,$S6228=\"\"),\"\",SUM($Q6228:$Q6231)/$S6228)","v":""},{"$f":"IF(AND(SUM($Q6228:$Q6231)=0,$S6228=\"\"),\"\",$S6228/SUM($Q6228:$Q6231))","v":""},{"$f":"IF(G6228=\"\",0,IF(V6228=\"ใช่\",IF(AND(X6228<=-0.8,X6228>=-1.25,Y6228<=-0.9,Y6228>=-1,Z6228>=0.95,AA6228>=0.95),MIN(SUM(Q6228:Q6230),S6228),0),IF(W6228=\"ใช่\",IF(AND(Z6228>=0.95,AA6228>=0.95),MIN(SUM(Q6228:Q6230),S6228),0),0)))","v":0},{"$f":"IF(AB6228=0,0,IF(AH6228=0.25,IF(SUM(Q6228:Q6229)>AB6228,AB6228*(Q6228/SUM(Q6228:Q6229)),Q6228),IF(AB6228>SUM(AC6228:AC6229),AB6228-SUM(AC6228:AC6229),0)))","v":0},{"$f":"SUM(AE6228:AE6231)","v":0},{"$f":"Q6228-AC6228","v":0},{"$f":"IF(G6228=\"\",0,IF(V6228=\"ใช่\",IF(AND(X6228<=-0.8,X6228>=-1.25,Y6228<=-0.9,Y6228>=-1,Z6228>=0.95,AA6228>=0.95),0,MAX(S6228-SUM(AE6228:AE6231),0)),IF(W6228=\"ใช่\",IF(AND(Z6228>=0.95,AA6228>=0.95),0,MAX(S6228-SUM(AE6228:AE6231),0)),MAX(S6228-SUM(AE6228:AE6231),0))))","v":0},{"$f":"IF(AF6228=0,0,AF6228*$Q6228/SUM(Q6228:Q6230))","v":0},0.25,{"$f":"AE6228*AH6228+AG6228","v":0},{"$f":"SUM(AI6228:AI6231)","v":0}]
[null,null,null,null,"อสังหาริมทรัพย์",null,{"$f":"D6228*F6229","v":0},null,{"$f":"$D6228*$F6229*H6229","v":0},null,null,null,"(2) ตราสารทุนที่จดทะเบียนในตลาดหลักทรัพย์อื่น และอยู่ในดัชนีตลาดหลักทรัพย์ตามที่กำหนดไว้",null,null,null,{"$f":"G6228*$P6229","v":0},null,null,null,null,null,null,null,null,null,null,null,{"$f":"IF(AB6228=0,0,IF(AH6229=0.25,IF(SUM(Q6228:Q6229)>AB6228,AB6228*(Q6229/SUM(Q6228:Q6229)),Q6229),IF(AB6228>SUM(AC6228:AC6229),AB6228-SUM(AC6228:AC6229),0)))","v":0},null,{"$f":"Q6229-AC6229","v":0},null,{"$f":"IF(AF6228=0,0,AF6228*Q6229/SUM(Q6228:Q6230))","v":0},0.25,{"$f":"AE6229*AH6229+AG6229","v":0}]
[null,null,null,null,"สินค้าโภคภัณฑ์",null,{"$f":"D6228*F6230","v":0},null,{"$f":"$D6228*$F6230*H6230","v":0},null,null,null,"(3) ตราสารทุนที่จดทะเบียนในตลาดหลักทรัพย์อื่น แต่ไม่อยู่ในดัชนีตลาดหลักทรัพย์ตามที่กำหนดไว้ในตาราง",null,null,null,{"$f":"G6228*$P6230","v":0},null,null,null,null,null,null,null,null,null,null,null,{"$f":"IF(AB6228=0,0,IF(AH6230=0.25,IF(SUM(Q6228:Q6229)>AB6228,AB6228*(Q6230/SUM(Q6228:Q6229)),Q6230),IF(AB6228>SUM(AC6228:AC6229),AB6228-SUM(AC6228:AC6229),0)))","v":0},null,{"$f":"Q6230-AC6230","v":0},null,{"$f":"IF(AF6228=0,0,AF6228*Q6230/SUM(Q6228:Q6230))","v":0},0.35,0]
[null,null,null,null,"เงินฝาก",null,{"$f":"D6228*F6231","v":0},null,{"$f":"$D6228*$F6231*H6231","v":0},null,null,null,"(4) ตราสารทุนอื่น นอกเหนือจาก (1) ถึง (3)",null,null,null,{"$f":"G6228*$P6231","v":0},null,null,null,null,null,null,null,null,null,null,null,null,null,{"$f":"Q6231-AC6231","v":0},null,null,0.5,0]
[null,null,null,null,"ตราสารหนี้",null,{"$f":"D6228*F6232","v":0},null,{"$f":"$D6228*$F6232*H6232","v":0}]
[null,null,null,null,"อื่นๆ",null,{"$f":"D6228*F6233","v":0},null,{"$f":"$D6228*$F6233*H6233","v":0}]
[null,36,null,null,"ตราสารทุน",null,{"$f":"D6234*F6234","v":0},null,{"$f":"$AJ6234","v":0},{"$f":"SUM(I6234:I6239)","v":0},null,36,"(1) ตราสารทุนที่จดทะเบียนในตลาดหลักทรัพย์แห่งประเทศไทย และตลาดหลักทรัพย์ เอ็ม เอ ไอ",null,null,null,{"$f":"G6234*$P6234","v":0},null,null,null,null,null,null,null,null,{"$f":"IF(AND(SUM($Q6234:$Q6237)=0,$S6234=\"\"),\"\",SUM($Q6234:$Q6237)/$S6234)","v":""},{"$f":"IF(AND(SUM($Q6234:$Q6237)=0,$S6234=\"\"),\"\",$S6234/SUM($Q6234:$Q6237))","v":""},{"$f":"IF(G6234=\"\",0,IF(V6234=\"ใช่\",IF(AND(X6234<=-0.8,X6234>=-1.25,Y6234<=-0.9,Y6234>=-1,Z6234>=0.95,AA6234>=0.95),MIN(SUM(Q6234:Q6236),S6234),0),IF(W6234=\"ใช่\",IF(AND(Z6234>=0.95,AA6234>=0.95),MIN(SUM(Q6234:Q6236),S6234),0),0)))","v":0},{"$f":"IF(AB6234=0,0,IF(AH6234=0.25,IF(SUM(Q6234:Q6235)>AB6234,AB6234*(Q6234/SUM(Q6234:Q6235)),Q6234),IF(AB6234>SUM(AC6234:AC6235),AB6234-SUM(AC6234:AC6235),0)))","v":0},{"$f":"SUM(AE6234:AE6237)","v":0},{"$f":"Q6234-AC6234","v":0},{"$f":"IF(G6234=\"\",0,IF(V6234=\"ใช่\",IF(AND(X6234<=-0.8,X6234>=-1.25,Y6234<=-0.9,Y6234>=-1,Z6234>=0.95,AA6234>=0.95),0,MAX(S6234-SUM(AE6234:AE6237),0)),IF(W6234=\"ใช่\",IF(AND(Z6234>=0.95,AA6234>=0.95),0,MAX(S6234-SUM(AE6234:AE6237),0)),MAX(S6234-SUM(AE6234:AE6237),0))))","v":0},{"$f":"IF(AF6234=0,0,AF6234*$Q6234/SUM(Q6234:Q6236))","v":0},0.25,{"$f":"AE6234*AH6234+AG6234","v":0},{"$f":"SUM(AI6234:AI6237)","v":0}]
[null,null,null,null,"อสังหาริมทรัพย์",null,{"$f":"D6234*F6235","v":0},null,{"$f":"$D6234*$F6235*H6235","v":0},null,null,null,"(2) ตราสารทุนที่จดทะเบียนในตลาดหลักทรัพย์อื่น และอยู่ในดัชนีตลาดหลักทรัพย์ตามที่กำหนดไว้",null,null,null,{"$f":"G6234*$P6235","v":0},null,null,null,null,null,null,null,null,null,null,null,{"$f":"IF(AB6234=0,0,IF(AH6235=0.25,IF(SUM(Q6234:Q6235)>AB6234,AB6234*(Q6235/SUM(Q6234:Q6235)),Q6235),IF(AB6234>SUM(AC6234:AC6235),AB6234-SUM(AC6234:AC6235),0)))","v":0},null,{"$f":"Q6235-AC6235","v":0},null,{"$f":"IF(AF6234=0,0,AF6234*Q6235/SUM(Q6234:Q6236))","v":0},0.25,{"$f":"AE6235*AH6235+AG6235","v":0}]
[null,null,null,null,"สินค้าโภคภัณฑ์",null,{"$f":"D6234*F6236","v":0},null,{"$f":"$D6234*$F6236*H6236","v":0},null,null,null,"(3) ตราสารทุนที่จดทะเบียนในตลาดหลักทรัพย์อื่น แต่ไม่อยู่ในดัชนีตลาดหลักทรัพย์ตามที่กำหนดไว้ในตาราง",null,null,null,{"$f":"G6234*$P6236","v":0},null,null,null,null,null,null,null,null,null,null,null,{"$f":"IF(AB6234=0,0,IF(AH6236=0.25,IF(SUM(Q6234:Q6235)>AB6234,AB6234*(Q6236/SUM(Q6234:Q6235)),Q6236),IF(AB6234>SUM(AC6234:AC6235),AB6234-SUM(AC6234:AC6235),0)))","v":0},null,{"$f":"Q6236-AC6236","v":0},null,{"$f":"IF(AF6234=0,0,AF6234*Q6236/SUM(Q6234:Q6236))","v":0},0.35,0]
[null,null,null,null,"เงินฝาก",null,{"$f":"D6234*F6237","v":0},null,{"$f":"$D6234*$F6237*H6237","v":0},null,null,null,"(4) ตราสารทุนอื่น นอกเหนือจาก (1) ถึง (3)",null,null,null,{"$f":"G6234*$P6237","v":0},null,null,null,null,null,null,null,null,null,null,null,null,null,{"$f":"Q6237-AC6237","v":0},null,null,0.5,0]
[null,null,null,null,"ตราสารหนี้",null,{"$f":"D6234*F6238","v":0},null,{"$f":"$D6234*$F6238*H6238","v":0}]
[null,null,null,null,"อื่นๆ",null,{"$f":"D6234*F6239","v":0},null,{"$f":"$D6234*$F6239*H6239","v":0}]
[null,37,null,null,"ตราสารทุน",null,{"$f":"D6240*F6240","v":0},null,{"$f":"$AJ6240","v":0},{"$f":"SUM(I6240:I6245)","v":0},null,37,"(1) ตราสารทุนที่จดทะเบียนในตลาดหลักทรัพย์แห่งประเทศไทย และตลาดหลักทรัพย์ เอ็ม เอ ไอ",null,null,null,{"$f":"G6240*$P6240","v":0},null,null,null,null,null,null,null,null,{"$f":"IF(AND(SUM($Q6240:$Q6243)=0,$S6240=\"\"),\"\",SUM($Q6240:$Q6243)/$S6240)","v":""},{"$f":"IF(AND(SUM($Q6240:$Q6243)=0,$S6240=\"\"),\"\",$S6240/SUM($Q6240:$Q6243))","v":""},{"$f":"IF(G6240=\"\",0,IF(V6240=\"ใช่\",IF(AND(X6240<=-0.8,X6240>=-1.25,Y6240<=-0.9,Y6240>=-1,Z6240>=0.95,AA6240>=0.95),MIN(SUM(Q6240:Q6242),S6240),0),IF(W6240=\"ใช่\",IF(AND(Z6240>=0.95,AA6240>=0.95),MIN(SUM(Q6240:Q6242),S6240),0),0)))","v":0},{"$f":"IF(AB6240=0,0,IF(AH6240=0.25,IF(SUM(Q6240:Q6241)>AB6240,AB6240*(Q6240/SUM(Q6240:Q6241)),Q6240),IF(AB6240>SUM(AC6240:AC6241),AB6240-SUM(AC6240:AC6241),0)))","v":0},{"$f":"SUM(AE6240:AE6243)","v":0},{"$f":"Q6240-AC6240","v":0},{"$f":"IF(G6240=\"\",0,IF(V6240=\"ใช่\",IF(AND(X6240<=-0.8,X6240>=-1.25,Y6240<=-0.9,Y6240>=-1,Z6240>=0.95,AA6240>=0.95),0,MAX(S6240-SUM(AE6240:AE6243),0)),IF(W6240=\"ใช่\",IF(AND(Z6240>=0.95,AA6240>=0.95),0,MAX(S6240-SUM(AE6240:AE6243),0)),MAX(S6240-SUM(AE6240:AE6243),0))))","v":0},{"$f":"IF(AF6240=0,0,AF6240*$Q6240/SUM(Q6240:Q6242))","v":0},0.25,{"$f":"AE6240*AH6240+AG6240","v":0},{"$f":"SUM(AI6240:AI6243)","v":0}]
[null,null,null,null,"อสังหาริมทรัพย์",null,{"$f":"D6240*F6241","v":0},null,{"$f":"$D6240*$F6241*H6241","v":0},null,null,null,"(2) ตราสารทุนที่จดทะเบียนในตลาดหลักทรัพย์อื่น และอยู่ในดัชนีตลาดหลักทรัพย์ตามที่กำหนดไว้",null,null,null,{"$f":"G6240*$P6241","v":0},null,null,null,null,null,null,null,null,null,null,null,{"$f":"IF(AB6240=0,0,IF(AH6241=0.25,IF(SUM(Q6240:Q6241)>AB6240,AB6240*(Q6241/SUM(Q6240:Q6241)),Q6241),IF(AB6240>SUM(AC6240:AC6241),AB6240-SUM(AC6240:AC6241),0)))","v":0},null,{"$f":"Q6241-AC6241","v":0},null,{"$f":"IF(AF6240=0,0,AF6240*Q6241/SUM(Q6240:Q6242))","v":0},0.25,{"$f":"AE6241*AH6241+AG6241","v":0}]
[null,null,null,null,"สินค้าโภคภัณฑ์",null,{"$f":"D6240*F6242","v":0},null,{"$f":"$D6240*$F6242*H6242","v":0},null,null,null,"(3) ตราสารทุนที่จดทะเบียนในตลาดหลักทรัพย์อื่น แต่ไม่อยู่ในดัชนีตลาดหลักทรัพย์ตามที่กำหนดไว้ในตาราง",null,null,null,{"$f":"G6240*$P6242","v":0},null,null,null,null,null,null,null,null,null,null,null,{"$f":"IF(AB6240=0,0,IF(AH6242=0.25,IF(SUM(Q6240:Q6241)>AB6240,AB6240*(Q6242/SUM(Q6240:Q6241)),Q6242),IF(AB6240>SUM(AC6240:AC6241),AB6240-SUM(AC6240:AC6241),0)))","v":0},null,{"$f":"Q6242-AC6242","v":0},null,{"$f":"IF(AF6240=0,0,AF6240*Q6242/SUM(Q6240:Q6242))","v":0},0.35,0]
[null,null,null,null,"เงินฝาก",null,{"$f":"D6240*F6243","v":0},null,{"$f":"$D6240*$F6243*H6243","v":0},null,null,null,"(4) ตราสารทุนอื่น นอกเหนือจาก (1) ถึง (3)",null,null,null,{"$f":"G6240*$P6243","v":0},null,null,null,null,null,null,null,null,null,null,null,null,null,{"$f":"Q6243-AC6243","v":0},null,null,0.5,0]
[null,null,null,null,"ตราสารหนี้",null,{"$f":"D6240*F6244","v":0},null,{"$f":"$D6240*$F6244*H6244","v":0}]
[null,null,null,null,"อื่นๆ",null,{"$f":"D6240*F6245","v":0},null,{"$f":"$D6240*$F6245*H6245","v":0}]
[null,38,null,null,"ตราสารทุน",null,{"$f":"D6246*F6246","v":0},null,{"$f":"$AJ6246","v":0},{"$f":"SUM(I6246:I6251)","v":0},null,38,"(1) ตราสารทุนที่จดทะเบียนในตลาดหลักทรัพย์แห่งประเทศไทย และตลาดหลักทรัพย์ เอ็ม เอ ไอ",null,null,null,{"$f":"G6246*$P6246","v":0},null,null,null,null,null,null,null,null,{"$f":"IF(AND(SUM($Q6246:$Q6249)=0,$S6246=\"\"),\"\",SUM($Q6246:$Q6249)/$S6246)","v":""},{"$f":"IF(AND(SUM($Q6246:$Q6249)=0,$S6246=\"\"),\"\",$S6246/SUM($Q6246:$Q6249))","v":""},{"$f":"IF(G6246=\"\",0,IF(V6246=\"ใช่\",IF(AND(X6246<=-0.8,X6246>=-1.25,Y6246<=-0.9,Y6246>=-1,Z6246>=0.95,AA6246>=0.95),MIN(SUM(Q6246:Q6248),S6246),0),IF(W6246=\"ใช่\",IF(AND(Z6246>=0.95,AA6246>=0.95),MIN(SUM(Q6246:Q6248),S6246),0),0)))","v":0},{"$f":"IF(AB6246=0,0,IF(AH6246=0.25,IF(SUM(Q6246:Q6247)>AB6246,AB6246*(Q6246/SUM(Q6246:Q6247)),Q6246),IF(AB6246>SUM(AC6246:AC6247),AB6246-SUM(AC6246:AC6247),0)))","v":0},{"$f":"SUM(AE6246:AE6249)","v":0},{"$f":"Q6246-AC6246","v":0},{"$f":"IF(G6246=\"\",0,IF(V6246=\"ใช่\",IF(AND(X6246<=-0.8,X6246>=-1.25,Y6246<=-0.9,Y6246>=-1,Z6246>=0.95,AA6246>=0.95),0,MAX(S6246-SUM(AE6246:AE6249),0)),IF(W6246=\"ใช่\",IF(AND(Z6246>=0.95,AA6246>=0.95),0,MAX(S6246-SUM(AE6246:AE6249),0)),MAX(S6246-SUM(AE6246:AE6249),0))))","v":0},{"$f":"IF(AF6246=0,0,AF6246*$Q6246/SUM(Q6246:Q6248))","v":0},0.25,{"$f":"AE6246*AH6246+AG6246","v":0},{"$f":"SUM(AI6246:AI6249)","v":0}]
[null,null,null,null,"อสังหาริมทรัพย์",null,{"$f":"D6246*F6247","v":0},null,{"$f":"$D6246*$F6247*H6247","v":0},null,null,null,"(2) ตราสารทุนที่จดทะเบียนในตลาดหลักทรัพย์อื่น และอยู่ในดัชนีตลาดหลักทรัพย์ตามที่กำหนดไว้",null,null,null,{"$f":"G6246*$P6247","v":0},null,null,null,null,null,null,null,null,null,null,null,{"$f":"IF(AB6246=0,0,IF(AH6247=0.25,IF(SUM(Q6246:Q6247)>AB6246,AB6246*(Q6247/SUM(Q6246:Q6247)),Q6247),IF(AB6246>SUM(AC6246:AC6247),AB6246-SUM(AC6246:AC6247),0)))","v":0},null,{"$f":"Q6247-AC6247","v":0},null,{"$f":"IF(AF6246=0,0,AF6246*Q6247/SUM(Q6246:Q6248))","v":0},0.25,{"$f":"AE6247*AH6247+AG6247","v":0}]
[null,null,null,null,"สินค้าโภคภัณฑ์",null,{"$f":"D6246*F6248","v":0},null,{"$f":"$D6246*$F6248*H6248","v":0},null,null,null,"(3) ตราสารทุนที่จดทะเบียนในตลาดหลักทรัพย์อื่น แต่ไม่อยู่ในดัชนีตลาดหลักทรัพย์ตามที่กำหนดไว้ในตาราง",null,null,null,{"$f":"G6246*$P6248","v":0},null,null,null,null,null,null,null,null,null,null,null,{"$f":"IF(AB6246=0,0,IF(AH6248=0.25,IF(SUM(Q6246:Q6247)>AB6246,AB6246*(Q6248/SUM(Q6246:Q6247)),Q6248),IF(AB6246>SUM(AC6246:AC6247),AB6246-SUM(AC6246:AC6247),0)))","v":0},null,{"$f":"Q6248-AC6248","v":0},null,{"$f":"IF(AF6246=0,0,AF6246*Q6248/SUM(Q6246:Q6248))","v":0},0.35,0]
[null,null,null,null,"เงินฝาก",null,{"$f":"D6246*F6249","v":0},null,{"$f":"$D6246*$F6249*H6249","v":0},null,null,null,"(4) ตราสารทุนอื่น นอกเหนือจาก (1) ถึง (3)",null,null,null,{"$f":"G6246*$P6249","v":0},null,null,null,null,null,null,null,null,null,null,null,null,null,{"$f":"Q6249-AC6249","v":0},null,null,0.5,0]
[null,null,null,null,"ตราสารหนี้",null,{"$f":"D6246*F6250","v":0},null,{"$f":"$D6246*$F6250*H6250","v":0}]
[null,null,null,null,"อื่นๆ",null,{"$f":"D6246*F6251","v":0},null,{"$f":"$D6246*$F6251*H6251","v":0}]
[null,39,null,null,"ตราสารทุน",null,{"$f":"D6252*F6252","v":0},null,{"$f":"$AJ6252","v":0},{"$f":"SUM(I6252:I6257)","v":0},null,39,"(1) ตราสารทุนที่จดทะเบียนในตลาดหลักทรัพย์แห่งประเทศไทย และตลาดหลักทรัพย์ เอ็ม เอ ไอ",null,null,null,{"$f":"G6252*$P6252","v":0},null,null,null,null,null,null,null,null,{"$f":"IF(AND(SUM($Q6252:$Q6255)=0,$S6252=\"\"),\"\",SUM($Q6252:$Q6255)/$S6252)","v":""},{"$f":"IF(AND(SUM($Q6252:$Q6255)=0,$S6252=\"\"),\"\",$S6252/SUM($Q6252:$Q6255))","v":""},{"$f":"IF(G6252=\"\",0,IF(V6252=\"ใช่\",IF(AND(X6252<=-0.8,X6252>=-1.25,Y6252<=-0.9,Y6252>=-1,Z6252>=0.95,AA6252>=0.95),MIN(SUM(Q6252:Q6254),S6252),0),IF(W6252=\"ใช่\",IF(AND(Z6252>=0.95,AA6252>=0.95),MIN(SUM(Q6252:Q6254),S6252),0),0)))","v":0},{"$f":"IF(AB6252=0,0,IF(AH6252=0.25,IF(SUM(Q6252:Q6253)>AB6252,AB6252*(Q6252/SUM(Q6252:Q6253)),Q6252),IF(AB6252>SUM(AC6252:AC6253),AB6252-SUM(AC6252:AC6253),0)))","v":0},{"$f":"SUM(AE6252:AE6255)","v":0},{"$f":"Q6252-AC6252","v":0},{"$f":"IF(G6252=\"\",0,IF(V6252=\"ใช่\",IF(AND(X6252<=-0.8,X6252>=-1.25,Y6252<=-0.9,Y6252>=-1,Z6252>=0.95,AA6252>=0.95),0,MAX(S6252-SUM(AE6252:AE6255),0)),IF(W6252=\"ใช่\",IF(AND(Z6252>=0.95,AA6252>=0.95),0,MAX(S6252-SUM(AE6252:AE6255),0)),MAX(S6252-SUM(AE6252:AE6255),0))))","v":0},{"$f":"IF(AF6252=0,0,AF6252*$Q6252/SUM(Q6252:Q6254))","v":0},0.25,{"$f":"AE6252*AH6252+AG6252","v":0},{"$f":"SUM(AI6252:AI6255)","v":0}]
[null,null,null,null,"อสังหาริมทรัพย์",null,{"$f":"D6252*F6253","v":0},null,{"$f":"$D6252*$F6253*H6253","v":0},null,null,null,"(2) ตราสารทุนที่จดทะเบียนในตลาดหลักทรัพย์อื่น และอยู่ในดัชนีตลาดหลักทรัพย์ตามที่กำหนดไว้",null,null,null,{"$f":"G6252*$P6253","v":0},null,null,null,null,null,null,null,null,null,null,null,{"$f":"IF(AB6252=0,0,IF(AH6253=0.25,IF(SUM(Q6252:Q6253)>AB6252,AB6252*(Q6253/SUM(Q6252:Q6253)),Q6253),IF(AB6252>SUM(AC6252:AC6253),AB6252-SUM(AC6252:AC6253),0)))","v":0},null,{"$f":"Q6253-AC6253","v":0},null,{"$f":"IF(AF6252=0,0,AF6252*Q6253/SUM(Q6252:Q6254))","v":0},0.25,{"$f":"AE6253*AH6253+AG6253","v":0}]
[null,null,null,null,"สินค้าโภคภัณฑ์",null,{"$f":"D6252*F6254","v":0},null,{"$f":"$D6252*$F6254*H6254","v":0},null,null,null,"(3) ตราสารทุนที่จดทะเบียนในตลาดหลักทรัพย์อื่น แต่ไม่อยู่ในดัชนีตลาดหลักทรัพย์ตามที่กำหนดไว้ในตาราง",null,null,null,{"$f":"G6252*$P6254","v":0},null,null,null,null,null,null,null,null,null,null,null,{"$f":"IF(AB6252=0,0,IF(AH6254=0.25,IF(SUM(Q6252:Q6253)>AB6252,AB6252*(Q6254/SUM(Q6252:Q6253)),Q6254),IF(AB6252>SUM(AC6252:AC6253),AB6252-SUM(AC6252:AC6253),0)))","v":0},null,{"$f":"Q6254-AC6254","v":0},null,{"$f":"IF(AF6252=0,0,AF6252*Q6254/SUM(Q6252:Q6254))","v":0},0.35,0]
[null,null,null,null,"เงินฝาก",null,{"$f":"D6252*F6255","v":0},null,{"$f":"$D6252*$F6255*H6255","v":0},null,null,null,"(4) ตราสารทุนอื่น นอกเหนือจาก (1) ถึง (3)",null,null,null,{"$f":"G6252*$P6255","v":0},null,null,null,null,null,null,null,null,null,null,null,null,null,{"$f":"Q6255-AC6255","v":0},null,null,0.5,0]
[null,null,null,null,"ตราสารหนี้",null,{"$f":"D6252*F6256","v":0},null,{"$f":"$D6252*$F6256*H6256","v":0}]
[null,null,null,null,"อื่นๆ",null,{"$f":"D6252*F6257","v":0},null,{"$f":"$D6252*$F6257*H6257","v":0}]
[null,40,null,null,"ตราสารทุน",null,{"$f":"D6258*F6258","v":0},null,{"$f":"$AJ6258","v":0},{"$f":"SUM(I6258:I6263)","v":0},null,40,"(1) ตราสารทุนที่จดทะเบียนในตลาดหลักทรัพย์แห่งประเทศไทย และตลาดหลักทรัพย์ เอ็ม เอ ไอ",null,null,null,{"$f":"G6258*$P6258","v":0},null,null,null,null,null,null,null,null,{"$f":"IF(AND(SUM($Q6258:$Q6261)=0,$S6258=\"\"),\"\",SUM($Q6258:$Q6261)/$S6258)","v":""},{"$f":"IF(AND(SUM($Q6258:$Q6261)=0,$S6258=\"\"),\"\",$S6258/SUM($Q6258:$Q6261))","v":""},{"$f":"IF(G6258=\"\",0,IF(V6258=\"ใช่\",IF(AND(X6258<=-0.8,X6258>=-1.25,Y6258<=-0.9,Y6258>=-1,Z6258>=0.95,AA6258>=0.95),MIN(SUM(Q6258:Q6260),S6258),0),IF(W6258=\"ใช่\",IF(AND(Z6258>=0.95,AA6258>=0.95),MIN(SUM(Q6258:Q6260),S6258),0),0)))","v":0},{"$f":"IF(AB6258=0,0,IF(AH6258=0.25,IF(SUM(Q6258:Q6259)>AB6258,AB6258*(Q6258/SUM(Q6258:Q6259)),Q6258),IF(AB6258>SUM(AC6258:AC6259),AB6258-SUM(AC6258:AC6259),0)))","v":0},{"$f":"SUM(AE6258:AE6261)","v":0},{"$f":"Q6258-AC6258","v":0},{"$f":"IF(G6258=\"\",0,IF(V6258=\"ใช่\",IF(AND(X6258<=-0.8,X6258>=-1.25,Y6258<=-0.9,Y6258>=-1,Z6258>=0.95,AA6258>=0.95),0,MAX(S6258-SUM(AE6258:AE6261),0)),IF(W6258=\"ใช่\",IF(AND(Z6258>=0.95,AA6258>=0.95),0,MAX(S6258-SUM(AE6258:AE6261),0)),MAX(S6258-SUM(AE6258:AE6261),0))))","v":0},{"$f":"IF(AF6258=0,0,AF6258*$Q6258/SUM(Q6258:Q6260))","v":0},0.25,{"$f":"AE6258*AH6258+AG6258","v":0},{"$f":"SUM(AI6258:AI6261)","v":0}]
[null,null,null,null,"อสังหาริมทรัพย์",null,{"$f":"D6258*F6259","v":0},null,{"$f":"$D6258*$F6259*H6259","v":0},null,null,null,"(2) ตราสารทุนที่จดทะเบียนในตลาดหลักทรัพย์อื่น และอยู่ในดัชนีตลาดหลักทรัพย์ตามที่กำหนดไว้",null,null,null,{"$f":"G6258*$P6259","v":0},null,null,null,null,null,null,null,null,null,null,null,{"$f":"IF(AB6258=0,0,IF(AH6259=0.25,IF(SUM(Q6258:Q6259)>AB6258,AB6258*(Q6259/SUM(Q6258:Q6259)),Q6259),IF(AB6258>SUM(AC6258:AC6259),AB6258-SUM(AC6258:AC6259),0)))","v":0},null,{"$f":"Q6259-AC6259","v":0},null,{"$f":"IF(AF6258=0,0,AF6258*Q6259/SUM(Q6258:Q6260))","v":0},0.25,{"$f":"AE6259*AH6259+AG6259","v":0}]
[null,null,null,null,"สินค้าโภคภัณฑ์",null,{"$f":"D6258*F6260","v":0},null,{"$f":"$D6258*$F6260*H6260","v":0},null,null,null,"(3) ตราสารทุนที่จดทะเบียนในตลาดหลักทรัพย์อื่น แต่ไม่อยู่ในดัชนีตลาดหลักทรัพย์ตามที่กำหนดไว้ในตาราง",null,null,null,{"$f":"G6258*$P6260","v":0},null,null,null,null,null,null,null,null,null,null,null,{"$f":"IF(AB6258=0,0,IF(AH6260=0.25,IF(SUM(Q6258:Q6259)>AB6258,AB6258*(Q6260/SUM(Q6258:Q6259)),Q6260),IF(AB6258>SUM(AC6258:AC6259),AB6258-SUM(AC6258:AC6259),0)))","v":0},null,{"$f":"Q6260-AC6260","v":0},null,{"$f":"IF(AF6258=0,0,AF6258*Q6260/SUM(Q6258:Q6260))","v":0},0.35,0]
[null,null,null,null,"เงินฝาก",null,{"$f":"D6258*F6261","v":0},null,{"$f":"$D6258*$F6261*H6261","v":0},null,null,null,"(4) ตราสารทุนอื่น นอกเหนือจาก (1) ถึง (3)",null,null,null,{"$f":"G6258*$P6261","v":0},null,null,null,null,null,null,null,null,null,null,null,null,null,{"$f":"Q6261-AC6261","v":0},null,null,0.5,0]
[null,null,null,null,"ตราสารหนี้",null,{"$f":"D6258*F6262","v":0},null,{"$f":"$D6258*$F6262*H6262","v":0}]
[null,null,null,null,"อื่นๆ",null,{"$f":"D6258*F6263","v":0},null,{"$f":"$D6258*$F6263*H6263","v":0}]
[null,41,null,null,"ตราสารทุน",null,{"$f":"D6264*F6264","v":0},null,{"$f":"$AJ6264","v":0},{"$f":"SUM(I6264:I6269)","v":0},null,41,"(1) ตราสารทุนที่จดทะเบียนในตลาดหลักทรัพย์แห่งประเทศไทย และตลาดหลักทรัพย์ เอ็ม เอ ไอ",null,null,null,{"$f":"G6264*$P6264","v":0},null,null,null,null,null,null,null,null,{"$f":"IF(AND(SUM($Q6264:$Q6267)=0,$S6264=\"\"),\"\",SUM($Q6264:$Q6267)/$S6264)","v":""},{"$f":"IF(AND(SUM($Q6264:$Q6267)=0,$S6264=\"\"),\"\",$S6264/SUM($Q6264:$Q6267))","v":""},{"$f":"IF(G6264=\"\",0,IF(V6264=\"ใช่\",IF(AND(X6264<=-0.8,X6264>=-1.25,Y6264<=-0.9,Y6264>=-1,Z6264>=0.95,AA6264>=0.95),MIN(SUM(Q6264:Q6266),S6264),0),IF(W6264=\"ใช่\",IF(AND(Z6264>=0.95,AA6264>=0.95),MIN(SUM(Q6264:Q6266),S6264),0),0)))","v":0},{"$f":"IF(AB6264=0,0,IF(AH6264=0.25,IF(SUM(Q6264:Q6265)>AB6264,AB6264*(Q6264/SUM(Q6264:Q6265)),Q6264),IF(AB6264>SUM(AC6264:AC6265),AB6264-SUM(AC6264:AC6265),0)))","v":0},{"$f":"SUM(AE6264:AE6267)","v":0},{"$f":"Q6264-AC6264","v":0},{"$f":"IF(G6264=\"\",0,IF(V6264=\"ใช่\",IF(AND(X6264<=-0.8,X6264>=-1.25,Y6264<=-0.9,Y6264>=-1,Z6264>=0.95,AA6264>=0.95),0,MAX(S6264-SUM(AE6264:AE6267),0)),IF(W6264=\"ใช่\",IF(AND(Z6264>=0.95,AA6264>=0.95),0,MAX(S6264-SUM(AE6264:AE6267),0)),MAX(S6264-SUM(AE6264:AE6267),0))))","v":0},{"$f":"IF(AF6264=0,0,AF6264*$Q6264/SUM(Q6264:Q6266))","v":0},0.25,{"$f":"AE6264*AH6264+AG6264","v":0},{"$f":"SUM(AI6264:AI6267)","v":0}]
[null,null,null,null,"อสังหาริมทรัพย์",null,{"$f":"D6264*F6265","v":0},null,{"$f":"$D6264*$F6265*H6265","v":0},null,null,null,"(2) ตราสารทุนที่จดทะเบียนในตลาดหลักทรัพย์อื่น และอยู่ในดัชนีตลาดหลักทรัพย์ตามที่กำหนดไว้",null,null,null,{"$f":"G6264*$P6265","v":0},null,null,null,null,null,null,null,null,null,null,null,{"$f":"IF(AB6264=0,0,IF(AH6265=0.25,IF(SUM(Q6264:Q6265)>AB6264,AB6264*(Q6265/SUM(Q6264:Q6265)),Q6265),IF(AB6264>SUM(AC6264:AC6265),AB6264-SUM(AC6264:AC6265),0)))","v":0},null,{"$f":"Q6265-AC6265","v":0},null,{"$f":"IF(AF6264=0,0,AF6264*Q6265/SUM(Q6264:Q6266))","v":0},0.25,{"$f":"AE6265*AH6265+AG6265","v":0}]
[null,null,null,null,"สินค้าโภคภัณฑ์",null,{"$f":"D6264*F6266","v":0},null,{"$f":"$D6264*$F6266*H6266","v":0},null,null,null,"(3) ตราสารทุนที่จดทะเบียนในตลาดหลักทรัพย์อื่น แต่ไม่อยู่ในดัชนีตลาดหลักทรัพย์ตามที่กำหนดไว้ในตาราง",null,null,null,{"$f":"G6264*$P6266","v":0},null,null,null,null,null,null,null,null,null,null,null,{"$f":"IF(AB6264=0,0,IF(AH6266=0.25,IF(SUM(Q6264:Q6265)>AB6264,AB6264*(Q6266/SUM(Q6264:Q6265)),Q6266),IF(AB6264>SUM(AC6264:AC6265),AB6264-SUM(AC6264:AC6265),0)))","v":0},null,{"$f":"Q6266-AC6266","v":0},null,{"$f":"IF(AF6264=0,0,AF6264*Q6266/SUM(Q6264:Q6266))","v":0},0.35,0]
[null,null,null,null,"เงินฝาก",null,{"$f":"D6264*F6267","v":0},null,{"$f":"$D6264*$F6267*H6267","v":0},null,null,null,"(4) ตราสารทุนอื่น นอกเหนือจาก (1) ถึง (3)",null,null,null,{"$f":"G6264*$P6267","v":0},null,null,null,null,null,null,null,null,null,null,null,null,null,{"$f":"Q6267-AC6267","v":0},null,null,0.5,0]
[null,null,null,null,"ตราสารหนี้",null,{"$f":"D6264*F6268","v":0},null,{"$f":"$D6264*$F6268*H6268","v":0}]
[null,null,null,null,"อื่นๆ",null,{"$f":"D6264*F6269","v":0},null,{"$f":"$D6264*$F6269*H6269","v":0}]
[null,42,null,null,"ตราสารทุน",null,{"$f":"D6270*F6270","v":0},null,{"$f":"$AJ6270","v":0},{"$f":"SUM(I6270:I6275)","v":0},null,42,"(1) ตราสารทุนที่จดทะเบียนในตลาดหลักทรัพย์แห่งประเทศไทย และตลาดหลักทรัพย์ เอ็ม เอ ไอ",null,null,null,{"$f":"G6270*$P6270","v":0},null,null,null,null,null,null,null,null,{"$f":"IF(AND(SUM($Q6270:$Q6273)=0,$S6270=\"\"),\"\",SUM($Q6270:$Q6273)/$S6270)","v":""},{"$f":"IF(AND(SUM($Q6270:$Q6273)=0,$S6270=\"\"),\"\",$S6270/SUM($Q6270:$Q6273))","v":""},{"$f":"IF(G6270=\"\",0,IF(V6270=\"ใช่\",IF(AND(X6270<=-0.8,X6270>=-1.25,Y6270<=-0.9,Y6270>=-1,Z6270>=0.95,AA6270>=0.95),MIN(SUM(Q6270:Q6272),S6270),0),IF(W6270=\"ใช่\",IF(AND(Z6270>=0.95,AA6270>=0.95),MIN(SUM(Q6270:Q6272),S6270),0),0)))","v":0},{"$f":"IF(AB6270=0,0,IF(AH6270=0.25,IF(SUM(Q6270:Q6271)>AB6270,AB6270*(Q6270/SUM(Q6270:Q6271)),Q6270),IF(AB6270>SUM(AC6270:AC6271),AB6270-SUM(AC6270:AC6271),0)))","v":0},{"$f":"SUM(AE6270:AE6273)","v":0},{"$f":"Q6270-AC6270","v":0},{"$f":"IF(G6270=\"\",0,IF(V6270=\"ใช่\",IF(AND(X6270<=-0.8,X6270>=-1.25,Y6270<=-0.9,Y6270>=-1,Z6270>=0.95,AA6270>=0.95),0,MAX(S6270-SUM(AE6270:AE6273),0)),IF(W6270=\"ใช่\",IF(AND(Z6270>=0.95,AA6270>=0.95),0,MAX(S6270-SUM(AE6270:AE6273),0)),MAX(S6270-SUM(AE6270:AE6273),0))))","v":0},{"$f":"IF(AF6270=0,0,AF6270*$Q6270/SUM(Q6270:Q6272))","v":0},0.25,{"$f":"AE6270*AH6270+AG6270","v":0},{"$f":"SUM(AI6270:AI6273)","v":0}]
[null,null,null,null,"อสังหาริมทรัพย์",null,{"$f":"D6270*F6271","v":0},null,{"$f":"$D6270*$F6271*H6271","v":0},null,null,null,"(2) ตราสารทุนที่จดทะเบียนในตลาดหลักทรัพย์อื่น และอยู่ในดัชนีตลาดหลักทรัพย์ตามที่กำหนดไว้",null,null,null,{"$f":"G6270*$P6271","v":0},null,null,null,null,null,null,null,null,null,null,null,{"$f":"IF(AB6270=0,0,IF(AH6271=0.25,IF(SUM(Q6270:Q6271)>AB6270,AB6270*(Q6271/SUM(Q6270:Q6271)),Q6271),IF(AB6270>SUM(AC6270:AC6271),AB6270-SUM(AC6270:AC6271),0)))","v":0},null,{"$f":"Q6271-AC6271","v":0},null,{"$f":"IF(AF6270=0,0,AF6270*Q6271/SUM(Q6270:Q6272))","v":0},0.25,{"$f":"AE6271*AH6271+AG6271","v":0}]
[null,null,null,null,"สินค้าโภคภัณฑ์",null,{"$f":"D6270*F6272","v":0},null,{"$f":"$D6270*$F6272*H6272","v":0},null,null,null,"(3) ตราสารทุนที่จดทะเบียนในตลาดหลักทรัพย์อื่น แต่ไม่อยู่ในดัชนีตลาดหลักทรัพย์ตามที่กำหนดไว้ในตาราง",null,null,null,{"$f":"G6270*$P6272","v":0},null,null,null,null,null,null,null,null,null,null,null,{"$f":"IF(AB6270=0,0,IF(AH6272=0.25,IF(SUM(Q6270:Q6271)>AB6270,AB6270*(Q6272/SUM(Q6270:Q6271)),Q6272),IF(AB6270>SUM(AC6270:AC6271),AB6270-SUM(AC6270:AC6271),0)))","v":0},null,{"$f":"Q6272-AC6272","v":0},null,{"$f":"IF(AF6270=0,0,AF6270*Q6272/SUM(Q6270:Q6272))","v":0},0.35,0]
[null,null,null,null,"เงินฝาก",null,{"$f":"D6270*F6273","v":0},null,{"$f":"$D6270*$F6273*H6273","v":0},null,null,null,"(4) ตราสารทุนอื่น นอกเหนือจาก (1) ถึง (3)",null,null,null,{"$f":"G6270*$P6273","v":0},null,null,null,null,null,null,null,null,null,null,null,null,null,{"$f":"Q6273-AC6273","v":0},null,null,0.5,0]
[null,null,null,null,"ตราสารหนี้",null,{"$f":"D6270*F6274","v":0},null,{"$f":"$D6270*$F6274*H6274","v":0}]
[null,null,null,null,"อื่นๆ",null,{"$f":"D6270*F6275","v":0},null,{"$f":"$D6270*$F6275*H6275","v":0}]
[null,43,null,null,"ตราสารทุน",null,{"$f":"D6276*F6276","v":0},null,{"$f":"$AJ6276","v":0},{"$f":"SUM(I6276:I6281)","v":0},null,43,"(1) ตราสารทุนที่จดทะเบียนในตลาดหลักทรัพย์แห่งประเทศไทย และตลาดหลักทรัพย์ เอ็ม เอ ไอ",null,null,null,{"$f":"G6276*$P6276","v":0},null,null,null,null,null,null,null,null,{"$f":"IF(AND(SUM($Q6276:$Q6279)=0,$S6276=\"\"),\"\",SUM($Q6276:$Q6279)/$S6276)","v":""},{"$f":"IF(AND(SUM($Q6276:$Q6279)=0,$S6276=\"\"),\"\",$S6276/SUM($Q6276:$Q6279))","v":""},{"$f":"IF(G6276=\"\",0,IF(V6276=\"ใช่\",IF(AND(X6276<=-0.8,X6276>=-1.25,Y6276<=-0.9,Y6276>=-1,Z6276>=0.95,AA6276>=0.95),MIN(SUM(Q6276:Q6278),S6276),0),IF(W6276=\"ใช่\",IF(AND(Z6276>=0.95,AA6276>=0.95),MIN(SUM(Q6276:Q6278),S6276),0),0)))","v":0},{"$f":"IF(AB6276=0,0,IF(AH6276=0.25,IF(SUM(Q6276:Q6277)>AB6276,AB6276*(Q6276/SUM(Q6276:Q6277)),Q6276),IF(AB6276>SUM(AC6276:AC6277),AB6276-SUM(AC6276:AC6277),0)))","v":0},{"$f":"SUM(AE6276:AE6279)","v":0},{"$f":"Q6276-AC6276","v":0},{"$f":"IF(G6276=\"\",0,IF(V6276=\"ใช่\",IF(AND(X6276<=-0.8,X6276>=-1.25,Y6276<=-0.9,Y6276>=-1,Z6276>=0.95,AA6276>=0.95),0,MAX(S6276-SUM(AE6276:AE6279),0)),IF(W6276=\"ใช่\",IF(AND(Z6276>=0.95,AA6276>=0.95),0,MAX(S6276-SUM(AE6276:AE6279),0)),MAX(S6276-SUM(AE6276:AE6279),0))))","v":0},{"$f":"IF(AF6276=0,0,AF6276*$Q6276/SUM(Q6276:Q6278))","v":0},0.25,{"$f":"AE6276*AH6276+AG6276","v":0},{"$f":"SUM(AI6276:AI6279)","v":0}]
[null,null,null,null,"อสังหาริมทรัพย์",null,{"$f":"D6276*F6277","v":0},null,{"$f":"$D6276*$F6277*H6277","v":0},null,null,null,"(2) ตราสารทุนที่จดทะเบียนในตลาดหลักทรัพย์อื่น และอยู่ในดัชนีตลาดหลักทรัพย์ตามที่กำหนดไว้",null,null,null,{"$f":"G6276*$P6277","v":0},null,null,null,null,null,null,null,null,null,null,null,{"$f":"IF(AB6276=0,0,IF(AH6277=0.25,IF(SUM(Q6276:Q6277)>AB6276,AB6276*(Q6277/SUM(Q6276:Q6277)),Q6277),IF(AB6276>SUM(AC6276:AC6277),AB6276-SUM(AC6276:AC6277),0)))","v":0},null,{"$f":"Q6277-AC6277","v":0},null,{"$f":"IF(AF6276=0,0,AF6276*Q6277/SUM(Q6276:Q6278))","v":0},0.25,{"$f":"AE6277*AH6277+AG6277","v":0}]
[null,null,null,null,"สินค้าโภคภัณฑ์",null,{"$f":"D6276*F6278","v":0},null,{"$f":"$D6276*$F6278*H6278","v":0},null,null,null,"(3) ตราสารทุนที่จดทะเบียนในตลาดหลักทรัพย์อื่น แต่ไม่อยู่ในดัชนีตลาดหลักทรัพย์ตามที่กำหนดไว้ในตาราง",null,null,null,{"$f":"G6276*$P6278","v":0},null,null,null,null,null,null,null,null,null,null,null,{"$f":"IF(AB6276=0,0,IF(AH6278=0.25,IF(SUM(Q6276:Q6277)>AB6276,AB6276*(Q6278/SUM(Q6276:Q6277)),Q6278),IF(AB6276>SUM(AC6276:AC6277),AB6276-SUM(AC6276:AC6277),0)))","v":0},null,{"$f":"Q6278-AC6278","v":0},null,{"$f":"IF(AF6276=0,0,AF6276*Q6278/SUM(Q6276:Q6278))","v":0},0.35,0]
[null,null,null,null,"เงินฝาก",null,{"$f":"D6276*F6279","v":0},null,{"$f":"$D6276*$F6279*H6279","v":0},null,null,null,"(4) ตราสารทุนอื่น นอกเหนือจาก (1) ถึง (3)",null,null,null,{"$f":"G6276*$P6279","v":0},null,null,null,null,null,null,null,null,null,null,null,null,null,{"$f":"Q6279-AC6279","v":0},null,null,0.5,0]
[null,null,null,null,"ตราสารหนี้",null,{"$f":"D6276*F6280","v":0},null,{"$f":"$D6276*$F6280*H6280","v":0}]
[null,null,null,null,"อื่นๆ",null,{"$f":"D6276*F6281","v":0},null,{"$f":"$D6276*$F6281*H6281","v":0}]
[null,44,null,null,"ตราสารทุน",null,{"$f":"D6282*F6282","v":0},null,{"$f":"$AJ6282","v":0},{"$f":"SUM(I6282:I6287)","v":0},null,44,"(1) ตราสารทุนที่จดทะเบียนในตลาดหลักทรัพย์แห่งประเทศไทย และตลาดหลักทรัพย์ เอ็ม เอ ไอ",null,null,null,{"$f":"G6282*$P6282","v":0},null,null,null,null,null,null,null,null,{"$f":"IF(AND(SUM($Q6282:$Q6285)=0,$S6282=\"\"),\"\",SUM($Q6282:$Q6285)/$S6282)","v":""},{"$f":"IF(AND(SUM($Q6282:$Q6285)=0,$S6282=\"\"),\"\",$S6282/SUM($Q6282:$Q6285))","v":""},{"$f":"IF(G6282=\"\",0,IF(V6282=\"ใช่\",IF(AND(X6282<=-0.8,X6282>=-1.25,Y6282<=-0.9,Y6282>=-1,Z6282>=0.95,AA6282>=0.95),MIN(SUM(Q6282:Q6284),S6282),0),IF(W6282=\"ใช่\",IF(AND(Z6282>=0.95,AA6282>=0.95),MIN(SUM(Q6282:Q6284),S6282),0),0)))","v":0},{"$f":"IF(AB6282=0,0,IF(AH6282=0.25,IF(SUM(Q6282:Q6283)>AB6282,AB6282*(Q6282/SUM(Q6282:Q6283)),Q6282),IF(AB6282>SUM(AC6282:AC6283),AB6282-SUM(AC6282:AC6283),0)))","v":0},{"$f":"SUM(AE6282:AE6285)","v":0},{"$f":"Q6282-AC6282","v":0},{"$f":"IF(G6282=\"\",0,IF(V6282=\"ใช่\",IF(AND(X6282<=-0.8,X6282>=-1.25,Y6282<=-0.9,Y6282>=-1,Z6282>=0.95,AA6282>=0.95),0,MAX(S6282-SUM(AE6282:AE6285),0)),IF(W6282=\"ใช่\",IF(AND(Z6282>=0.95,AA6282>=0.95),0,MAX(S6282-SUM(AE6282:AE6285),0)),MAX(S6282-SUM(AE6282:AE6285),0))))","v":0},{"$f":"IF(AF6282=0,0,AF6282*$Q6282/SUM(Q6282:Q6284))","v":0},0.25,{"$f":"AE6282*AH6282+AG6282","v":0},{"$f":"SUM(AI6282:AI6285)","v":0}]
[null,null,null,null,"อสังหาริมทรัพย์",null,{"$f":"D6282*F6283","v":0},null,{"$f":"$D6282*$F6283*H6283","v":0},null,null,null,"(2) ตราสารทุนที่จดทะเบียนในตลาดหลักทรัพย์อื่น และอยู่ในดัชนีตลาดหลักทรัพย์ตามที่กำหนดไว้",null,null,null,{"$f":"G6282*$P6283","v":0},null,null,null,null,null,null,null,null,null,null,null,{"$f":"IF(AB6282=0,0,IF(AH6283=0.25,IF(SUM(Q6282:Q6283)>AB6282,AB6282*(Q6283/SUM(Q6282:Q6283)),Q6283),IF(AB6282>SUM(AC6282:AC6283),AB6282-SUM(AC6282:AC6283),0)))","v":0},null,{"$f":"Q6283-AC6283","v":0},null,{"$f":"IF(AF6282=0,0,AF6282*Q6283/SUM(Q6282:Q6284))","v":0},0.25,{"$f":"AE6283*AH6283+AG6283","v":0}]
[null,null,null,null,"สินค้าโภคภัณฑ์",null,{"$f":"D6282*F6284","v":0},null,{"$f":"$D6282*$F6284*H6284","v":0},null,null,null,"(3) ตราสารทุนที่จดทะเบียนในตลาดหลักทรัพย์อื่น แต่ไม่อยู่ในดัชนีตลาดหลักทรัพย์ตามที่กำหนดไว้ในตาราง",null,null,null,{"$f":"G6282*$P6284","v":0},null,null,null,null,null,null,null,null,null,null,null,{"$f":"IF(AB6282=0,0,IF(AH6284=0.25,IF(SUM(Q6282:Q6283)>AB6282,AB6282*(Q6284/SUM(Q6282:Q6283)),Q6284),IF(AB6282>SUM(AC6282:AC6283),AB6282-SUM(AC6282:AC6283),0)))","v":0},null,{"$f":"Q6284-AC6284","v":0},null,{"$f":"IF(AF6282=0,0,AF6282*Q6284/SUM(Q6282:Q6284))","v":0},0.35,0]
[null,null,null,null,"เงินฝาก",null,{"$f":"D6282*F6285","v":0},null,{"$f":"$D6282*$F6285*H6285","v":0},null,null,null,"(4) ตราสารทุนอื่น นอกเหนือจาก (1) ถึง (3)",null,null,null,{"$f":"G6282*$P6285","v":0},null,null,null,null,null,null,null,null,null,null,null,null,null,{"$f":"Q6285-AC6285","v":0},null,null,0.5,0]
[null,null,null,null,"ตราสารหนี้",null,{"$f":"D6282*F6286","v":0},null,{"$f":"$D6282*$F6286*H6286","v":0}]
[null,null,null,null,"อื่นๆ",null,{"$f":"D6282*F6287","v":0},null,{"$f":"$D6282*$F6287*H6287","v":0}]
[null,45,null,null,"ตราสารทุน",null,{"$f":"D6288*F6288","v":0},null,{"$f":"$AJ6288","v":0},{"$f":"SUM(I6288:I6293)","v":0},null,45,"(1) ตราสารทุนที่จดทะเบียนในตลาดหลักทรัพย์แห่งประเทศไทย และตลาดหลักทรัพย์ เอ็ม เอ ไอ",null,null,null,{"$f":"G6288*$P6288","v":0},null,null,null,null,null,null,null,null,{"$f":"IF(AND(SUM($Q6288:$Q6291)=0,$S6288=\"\"),\"\",SUM($Q6288:$Q6291)/$S6288)","v":""},{"$f":"IF(AND(SUM($Q6288:$Q6291)=0,$S6288=\"\"),\"\",$S6288/SUM($Q6288:$Q6291))","v":""},{"$f":"IF(G6288=\"\",0,IF(V6288=\"ใช่\",IF(AND(X6288<=-0.8,X6288>=-1.25,Y6288<=-0.9,Y6288>=-1,Z6288>=0.95,AA6288>=0.95),MIN(SUM(Q6288:Q6290),S6288),0),IF(W6288=\"ใช่\",IF(AND(Z6288>=0.95,AA6288>=0.95),MIN(SUM(Q6288:Q6290),S6288),0),0)))","v":0},{"$f":"IF(AB6288=0,0,IF(AH6288=0.25,IF(SUM(Q6288:Q6289)>AB6288,AB6288*(Q6288/SUM(Q6288:Q6289)),Q6288),IF(AB6288>SUM(AC6288:AC6289),AB6288-SUM(AC6288:AC6289),0)))","v":0},{"$f":"SUM(AE6288:AE6291)","v":0},{"$f":"Q6288-AC6288","v":0},{"$f":"IF(G6288=\"\",0,IF(V6288=\"ใช่\",IF(AND(X6288<=-0.8,X6288>=-1.25,Y6288<=-0.9,Y6288>=-1,Z6288>=0.95,AA6288>=0.95),0,MAX(S6288-SUM(AE6288:AE6291),0)),IF(W6288=\"ใช่\",IF(AND(Z6288>=0.95,AA6288>=0.95),0,MAX(S6288-SUM(AE6288:AE6291),0)),MAX(S6288-SUM(AE6288:AE6291),0))))","v":0},{"$f":"IF(AF6288=0,0,AF6288*$Q6288/SUM(Q6288:Q6290))","v":0},0.25,{"$f":"AE6288*AH6288+AG6288","v":0},{"$f":"SUM(AI6288:AI6291)","v":0}]
[null,null,null,null,"อสังหาริมทรัพย์",null,{"$f":"D6288*F6289","v":0},null,{"$f":"$D6288*$F6289*H6289","v":0},null,null,null,"(2) ตราสารทุนที่จดทะเบียนในตลาดหลักทรัพย์อื่น และอยู่ในดัชนีตลาดหลักทรัพย์ตามที่กำหนดไว้",null,null,null,{"$f":"G6288*$P6289","v":0},null,null,null,null,null,null,null,null,null,null,null,{"$f":"IF(AB6288=0,0,IF(AH6289=0.25,IF(SUM(Q6288:Q6289)>AB6288,AB6288*(Q6289/SUM(Q6288:Q6289)),Q6289),IF(AB6288>SUM(AC6288:AC6289),AB6288-SUM(AC6288:AC6289),0)))","v":0},null,{"$f":"Q6289-AC6289","v":0},null,{"$f":"IF(AF6288=0,0,AF6288*Q6289/SUM(Q6288:Q6290))","v":0},0.25,{"$f":"AE6289*AH6289+AG6289","v":0}]
[null,null,null,null,"สินค้าโภคภัณฑ์",null,{"$f":"D6288*F6290","v":0},null,{"$f":"$D6288*$F6290*H6290","v":0},null,null,null,"(3) ตราสารทุนที่จดทะเบียนในตลาดหลักทรัพย์อื่น แต่ไม่อยู่ในดัชนีตลาดหลักทรัพย์ตามที่กำหนดไว้ในตาราง",null,null,null,{"$f":"G6288*$P6290","v":0},null,null,null,null,null,null,null,null,null,null,null,{"$f":"IF(AB6288=0,0,IF(AH6290=0.25,IF(SUM(Q6288:Q6289)>AB6288,AB6288*(Q6290/SUM(Q6288:Q6289)),Q6290),IF(AB6288>SUM(AC6288:AC6289),AB6288-SUM(AC6288:AC6289),0)))","v":0},null,{"$f":"Q6290-AC6290","v":0},null,{"$f":"IF(AF6288=0,0,AF6288*Q6290/SUM(Q6288:Q6290))","v":0},0.35,0]
[null,null,null,null,"เงินฝาก",null,{"$f":"D6288*F6291","v":0},null,{"$f":"$D6288*$F6291*H6291","v":0},null,null,null,"(4) ตราสารทุนอื่น นอกเหนือจาก (1) ถึง (3)",null,null,null,{"$f":"G6288*$P6291","v":0},null,null,null,null,null,null,null,null,null,null,null,null,null,{"$f":"Q6291-AC6291","v":0},null,null,0.5,0]
[null,null,null,null,"ตราสารหนี้",null,{"$f":"D6288*F6292","v":0},null,{"$f":"$D6288*$F6292*H6292","v":0}]
[null,null,null,null,"อื่นๆ",null,{"$f":"D6288*F6293","v":0},null,{"$f":"$D6288*$F6293*H6293","v":0}]
[null,46,null,null,"ตราสารทุน",null,{"$f":"D6294*F6294","v":0},null,{"$f":"$AJ6294","v":0},{"$f":"SUM(I6294:I6299)","v":0},null,46,"(1) ตราสารทุนที่จดทะเบียนในตลาดหลักทรัพย์แห่งประเทศไทย และตลาดหลักทรัพย์ เอ็ม เอ ไอ",null,null,null,{"$f":"G6294*$P6294","v":0},null,null,null,null,null,null,null,null,{"$f":"IF(AND(SUM($Q6294:$Q6297)=0,$S6294=\"\"),\"\",SUM($Q6294:$Q6297)/$S6294)","v":""},{"$f":"IF(AND(SUM($Q6294:$Q6297)=0,$S6294=\"\"),\"\",$S6294/SUM($Q6294:$Q6297))","v":""},{"$f":"IF(G6294=\"\",0,IF(V6294=\"ใช่\",IF(AND(X6294<=-0.8,X6294>=-1.25,Y6294<=-0.9,Y6294>=-1,Z6294>=0.95,AA6294>=0.95),MIN(SUM(Q6294:Q6296),S6294),0),IF(W6294=\"ใช่\",IF(AND(Z6294>=0.95,AA6294>=0.95),MIN(SUM(Q6294:Q6296),S6294),0),0)))","v":0},{"$f":"IF(AB6294=0,0,IF(AH6294=0.25,IF(SUM(Q6294:Q6295)>AB6294,AB6294*(Q6294/SUM(Q6294:Q6295)),Q6294),IF(AB6294>SUM(AC6294:AC6295),AB6294-SUM(AC6294:AC6295),0)))","v":0},{"$f":"SUM(AE6294:AE6297)","v":0},{"$f":"Q6294-AC6294","v":0},{"$f":"IF(G6294=\"\",0,IF(V6294=\"ใช่\",IF(AND(X6294<=-0.8,X6294>=-1.25,Y6294<=-0.9,Y6294>=-1,Z6294>=0.95,AA6294>=0.95),0,MAX(S6294-SUM(AE6294:AE6297),0)),IF(W6294=\"ใช่\",IF(AND(Z6294>=0.95,AA6294>=0.95),0,MAX(S6294-SUM(AE6294:AE6297),0)),MAX(S6294-SUM(AE6294:AE6297),0))))","v":0},{"$f":"IF(AF6294=0,0,AF6294*$Q6294/SUM(Q6294:Q6296))","v":0},0.25,{"$f":"AE6294*AH6294+AG6294","v":0},{"$f":"SUM(AI6294:AI6297)","v":0}]
[null,null,null,null,"อสังหาริมทรัพย์",null,{"$f":"D6294*F6295","v":0},null,{"$f":"$D6294*$F6295*H6295","v":0},null,null,null,"(2) ตราสารทุนที่จดทะเบียนในตลาดหลักทรัพย์อื่น และอยู่ในดัชนีตลาดหลักทรัพย์ตามที่กำหนดไว้",null,null,null,{"$f":"G6294*$P6295","v":0},null,null,null,null,null,null,null,null,null,null,null,{"$f":"IF(AB6294=0,0,IF(AH6295=0.25,IF(SUM(Q6294:Q6295)>AB6294,AB6294*(Q6295/SUM(Q6294:Q6295)),Q6295),IF(AB6294>SUM(AC6294:AC6295),AB6294-SUM(AC6294:AC6295),0)))","v":0},null,{"$f":"Q6295-AC6295","v":0},null,{"$f":"IF(AF6294=0,0,AF6294*Q6295/SUM(Q6294:Q6296))","v":0},0.25,{"$f":"AE6295*AH6295+AG6295","v":0}]
[null,null,null,null,"สินค้าโภคภัณฑ์",null,{"$f":"D6294*F6296","v":0},null,{"$f":"$D6294*$F6296*H6296","v":0},null,null,null,"(3) ตราสารทุนที่จดทะเบียนในตลาดหลักทรัพย์อื่น แต่ไม่อยู่ในดัชนีตลาดหลักทรัพย์ตามที่กำหนดไว้ในตาราง",null,null,null,{"$f":"G6294*$P6296","v":0},null,null,null,null,null,null,null,null,null,null,null,{"$f":"IF(AB6294=0,0,IF(AH6296=0.25,IF(SUM(Q6294:Q6295)>AB6294,AB6294*(Q6296/SUM(Q6294:Q6295)),Q6296),IF(AB6294>SUM(AC6294:AC6295),AB6294-SUM(AC6294:AC6295),0)))","v":0},null,{"$f":"Q6296-AC6296","v":0},null,{"$f":"IF(AF6294=0,0,AF6294*Q6296/SUM(Q6294:Q6296))","v":0},0.35,0]
[null,null,null,null,"เงินฝาก",null,{"$f":"D6294*F6297","v":0},null,{"$f":"$D6294*$F6297*H6297","v":0},null,null,null,"(4) ตราสารทุนอื่น นอกเหนือจาก (1) ถึง (3)",null,null,null,{"$f":"G6294*$P6297","v":0},null,null,null,null,null,null,null,null,null,null,null,null,null,{"$f":"Q6297-AC6297","v":0},null,null,0.5,0]
[null,null,null,null,"ตราสารหนี้",null,{"$f":"D6294*F6298","v":0},null,{"$f":"$D6294*$F6298*H6298","v":0}]
[null,null,null,null,"อื่นๆ",null,{"$f":"D6294*F6299","v":0},null,{"$f":"$D6294*$F6299*H6299","v":0}]
[null,47,null,null,"ตราสารทุน",null,{"$f":"D6300*F6300","v":0},null,{"$f":"$AJ6300","v":0},{"$f":"SUM(I6300:I6305)","v":0},null,47,"(1) ตราสารทุนที่จดทะเบียนในตลาดหลักทรัพย์แห่งประเทศไทย และตลาดหลักทรัพย์ เอ็ม เอ ไอ",null,null,null,{"$f":"G6300*$P6300","v":0},null,null,null,null,null,null,null,null,{"$f":"IF(AND(SUM($Q6300:$Q6303)=0,$S6300=\"\"),\"\",SUM($Q6300:$Q6303)/$S6300)","v":""},{"$f":"IF(AND(SUM($Q6300:$Q6303)=0,$S6300=\"\"),\"\",$S6300/SUM($Q6300:$Q6303))","v":""},{"$f":"IF(G6300=\"\",0,IF(V6300=\"ใช่\",IF(AND(X6300<=-0.8,X6300>=-1.25,Y6300<=-0.9,Y6300>=-1,Z6300>=0.95,AA6300>=0.95),MIN(SUM(Q6300:Q6302),S6300),0),IF(W6300=\"ใช่\",IF(AND(Z6300>=0.95,AA6300>=0.95),MIN(SUM(Q6300:Q6302),S6300),0),0)))","v":0},{"$f":"IF(AB6300=0,0,IF(AH6300=0.25,IF(SUM(Q6300:Q6301)>AB6300,AB6300*(Q6300/SUM(Q6300:Q6301)),Q6300),IF(AB6300>SUM(AC6300:AC6301),AB6300-SUM(AC6300:AC6301),0)))","v":0},{"$f":"SUM(AE6300:AE6303)","v":0},{"$f":"Q6300-AC6300","v":0},{"$f":"IF(G6300=\"\",0,IF(V6300=\"ใช่\",IF(AND(X6300<=-0.8,X6300>=-1.25,Y6300<=-0.9,Y6300>=-1,Z6300>=0.95,AA6300>=0.95),0,MAX(S6300-SUM(AE6300:AE6303),0)),IF(W6300=\"ใช่\",IF(AND(Z6300>=0.95,AA6300>=0.95),0,MAX(S6300-SUM(AE6300:AE6303),0)),MAX(S6300-SUM(AE6300:AE6303),0))))","v":0},{"$f":"IF(AF6300=0,0,AF6300*$Q6300/SUM(Q6300:Q6302))","v":0},0.25,{"$f":"AE6300*AH6300+AG6300","v":0},{"$f":"SUM(AI6300:AI6303)","v":0}]
[null,null,null,null,"อสังหาริมทรัพย์",null,{"$f":"D6300*F6301","v":0},null,{"$f":"$D6300*$F6301*H6301","v":0},null,null,null,"(2) ตราสารทุนที่จดทะเบียนในตลาดหลักทรัพย์อื่น และอยู่ในดัชนีตลาดหลักทรัพย์ตามที่กำหนดไว้",null,null,null,{"$f":"G6300*$P6301","v":0},null,null,null,null,null,null,null,null,null,null,null,{"$f":"IF(AB6300=0,0,IF(AH6301=0.25,IF(SUM(Q6300:Q6301)>AB6300,AB6300*(Q6301/SUM(Q6300:Q6301)),Q6301),IF(AB6300>SUM(AC6300:AC6301),AB6300-SUM(AC6300:AC6301),0)))","v":0},null,{"$f":"Q6301-AC6301","v":0},null,{"$f":"IF(AF6300=0,0,AF6300*Q6301/SUM(Q6300:Q6302))","v":0},0.25,{"$f":"AE6301*AH6301+AG6301","v":0}]
[null,null,null,null,"สินค้าโภคภัณฑ์",null,{"$f":"D6300*F6302","v":0},null,{"$f":"$D6300*$F6302*H6302","v":0},null,null,null,"(3) ตราสารทุนที่จดทะเบียนในตลาดหลักทรัพย์อื่น แต่ไม่อยู่ในดัชนีตลาดหลักทรัพย์ตามที่กำหนดไว้ในตาราง",null,null,null,{"$f":"G6300*$P6302","v":0},null,null,null,null,null,null,null,null,null,null,null,{"$f":"IF(AB6300=0,0,IF(AH6302=0.25,IF(SUM(Q6300:Q6301)>AB6300,AB6300*(Q6302/SUM(Q6300:Q6301)),Q6302),IF(AB6300>SUM(AC6300:AC6301),AB6300-SUM(AC6300:AC6301),0)))","v":0},null,{"$f":"Q6302-AC6302","v":0},null,{"$f":"IF(AF6300=0,0,AF6300*Q6302/SUM(Q6300:Q6302))","v":0},0.35,0]
[null,null,null,null,"เงินฝาก",null,{"$f":"D6300*F6303","v":0},null,{"$f":"$D6300*$F6303*H6303","v":0},null,null,null,"(4) ตราสารทุนอื่น นอกเหนือจาก (1) ถึง (3)",null,null,null,{"$f":"G6300*$P6303","v":0},null,null,null,null,null,null,null,null,null,null,null,null,null,{"$f":"Q6303-AC6303","v":0},null,null,0.5,0]
[null,null,null,null,"ตราสารหนี้",null,{"$f":"D6300*F6304","v":0},null,{"$f":"$D6300*$F6304*H6304","v":0}]
[null,null,null,null,"อื่นๆ",null,{"$f":"D6300*F6305","v":0},null,{"$f":"$D6300*$F6305*H6305","v":0}]
[null,48,null,null,"ตราสารทุน",null,{"$f":"D6306*F6306","v":0},null,{"$f":"$AJ6306","v":0},{"$f":"SUM(I6306:I6311)","v":0},null,48,"(1) ตราสารทุนที่จดทะเบียนในตลาดหลักทรัพย์แห่งประเทศไทย และตลาดหลักทรัพย์ เอ็ม เอ ไอ",null,null,null,{"$f":"G6306*$P6306","v":0},null,null,null,null,null,null,null,null,{"$f":"IF(AND(SUM($Q6306:$Q6309)=0,$S6306=\"\"),\"\",SUM($Q6306:$Q6309)/$S6306)","v":""},{"$f":"IF(AND(SUM($Q6306:$Q6309)=0,$S6306=\"\"),\"\",$S6306/SUM($Q6306:$Q6309))","v":""},{"$f":"IF(G6306=\"\",0,IF(V6306=\"ใช่\",IF(AND(X6306<=-0.8,X6306>=-1.25,Y6306<=-0.9,Y6306>=-1,Z6306>=0.95,AA6306>=0.95),MIN(SUM(Q6306:Q6308),S6306),0),IF(W6306=\"ใช่\",IF(AND(Z6306>=0.95,AA6306>=0.95),MIN(SUM(Q6306:Q6308),S6306),0),0)))","v":0},{"$f":"IF(AB6306=0,0,IF(AH6306=0.25,IF(SUM(Q6306:Q6307)>AB6306,AB6306*(Q6306/SUM(Q6306:Q6307)),Q6306),IF(AB6306>SUM(AC6306:AC6307),AB6306-SUM(AC6306:AC6307),0)))","v":0},{"$f":"SUM(AE6306:AE6309)","v":0},{"$f":"Q6306-AC6306","v":0},{"$f":"IF(G6306=\"\",0,IF(V6306=\"ใช่\",IF(AND(X6306<=-0.8,X6306>=-1.25,Y6306<=-0.9,Y6306>=-1,Z6306>=0.95,AA6306>=0.95),0,MAX(S6306-SUM(AE6306:AE6309),0)),IF(W6306=\"ใช่\",IF(AND(Z6306>=0.95,AA6306>=0.95),0,MAX(S6306-SUM(AE6306:AE6309),0)),MAX(S6306-SUM(AE6306:AE6309),0))))","v":0},{"$f":"IF(AF6306=0,0,AF6306*$Q6306/SUM(Q6306:Q6308))","v":0},0.25,{"$f":"AE6306*AH6306+AG6306","v":0},{"$f":"SUM(AI6306:AI6309)","v":0}]
[null,null,null,null,"อสังหาริมทรัพย์",null,{"$f":"D6306*F6307","v":0},null,{"$f":"$D6306*$F6307*H6307","v":0},null,null,null,"(2) ตราสารทุนที่จดทะเบียนในตลาดหลักทรัพย์อื่น และอยู่ในดัชนีตลาดหลักทรัพย์ตามที่กำหนดไว้",null,null,null,{"$f":"G6306*$P6307","v":0},null,null,null,null,null,null,null,null,null,null,null,{"$f":"IF(AB6306=0,0,IF(AH6307=0.25,IF(SUM(Q6306:Q6307)>AB6306,AB6306*(Q6307/SUM(Q6306:Q6307)),Q6307),IF(AB6306>SUM(AC6306:AC6307),AB6306-SUM(AC6306:AC6307),0)))","v":0},null,{"$f":"Q6307-AC6307","v":0},null,{"$f":"IF(AF6306=0,0,AF6306*Q6307/SUM(Q6306:Q6308))","v":0},0.25,{"$f":"AE6307*AH6307+AG6307","v":0}]
[null,null,null,null,"สินค้าโภคภัณฑ์",null,{"$f":"D6306*F6308","v":0},null,{"$f":"$D6306*$F6308*H6308","v":0},null,null,null,"(3) ตราสารทุนที่จดทะเบียนในตลาดหลักทรัพย์อื่น แต่ไม่อยู่ในดัชนีตลาดหลักทรัพย์ตามที่กำหนดไว้ในตาราง",null,null,null,{"$f":"G6306*$P6308","v":0},null,null,null,null,null,null,null,null,null,null,null,{"$f":"IF(AB6306=0,0,IF(AH6308=0.25,IF(SUM(Q6306:Q6307)>AB6306,AB6306*(Q6308/SUM(Q6306:Q6307)),Q6308),IF(AB6306>SUM(AC6306:AC6307),AB6306-SUM(AC6306:AC6307),0)))","v":0},null,{"$f":"Q6308-AC6308","v":0},null,{"$f":"IF(AF6306=0,0,AF6306*Q6308/SUM(Q6306:Q6308))","v":0},0.35,0]
[null,null,null,null,"เงินฝาก",null,{"$f":"D6306*F6309","v":0},null,{"$f":"$D6306*$F6309*H6309","v":0},null,null,null,"(4) ตราสารทุนอื่น นอกเหนือจาก (1) ถึง (3)",null,null,null,{"$f":"G6306*$P6309","v":0},null,null,null,null,null,null,null,null,null,null,null,null,null,{"$f":"Q6309-AC6309","v":0},null,null,0.5,0]
[null,null,null,null,"ตราสารหนี้",null,{"$f":"D6306*F6310","v":0},null,{"$f":"$D6306*$F6310*H6310","v":0}]
[null,null,null,null,"อื่นๆ",null,{"$f":"D6306*F6311","v":0},null,{"$f":"$D6306*$F6311*H6311","v":0}]
[null,49,null,null,"ตราสารทุน",null,{"$f":"D6312*F6312","v":0},null,{"$f":"$AJ6312","v":0},{"$f":"SUM(I6312:I6317)","v":0},null,49,"(1) ตราสารทุนที่จดทะเบียนในตลาดหลักทรัพย์แห่งประเทศไทย และตลาดหลักทรัพย์ เอ็ม เอ ไอ",null,null,null,{"$f":"G6312*$P6312","v":0},null,null,null,null,null,null,null,null,{"$f":"IF(AND(SUM($Q6312:$Q6315)=0,$S6312=\"\"),\"\",SUM($Q6312:$Q6315)/$S6312)","v":""},{"$f":"IF(AND(SUM($Q6312:$Q6315)=0,$S6312=\"\"),\"\",$S6312/SUM($Q6312:$Q6315))","v":""},{"$f":"IF(G6312=\"\",0,IF(V6312=\"ใช่\",IF(AND(X6312<=-0.8,X6312>=-1.25,Y6312<=-0.9,Y6312>=-1,Z6312>=0.95,AA6312>=0.95),MIN(SUM(Q6312:Q6314),S6312),0),IF(W6312=\"ใช่\",IF(AND(Z6312>=0.95,AA6312>=0.95),MIN(SUM(Q6312:Q6314),S6312),0),0)))","v":0},{"$f":"IF(AB6312=0,0,IF(AH6312=0.25,IF(SUM(Q6312:Q6313)>AB6312,AB6312*(Q6312/SUM(Q6312:Q6313)),Q6312),IF(AB6312>SUM(AC6312:AC6313),AB6312-SUM(AC6312:AC6313),0)))","v":0},{"$f":"SUM(AE6312:AE6315)","v":0},{"$f":"Q6312-AC6312","v":0},{"$f":"IF(G6312=\"\",0,IF(V6312=\"ใช่\",IF(AND(X6312<=-0.8,X6312>=-1.25,Y6312<=-0.9,Y6312>=-1,Z6312>=0.95,AA6312>=0.95),0,MAX(S6312-SUM(AE6312:AE6315),0)),IF(W6312=\"ใช่\",IF(AND(Z6312>=0.95,AA6312>=0.95),0,MAX(S6312-SUM(AE6312:AE6315),0)),MAX(S6312-SUM(AE6312:AE6315),0))))","v":0},{"$f":"IF(AF6312=0,0,AF6312*$Q6312/SUM(Q6312:Q6314))","v":0},0.25,{"$f":"AE6312*AH6312+AG6312","v":0},{"$f":"SUM(AI6312:AI6315)","v":0}]
[null,null,null,null,"อสังหาริมทรัพย์",null,{"$f":"D6312*F6313","v":0},null,{"$f":"$D6312*$F6313*H6313","v":0},null,null,null,"(2) ตราสารทุนที่จดทะเบียนในตลาดหลักทรัพย์อื่น และอยู่ในดัชนีตลาดหลักทรัพย์ตามที่กำหนดไว้",null,null,null,{"$f":"G6312*$P6313","v":0},null,null,null,null,null,null,null,null,null,null,null,{"$f":"IF(AB6312=0,0,IF(AH6313=0.25,IF(SUM(Q6312:Q6313)>AB6312,AB6312*(Q6313/SUM(Q6312:Q6313)),Q6313),IF(AB6312>SUM(AC6312:AC6313),AB6312-SUM(AC6312:AC6313),0)))","v":0},null,{"$f":"Q6313-AC6313","v":0},null,{"$f":"IF(AF6312=0,0,AF6312*Q6313/SUM(Q6312:Q6314))","v":0},0.25,{"$f":"AE6313*AH6313+AG6313","v":0}]
[null,null,null,null,"สินค้าโภคภัณฑ์",null,{"$f":"D6312*F6314","v":0},null,{"$f":"$D6312*$F6314*H6314","v":0},null,null,null,"(3) ตราสารทุนที่จดทะเบียนในตลาดหลักทรัพย์อื่น แต่ไม่อยู่ในดัชนีตลาดหลักทรัพย์ตามที่กำหนดไว้ในตาราง",null,null,null,{"$f":"G6312*$P6314","v":0},null,null,null,null,null,null,null,null,null,null,null,{"$f":"IF(AB6312=0,0,IF(AH6314=0.25,IF(SUM(Q6312:Q6313)>AB6312,AB6312*(Q6314/SUM(Q6312:Q6313)),Q6314),IF(AB6312>SUM(AC6312:AC6313),AB6312-SUM(AC6312:AC6313),0)))","v":0},null,{"$f":"Q6314-AC6314","v":0},null,{"$f":"IF(AF6312=0,0,AF6312*Q6314/SUM(Q6312:Q6314))","v":0},0.35,0]
[null,null,null,null,"เงินฝาก",null,{"$f":"D6312*F6315","v":0},null,{"$f":"$D6312*$F6315*H6315","v":0},null,null,null,"(4) ตราสารทุนอื่น นอกเหนือจาก (1) ถึง (3)",null,null,null,{"$f":"G6312*$P6315","v":0},null,null,null,null,null,null,null,null,null,null,null,null,null,{"$f":"Q6315-AC6315","v":0},null,null,0.5,0]
[null,null,null,null,"ตราสารหนี้",null,{"$f":"D6312*F6316","v":0},null,{"$f":"$D6312*$F6316*H6316","v":0}]
[null,null,null,null,"อื่นๆ",null,{"$f":"D6312*F6317","v":0},null,{"$f":"$D6312*$F6317*H6317","v":0}]
[null,50,null,null,"ตราสารทุน",null,{"$f":"D6318*F6318","v":0},null,{"$f":"$AJ6318","v":0},{"$f":"SUM(I6318:I6323)","v":0},null,50,"(1) ตราสารทุนที่จดทะเบียนในตลาดหลักทรัพย์แห่งประเทศไทย และตลาดหลักทรัพย์ เอ็ม เอ ไอ",null,null,null,{"$f":"G6318*$P6318","v":0},null,null,null,null,null,null,null,null,{"$f":"IF(AND(SUM($Q6318:$Q6321)=0,$S6318=\"\"),\"\",SUM($Q6318:$Q6321)/$S6318)","v":""},{"$f":"IF(AND(SUM($Q6318:$Q6321)=0,$S6318=\"\"),\"\",$S6318/SUM($Q6318:$Q6321))","v":""},{"$f":"IF(G6318=\"\",0,IF(V6318=\"ใช่\",IF(AND(X6318<=-0.8,X6318>=-1.25,Y6318<=-0.9,Y6318>=-1,Z6318>=0.95,AA6318>=0.95),MIN(SUM(Q6318:Q6320),S6318),0),IF(W6318=\"ใช่\",IF(AND(Z6318>=0.95,AA6318>=0.95),MIN(SUM(Q6318:Q6320),S6318),0),0)))","v":0},{"$f":"IF(AB6318=0,0,IF(AH6318=0.25,IF(SUM(Q6318:Q6319)>AB6318,AB6318*(Q6318/SUM(Q6318:Q6319)),Q6318),IF(AB6318>SUM(AC6318:AC6319),AB6318-SUM(AC6318:AC6319),0)))","v":0},{"$f":"SUM(AE6318:AE6321)","v":0},{"$f":"Q6318-AC6318","v":0},{"$f":"IF(G6318=\"\",0,IF(V6318=\"ใช่\",IF(AND(X6318<=-0.8,X6318>=-1.25,Y6318<=-0.9,Y6318>=-1,Z6318>=0.95,AA6318>=0.95),0,MAX(S6318-SUM(AE6318:AE6321),0)),IF(W6318=\"ใช่\",IF(AND(Z6318>=0.95,AA6318>=0.95),0,MAX(S6318-SUM(AE6318:AE6321),0)),MAX(S6318-SUM(AE6318:AE6321),0))))","v":0},{"$f":"IF(AF6318=0,0,AF6318*$Q6318/SUM(Q6318:Q6320))","v":0},0.25,{"$f":"AE6318*AH6318+AG6318","v":0},{"$f":"SUM(AI6318:AI6321)","v":0}]
[null,null,null,null,"อสังหาริมทรัพย์",null,{"$f":"D6318*F6319","v":0},null,{"$f":"$D6318*$F6319*H6319","v":0},null,null,null,"(2) ตราสารทุนที่จดทะเบียนในตลาดหลักทรัพย์อื่น และอยู่ในดัชนีตลาดหลักทรัพย์ตามที่กำหนดไว้",null,null,null,{"$f":"G6318*$P6319","v":0},null,null,null,null,null,null,null,null,null,null,null,{"$f":"IF(AB6318=0,0,IF(AH6319=0.25,IF(SUM(Q6318:Q6319)>AB6318,AB6318*(Q6319/SUM(Q6318:Q6319)),Q6319),IF(AB6318>SUM(AC6318:AC6319),AB6318-SUM(AC6318:AC6319),0)))","v":0},null,{"$f":"Q6319-AC6319","v":0},null,{"$f":"IF(AF6318=0,0,AF6318*Q6319/SUM(Q6318:Q6320))","v":0},0.25,{"$f":"AE6319*AH6319+AG6319","v":0}]
[null,null,null,null,"สินค้าโภคภัณฑ์",null,{"$f":"D6318*F6320","v":0},null,{"$f":"$D6318*$F6320*H6320","v":0},null,null,null,"(3) ตราสารทุนที่จดทะเบียนในตลาดหลักทรัพย์อื่น แต่ไม่อยู่ในดัชนีตลาดหลักทรัพย์ตามที่กำหนดไว้ในตาราง",null,null,null,{"$f":"G6318*$P6320","v":0},null,null,null,null,null,null,null,null,null,null,null,{"$f":"IF(AB6318=0,0,IF(AH6320=0.25,IF(SUM(Q6318:Q6319)>AB6318,AB6318*(Q6320/SUM(Q6318:Q6319)),Q6320),IF(AB6318>SUM(AC6318:AC6319),AB6318-SUM(AC6318:AC6319),0)))","v":0},null,{"$f":"Q6320-AC6320","v":0},null,{"$f":"IF(AF6318=0,0,AF6318*Q6320/SUM(Q6318:Q6320))","v":0},0.35,0]
[null,null,null,null,"เงินฝาก",null,{"$f":"D6318*F6321","v":0},null,{"$f":"$D6318*$F6321*H6321","v":0},null,null,null,"(4) ตราสารทุนอื่น นอกเหนือจาก (1) ถึง (3)",null,null,null,{"$f":"G6318*$P6321","v":0},null,null,null,null,null,null,null,null,null,null,null,null,null,{"$f":"Q6321-AC6321","v":0},null,null,0.5,0]
[null,null,null,null,"ตราสารหนี้",null,{"$f":"D6318*F6322","v":0},null,{"$f":"$D6318*$F6322*H6322","v":0}]
[null,null,null,null,"อื่นๆ",null,{"$f":"D6318*F6323","v":0},null,{"$f":"$D6318*$F6323*H6323","v":0}]
[null,51,"รวม",{"$f":"SUM(D6024:D6323)","v":0},"ตราสารทุน",null,{"$f":"SUMIF($E$6024:$E$6323,E6324,$G$6024:$G$6323)","v":0},"ตราสารทุน",{"$f":"SUMIF($E$6024:$E$6323,H6324,$I$6024:$I$6323)","v":0},{"$f":"SUM($J$6024:$J$6323)","v":0},null,51,"(1) ตราสารทุนที่จดทะเบียนในตลาดหลักทรัพย์แห่งประเทศไทย และตลาดหลักทรัพย์ เอ็ม เอ ไอ",null,null,{"$f":"IF($G$6324=0,\"\",Q6324/$G$6324)","v":""},{"$f":"SUMIF($M$6024:$O$6323,$M6324,$Q$6024:$Q$6323)","v":0},null,null,null,null,null,null,null,null,null,null,{"$f":"SUM(AB6024:AB6323)","v":0},{"$f":"SUMIF($M$6024:$O$6323,$M6324,$AC$6024:$AC$6323)","v":0},{"$f":"SUM(AD6024:AD6323)","v":0},{"$f":"SUMIF($M$6024:$O$6323,$M6324,$AE$6024:$AE$6323)","v":0},{"$f":"SUM(AF6024:AF6323)","v":0},{"$f":"SUMIF($M$6024:$O$6323,$M6324,$AG$6024:$AG$6323)","v":0},null,{"$f":"SUMIF($M$6024:$O$6323,$M6324,$AI$6024:$AI$6323)","v":0},{"$f":"SUM(AJ6024:AJ6323)","v":0}]
[null,null,null,null,"อสังหาริมทรัพย์",null,{"$f":"SUMIF($E$6024:$E$6323,E6325,$G$6024:$G$6323)","v":0},"อสังหาริมทรัพย์",{"$f":"SUMIF($E$6024:$E$6323,H6325,$I$6024:$I$6323)","v":0},null,null,null,"(2) ตราสารทุนที่จดทะเบียนในตลาดหลักทรัพย์อื่น และอยู่ในดัชนีตลาดหลักทรัพย์ตามที่กำหนดไว้",null,null,{"$f":"IF($G$6324=0,\"\",Q6325/$G$6324)","v":""},{"$f":"SUMIF($M$6024:$O$6323,$M6325,$Q$6024:$Q$6323)","v":0},null,null,null,null,null,null,null,null,null,null,null,{"$f":"SUMIF($M$6024:$O$6323,$M6325,$AC$6024:$AC$6323)","v":0},null,{"$f":"SUMIF($M$6024:$O$6323,$M6325,$AE$6024:$AE$6323)","v":0},null,{"$f":"SUMIF($M$6024:$O$6323,$M6325,$AG$6024:$AG$6323)","v":0},null,{"$f":"SUMIF($M$6024:$O$6323,$M6325,$AI$6024:$AI$6323)","v":0}]
[null,null,null,null,"สินค้าโภคภัณฑ์",null,0,"สินค้าโภคภัณฑ์",0,null,null,null,"(3) ตราสารทุนที่จดทะเบียนในตลาดหลักทรัพย์อื่น แต่ไม่อยู่ในดัชนีตลาดหลักทรัพย์ตามที่กำหนดไว้ในตาราง",null,null,"",{"$f":"SUMIF($M$6024:$O$6323,$M6326,$Q$6024:$Q$6323)","v":0},null,null,null,null,null,null,null,null,null,null,null,{"$f":"SUMIF($M$6024:$O$6323,$M6326,$AC$6024:$AC$6323)","v":0},null,{"$f":"SUMIF($M$6024:$O$6323,$M6326,$AE$6024:$AE$6323)","v":0},null,{"$f":"SUMIF($M$6024:$O$6323,$M6326,$AG$6024:$AG$6323)","v":0},null,0]
[null,null,null,null,"เงินฝาก",null,0,"เงินฝาก",0,null,null,null,"(4) ตราสารทุนอื่น นอกเหนือจาก (1) ถึง (3)",null,null,"",{"$f":"SUMIF($M$6024:$O$6323,$M6327,$Q$6024:$Q$6323)","v":0},null,null,null,null,null,null,null,null,null,null,null,null,null,{"$f":"SUMIF($M$6024:$O$6323,$M6327,$AE$6024:$AE$6323)","v":0},null,null,null,0]
[null,null,null,null,"ตราสารหนี้",null,0,"ตราสารหนี้",0]
[null,null,null,null,"อื่นๆ",null,0,"อื่นๆ",0]

{"sheet":"แบบฟอร์มที่ 6","index":17,"n_rows":121,"n_cols":17,"rows_kept":121,"cut":false,"hidden":false,"merged":[[2,6,2,9],[3,6,3,9],[8,2,8,8],[15,7,16,7],[15,6,16,6],[15,3,16,3],[15,2,16,2],[15,8,15,9],[9,2,9,8],[10,2,10,8],[15,4,16,4],[15,5,16,5],[11,2,11,8],[15,16,16,16],[117,1,117,7],[15,1,16,1],[7,2,7,8],[15,14,15,15],[15,12,15,13],[15,10,15,11]]}
["แบบฟอร์มที่ 6 การคำนวณเงินกองทุนสำหรับความเสี่ยงด้านตลาดจากอัตราดอกเบี้ย"]
[]
[null,"บริษัท",null,null,null,null,{"$f":"รายชื่อแบบฟอร์ม!C3","v":0}]
[null,"ณ วันที่",null,null,null,null,{"$f":"รายชื่อแบบฟอร์ม!C4","v":"00:00:00"}]
[]
[]
[null,"ตารางที่ 6.1 เงินกองทุนสำหรับความเสี่ยงจากอัตราดอกเบี้ยด้านปัจจัยตลาดทั่วไป (General market risk) (ALM)"]
[null,"ลำดับที่","สถานการณ์ (scenario)",null,null,null,null,null,null,"มูลค่าสินทรัพย์ที่อ่อนไหวต่ออัตราดอกเบี้ย (interest rate  sensitive assets value)","มูลค่าหนี้สินที่อ่อนไหวต่ออัตราดอกเบี้ย  (interest rate sensitive liabilities value)","ส่วนเกิน (surplus)"]
[null,1,"ฐาน (base)",null,null,null,null,null,null,{"$f":"K118","v":0},{"$f":"L118","v":0},{"$f":"J9-K9","v":0}]
[null,2,"อัตราดอกเบี้ยเพิ่มขึ้น (interest rates up)",null,null,null,null,null,null,{"$f":"M118","v":0},{"$f":"N118","v":0},{"$f":"J10-K10","v":0}]
[null,3,"อัตราดอกเบี้ยลดลง (interest rates down)",null,null,null,null,null,null,{"$f":"O118","v":0},{"$f":"P118","v":0},{"$f":"J11-K11","v":0}]
[null,4,"เงินกองทุนตามระดับความเสี่ยง (risk capital charge)",null,null,null,null,null,null,null,null,{"$f":"MAX(L9-L10,L9-L11,0)","v":0}]
[]
[]
[null,"ตารางที่ 6.2 รายละเอียดการคำนวณเงินกองทุนสำหรับความเสี่ยงจากอัตราดอกเบี้ยด้านปัจจัยตลาดทั่วไป (General market risk) (ALM)"]
[null,"ปี (bucket (years))","ค่ากลางที่ใช้ (proxy term)","อัตราดอกเบี้ยฐาน/1 (base rate)","อัตราเพิ่ม (shock up rate)","อัตราลด (shock down rate)","อัตราดอกเบี้ยปรับเพิ่ม/1 (up)","อัตราดอกเบี้ยปรับลด/1 (down)","จำนวนรวม (gross amount)",null,"สถานการณ์ฐาน (base scenario)",null,"สถานการณ์อัตราดอกเบี้ยปรับเพิ่ม (rates up scenario)",null,"สถานการณ์อัตราดอกเบี้ยปรับลด (rates down scenario)",null,"กระแสเงินสดของภาระผูกพันตามสัญญาประกันภัยระยะยาวของค่าประมาณการที่ดีที่สุดของหนี้สิน"]
[null,null,null,null,null,null,null,null,"สินทรัพย์ที่อ่อนไหวต่ออัตราดอกเบี้ย (interest rate sensitive assets)","กระแสเงินสดของภาระผูกพันตามสัญญาประกันภัยระยะยาวรวมก่อนการประกันภัยต่อ ณ ระดับความ เชื่อมั่นเปอร์เซ็นไทล์ที่ 75","สินทรัพย์ที่อ่อนไหวต่ออัตราดอกเบี้ย","หนี้สินที่อ่อนไหวต่ออัตราดอกเบี้ย","สินทรัพย์ที่อ่อนไหวต่ออัตราดอกเบี้ย","หนี้สินที่อ่อนไหวต่ออัตราดอกเบี้ย","สินทรัพย์ที่อ่อนไหวต่ออัตราดอกเบี้ย","หนี้สินที่อ่อนไหวต่ออัตราดอกเบี้ย"]
[null,1,0.5,null,0.45,0.4,{"$f":"D18*(1+E18)","v":0},{"$f":"D18*(1-F18)","v":0},null,null,{"$f":"-(PV($D18,$C18,,$I18))","v":0},{"$f":"-(PV($D18,$C18,,$J18))","v":0},{"$f":"-(PV($G18,$C18,,$I18))","v":0},{"$f":"-(PV($G18,$C18,,$J18))","v":0},{"$f":"-(PV($H18,$C18,,$I18))","v":0},{"$f":"-(PV($H18,$C18,,$J18))","v":0}]
[null,2,1.5,null,0.44,0.39,{"$f":"D19*(1+E19)","v":0},0,null,null,0,0,{"$f":"-(PV($G19,$C19,,$I19))","v":0},0,0,0]
[null,3,2.5,null,0.43,0.38,0,0,null,null,0,0,0,0,0,0]
[null,4,3.5,null,0.42,0.37,0,0,null,null,0,0,0,0,0,0]
[null,5,4.5,null,0.41,0.36,0,0,null,null,0,0,0,0,0,0]
[null,6,5.5,null,0.39999999999999997,0.35,0,0,null,null,0,0,0,0,0,0]
[null,7,6.5,null,0.38999999999999996,0.33999999999999997,0,0,null,null,0,0,0,0,0,0]
[null,8,7.5,null,0.38,0.33,0,0,null,null,0,0,0,0,0,0]
[null,9,8.5,null,0.37,0.32,0,0,null,null,0,0,0,0,0,0]
[null,10,9.5,null,0.36,0.31,0,0,null,null,0,0,0,0,0,0]
[null,11,10.5,null,0.35,0.3,0,0,null,null,0,0,0,0,0,0]
[null,12,11.5,null,0.33999999999999997,0.28999999999999998,0,0,null,null,0,0,0,0,0,0]
[null,13,12.5,null,0.33,0.28000000000000003,0,0,null,null,0,0,0,0,0,0]
[null,14,13.5,null,0.32,0.27,0,0,null,null,0,0,0,0,0,0]
[null,15,14.5,null,0.31,0.26,0,0,null,null,0,0,0,0,0,0]
[null,16,15.5,null,0.3,0.25,0,0,null,null,0,0,0,0,0,0]
[null,17,16.5,null,0.28999999999999998,0.24,0,0,null,null,0,0,0,0,0,0]
[null,18,17.5,null,0.27999999999999997,0.23,0,0,null,null,0,0,0,0,0,0]
[null,19,18.5,null,0.27,0.22,0,0,null,null,0,0,0,0,0,0]
[null,20,19.5,null,0.26,0.21,0,0,null,null,0,0,0,0,0,0]
[null,21,20.5,null,0.25,0.19799999999999998,0,0,null,null,0,0,0,0,0,0]
[null,22,21.5,null,0.24,0.186,0,0,null,null,0,0,0,0,0,0]
[null,23,22.5,null,0.23,0.17399999999999999,0,0,null,null,0,0,0,0,0,0]
[null,24,23.5,null,0.22,0.16199999999999998,0,0,null,null,0,0,0,0,0,0]
[null,25,24.5,null,0.21,0.15,0,0,null,null,0,0,0,0,0,0]
[null,26,25.5,null,0.19999999999999998,0.13999999999999999,0,0,null,null,0,0,0,0,0,0]
[null,27,26.5,null,0.19,0.13,0,0,null,null,0,0,0,0,0,0]
[null,28,27.5,null,0.18,0.12,0,0,null,null,0,0,0,0,0,0]
[null,29,28.5,null,0.16999999999999998,0.11,0,0,null,null,0,0,0,0,0,0]
[null,30,29.5,null,0.16,0.1,0,0,null,null,0,0,0,0,0,0]
[null,31,30.5,null,0.16,0.1,0,0,null,null,0,0,0,0,0,0]
[null,32,31.5,null,0.16,0.1,0,0,null,null,0,0,0,0,0,0]
[null,33,32.5,null,0.16,0.1,{"$f":"D50*(1+E50)","v":0},{"$f":"D50*(1-F50)","v":0},null,null,{"$f":"-(PV($D50,$C50,,$I50))","v":0},{"$f":"-(PV($D50,$C50,,$J50))","v":0},{"$f":"-(PV($G50,$C50,,$I50))","v":0},{"$f":"-(PV($G50,$C50,,$J50))","v":0},{"$f":"-(PV($H50,$C50,,$I50))","v":0},{"$f":"-(PV($H50,$C50,,$J50))","v":0}]
[null,34,33.5,null,0.16,0.1,0,0,null,null,0,0,0,0,0,0]
[null,35,34.5,null,0.16,0.1,0,0,null,null,0,0,0,0,0,0]
[null,36,35.5,null,0.16,0.1,0,0,null,null,0,0,0,0,0,0]
[null,37,36.5,null,0.16,0.1,0,0,null,null,0,0,0,0,0,0]
[null,38,37.5,null,0.16,0.1,0,0,null,null,0,0,0,0,0,0]
[null,39,38.5,null,0.16,0.1,0,0,null,null,0,0,0,0,0,0]
[null,40,39.5,null,0.16,0.1,0,0,null,null,0,0,0,0,0,0]
[null,41,40.5,null,0.16,0.1,0,0,null,null,0,0,0,0,0,0]
[null,42,41.5,null,0.16,0.1,0,0,null,null,0,0,0,0,0,0]
[null,43,42.5,null,0.16,0.1,0,0,null,null,0,0,0,0,0,0]
[null,44,43.5,null,0.16,0.1,0,0,null,null,0,0,0,0,0,0]
[null,45,44.5,null,0.16,0.1,0,0,null,null,0,0,0,0,0,0]
[null,46,45.5,null,0.16,0.1,0,0,null,null,0,0,0,0,0,0]
[null,47,46.5,null,0.16,0.1,0,0,null,null,0,0,0,0,0,0]
[null,48,47.5,null,0.16,0.1,0,0,null,null,0,0,0,0,0,0]
[null,49,48.5,null,0.16,0.1,0,0,null,null,0,0,0,0,0,0]
[null,50,49.5,null,0.16,0.1,0,0,null,null,0,0,0,0,0,0]
[null,51,50.5,null,0.16,0.1,0,0,null,null,0,0,0,0,0,0]
[null,52,51.5,null,0.16,0.1,0,0,null,null,0,0,0,0,0,0]
[null,53,52.5,null,0.16,0.1,0,0,null,null,0,0,0,0,0,0]
[null,54,53.5,null,0.16,0.1,0,0,null,null,0,0,0,0,0,0]
[null,55,54.5,null,0.16,0.1,0,0,null,null,0,0,0,0,0,0]
[null,56,55.5,null,0.16,0.1,0,0,null,null,0,0,0,0,0,0]
[null,57,56.5,null,0.16,0.1,0,0,null,null,0,0,0,0,0,0]
[null,58,57.5,null,0.16,0.1,0,0,null,null,0,0,0,0,0,0]
[null,59,58.5,null,0.16,0.1,0,0,null,null,0,0,0,0,0,0]
[null,60,59.5,null,0.16,0.1,0,0,null,null,0,0,0,0,0,0]
[null,61,60.5,null,0.16,0.1,0,0,null,null,0,0,0,0,0,0]
[null,62,61.5,null,0.16,0.1,0,0,null,null,0,0,0,0,0,0]
[null,63,62.5,null,0.16,0.1,0,0,null,null,0,0,0,0,0,0]
[null,64,63.5,null,0.16,0.1,0,0,null,null,0,0,0,0,0,0]
[null,65,64.5,null,0.16,0.1,{"$f":"D82*(1+E82)","v":0},{"$f":"D82*(1-F82)","v":0},null,null,{"$f":"-(PV($D82,$C82,,$I82))","v":0},{"$f":"-(PV($D82,$C82,,$J82))","v":0},{"$f":"-(PV($G82,$C82,,$I82))","v":0},{"$f":"-(PV($G82,$C82,,$J82))","v":0},{"$f":"-(PV($H82,$C82,,$I82))","v":0},{"$f":"-(PV($H82,$C82,,$J82))","v":0}]
[null,66,65.5,null,0.16,0.1,0,0,null,null,0,0,0,0,0,0]
[null,67,66.5,null,0.16,0.1,0,0,null,null,0,0,0,0,0,0]
[null,68,67.5,null,0.16,0.1,0,0,null,null,0,0,0,0,0,0]
[null,69,68.5,null,0.16,0.1,0,0,null,null,0,0,0,0,0,0]
[null,70,69.5,null,0.16,0.1,0,0,null,null,0,0,0,0,0,0]
[null,71,70.5,null,0.16,0.1,0,0,null,null,0,0,0,0,0,0]
[null,72,71.5,null,0.16,0.1,0,0,null,null,0,0,0,0,0,0]
[null,73,72.5,null,0.16,0.1,0,0,null,null,0,0,0,0,0,0]
[null,74,73.5,null,0.16,0.1,0,0,null,null,0,0,0,0,0,0]
[null,75,74.5,null,0.16,0.1,0,0,null,null,0,0,0,0,0,0]
[null,76,75.5,null,0.16,0.1,0,0,null,null,0,0,0,0,0,0]
[null,77,76.5,null,0.16,0.1,0,0,null,null,0,0,0,0,0,0]
[null,78,77.5,null,0.16,0.1,0,0,null,null,0,0,0,0,0,0]
[null,79,78.5,null,0.16,0.1,0,0,null,null,0,0,0,0,0,0]
[null,80,79.5,null,0.16,0.1,0,0,null,null,0,0,0,0,0,0]
[null,81,80.5,null,0.16,0.1,0,0,null,null,0,0,0,0,0,0]
[null,82,81.5,null,0.16,0.1,0,0,null,null,0,0,0,0,0,0]
[null,83,82.5,null,0.16,0.1,0,0,null,null,0,0,0,0,0,0]
[null,84,83.5,null,0.16,0.1,0,0,null,null,0,0,0,0,0,0]
[null,85,84.5,null,0.16,0.1,0,0,null,null,0,0,0,0,0,0]
[null,86,85.5,null,0.16,0.1,0,0,null,null,0,0,0,0,0,0]
[null,87,86.5,null,0.16,0.1,0,0,null,null,0,0,0,0,0,0]
[null,88,87.5,null,0.16,0.1,0,0,null,null,0,0,0,0,0,0]
[null,89,88.5,null,0.16,0.1,0,0,null,null,0,0,0,0,0,0]
[null,90,89.5,null,0.16,0.1,0,0,null,null,0,0,0,0,0,0]
[null,91,90.5,null,0.16,0.1,0,0,null,null,0,0,0,0,0,0]
[null,92,91.5,null,0.16,0.1,0,0,null,null,0,0,0,0,0,0]
[null,93,92.5,null,0.16,0.1,0,0,null,null,0,0,0,0,0,0]
[null,94,93.5,null,0.16,0.1,0,0,null,null,0,0,0,0,0,0]
[null,95,94.5,null,0.16,0.1,0,0,null,null,0,0,0,0,0,0]
[null,96,95.5,null,0.16,0.1,0,0,null,null,0,0,0,0,0,0]
[null,97,96.5,null,0.16,0.1,0,0,null,null,0,0,0,0,0,0]
[null,98,97.5,null,0.16,0.1,0,0,null,null,0,0,0,0,0,0]
[null,99,98.5,null,0.16,0.1,0,0,null,null,0,0,0,0,0,0]
[null,100,99.5,null,0.16,0.1,0,0,null,null,0,0,0,0,0,0]
[null,"รวม (total)",null,null,null,null,null,null,{"$f":"SUM(I$18:I$117)","v":0},{"$f":"SUM(J$18:J$117)","v":0},0,0,0,0,0,0,0]
[]
[]
[null,"/1 เป็นไปตามประกาศ คปภ. ว่าด้วยการกำหนดประเภทและชนิดของเงินกองทุน รวมทั้งหลักเกณฑ์ วิธีการ และเงื่อนไขในการคำนวณเงินกองทุนของบริษัทประกันชีวิต เอกสารแนบ 2 ข้อ 5"]

{"sheet":"แบบฟอร์มที่ 7 - 7.1","index":18,"n_rows":39,"n_cols":5,"rows_kept":39,"cut":false,"hidden":false,"merged":[[8,1,22,1],[23,1,25,1],[27,1,36,1],[40,12,40,17],[41,12,41,17],[37,12,37,17],[39,12,39,17],[38,12,38,17],[3,3,3,4],[4,3,4,4],[7,2,7,3],[8,2,8,3],[36,12,36,17]]}
["แบบฟอร์มที่ 7 การคำนวณเงินกองทุนสำหรับความเสี่ยงด้านเครดิต"]
[]
[]
[null,"บริษัท"]
[null,"ณ วันที่"]
[]
[null,"ตารางที่ 7.1 สรุปเงินกองทุนสำหรับความเสี่ยงด้านเครดิต"]
[null,"ลำดับที่","รายการ\n\n(3)",null,"บาท"]
[null,1,"พันธบัตร หุ้นกู้ ตั๋วสัญญาใช้เงิน-ตั๋วแลกเงิน และเงินให้กู้ยืม ตามประเภทของคู่สัญญาหรือผู้ออกตราสาร",null,{"$f":"SUM($E$10:$E$23)","v":0}]
[null,null,"(ก)","ออก สั่งจ่าย รับรอง รับอาวัล หรือค้ำประกัน โดยรัฐบาลไทย ธนาคารแห่งประเทศไทย กระทรวงการคลังไทย หรือกองทุนเพื่อการฟื้นฟูและพัฒนาระบบสถาบันการเงินไทย ที่เป็นสกุลเงินบาท",{"$f":"'แบบฟอร์มที่ 7 - 7.2-7.7'!$I$10","v":0}]
[null,null,"(ข)","ออก สั่งจ่าย รับรอง รับอาวัล หรือค้ำประกัน โดยรัฐบาลต่างประเทศ ธนาคารกลางต่างประเทศ และกระทรวงการคลังต่างประเทศ ในสกุลเงินใดๆ",{"$f":"SUM('แบบฟอร์มที่ 7 - 7.2-7.7'!$I$12:$I$18)","v":0}]
[null,null,"(ค)","ออกโดยรัฐวิสาหกิจไทยที่มีกฎหมายเฉพาะจัดตั้ง ที่กระทรวงการคลังไม่ค้ำประกัน และยังไม่ได้แปรสภาพเป็นบริษัทจำกัด  และไม่มีอันดับความน่าเชื่อถือ ที่เป็นสกุลเงินบาท",{"$f":"'แบบฟอร์มที่ 7 - 7.2-7.7'!$I$19","v":0}]
[null,null,"(ง)","ออกโดยรัฐวิสาหกิจไทยที่มีกฎหมายเฉพาะจัดตั้ง ที่กระทรวงการคลังไม่ค้ำประกัน และยังไม่ได้แปรสภาพเป็นบริษัทจำกัด  และมีอันดับความน่าเชื่อถือ ที่เป็นสกุลเงินบาท",{"$f":"SUM('แบบฟอร์มที่ 7 - 7.2-7.7'!$I$21:$I$22)","v":0}]
[null,null,"(จ)","ออกโดยรัฐวิสาหกิจไทยที่แปรสภาพเป็นบริษัทจำกัดไปแล้ว",{"$f":"SUM('แบบฟอร์มที่ 7 - 7.2-7.7'!$I$24:$I$30)","v":0}]
[null,null,"(ฉ)","ออกโดยสถาบันการเงิน / บริษัทหลักทรัพย์ / บริษัทประกันภัย ในประเทศไทย",{"$f":"SUM('แบบฟอร์มที่ 7 - 7.2-7.7'!$I$32:$I$38)","v":0}]
[null,null,"(ช)","ออกโดยหน่วยงาน/บริษัทอื่น ในประเทศไทย นอกจาก (ก) ถึง (ฉ)",{"$f":"SUM('แบบฟอร์มที่ 7 - 7.2-7.7'!$I$40:$I$46)","v":0}]
[null,null,"(ซ)","ออกโดยรัฐวิสาหกิจต่างประเทศ",{"$f":"SUM('แบบฟอร์มที่ 7 - 7.2-7.7'!$I$48:$I$54)","v":0}]
[null,null,"(ฌ)","ออกโดยบริษัทเอกชนต่างประเทศ",{"$f":"SUM('แบบฟอร์มที่ 7 - 7.2-7.7'!$I$56:$I$62)","v":0}]
[null,null,"(ญ)","เช่าทรัพย์สินแบบลิสซิ่ง / เงินลงทุนให้เช่าซื้อ",{"$f":"'แบบฟอร์มที่ 7 - 7.2-7.7'!$J$81","v":0}]
[null,null,"(ฎ)","เงินให้กู้ยืมโดยมีบุคคลค้ำประกัน",{"$f":"'แบบฟอร์มที่ 7 - 7.2-7.7'!$J$83+'แบบฟอร์มที่ 7 - 7.2-7.7'!$J$84","v":0}]
[null,null,"(ฏ)","เงินให้กู้ยืมในกิจการโครงสร้างพื้นฐาน",{"$f":"SUM('แบบฟอร์มที่ 7 - 7.2-7.7'!$J$87:$J$93)","v":0}]
[null,null,"(ฐ)","เงินให้กู้ยืมโดยมีกรมธรรม์เป็นประกัน",{"$f":"'แบบฟอร์มที่ 7 - 7.2-7.7'!$J$94","v":0}]
[null,null,"(ฑ)","เงินให้กู้ยืมอื่น",{"$f":"'แบบฟอร์มที่ 7 - 7.2-7.7'!$J$95","v":0}]
[null,2,"เงินให้กู้โดยมีอสังหาริมทรัพย์จำนองเป็นประกัน",null,{"$f":"SUM($E$25:$E$26)","v":0}]
[null,null,"(ก)","อสังหาริมทรัพย์ที่ใช้เป็นที่อยู่อาศัย",{"$f":"SUM('แบบฟอร์มที่ 7 - 7.2-7.7'!$J$69:$J$71)","v":0}]
[null,null,"(ข)","อสังหาริมทรัพย์อื่น",{"$f":"SUM('แบบฟอร์มที่ 7 - 7.2-7.7'!$J$73:$J$75)","v":0}]
[null,3,"การประกันภัยต่อ",null,{"$f":"'แบบฟอร์มที่ 7 - 7.2-7.7'!$H$111","v":0}]
[null,4,"สินทรัพย์อื่น",null,{"$f":"SUM($E$29:$E$37)","v":0}]
[null,null,"(ก)","เงินสด",{"$f":"'แบบฟอร์มที่ 7 - 7.2-7.7'!$J$116","v":0}]
[null,null,"(ข)","เงินฝากสถาบันการเงิน/ ใบรับฝากเงิน/ บัตรเงินฝาก กับธนาคารออมสิน",{"$f":"'แบบฟอร์มที่ 7 - 7.2-7.7'!$J$117","v":0}]
[null,null,"(ค)","เงินฝากสถาบันการเงิน / ใบรับฝากเงิน / บัตรเงินฝาก กับธนาคารอื่น",{"$f":"SUM('แบบฟอร์มที่ 7 - 7.2-7.7'!$J$119:$J$131)","v":0}]
[null,null,"(ง)","บัญชีเดินสะพัดสำนักงานใหญ่",{"$f":"'แบบฟอร์มที่ 7 - 7.2-7.7'!$J$132","v":0}]
[null,null,"(จ)","สินทรัพย์ภาษีเงินได้รอตัดบัญชี (Deferred tax assets)",{"$f":"'แบบฟอร์มที่ 7 - 7.2-7.7'!$J$133","v":0}]
[null,null,"(ฉ)","ค่าใช้จ่ายจ่ายล่วงหน้า",{"$f":"'แบบฟอร์มที่ 7 - 7.2-7.7'!$J$134","v":0}]
[null,null,"(ช)","เบี้ยประกันภัยค้างรับจากกรมธรรม์ประกันภัยอุบัติเหตุ ที่ค้างชำระเกินกว่า 60 วัน \n นับแต่วันเริ่มคุ้มครองตามสัญญา",{"$f":"'แบบฟอร์มที่ 7 - 7.2-7.7'!$J$135","v":0}]
[null,null,"(ซ)","รายได้จากการลงทุนค้างรับ",{"$f":"SUM('แบบฟอร์มที่ 7 - 7.2-7.7'!$J$137:$J$146)","v":0}]
[null,null,"(ฌ)","สินทรัพย์ที่ติดภาระผูกพัน (assets pledged by an insurer)",{"$f":"'แบบฟอร์มที่ 7 - 7.2-7.7'!$J$147","v":0}]
[null,5,"ตราสารอนุพันธ์",null,{"$f":"'แบบฟอร์มที่ 7 - 7.2-7.7'!$J$1154","v":0}]
[null,6," รวม",null,{"$f":"$E$9+$E$24+$E$27+$E$28+$E$38","v":0}]

{"sheet":"แบบฟอร์มที่ 7 - 7.2-7.7","index":19,"n_rows":1154,"n_cols":10,"rows_kept":1154,"cut":false,"hidden":false,"merged":[[93,2,93,6],[84,1,92,1],[84,2,84,6],[85,3,85,6],[90,3,90,6],[85,2,89,2],[90,2,92,2],[86,4,86,6],[87,4,87,6],[88,4,88,6],[58,2,58,5],[59,2,59,5],[60,2,60,5],[61,2,61,5],[19,1,21,1],[22,2,22,5],[23,2,23,5],[36,2,36,5],[22,1,29,1],[30,1,37,1],[51,2,51,5],[52,2,52,5],[39,2,39,5],[40,2,40,5],[41,2,41,5],[42,2,42,5],[43,2,43,5],[53,2,53,5],[89,4,89,6],[91,4,91,6],[92,4,92,6],[17,2,17,5],[10,1,17,1],[38,1,45,1],[46,1,53,1],[54,1,61,1],[38,2,38,5],[71,1,74,1],[67,1,70,1],[62,2,62,5],[129,4,129,6],[135,1,145,1],[138,2,145,2],[139,4,139,6],[140,4,140,6],[141,4,141,6],[142,4,142,6],[145,4,145,6],[100,3,100,6],[101,3,101,6],[102,3,102,6],[100,1,104,1],[117,1,130,1],[105,1,108,1],[108,2,108,6],[104,2,104,6],[82,3,82,6],[103,3,103,6],[105,3,105,6],[70,3,70,6],[83,3,83,6],[137,3,137,6],[143,4,143,6],[144,4,144,6],[191,2,191,5],[172,2,172,5],[189,2,189,5],[190,2,190,5],[182,2,182,5],[183,2,183,5],[181,2,181,5],[146,2,146,6],[119,2,130,2],[118,3,118,6],[119,3,119,6],[124,4,124,6],[125,4,125,6],[126,4,126,6],[127,4,127,6],[128,4,128,6],[130,4,130,6],[131,2,131,6],[133,2,133,6],[132,2,132,6],[122,4,122,6],[123,4,123,6],[120,4,120,6],[121,4,121,6],[167,2,167,5],[168,2,168,5],[169,2,169,5],[165,2,165,5],[134,2,134,6],[157,2,157,5],[158,2,158,5],[159,2,159,5],[156,2,156,5],[152,2,152,5],[153,2,153,5],[173,2,173,5],[174,2,174,5],[3,4,3,5],[4,4,4,5],[75,2,75,6],[8,2,8,5],[9,2,9,5],[106,3,106,6],[107,3,107,6],[109,2,109,6],[66,2,66,6],[18,2,18,5],[19,2,19,5],[20,2,20,5],[21,2,21,5],[117,2,117,6],[99,2,99,6],[95,2,95,6],[94,2,94,6],[10,2,10,5],[11,2,11,5],[12,2,12,5],[13,2,13,5],[14,2,14,5],[15,2,15,5],[16,2,16,5],[56,2,56,5],[57,2,57,5],[175,2,175,5],[160,2,160,5],[161,2,161,5],[162,2,162,5],[163,2,163,5],[164,2,164,5],[171,2,171,5],[170,2,170,5],[166,2,166,5],[110,2,110,6],[114,2,114,6],[115,2,115,6],[116,2,116,6],[44,2,44,5],[45,2,45,5],[46,2,46,5],[47,2,47,5],[48,2,48,5],[49,2,49,5],[50,2,50,5],[55,2,55,5],[74,3,74,6],[79,2,79,6],[80,2,80,6],[78,1,78,8],[81,1,83,1],[81,2,81,6],[136,3,136,6],[135,2,135,6],[138,3,138,6],[154,2,154,5],[155,2,155,5],[229,2,229,5],[230,2,230,5],[228,2,228,5],[223,2,223,5],[224,2,224,5],[225,2,225,5],[226,2,226,5],[227,2,227,5],[239,2,239,5],[240,2,240,5],[241,2,241,5],[242,2,242,5],[238,2,238,5],[188,2,188,5],[219,2,219,5],[220,2,220,5],[221,2,221,5],[222,2,222,5],[218,2,218,5],[213,2,213,5],[214,2,214,5],[215,2,215,5],[216,2,216,5],[217,2,217,5],[203,2,203,5],[204,2,204,5],[210,2,210,5],[211,2,211,5],[212,2,212,5],[198,2,198,5],[199,2,199,5],[200,2,200,5],[263,2,263,5],[201,2,201,5],[202,2,202,5],[176,2,176,5],[184,2,184,5],[185,2,185,5],[186,2,186,5],[187,2,187,5],[1153,2,1153,5],[196,2,196,5],[177,2,177,5],[206,2,206,5],[207,2,207,5],[209,2,209,5],[208,2,208,5],[205,2,205,5],[278,2,278,5],[180,2,180,5],[258,2,258,5],[268,2,268,5],[179,2,179,5],[192,2,192,5],[193,2,193,5],[194,2,194,5],[195,2,195,5],[178,2,178,5],[197,2,197,5],[248,2,248,5],[243,2,243,5],[244,2,244,5],[245,2,245,5],[246,2,246,5],[249,2,249,5],[250,2,250,5],[251,2,251,5],[252,2,252,5],[259,2,259,5],[260,2,260,5],[261,2,261,5],[262,2,262,5],[253,2,253,5],[254,2,254,5],[255,2,255,5],[256,2,256,5],[257,2,257,5],[231,2,231,5],[232,2,232,5],[233,2,233,5],[234,2,234,5],[235,2,235,5],[236,2,236,5],[237,2,237,5],[247,2,247,5],[269,2,269,5],[270,2,270,5],[271,2,271,5],[272,2,272,5],[264,2,264,5],[265,2,265,5],[266,2,266,5],[267,2,267,5],[279,2,279,5],[280,2,280,5],[281,2,281,5],[282,2,282,5],[273,2,273,5],[274,2,274,5],[275,2,275,5],[276,2,276,5],[277,2,277,5],[289,2,289,5],[290,2,290,5],[291,2,291,5],[292,2,292,5],[283,2,283,5],[284,2,284,5],[285,2,285,5],[286,2,286,5],[287,2,287,5],[288,2,288,5],[298,2,298,5],[299,2,299,5],[300,2,300,5],[301,2,301,5],[302,2,302,5],[293,2,293,5],[294,2,294,5],[295,2,295,5],[296,2,296,5],[297,2,297,5],[308,2,308,5],[309,2,309,5],[310,2,310,5],[311,2,311,5],[312,2,312,5],[303,2,303,5],[304,2,304,5],[305,2,305,5],[306,2,306,5],[307,2,307,5],[318,2,318,5],[319,2,319,5],[320,2,320,5],[321,2,321,5],[322,2,322,5],[313,2,313,5],[314,2,314,5],[315,2,315,5],[316,2,316,5],[317,2,317,5],[328,2,328,5],[329,2,329,5],[330,2,330,5],[331,2,331,5],[332,2,332,5],[323,2,323,5],[324,2,324,5],[325,2,325,5],[326,2,326,5],[327,2,327,5],[338,2,338,5],[339,2,339,5],[340,2,340,5],[341,2,341,5],[342,2,342,5],[333,2,333,5],[334,2,334,5],[335,2,335,5],[336,2,336,5],[337,2,337,5],[348,2,348,5],[349,2,349,5],[350,2,350,5],[351,2,351,5],[352,2,352,5],[343,2,343,5],[344,2,344,5],[345,2,345,5],[346,2,346,5],[347,2,347,5],[358,2,358,5],[359,2,359,5],[360,2,360,5],[361,2,361,5],[362,2,362,5],[353,2,353,5],[354,2,354,5],[355,2,355,5],[356,2,356,5],[357,2,357,5],[368,2,368,5],[369,2,369,5],[370,2,370,5],[371,2,371,5],[372,2,372,5],[363,2,363,5],[364,2,364,5],[365,2,365,5],[366,2,366,5],[367,2,367,5],[378,2,378,5],[379,2,379,5],[380,2,380,5],[381,2,381,5],[382,2,382,5],[373,2,373,5],[374,2,374,5],[375,2,375,5],[376,2,376,5],[377,2,377,5],[388,2,388,5],[389,2,389,5],[390,2,390,5],[391,2,391,5],[392,2,392,5],[383,2,383,5],[384,2,384,5],[385,2,385,5],[386,2,386,5],[387,2,387,5],[398,2,398,5],[399,2,399,5],[400,2,400,5],[401,2,401,5],[402,2,402,5],[393,2,393,5],[394,2,394,5],[395,2,395,5],[396,2,396,5],[397,2,397,5],[408,2,408,5],[409,2,409,5],[410,2,410,5],[411,2,411,5],[412,2,412,5],[403,2,403,5],[404,2,404,5],[405,2,405,5],[406,2,406,5],[407,2,407,5],[418,2,418,5],[419,2,419,5],[420,2,420,5],[421,2,421,5],[422,2,422,5],[413,2,413,5],[414,2,414,5],[415,2,415,5],[416,2,416,5],[417,2,417,5],[428,2,428,5],[429,2,429,5],[430,2,430,5],[431,2,431,5],[432,2,432,5],[423,2,423,5],[424,2,424,5],[425,2,425,5],[426,2,426,5],[427,2,427,5],[438,2,438,5],[439,2,439,5],[440,2,440,5],[441,2,441,5],[442,2,442,5],[433,2,433,5],[434,2,434,5],[435,2,435,5],[436,2,436,5],[437,2,437,5],[448,2,448,5],[449,2,449,5],[450,2,450,5],[451,2,451,5],[452,2,452,5],[443,2,443,5],[444,2,444,5],[445,2,445,5],[446,2,446,5],[447,2,447,5],[458,2,458,5],[459,2,459,5],[460,2,460,5],[461,2,461,5],[462,2,462,5],[453,2,453,5],[454,2,454,5],[455,2,455,5],[456,2,456,5],[457,2,457,5],[468,2,468,5],[469,2,469,5],[470,2,470,5],[471,2,471,5],[472,2,472,5],[463,2,463,5],[464,2,464,5],[465,2,465,5],[466,2,466,5],[467,2,467,5],[478,2,478,5],[479,2,479,5],[480,2,480,5],[481,2,481,5],[482,2,482,5],[473,2,473,5],[474,2,474,5],[475,2,475,5],[476,2,476,5],[477,2,477,5],[488,2,488,5],[489,2,489,5],[490,2,490,5],[491,2,491,5],[492,2,492,5],[483,2,483,5],[484,2,484,5],[485,2,485,5],[486,2,486,5],[487,2,487,5],[498,2,498,5],[499,2,499,5],[500,2,500,5],[501,2,501,5],[502,2,502,5],[493,2,493,5],[494,2,494,5],[495,2,495,5],[496,2,496,5],[497,2,497,5],[508,2,508,5],[509,2,509,5],[510,2,510,5],[511,2,511,5],[512,2,512,5],[503,2,503,5],[504,2,504,5],[505,2,505,5],[506,2,506,5],[507,2,507,5],[518,2,518,5],[519,2,519,5],[520,2,520,5],[521,2,521,5],[522,2,522,5],[513,2,513,5],[514,2,514,5],[515,2,515,5],[516,2,516,5],[517,2,517,5],[528,2,528,5],[529,2,529,5],[530,2,530,5],[531,2,531,5],[532,2,532,5],[523,2,523,5],[524,2,524,5],[525,2,525,5],[526,2,526,5],[527,2,527,5],[538,2,538,5],[539,2,539,5],[540,2,540,5],[541,2,541,5],[542,2,542,5],[533,2,533,5],[534,2,534,5],[535,2,535,5],[536,2,536,5],[537,2,537,5],[548,2,548,5],[549,2,549,5],[550,2,550,5],[551,2,551,5],[552,2,552,5],[543,2,543,5],[544,2,544,5],[545,2,545,5],[546,2,546,5],[547,2,547,5],[558,2,558,5],[559,2,559,5],[560,2,560,5],[561,2,561,5],[562,2,562,5],[553,2,553,5],[554,2,554,5],[555,2,555,5],[556,2,556,5],[557,2,557,5],[568,2,568,5],[569,2,569,5],[570,2,570,5],[571,2,571,5],[572,2,572,5],[563,2,563,5],[564,2,564,5],[565,2,565,5],[566,2,566,5],[567,2,567,5],[578,2,578,5],[579,2,579,5],[580,2,580,5],[581,2,581,5],[582,2,582,5],[573,2,573,5],[574,2,574,5],[575,2,575,5],[576,2,576,5],[577,2,577,5],[588,2,588,5],[589,2,589,5],[590,2,590,5],[591,2,591,5],[592,2,592,5],[583,2,583,5],[584,2,584,5],[585,2,585,5],[586,2,586,5],[587,2,587,5],[598,2,598,5],[599,2,599,5],[600,2,600,5],[601,2,601,5],[602,2,602,5],[593,2,593,5],[594,2,594,5],[595,2,595,5],[596,2,596,5],[597,2,597,5],[608,2,608,5],[609,2,609,5],[610,2,610,5],[611,2,611,5],[612,2,612,5],[603,2,603,5],[604,2,604,5],[605,2,605,5],[606,2,606,5],[607,2,607,5],[618,2,618,5],[619,2,619,5],[620,2,620,5],[621,2,621,5],[622,2,622,5],[613,2,613,5],[614,2,614,5],[615,2,615,5],[616,2,616,5],[617,2,617,5],[628,2,628,5],[629,2,629,5],[630,2,630,5],[631,2,631,5],[632,2,632,5],[623,2,623,5],[624,2,624,5],[625,2,625,5],[626,2,626,5],[627,2,627,5],[638,2,638,5],[639,2,639,5],[640,2,640,5],[641,2,641,5],[642,2,642,5],[633,2,633,5],[634,2,634,5],[635,2,635,5],[636,2,636,5],[637,2,637,5],[648,2,648,5],[649,2,649,5],[650,2,650,5],[651,2,651,5],[652,2,652,5],[643,2,643,5],[644,2,644,5],[645,2,645,5],[646,2,646,5],[647,2,647,5],[658,2,658,5],[659,2,659,5],[660,2,660,5],[661,2,661,5],[662,2,662,5],[653,2,653,5],[654,2,654,5],[655,2,655,5],[656,2,656,5],[657,2,657,5],[668,2,668,5],[669,2,669,5],[670,2,670,5],[671,2,671,5],[672,2,672,5],[663,2,663,5],[664,2,664,5],[665,2,665,5],[666,2,666,5],[667,2,667,5],[678,2,678,5],[679,2,679,5],[680,2,680,5],[681,2,681,5],[682,2,682,5],[673,2,673,5],[674,2,674,5],[675,2,675,5],[676,2,676,5],[677,2,677,5],[688,2,688,5],[689,2,689,5],[690,2,690,5],[691,2,691,5],[692,2,692,5],[683,2,683,5],[684,2,684,5],[685,2,685,5],[686,2,686,5],[687,2,687,5],[698,2,698,5],[699,2,699,5],[700,2,700,5],[701,2,701,5],[702,2,702,5],[693,2,693,5],[694,2,694,5],[695,2,695,5],[696,2,696,5],[697,2,697,5],[708,2,708,5],[709,2,709,5],[710,2,710,5],[711,2,711,5],[712,2,712,5],[703,2,703,5],[704,2,704,5],[705,2,705,5],[706,2,706,5],[707,2,707,5],[718,2,718,5],[719,2,719,5],[720,2,720,5],[721,2,721,5],[722,2,722,5],[713,2,713,5],[714,2,714,5],[715,2,715,5],[716,2,716,5],[717,2,717,5],[728,2,728,5],[729,2,729,5],[730,2,730,5],[731,2,731,5],[732,2,732,5],[723,2,723,5],[724,2,724,5],[725,2,725,5],[726,2,726,5],[727,2,727,5],[738,2,738,5],[739,2,739,5],[740,2,740,5],[741,2,741,5],[742,2,742,5],[733,2,733,5],[734,2,734,5],[735,2,735,5],[736,2,736,5],[737,2,737,5],[748,2,748,5],[749,2,749,5],[750,2,750,5],[751,2,751,5],[752,2,752,5],[743,2,743,5],[744,2,744,5],[745,2,745,5],[746,2,746,5],[747,2,747,5],[758,2,758,5],[759,2,759,5],[760,2,760,5],[761,2,761,5],[762,2,762,5],[753,2,753,5],[754,2,754,5],[755,2,755,5],[756,2,756,5],[757,2,757,5],[768,2,768,5],[769,2,769,5],[770,2,770,5],[771,2,771,5],[772,2,772,5],[763,2,763,5],[764,2,764,5],[765,2,765,5],[766,2,766,5],[767,2,767,5],[778,2,778,5],[779,2,779,5],[780,2,780,5],[781,2,781,5],[782,2,782,5],[773,2,773,5],[774,2,774,5],[775,2,775,5],[776,2,776,5],[777,2,777,5],[788,2,788,5],[789,2,789,5],[790,2,790,5],[791,2,791,5],[792,2,792,5],[783,2,783,5],[784,2,784,5],[785,2,785,5],[786,2,786,5],[787,2,787,5],[798,2,798,5],[799,2,799,5],[800,2,800,5],[801,2,801,5],[802,2,802,5],[793,2,793,5],[794,2,794,5],[795,2,795,5],[796,2,796,5],[797,2,797,5],[808,2,808,5],[809,2,809,5],[810,2,810,5],[811,2,811,5],[812,2,812,5],[803,2,803,5],[804,2,804,5],[805,2,805,5],[806,2,806,5],[807,2,807,5],[818,2,818,5],[819,2,819,5],[820,2,820,5],[821,2,821,5],[822,2,822,5],[813,2,813,5],[814,2,814,5],[815,2,815,5],[816,2,816,5],[817,2,817,5],[828,2,828,5],[829,2,829,5],[830,2,830,5],[831,2,831,5],[832,2,832,5],[823,2,823,5],[824,2,824,5],[825,2,825,5],[826,2,826,5],[827,2,827,5],[838,2,838,5],[839,2,839,5],[840,2,840,5],[841,2,841,5],[842,2,842,5],[833,2,833,5],[834,2,834,5],[835,2,835,5],[836,2,836,5],[837,2,837,5],[848,2,848,5],[849,2,849,5],[850,2,850,5],[851,2,851,5],[852,2,852,5],[843,2,843,5],[844,2,844,5],[845,2,845,5],[846,2,846,5],[847,2,847,5],[858,2,858,5],[859,2,859,5],[860,2,860,5],[861,2,861,5],[862,2,862,5],[853,2,853,5],[854,2,854,5],[855,2,855,5],[856,2,856,5],[857,2,857,5],[868,2,868,5],[869,2,869,5],[870,2,870,5],[871,2,871,5],[872,2,872,5],[863,2,863,5],[864,2,864,5],[865,2,865,5],[866,2,866,5],[867,2,867,5],[878,2,878,5],[879,2,879,5],[880,2,880,5],[881,2,881,5],[882,2,882,5],[873,2,873,5],[874,2,874,5],[875,2,875,5],[876,2,876,5],[877,2,877,5],[888,2,888,5],[889,2,889,5],[890,2,890,5],[891,2,891,5],[892,2,892,5],[883,2,883,5],[884,2,884,5],[885,2,885,5],[886,2,886,5],[887,2,887,5],[898,2,898,5],[899,2,899,5],[900,2,900,5],[901,2,901,5],[902,2,902,5],[893,2,893,5],[894,2,894,5],[895,2,895,5],[896,2,896,5],[897,2,897,5],[908,2,908,5],[909,2,909,5],[910,2,910,5],[911,2,911,5],[912,2,912,5],[903,2,903,5],[904,2,904,5],[905,2,905,5],[906,2,906,5],[907,2,907,5],[918,2,918,5],[919,2,919,5],[920,2,920,5],[921,2,921,5],[922,2,922,5],[913,2,913,5],[914,2,914,5],[915,2,915,5],[916,2,916,5],[917,2,917,5],[928,2,928,5],[929,2,929,5],[930,2,930,5],[931,2,931,5],[932,2,932,5],[923,2,923,5],[924,2,924,5],[925,2,925,5],[926,2,926,5],[927,2,927,5],[938,2,938,5],[939,2,939,5],[940,2,940,5],[941,2,941,5],[942,2,942,5],[933,2,933,5],[934,2,934,5],[935,2,935,5],[936,2,936,5],[937,2,937,5],[948,2,948,5],[949,2,949,5],[950,2,950,5],[951,2,951,5],[952,2,952,5],[943,2,943,5],[944,2,944,5],[945,2,945,5],[946,2,946,5],[947,2,947,5],[958,2,958,5],[959,2,959,5],[960,2,960,5],[961,2,961,5],[962,2,962,5],[953,2,953,5],[954,2,954,5],[955,2,955,5],[956,2,956,5],[957,2,957,5],[968,2,968,5],[969,2,969,5],[970,2,970,5],[971,2,971,5],[972,2,972,5],[963,2,963,5],[964,2,964,5],[965,2,965,5],[966,2,966,5],[967,2,967,5],[978,2,978,5],[979,2,979,5],[980,2,980,5],[981,2,981,5],[982,2,982,5],[973,2,973,5],[974,2,974,5],[975,2,975,5],[976,2,976,5],[977,2,977,5],[988,2,988,5],[989,2,989,5],[990,2,990,5],[991,2,991,5],[992,2,992,5],[983,2,983,5],[984,2,984,5],[985,2,985,5],[986,2,986,5],[987,2,987,5],[998,2,998,5],[999,2,999,5],[1000,2,1000,5],[1001,2,1001,5],[1002,2,1002,5],[993,2,993,5],[994,2,994,5],[995,2,995,5],[996,2,996,5],[997,2,997,5],[1008,2,1008,5],[1009,2,1009,5],[1010,2,1010,5],[1011,2,1011,5],[1012,2,1012,5],[1003,2,1003,5],[1004,2,1004,5],[1005,2,1005,5],[1006,2,1006,5],[1007,2,1007,5],[1018,2,1018,5],[1019,2,1019,5],[1020,2,1020,5],[1021,2,1021,5],[1022,2,1022,5],[1013,2,1013,5],[1014,2,1014,5],[1015,2,1015,5],[1016,2,1016,5]],"merged_total":1145,"flags":["merged_cut"]}
["แบบฟอร์มที่ 7 การคำนวณเงินกองทุนสำหรับความเสี่ยงด้านเครดิต"]
[]
[]
[null,"บริษัท",null,null,{"$f":"รายชื่อแบบฟอร์ม!C3","v":0}]
[null,"ณ วันที่",null,null,{"$f":"รายชื่อแบบฟอร์ม!C4","v":"00:00:00"}]
[]
[]
[null,"ตารางที่ 7.2 เงินกองทุนสำหรับความเสี่ยงด้านเครดิตจากการลงทุนในตราสารหนี้",null,null,null,null,null,null,"บาท"]
[null,"ลำดับที่","รายการ",null,null,null,"ความเสี่ยงภัยทั้งหมด \n (มูลค่าตามประกาศ คปภ. ว่าด้วยการประเมินราคาทรัพย์สินและหนี้สินของบริษัทประกันชีวิต) ","ค่าความเสี่ยง","เงินกองทุนตามระดับความเสี่ยง"]
[null,"1","ออก สั่งจ่าย รับรอง รับอาวัล หรือค้ำประกัน โดยรัฐบาลไทย ธนาคารแห่งประเทศไทย กระทรวงการคลังไทย หรือกองทุนเพื่อการฟื้นฟูและพัฒนาระบบสถาบันการเงินไทย ที่เป็นสกุลเงินบาท",null,null,null,null,0,{"$f":"G10*H10","v":0}]
[null,"2","ออก สั่งจ่าย รับรอง รับอาวัล หรือค้ำประกัน โดยรัฐบาลต่างประเทศ ธนาคารกลางต่างประเทศ และกระทรวงการคลังต่างประเทศ ในสกุลเงินใดๆ"]
[null,null,"2.1 ระดับความเสี่ยง 1",null,null,null,null,1E-4,{"$f":"G12*H12","v":0}]
[null,null,"2.2 ระดับความเสี่ยง 2",null,null,null,null,3.5000000000000001E-3,{"$f":"G13*H13","v":0}]
[null,null,"2.3 ระดับความเสี่ยง 3",null,null,null,null,4.0000000000000001E-3,0]
[null,null,"2.4 ระดับความเสี่ยง 4",null,null,null,null,1.4999999999999999E-2,0]
[null,null,"2.5 ระดับความเสี่ยง 5",null,null,null,null,0.04,0]
[null,null,"2.6 ระดับความเสี่ยง 6",null,null,null,null,0.14000000000000001,0]
[null,null,"2.7 ไม่ได้รับการจัดระดับความน่าเชื่อถือ",null,null,null,null,0.14000000000000001,0]
[null,"3","ออกโดยรัฐวิสาหกิจไทยที่มีกฎหมายเฉพาะจัดตั้ง ที่กระทรวงการคลังไม่ค้ำประกัน และยังไม่ได้แปลงสภาพเป็นบริษัทจำกัด  และไม่มีอันดับความน่าเชื่อถือ ที่เป็นสกุลเงินบาท",null,null,null,null,3.5000000000000001E-3,{"$f":"G19*H19","v":0}]
[null,"4","ออกโดยรัฐวิสาหกิจไทยที่มีกฎหมายเฉพาะจัดตั้ง ที่กระทรวงการคลังไม่ค้ำประกัน และยังไม่ได้แปลงสภาพเป็นบริษัทจำกัด  และมีอันดับความน่าเชื่อถือ ที่เป็นสกุลเงินบาท"]
[null,null,"4.1 ระดับความเสี่ยง 1",null,null,null,null,1E-4,{"$f":"G21*H21","v":0}]
[null,null,"4.2 ระดับความเสี่ยง 2",null,null,null,null,3.5000000000000001E-3,0]
[null,"5","ออกโดยรัฐวิสาหกิจไทยที่แปลงสภาพเป็นบริษัทจำกัดไปแล้ว"]
[null,null,"5.1 ระดับความเสี่ยง 1",null,null,null,null,1E-4,{"$f":"G24*H24","v":0}]
[null,null,"5.2 ระดับความเสี่ยง 2",null,null,null,null,3.5000000000000001E-3,0]
[null,null,"5.3 ระดับความเสี่ยง 3",null,null,null,null,4.0000000000000001E-3,0]
[null,null,"5.4 ระดับความเสี่ยง 4",null,null,null,null,1.4999999999999999E-2,0]
[null,null,"5.5 ระดับความเสี่ยง 5",null,null,null,null,0.04,0]
[null,null,"5.6 ระดับความเสี่ยง 6",null,null,null,null,0.14000000000000001,0]
[null,null,"5.7 ไม่ได้รับการจัดระดับความน่าเชื่อถือ",null,null,null,null,0.14000000000000001,0]
[null,"6","ออกโดยสถาบันการเงิน / บริษัทหลักทรัพย์ / บริษัทประกันภัย ในประเทศไทย"]
[null,null,"6.1 ระดับความเสี่ยง 1",null,null,null,null,1E-4,{"$f":"G32*H32","v":0}]
[null,null,"6.2 ระดับความเสี่ยง 2",null,null,null,null,3.5000000000000001E-3,0]
[null,null,"6.3 ระดับความเสี่ยง 3",null,null,null,null,4.0000000000000001E-3,0]
[null,null,"6.4 ระดับความเสี่ยง 4",null,null,null,null,1.4999999999999999E-2,0]
[null,null,"6.5 ระดับความเสี่ยง 5",null,null,null,null,0.04,0]
[null,null,"6.6 ระดับความเสี่ยง 6",null,null,null,null,0.14000000000000001,0]
[null,null,"6.7 ไม่ได้รับการจัดระดับความน่าเชื่อถือ",null,null,null,null,0.14000000000000001,0]
[null,"7","ออกโดยหน่วยงาน/บริษัทอื่น ในประเทศไทย นอกจาก 1-6"]
[null,null,"7.1 ระดับความเสี่ยง 1",null,null,null,null,1E-4,{"$f":"G40*H40","v":0}]
[null,null,"7.2 ระดับความเสี่ยง 2",null,null,null,null,3.5000000000000001E-3,0]
[null,null,"7.3 ระดับความเสี่ยง 3",null,null,null,null,4.0000000000000001E-3,0]
[null,null,"7.4 ระดับความเสี่ยง 4",null,null,null,null,1.4999999999999999E-2,0]
[null,null,"7.5 ระดับความเสี่ยง 5",null,null,null,null,0.04,0]
[null,null,"7.6 ระดับความเสี่ยง 6",null,null,null,null,0.14000000000000001,0]
[null,null,"7.7 ไม่ได้รับการจัดระดับความน่าเชื่อถือ",null,null,null,null,0.14000000000000001,0]
[null,"8","ออกโดยรัฐวิสาหกิจต่างประเทศ"]
[null,null,"8.1 ระดับความเสี่ยง 1",null,null,null,null,1E-4,{"$f":"G48*H48","v":0}]
[null,null,"8.2 ระดับความเสี่ยง 2",null,null,null,null,3.5000000000000001E-3,0]
[null,null,"8.3 ระดับความเสี่ยง 3",null,null,null,null,4.0000000000000001E-3,0]
[null,null,"8.4 ระดับความเสี่ยง 4",null,null,null,null,1.4999999999999999E-2,0]
[null,null,"8.5 ระดับความเสี่ยง 5",null,null,null,null,0.04,0]
[null,null,"8.6 ระดับความเสี่ยง 6",null,null,null,null,0.14000000000000001,0]
[null,null,"8.7 ไม่ได้รับการจัดระดับความน่าเชื่อถือ",null,null,null,null,0.14000000000000001,0]
[null,"9","ออกโดยบริษัทเอกชนต่างประเทศ"]
[null,null,"9.1 ระดับความเสี่ยง 1",null,null,null,null,1E-4,{"$f":"G56*H56","v":0}]
[null,null,"9.2 ระดับความเสี่ยง 2",null,null,null,null,3.5000000000000001E-3,0]
[null,null,"9.3 ระดับความเสี่ยง 3",null,null,null,null,4.0000000000000001E-3,0]
[null,null,"9.4 ระดับความเสี่ยง 4",null,null,null,null,1.4999999999999999E-2,0]
[null,null,"9.5 ระดับความเสี่ยง 5",null,null,null,null,0.04,0]
[null,null,"9.6 ระดับความเสี่ยง 6",null,null,null,null,0.14000000000000001,0]
[null,null,"9.7 ไม่ได้รับการจัดระดับความน่าเชื่อถือ",null,null,null,null,0.14000000000000001,0]
[null,10,"รวม",null,null,null,{"$f":"SUM(G10:G62)","v":0},null,{"$f":"SUM($I$10:$I$62)","v":0}]
[]
[]
[null,"ตารางที่ 7.3 เงินกองทุนสำหรับความเสี่ยงด้านเครดิตจากการลงทุนในเงินให้กู้ยืมโดยมีอสังหาริมทรัพย์จำนองเป็นประกัน",null,null,null,null,null,null,null,"บาท"]
[null,"ลำดับที่","รายการ",null,null,null,null,"ความเสี่ยงภัยทั้งหมด \n (มูลค่าตามประกาศ คปภ. ว่าด้วยการประเมินราคาทรัพย์สินและหนี้สินของบริษัทประกันชีวิต) ","ค่าความเสี่ยง","เงินกองทุนตามระดับความเสี่ยง"]
[null,1,"อสังหาริมทรัพย์ที่ใช้เป็นที่อยู่อาศัย (residential properties)"]
[null,null,"(ก)","อัตราส่วนเงินให้กู้ยืมต่อมูลค่าหลักประกันน้อยกว่า 70% (LTV < 70%)",null,null,null,null,2.8000000000000001E-2,{"$f":"H69*I69","v":0}]
[null,null,"(ข)","อัตราส่วนเงินให้กู้ยืมต่อมูลค่าหลักประกันระหว่าง 70% ถึง 90% (70% ≤ LTV  ≤ 90%)",null,null,null,null,0.06,{"$f":"H70*I70","v":0}]
[null,null,"(ค)","เงินให้กู้ยืมด้อยคุณภาพ (non-performing)",null,null,null,null,0.08,{"$f":"H71*I71","v":0}]
[null,2,"อสังหาริมทรัพย์อื่น (other types of properties)"]
[null,null,"(ก)","อัตราส่วนเงินให้กู้ยืมต่อมูลค่าหลักประกันน้อยกว่า 70% (LTV < 70%)",null,null,null,null,6.4000000000000001E-2,{"$f":"H73*I73","v":0}]
[null,null,"(ข)","อัตราส่วนเงินให้กู้ยืมต่อมูลค่าหลักประกันระหว่าง 70% ถึง 90% (70% ≤ LTV  ≤ 90%)",null,null,null,null,0.08,{"$f":"H74*I74","v":0}]
[null,null,"(ค)","เงินให้กู้ยืมด้อยคุณภาพ (non-performing)",null,null,null,null,0.12,{"$f":"H75*I75","v":0}]
[null,"3","รวม (total)",null,null,null,null,{"$f":"SUM(H$69:H$75)","v":0},null,{"$f":"SUM(J$69:J$75)","v":0}]
[]
[]
[null,"ตารางที่ 7.4 เงินกองทุนสำหรับความเสี่ยงด้านเครดิตจากการลงทุนในเงินให้กู้ยืมนอกจากเงินให้กู้ยืมโดยมีอสังหาริมทรัพย์จำนองเป็นประกัน",null,null,null,null,null,null,null,"บาท"]
[null,"ลำดับที่","รายการ",null,null,null,null,"ความเสี่ยงภัยทั้งหมด \n (มูลค่าตามประกาศ คปภ. ว่าด้วยการประเมินราคาทรัพย์สินและหนี้สินของบริษัทประกันชีวิต) ","ค่าความเสี่ยง","เงินกองทุนตามระดับความเสี่ยง"]
[null,"1","เช่าทรัพย์สินแบบลิสซิ่งประเภทสัญญาเช่าการเงิน / เงินลงทุนให้เช่าซื้อ",null,null,null,null,null,0.14000000000000001,{"$f":"H81*I81","v":0}]
[null,"2","เงินให้กู้ยืมโดยมีบุคคลค้ำประกัน"]
[null,null,"(ก)","เงินให้กู้ยืมแก่พนักงานและตัวแทนของบริษัท",null,null,null,null,7.0000000000000007E-2,{"$f":"H83*I83","v":0}]
[null,null,"(ข)","เงินให้กู้ยืมแก่บุคคลอื่น (ยกเว้น เงินให้กู้ยืมโดยมีกรมธรรม์เป็นประกัน)",null,null,null,null,0.14000000000000001,{"$f":"H84*I84","v":0}]
[null,"3","เงินให้กู้ยืมในกิจการโครงสร้างพื้นฐาน"]
[null,null,"(ก)","ได้รับการจัดอันดับความน่าเชื่อถือ"]
[null,null,null,"(1)","ระดับความเสี่ยง 1",null,null,null,3.7100000000000001E-2,{"$f":"H87*I87","v":0}]
[null,null,null,"(2)","ระดับความเสี่ยง 2",null,null,null,4.3499999999999997E-2,{"$f":"H88*I88","v":0}]
[null,null,null,"(3)","ระดับความเสี่ยง 3",null,null,null,5.8500000000000003E-2,0]
[null,null,null,"(4)","ระดับความเสี่ยง 4",null,null,null,8.7999999999999995E-2,0]
[null,null,"(ข)","ไม่ได้รับการจัดระดับความน่าเชื่อถือ"]
[null,null,null,"(1)","อยู่ในระยะดำเนินการ (operational phase)",null,null,null,9.5000000000000001E-2,0]
[null,null,null,"(2)","อยู่ในระยะก่อนดำเนินการ (pre-operational phase)",null,null,null,0.14000000000000001,0]
[null,4,"เงินให้กู้ยืมโดยมีกรมธรรม์เป็นประกัน",null,null,null,null,null,0,{"$f":"H94*I94","v":0}]
[null,5,"เงินให้กู้ยืมอื่น",null,null,null,null,null,0.14000000000000001,{"$f":"H95*I95","v":0}]
[null,6,"รวม",null,null,null,null,{"$f":"SUM(H$81:H$95)","v":0},null,{"$f":"SUM(J$81:J$95)","v":0}]
[]
[]
[null,"ตารางที่ 7.5 เงินกองทุนสำหรับความเสี่ยงด้านเครดิตจากการประกันภัยต่อ"]
[null,"ลำดับที่","รายการ",null,null,null,null,"บาท"]
[null,1,"(ก)","เงินวางไว้จากการประกันภัยต่อ (deposit on reinsurance treaties)",null,null,null,{"$f":"'แบบฟอร์มที่ 8'!$ALU$10+'แบบฟอร์มที่ 8'!$ALU$28","v":0}]
[null,null,"(ข)","เงินค้างรับเกี่ยวกับการประกันภัยต่อ (due from reinsurers)",null,null,null,{"$f":"'แบบฟอร์มที่ 8'!ALU11+'แบบฟอร์มที่ 8'!ALU29","v":0}]
[null,null,"(ค)","สำรองประกันภัยส่วนที่เรียกคืนจากการประกันภัยต่อ (ก่อนรวมค่าเผื่อความผันผวน) (reinsurance recoveries on technical reserves (before PAD))",null,null,null,{"$f":"'แบบฟอร์มที่ 8'!ALU12+'แบบฟอร์มที่ 8'!ALU30","v":0}]
[null,null,"(ง)","ลูกหนี้ประกันภัยต่ออื่น (other reinsurance receivables)",null,null,null,{"$f":"'แบบฟอร์มที่ 8'!ALU13+'แบบฟอร์มที่ 8'!ALU31","v":0}]
[null,null,"รวมสินทรัพย์จากการประกันภัยต่อ (total reinsurance assets )",null,null,null,null,{"$f":"'แบบฟอร์มที่ 8'!ALU14+'แบบฟอร์มที่ 8'!ALU32","v":0}]
[null,2,"(ก)","เงินถือไว้จากการประกันภัยต่อ (amounts withheld on reinsurance treaties)",null,null,null,{"$f":"'แบบฟอร์มที่ 8'!ALU15+'แบบฟอร์มที่ 8'!ALU33","v":0}]
[null,null,"(ข)","เงินค้างจ่ายเกี่ยวกับการประกันภัยต่อ (due to reinsurers)",null,null,null,{"$f":"'แบบฟอร์มที่ 8'!ALU16+'แบบฟอร์มที่ 8'!ALU34","v":0}]
[null,null,"(ค)","เจ้าหนี้ประกันภัยต่ออื่น (other reinsurance payables)",null,null,null,{"$f":"'แบบฟอร์มที่ 8'!ALU17+'แบบฟอร์มที่ 8'!ALU35","v":0}]
[null,null,"รวมหนี้สินจากการประกันภัยต่อ (total reinsurance liabilities )",null,null,null,null,{"$f":"'แบบฟอร์มที่ 8'!ALU18+'แบบฟอร์มที่ 8'!ALU36","v":0}]
[null,3,"สินทรัพย์จากการประกันภัยต่อสุทธิ (net reinsurance assets)",null,null,null,null,{"$f":"'แบบฟอร์มที่ 8'!ALU19+'แบบฟอร์มที่ 8'!ALU37","v":0}]
[null,4,"เงินกองทุนสำหรับความเสี่ยงด้านเครดิตจากการประกันภัยต่อ (risk capital charge)",null,null,null,null,{"$f":"'แบบฟอร์มที่ 8'!ALU21+'แบบฟอร์มที่ 8'!ALU39","v":0}]
[]
[]
[null,"ตารางที่ 7.6 เงินกองทุนสำหรับความเสี่ยงด้านเครดิตจากสินทรัพย์อื่นๆ"]
[null,"ลำดับที่","รายการ",null,null,null,null,"ความเสี่ยงภัยทั้งหมด \n (มูลค่าตามประกาศ คปภ. ว่าด้วยการประเมินราคาทรัพย์สินและหนี้สินของบริษัทประกันชีวิต) ","ค่าความเสี่ยง","เงินกองทุนตามระดับความเสี่ยง"]
[null,1,"เงินสด",null,null,null,null,null,0,{"$f":"H116*I116","v":0}]
[null,2,"เงินฝากสถาบันการเงิน/ ใบรับฝากเงิน/ บัตรเงินฝาก กับ ธ. ออมสิน",null,null,null,null,null,0,{"$f":"H117*I117","v":0}]
[null,3,"เงินฝากสถาบันการเงิน/ ใบรับฝากเงิน/ บัตรเงินฝาก กับ ธ. อื่น"]
[null,null,"(ก)","จำนวนเงินที่ได้รับการค้ำประกันจากสถาบันประกันเงินฝาก",null,null,null,null,0,{"$f":"H119*I119","v":0}]
[null,null,"(ข)","ส่วนเกินจากจำนวนเงินที่ได้รับการค้ำประกันจากสถาบันประกันเงินฝาก"]
[null,null,null,"(1)","ระยะเวลาไม่เกิน 1 เดือน",null,null,null,0,{"$f":"H121*I121","v":0}]
[null,null,null,"(2)","ระยะเวลามากกว่า 1 เดือน แต่ไม่เกิน 6 เดือน",null,null,null,2.5000000000000001E-3,{"$f":"H122*I122","v":0}]
[null,null,null,"(3)","ระยะเวลามากกว่า 6 เดือน แต่ไม่เกิน 12 เดือน",null,null,null,5.0000000000000001E-3,0]
[null,null,null,"(4)","ระยะเวลาตั้งแต่ 12 เดือน ขึ้นไป (ระดับความเสี่ยง 1)",null,null,null,1.6E-2,0]
[null,null,null,"(5)","ระยะเวลาตั้งแต่ 12 เดือน ขึ้นไป (ระดับความเสี่ยง 2)",null,null,null,0.04,0]
[null,null,null,"(6)","ระยะเวลาตั้งแต่ 12 เดือน ขึ้นไป (ระดับความเสี่ยง 3)",null,null,null,0.08,0]
[null,null,null,"(7)","ระยะเวลาตั้งแต่ 12 เดือน ขึ้นไป (ระดับความเสี่ยง 4)",null,null,null,0.08,0]
[null,null,null,"(8)","ระยะเวลาตั้งแต่ 12 เดือน ขึ้นไป (ระดับความเสี่ยง 5)",null,null,null,0.08,0]
[null,null,null,"(9)","ระยะเวลาตั้งแต่ 12 เดือน ขึ้นไป (ระดับความเสี่ยง 6)",null,null,null,0.12,0]
[null,null,null,"(10)","ระยะเวลาตั้งแต่ 12 เดือน ขึ้นไป (ไม่ได้รับการจัดอันดับความน่าเชื่อถือ)",null,null,null,0.12,{"$f":"H130*I130","v":0}]
[null,null,null,"(11)","ระยะเวลาตั้งแต่ 12 เดือน ขึ้นไป (สถาบันการเงินที่มีกฎหมายพิเศษจัดตั้ง ยกเว้น ธ.ออมสิน)",null,null,null,8.0000000000000002E-3,0]
[null,4,"บัญชีเดินสะพัดสำนักงานใหญ่",null,null,null,null,null,0,0]
[null,5,"สินทรัพย์ภาษีเงินได้รอตัดบัญชี (deferred tax assets)",null,null,null,null,null,0,0]
[null,6,"ค่าใช้จ่ายจ่ายล่วงหน้า",null,null,null,null,null,0,0]
[null,7,"เบี้ยประกันภัยค้างรับสำหรับกรมธรรม์ประกันภัยอุบัติเหตุ ที่ค้างชำระเกินกว่า 60 วัน นับแต่วันเริ่มคุ้มครองตามสัญญา",null,null,null,null,null,0.12,{"$f":"H135*I135","v":0}]
[null,8,"รายได้จากการลงทุนค้างรับ"]
[null,null,"(ก)","ค้างรับจาก รัฐบาลไทย ธนาคารแห่งประเทศไทย กระทรวงการคลังไทย ธนาคารออมสิน หรือกองทุนเพื่อการฟื้นฟูและพัฒนาระบบสถาบันการเงินไทย ที่เป็นสกุลบาท / เงินให้กู้ยืมโดยมีกรมธรรม์ประกันภัยเป็นประกัน / เงินปันผลที่ประกาศแล้วของนิติบุคคลที่จัดตั้งขึ้นตามกฎหมายไทยซึ่งยังไม่พ้นกำหนดระยะเวลาที่กฎหมายกำหนดให้นิติบุคคลนั้นต้องชำระให้กับผู้ถือตราสาร",null,null,null,null,0,{"$f":"H137*I137","v":0}]
[null,null,"(ข)","เงินปันผลที่ประกาศแล้วของนิติบุคคลที่จัดตั้งขึ้นตามกฎหมายไทยซึ่งพ้นกำหนดระยะเวลาที่กฎหมายกำหนดให้นิติบุคคลนั้นต้องชำระให้กับผู้ถือตราสาร",null,null,null,null,1,{"$f":"H138*I138","v":0}]
[null,null,"(ค)","อื่นๆ"]
[null,null,null,"(1)","ระดับความเสี่ยง 1",null,null,null,1E-4,{"$f":"H140*I140","v":0}]
[null,null,null,"(2)","ระดับความเสี่ยง 2",null,null,null,3.5000000000000001E-3,0]
[null,null,null,"(3)","ระดับความเสี่ยง 3",null,null,null,4.0000000000000001E-3,0]
[null,null,null,"(4)","ระดับความเสี่ยง 4",null,null,null,1.4999999999999999E-2,0]
[null,null,null,"(5)","ระดับความเสี่ยง 5",null,null,null,0.04,{"$f":"H144*I144","v":0}]
[null,null,null,"(6)","ระดับความเสี่ยง 6",null,null,null,0.14000000000000001,{"$f":"H145*I145","v":0}]
[null,null,null,"(7)","ไม่ได้รับการจัดอันดับความน่าเชื่อถือ",null,null,null,0.14000000000000001,0]
[null,9,"สินทรัพย์ที่ติดภาระผูกพัน (assets pledged by an insurer)",null,null,null,null,null,0,{"$f":"H147*I147","v":0}]
[null,10,"รวม",null,null,null,null,{"$f":"SUM(H116:H147)","v":0},null,{"$f":"SUM($J$116:$J$147)","v":0}]
[]
[]
[]
[null,"ตารางที่ 7.7 เงินกองทุนสำหรับความเสี่ยงด้านเครดิตจากการลงทุนในตราสารอนุพันธ์"]
[null,"ลำดับที่","สถานะและคู่สัญญา (position & counterparty)",null,null,null,"ราคาตลาดปัจจุบัน (exposure mark-to-market value)","เงินต้น (notional principal)","ค่าความเสี่ยงที่ใช้ (applicable risk charge)","เงินกองทุนตามระดับความเสี่ยง \n(risk capital charge)"]
[null,1,null,null,null,null,null,null,null,{"$f":"IFERROR($G154*I154,0)","v":0}]
[null,2,null,null,null,null,null,null,null,{"$f":"IFERROR($G155*I155,0)","v":0}]
[null,3,null,null,null,null,null,null,null,0]
[null,4,null,null,null,null,null,null,null,0]
[null,5,null,null,null,null,null,null,null,0]
[null,6,null,null,null,null,null,null,null,0]
[null,7,null,null,null,null,null,null,null,0]
[null,8,null,null,null,null,null,null,null,0]
[null,9,null,null,null,null,null,null,null,0]
[null,10,null,null,null,null,null,null,null,0]
[null,11,null,null,null,null,null,null,null,0]
[null,12,null,null,null,null,null,null,null,0]
[null,13,null,null,null,null,null,null,null,0]
[null,14,null,null,null,null,null,null,null,0]
[null,15,null,null,null,null,null,null,null,0]
[null,16,null,null,null,null,null,null,null,0]
[null,17,null,null,null,null,null,null,null,0]
[null,18,null,null,null,null,null,null,null,0]
[null,19,null,null,null,null,null,null,null,0]
[null,20,null,null,null,null,null,null,null,0]
[null,21,null,null,null,null,null,null,null,0]
[null,22,null,null,null,null,null,null,null,0]
[null,23,null,null,null,null,null,null,null,0]
[null,24,null,null,null,null,null,null,null,0]
[null,25,null,null,null,null,null,null,null,0]
[null,26,null,null,null,null,null,null,null,0]
[null,27,null,null,null,null,null,null,null,0]
[null,28,null,null,null,null,null,null,null,0]
[null,29,null,null,null,null,null,null,null,0]
[null,30,null,null,null,null,null,null,null,0]
[null,31,null,null,null,null,null,null,null,0]
[null,32,null,null,null,null,null,null,null,0]
[null,33,null,null,null,null,null,null,null,0]
[null,34,null,null,null,null,null,null,null,0]
[null,35,null,null,null,null,null,null,null,0]
[null,36,null,null,null,null,null,null,null,0]
[null,37,null,null,null,null,null,null,null,0]
[null,38,null,null,null,null,null,null,null,0]
[null,39,null,null,null,null,null,null,null,0]
[null,40,null,null,null,null,null,null,null,0]
[null,41,null,null,null,null,null,null,null,0]
[null,42,null,null,null,null,null,null,null,0]
[null,43,null,null,null,null,null,null,null,0]
[null,44,null,null,null,null,null,null,null,0]
[null,45,null,null,null,null,null,null,null,0]
[null,46,null,null,null,null,null,null,null,0]
[null,47,null,null,null,null,null,null,null,0]
[null,48,null,null,null,null,null,null,null,0]
[null,49,null,null,null,null,null,null,null,0]
[null,50,null,null,null,null,null,null,null,0]
[null,51,null,null,null,null,null,null,null,{"$f":"IFERROR($G204*I204,0)","v":0}]
[null,52,null,null,null,null,null,null,null,{"$f":"IFERROR($G205*I205,0)","v":0}]
[null,53,null,null,null,null,null,null,null,0]
[null,54,null,null,null,null,null,null,null,0]
[null,55,null,null,null,null,null,null,null,0]
[null,56,null,null,null,null,null,null,null,0]
[null,57,null,null,null,null,null,null,null,0]
[null,58,null,null,null,null,null,null,null,0]
[null,59,null,null,null,null,null,null,null,0]
[null,60,null,null,null,null,null,null,null,0]
[null,61,null,null,null,null,null,null,null,0]
[null,62,null,null,null,null,null,null,null,0]
[null,63,null,null,null,null,null,null,null,0]
[null,64,null,null,null,null,null,null,null,0]
[null,65,null,null,null,null,null,null,null,0]
[null,66,null,null,null,null,null,null,null,0]
[null,67,null,null,null,null,null,null,null,0]
[null,68,null,null,null,null,null,null,null,0]
[null,69,null,null,null,null,null,null,null,0]
[null,70,null,null,null,null,null,null,null,0]
[null,71,null,null,null,null,null,null,null,0]
[null,72,null,null,null,null,null,null,null,0]
[null,73,null,null,null,null,null,null,null,0]
[null,74,null,null,null,null,null,null,null,0]
[null,75,null,null,null,null,null,null,null,0]
[null,76,null,null,null,null,null,null,null,0]
[null,77,null,null,null,null,null,null,null,0]
[null,78,null,null,null,null,null,null,null,0]
[null,79,null,null,null,null,null,null,null,0]
[null,80,null,null,null,null,null,null,null,0]
[null,81,null,null,null,null,null,null,null,0]
[null,82,null,null,null,null,null,null,null,0]
[null,83,null,null,null,null,null,null,null,0]
[null,84,null,null,null,null,null,null,null,0]
[null,85,null,null,null,null,null,null,null,0]
[null,86,null,null,null,null,null,null,null,0]
[null,87,null,null,null,null,null,null,null,0]
[null,88,null,null,null,null,null,null,null,0]
[null,89,null,null,null,null,null,null,null,0]
[null,90,null,null,null,null,null,null,null,0]
[null,91,null,null,null,null,null,null,null,0]
[null,92,null,null,null,null,null,null,null,0]
[null,93,null,null,null,null,null,null,null,0]
[null,94,null,null,null,null,null,null,null,0]
[null,95,null,null,null,null,null,null,null,0]
[null,96,null,null,null,null,null,null,null,0]
[null,97,null,null,null,null,null,null,null,0]
[null,98,null,null,null,null,null,null,null,0]
[null,99,null,null,null,null,null,null,null,0]
[null,100,null,null,null,null,null,null,null,0]
[null,101,null,null,null,null,null,null,null,{"$f":"IFERROR($G254*I254,0)","v":0}]
[null,102,null,null,null,null,null,null,null,{"$f":"IFERROR($G255*I255,0)","v":0}]
[null,103,null,null,null,null,null,null,null,0]
[null,104,null,null,null,null,null,null,null,0]
[null,105,null,null,null,null,null,null,null,0]
[null,106,null,null,null,null,null,null,null,0]
[null,107,null,null,null,null,null,null,null,0]
[null,108,null,null,null,null,null,null,null,0]
[null,109,null,null,null,null,null,null,null,0]
[null,110,null,null,null,null,null,null,null,0]
[null,111,null,null,null,null,null,null,null,0]
[null,112,null,null,null,null,null,null,null,0]
[null,113,null,null,null,null,null,null,null,0]
[null,114,null,null,null,null,null,null,null,0]
[null,115,null,null,null,null,null,null,null,0]
[null,116,null,null,null,null,null,null,null,0]
[null,117,null,null,null,null,null,null,null,0]
[null,118,null,null,null,null,null,null,null,0]
[null,119,null,null,null,null,null,null,null,0]
[null,120,null,null,null,null,null,null,null,0]
[null,121,null,null,null,null,null,null,null,0]
[null,122,null,null,null,null,null,null,null,0]
[null,123,null,null,null,null,null,null,null,0]
[null,124,null,null,null,null,null,null,null,0]
[null,125,null,null,null,null,null,null,null,0]
[null,126,null,null,null,null,null,null,null,0]
[null,127,null,null,null,null,null,null,null,0]
[null,128,null,null,null,null,null,null,null,0]
[null,129,null,null,null,null,null,null,null,0]
[null,130,null,null,null,null,null,null,null,0]
[null,131,null,null,null,null,null,null,null,0]
[null,132,null,null,null,null,null,null,null,0]
[null,133,null,null,null,null,null,null,null,0]
[null,134,null,null,null,null,null,null,null,0]
[null,135,null,null,null,null,null,null,null,0]
[null,136,null,null,null,null,null,null,null,0]
[null,137,null,null,null,null,null,null,null,0]
[null,138,null,null,null,null,null,null,null,0]
[null,139,null,null,null,null,null,null,null,0]
[null,140,null,null,null,null,null,null,null,0]
[null,141,null,null,null,null,null,null,null,0]
[null,142,null,null,null,null,null,null,null,0]
[null,143,null,null,null,null,null,null,null,0]
[null,144,null,null,null,null,null,null,null,0]
[null,145,null,null,null,null,null,null,null,0]
[null,146,null,null,null,null,null,null,null,0]
[null,147,null,null,null,null,null,null,null,0]
[null,148,null,null,null,null,null,null,null,0]
[null,149,null,null,null,null,null,null,null,0]
[null,150,null,null,null,null,null,null,null,0]
[null,151,null,null,null,null,null,null,null,{"$f":"IFERROR($G304*I304,0)","v":0}]
[null,152,null,null,null,null,null,null,null,{"$f":"IFERROR($G305*I305,0)","v":0}]
[null,153,null,null,null,null,null,null,null,0]
[null,154,null,null,null,null,null,null,null,0]
[null,155,null,null,null,null,null,null,null,0]
[null,156,null,null,null,null,null,null,null,0]
[null,157,null,null,null,null,null,null,null,0]
[null,158,null,null,null,null,null,null,null,0]
[null,159,null,null,null,null,null,null,null,0]
[null,160,null,null,null,null,null,null,null,0]
[null,161,null,null,null,null,null,null,null,0]
[null,162,null,null,null,null,null,null,null,0]
[null,163,null,null,null,null,null,null,null,0]
[null,164,null,null,null,null,null,null,null,0]
[null,165,null,null,null,null,null,null,null,0]
[null,166,null,null,null,null,null,null,null,0]
[null,167,null,null,null,null,null,null,null,0]
[null,168,null,null,null,null,null,null,null,0]
[null,169,null,null,null,null,null,null,null,0]
[null,170,null,null,null,null,null,null,null,0]
[null,171,null,null,null,null,null,null,null,0]
[null,172,null,null,null,null,null,null,null,0]
[null,173,null,null,null,null,null,null,null,0]
[null,174,null,null,null,null,null,null,null,0]
[null,175,null,null,null,null,null,null,null,0]
[null,176,null,null,null,null,null,null,null,0]
[null,177,null,null,null,null,null,null,null,0]
[null,178,null,null,null,null,null,null,null,0]
[null,179,null,null,null,null,null,null,null,0]
[null,180,null,null,null,null,null,null,null,0]
[null,181,null,null,null,null,null,null,null,0]
[null,182,null,null,null,null,null,null,null,0]
[null,183,null,null,null,null,null,null,null,0]
[null,184,null,null,null,null,null,null,null,0]
[null,185,null,null,null,null,null,null,null,0]
[null,186,null,null,null,null,null,null,null,0]
[null,187,null,null,null,null,null,null,null,0]
[null,188,null,null,null,null,null,null,null,0]
[null,189,null,null,null,null,null,null,null,0]
[null,190,null,null,null,null,null,null,null,0]
[null,191,null,null,null,null,null,null,null,0]
[null,192,null,null,null,null,null,null,null,0]
[null,193,null,null,null,null,null,null,null,0]
[null,194,null,null,null,null,null,null,null,0]
[null,195,null,null,null,null,null,null,null,0]
[null,196,null,null,null,null,null,null,null,0]
[null,197,null,null,null,null,null,null,null,0]
[null,198,null,null,null,null,null,null,null,0]
[null,199,null,null,null,null,null,null,null,0]
[null,200,null,null,null,null,null,null,null,0]
[null,201,null,null,null,null,null,null,null,{"$f":"IFERROR($G354*I354,0)","v":0}]
[null,202,null,null,null,null,null,null,null,{"$f":"IFERROR($G355*I355,0)","v":0}]
[null,203,null,null,null,null,null,null,null,0]
[null,204,null,null,null,null,null,null,null,0]
[null,205,null,null,null,null,null,null,null,0]
[null,206,null,null,null,null,null,null,null,0]
[null,207,null,null,null,null,null,null,null,0]
[null,208,null,null,null,null,null,null,null,0]
[null,209,null,null,null,null,null,null,null,0]
[null,210,null,null,null,null,null,null,null,0]
[null,211,null,null,null,null,null,null,null,0]
[null,212,null,null,null,null,null,null,null,0]
[null,213,null,null,null,null,null,null,null,0]
[null,214,null,null,null,null,null,null,null,0]
[null,215,null,null,null,null,null,null,null,0]
[null,216,null,null,null,null,null,null,null,0]
[null,217,null,null,null,null,null,null,null,0]
[null,218,null,null,null,null,null,null,null,0]
[null,219,null,null,null,null,null,null,null,0]
[null,220,null,null,null,null,null,null,null,0]
[null,221,null,null,null,null,null,null,null,0]
[null,222,null,null,null,null,null,null,null,0]
[null,223,null,null,null,null,null,null,null,0]
[null,224,null,null,null,null,null,null,null,0]
[null,225,null,null,null,null,null,null,null,0]
[null,226,null,null,null,null,null,null,null,0]
[null,227,null,null,null,null,null,null,null,0]
[null,228,null,null,null,null,null,null,null,0]
[null,229,null,null,null,null,null,null,null,0]
[null,230,null,null,null,null,null,null,null,0]
[null,231,null,null,null,null,null,null,null,0]
[null,232,null,null,null,null,null,null,null,0]
[null,233,null,null,null,null,null,null,null,0]
[null,234,null,null,null,null,null,null,null,0]
[null,235,null,null,null,null,null,null,null,0]
[null,236,null,null,null,null,null,null,null,0]
[null,237,null,null,null,null,null,null,null,0]
[null,238,null,null,null,null,null,null,null,0]
[null,239,null,null,null,null,null,null,null,0]
[null,240,null,null,null,null,null,null,null,0]
[null,241,null,null,null,null,null,null,null,0]
[null,242,null,null,null,null,null,null,null,0]
[null,243,null,null,null,null,null,null,null,0]
[null,244,null,null,null,null,null,null,null,0]
[null,245,null,null,null,null,null,null,null,0]
[null,246,null,null,null,null,null,null,null,0]
[null,247,null,null,null,null,null,null,null,0]
[null,248,null,null,null,null,null,null,null,0]
[null,249,null,null,null,null,null,null,null,0]
[null,250,null,null,null,null,null,null,null,0]
[null,251,null,null,null,null,null,null,null,{"$f":"IFERROR($G404*I404,0)","v":0}]
[null,252,null,null,null,null,null,null,null,{"$f":"IFERROR($G405*I405,0)","v":0}]
[null,253,null,null,null,null,null,null,null,0]
[null,254,null,null,null,null,null,null,null,0]
[null,255,null,null,null,null,null,null,null,0]
[null,256,null,null,null,null,null,null,null,0]
[null,257,null,null,null,null,null,null,null,0]
[null,258,null,null,null,null,null,null,null,0]
[null,259,null,null,null,null,null,null,null,0]
[null,260,null,null,null,null,null,null,null,0]
[null,261,null,null,null,null,null,null,null,0]
[null,262,null,null,null,null,null,null,null,0]
[null,263,null,null,null,null,null,null,null,0]
[null,264,null,null,null,null,null,null,null,0]
[null,265,null,null,null,null,null,null,null,0]
[null,266,null,null,null,null,null,null,null,0]
[null,267,null,null,null,null,null,null,null,0]
[null,268,null,null,null,null,null,null,null,0]
[null,269,null,null,null,null,null,null,null,0]
[null,270,null,null,null,null,null,null,null,0]
[null,271,null,null,null,null,null,null,null,0]
[null,272,null,null,null,null,null,null,null,0]
[null,273,null,null,null,null,null,null,null,0]
[null,274,null,null,null,null,null,null,null,0]
[null,275,null,null,null,null,null,null,null,0]
[null,276,null,null,null,null,null,null,null,0]
[null,277,null,null,null,null,null,null,null,0]
[null,278,null,null,null,null,null,null,null,0]
[null,279,null,null,null,null,null,null,null,0]
[null,280,null,null,null,null,null,null,null,0]
[null,281,null,null,null,null,null,null,null,0]
[null,282,null,null,null,null,null,null,null,0]
[null,283,null,null,null,null,null,null,null,0]
[null,284,null,null,null,null,null,null,null,0]
[null,285,null,null,null,null,null,null,null,0]
[null,286,null,null,null,null,null,null,null,0]
[null,287,null,null,null,null,null,null,null,0]
[null,288,null,null,null,null,null,null,null,0]
[null,289,null,null,null,null,null,null,null,0]
[null,290,null,null,null,null,null,null,null,0]
[null,291,null,null,null,null,null,null,null,0]
[null,292,null,null,null,null,null,null,null,0]
[null,293,null,null,null,null,null,null,null,0]
[null,294,null,null,null,null,null,null,null,0]
[null,295,null,null,null,null,null,null,null,0]
[null,296,null,null,null,null,null,null,null,0]
[null,297,null,null,null,null,null,null,null,0]
[null,298,null,null,null,null,null,null,null,0]
[null,299,null,null,null,null,null,null,null,0]
[null,300,null,null,null,null,null,null,null,0]
[null,301,null,null,null,null,null,null,null,{"$f":"IFERROR($G454*I454,0)","v":0}]
[null,302,null,null,null,null,null,null,null,{"$f":"IFERROR($G455*I455,0)","v":0}]
[null,303,null,null,null,null,null,null,null,0]
[null,304,null,null,null,null,null,null,null,0]
[null,305,null,null,null,null,null,null,null,0]
[null,306,null,null,null,null,null,null,null,0]
[null,307,null,null,null,null,null,null,null,0]
[null,308,null,null,null,null,null,null,null,0]
[null,309,null,null,null,null,null,null,null,0]
[null,310,null,null,null,null,null,null,null,0]
[null,311,null,null,null,null,null,null,null,0]
[null,312,null,null,null,null,null,null,null,0]
[null,313,null,null,null,null,null,null,null,0]
[null,314,null,null,null,null,null,null,null,0]
[null,315,null,null,null,null,null,null,null,0]
[null,316,null,null,null,null,null,null,null,0]
[null,317,null,null,null,null,null,null,null,0]
[null,318,null,null,null,null,null,null,null,0]
[null,319,null,null,null,null,null,null,null,0]
[null,320,null,null,null,null,null,null,null,0]
[null,321,null,null,null,null,null,null,null,0]
[null,322,null,null,null,null,null,null,null,0]
[null,323,null,null,null,null,null,null,null,0]
[null,324,null,null,null,null,null,null,null,0]
[null,325,null,null,null,null,null,null,null,0]
[null,326,null,null,null,null,null,null,null,0]
[null,327,null,null,null,null,null,null,null,0]
[null,328,null,null,null,null,null,null,null,0]
[null,329,null,null,null,null,null,null,null,0]
[null,330,null,null,null,null,null,null,null,0]
[null,331,null,null,null,null,null,null,null,0]
[null,332,null,null,null,null,null,null,null,0]
[null,333,null,null,null,null,null,null,null,0]
[null,334,null,null,null,null,null,null,null,0]
[null,335,null,null,null,null,null,null,null,0]
[null,336,null,null,null,null,null,null,null,0]
[null,337,null,null,null,null,null,null,null,0]
[null,338,null,null,null,null,null,null,null,0]
[null,339,null,null,null,null,null,null,null,0]
[null,340,null,null,null,null,null,null,null,0]
[null,341,null,null,null,null,null,null,null,0]
[null,342,null,null,null,null,null,null,null,0]
[null,343,null,null,null,null,null,null,null,0]
[null,344,null,null,null,null,null,null,null,0]
[null,345,null,null,null,null,null,null,null,0]
[null,346,null,null,null,null,null,null,null,0]
[null,347,null,null,null,null,null,null,null,0]
[null,348,null,null,null,null,null,null,null,0]
[null,349,null,null,null,null,null,null,null,0]
[null,350,null,null,null,null,null,null,null,0]
[null,351,null,null,null,null,null,null,null,{"$f":"IFERROR($G504*I504,0)","v":0}]
[null,352,null,null,null,null,null,null,null,{"$f":"IFERROR($G505*I505,0)","v":0}]
[null,353,null,null,null,null,null,null,null,0]
[null,354,null,null,null,null,null,null,null,0]
[null,355,null,null,null,null,null,null,null,0]
[null,356,null,null,null,null,null,null,null,0]
[null,357,null,null,null,null,null,null,null,0]
[null,358,null,null,null,null,null,null,null,0]
[null,359,null,null,null,null,null,null,null,0]
[null,360,null,null,null,null,null,null,null,0]
[null,361,null,null,null,null,null,null,null,0]
[null,362,null,null,null,null,null,null,null,0]
[null,363,null,null,null,null,null,null,null,0]
[null,364,null,null,null,null,null,null,null,0]
[null,365,null,null,null,null,null,null,null,0]
[null,366,null,null,null,null,null,null,null,0]
[null,367,null,null,null,null,null,null,null,0]
[null,368,null,null,null,null,null,null,null,0]
[null,369,null,null,null,null,null,null,null,0]
[null,370,null,null,null,null,null,null,null,0]
[null,371,null,null,null,null,null,null,null,0]
[null,372,null,null,null,null,null,null,null,0]
[null,373,null,null,null,null,null,null,null,0]
[null,374,null,null,null,null,null,null,null,0]
[null,375,null,null,null,null,null,null,null,0]
[null,376,null,null,null,null,null,null,null,0]
[null,377,null,null,null,null,null,null,null,0]
[null,378,null,null,null,null,null,null,null,0]
[null,379,null,null,null,null,null,null,null,0]
[null,380,null,null,null,null,null,null,null,0]
[null,381,null,null,null,null,null,null,null,0]
[null,382,null,null,null,null,null,null,null,0]
[null,383,null,null,null,null,null,null,null,0]
[null,384,null,null,null,null,null,null,null,0]
[null,385,null,null,null,null,null,null,null,0]
[null,386,null,null,null,null,null,null,null,0]
[null,387,null,null,null,null,null,null,null,0]
[null,388,null,null,null,null,null,null,null,0]
[null,389,null,null,null,null,null,null,null,0]
[null,390,null,null,null,null,null,null,null,0]
[null,391,null,null,null,null,null,null,null,0]
[null,392,null,null,null,null,null,null,null,0]
[null,393,null,null,null,null,null,null,null,0]
[null,394,null,null,null,null,null,null,null,0]
[null,395,null,null,null,null,null,null,null,0]
[null,396,null,null,null,null,null,null,null,0]
[null,397,null,null,null,null,null,null,null,0]
[null,398,null,null,null,null,null,null,null,0]
[null,399,null,null,null,null,null,null,null,0]
[null,400,null,null,null,null,null,null,null,0]
[null,401,null,null,null,null,null,null,null,{"$f":"IFERROR($G554*I554,0)","v":0}]
[null,402,null,null,null,null,null,null,null,{"$f":"IFERROR($G555*I555,0)","v":0}]
[null,403,null,null,null,null,null,null,null,0]
[null,404,null,null,null,null,null,null,null,0]
[null,405,null,null,null,null,null,null,null,0]
[null,406,null,null,null,null,null,null,null,0]
[null,407,null,null,null,null,null,null,null,0]
[null,408,null,null,null,null,null,null,null,0]
[null,409,null,null,null,null,null,null,null,0]
[null,410,null,null,null,null,null,null,null,0]
[null,411,null,null,null,null,null,null,null,0]
[null,412,null,null,null,null,null,null,null,0]
[null,413,null,null,null,null,null,null,null,0]
[null,414,null,null,null,null,null,null,null,0]
[null,415,null,null,null,null,null,null,null,0]
[null,416,null,null,null,null,null,null,null,0]
[null,417,null,null,null,null,null,null,null,0]
[null,418,null,null,null,null,null,null,null,0]
[null,419,null,null,null,null,null,null,null,0]
[null,420,null,null,null,null,null,null,null,0]
[null,421,null,null,null,null,null,null,null,0]
[null,422,null,null,null,null,null,null,null,0]
[null,423,null,null,null,null,null,null,null,0]
[null,424,null,null,null,null,null,null,null,0]
[null,425,null,null,null,null,null,null,null,0]
[null,426,null,null,null,null,null,null,null,0]
[null,427,null,null,null,null,null,null,null,0]
[null,428,null,null,null,null,null,null,null,0]
[null,429,null,null,null,null,null,null,null,0]
[null,430,null,null,null,null,null,null,null,0]
[null,431,null,null,null,null,null,null,null,0]
[null,432,null,null,null,null,null,null,null,0]
[null,433,null,null,null,null,null,null,null,0]
[null,434,null,null,null,null,null,null,null,0]
[null,435,null,null,null,null,null,null,null,0]
[null,436,null,null,null,null,null,null,null,0]
[null,437,null,null,null,null,null,null,null,0]
[null,438,null,null,null,null,null,null,null,0]
[null,439,null,null,null,null,null,null,null,0]
[null,440,null,null,null,null,null,null,null,0]
[null,441,null,null,null,null,null,null,null,0]
[null,442,null,null,null,null,null,null,null,0]
[null,443,null,null,null,null,null,null,null,0]
[null,444,null,null,null,null,null,null,null,0]
[null,445,null,null,null,null,null,null,null,0]
[null,446,null,null,null,null,null,null,null,0]
[null,447,null,null,null,null,null,null,null,0]
[null,448,null,null,null,null,null,null,null,0]
[null,449,null,null,null,null,null,null,null,0]
[null,450,null,null,null,null,null,null,null,0]
[null,451,null,null,null,null,null,null,null,{"$f":"IFERROR($G604*I604,0)","v":0}]
[null,452,null,null,null,null,null,null,null,{"$f":"IFERROR($G605*I605,0)","v":0}]
[null,453,null,null,null,null,null,null,null,0]
[null,454,null,null,null,null,null,null,null,0]
[null,455,null,null,null,null,null,null,null,0]
[null,456,null,null,null,null,null,null,null,0]
[null,457,null,null,null,null,null,null,null,0]
[null,458,null,null,null,null,null,null,null,0]
[null,459,null,null,null,null,null,null,null,0]
[null,460,null,null,null,null,null,null,null,0]
[null,461,null,null,null,null,null,null,null,0]
[null,462,null,null,null,null,null,null,null,0]
[null,463,null,null,null,null,null,null,null,0]
[null,464,null,null,null,null,null,null,null,0]
[null,465,null,null,null,null,null,null,null,0]
[null,466,null,null,null,null,null,null,null,0]
[null,467,null,null,null,null,null,null,null,0]
[null,468,null,null,null,null,null,null,null,0]
[null,469,null,null,null,null,null,null,null,0]
[null,470,null,null,null,null,null,null,null,0]
[null,471,null,null,null,null,null,null,null,0]
[null,472,null,null,null,null,null,null,null,0]
[null,473,null,null,null,null,null,null,null,0]
[null,474,null,null,null,null,null,null,null,0]
[null,475,null,null,null,null,null,null,null,0]
[null,476,null,null,null,null,null,null,null,0]
[null,477,null,null,null,null,null,null,null,0]
[null,478,null,null,null,null,null,null,null,0]
[null,479,null,null,null,null,null,null,null,0]
[null,480,null,null,null,null,null,null,null,0]
[null,481,null,null,null,null,null,null,null,0]
[null,482,null,null,null,null,null,null,null,0]
[null,483,null,null,null,null,null,null,null,0]
[null,484,null,null,null,null,null,null,null,0]
[null,485,null,null,null,null,null,null,null,0]
[null,486,null,null,null,null,null,null,null,0]
[null,487,null,null,null,null,null,null,null,0]
[null,488,null,null,null,null,null,null,null,0]
[null,489,null,null,null,null,null,null,null,0]
[null,490,null,null,null,null,null,null,null,0]
[null,491,null,null,null,null,null,null,null,0]
[null,492,null,null,null,null,null,null,null,0]
[null,493,null,null,null,null,null,null,null,0]
[null,494,null,null,null,null,null,null,null,0]
[null,495,null,null,null,null,null,null,null,0]
[null,496,null,null,null,null,null,null,null,0]
[null,497,null,null,null,null,null,null,null,0]
[null,498,null,null,null,null,null,null,null,0]
[null,499,null,null,null,null,null,null,null,0]
[null,500,null,null,null,null,null,null,null,0]
[null,501,null,null,null,null,null,null,null,{"$f":"IFERROR($G654*I654,0)","v":0}]
[null,502,null,null,null,null,null,null,null,{"$f":"IFERROR($G655*I655,0)","v":0}]
[null,503,null,null,null,null,null,null,null,0]
[null,504,null,null,null,null,null,null,null,0]
[null,505,null,null,null,null,null,null,null,0]
[null,506,null,null,null,null,null,null,null,0]
[null,507,null,null,null,null,null,null,null,0]
[null,508,null,null,null,null,null,null,null,0]
[null,509,null,null,null,null,null,null,null,0]
[null,510,null,null,null,null,null,null,null,0]
[null,511,null,null,null,null,null,null,null,0]
[null,512,null,null,null,null,null,null,null,0]
[null,513,null,null,null,null,null,null,null,0]
[null,514,null,null,null,null,null,null,null,0]
[null,515,null,null,null,null,null,null,null,0]
[null,516,null,null,null,null,null,null,null,0]
[null,517,null,null,null,null,null,null,null,0]
[null,518,null,null,null,null,null,null,null,0]
[null,519,null,null,null,null,null,null,null,0]
[null,520,null,null,null,null,null,null,null,0]
[null,521,null,null,null,null,null,null,null,0]
[null,522,null,null,null,null,null,null,null,0]
[null,523,null,null,null,null,null,null,null,0]
[null,524,null,null,null,null,null,null,null,0]
[null,525,null,null,null,null,null,null,null,0]
[null,526,null,null,null,null,null,null,null,0]
[null,527,null,null,null,null,null,null,null,0]
[null,528,null,null,null,null,null,null,null,0]
[null,529,null,null,null,null,null,null,null,0]
[null,530,null,null,null,null,null,null,null,0]
[null,531,null,null,null,null,null,null,null,0]
[null,532,null,null,null,null,null,null,null,0]
[null,533,null,null,null,null,null,null,null,0]
[null,534,null,null,null,null,null,null,null,0]
[null,535,null,null,null,null,null,null,null,0]
[null,536,null,null,null,null,null,null,null,0]
[null,537,null,null,null,null,null,null,null,0]
[null,538,null,null,null,null,null,null,null,0]
[null,539,null,null,null,null,null,null,null,0]
[null,540,null,null,null,null,null,null,null,0]
[null,541,null,null,null,null,null,null,null,0]
[null,542,null,null,null,null,null,null,null,0]
[null,543,null,null,null,null,null,null,null,0]
[null,544,null,null,null,null,null,null,null,0]
[null,545,null,null,null,null,null,null,null,0]
[null,546,null,null,null,null,null,null,null,0]
[null,547,null,null,null,null,null,null,null,0]
[null,548,null,null,null,null,null,null,null,0]
[null,549,null,null,null,null,null,null,null,0]
[null,550,null,null,null,null,null,null,null,0]
[null,551,null,null,null,null,null,null,null,{"$f":"IFERROR($G704*I704,0)","v":0}]
[null,552,null,null,null,null,null,null,null,{"$f":"IFERROR($G705*I705,0)","v":0}]
[null,553,null,null,null,null,null,null,null,0]
[null,554,null,null,null,null,null,null,null,0]
[null,555,null,null,null,null,null,null,null,0]
[null,556,null,null,null,null,null,null,null,0]
[null,557,null,null,null,null,null,null,null,0]
[null,558,null,null,null,null,null,null,null,0]
[null,559,null,null,null,null,null,null,null,0]
[null,560,null,null,null,null,null,null,null,0]
[null,561,null,null,null,null,null,null,null,0]
[null,562,null,null,null,null,null,null,null,0]
[null,563,null,null,null,null,null,null,null,0]
[null,564,null,null,null,null,null,null,null,0]
[null,565,null,null,null,null,null,null,null,0]
[null,566,null,null,null,null,null,null,null,0]
[null,567,null,null,null,null,null,null,null,0]
[null,568,null,null,null,null,null,null,null,0]
[null,569,null,null,null,null,null,null,null,0]
[null,570,null,null,null,null,null,null,null,0]
[null,571,null,null,null,null,null,null,null,0]
[null,572,null,null,null,null,null,null,null,0]
[null,573,null,null,null,null,null,null,null,0]
[null,574,null,null,null,null,null,null,null,0]
[null,575,null,null,null,null,null,null,null,0]
[null,576,null,null,null,null,null,null,null,0]
[null,577,null,null,null,null,null,null,null,0]
[null,578,null,null,null,null,null,null,null,0]
[null,579,null,null,null,null,null,null,null,0]
[null,580,null,null,null,null,null,null,null,0]
[null,581,null,null,null,null,null,null,null,0]
[null,582,null,null,null,null,null,null,null,0]
[null,583,null,null,null,null,null,null,null,0]
[null,584,null,null,null,null,null,null,null,0]
[null,585,null,null,null,null,null,null,null,0]
[null,586,null,null,null,null,null,null,null,0]
[null,587,null,null,null,null,null,null,null,0]
[null,588,null,null,null,null,null,null,null,0]
[null,589,null,null,null,null,null,null,null,0]
[null,590,null,null,null,null,null,null,null,0]
[null,591,null,null,null,null,null,null,null,0]
[null,592,null,null,null,null,null,null,null,0]
[null,593,null,null,null,null,null,null,null,0]
[null,594,null,null,null,null,null,null,null,0]
[null,595,null,null,null,null,null,null,null,0]
[null,596,null,null,null,null,null,null,null,0]
[null,597,null,null,null,null,null,null,null,0]
[null,598,null,null,null,null,null,null,null,0]
[null,599,null,null,null,null,null,null,null,0]
[null,600,null,null,null,null,null,null,null,0]
[null,601,null,null,null,null,null,null,null,{"$f":"IFERROR($G754*I754,0)","v":0}]
[null,602,null,null,null,null,null,null,null,{"$f":"IFERROR($G755*I755,0)","v":0}]
[null,603,null,null,null,null,null,null,null,0]
[null,604,null,null,null,null,null,null,null,0]
[null,605,null,null,null,null,null,null,null,0]
[null,606,null,null,null,null,null,null,null,0]
[null,607,null,null,null,null,null,null,null,0]
[null,608,null,null,null,null,null,null,null,0]
[null,609,null,null,null,null,null,null,null,0]
[null,610,null,null,null,null,null,null,null,0]
[null,611,null,null,null,null,null,null,null,0]
[null,612,null,null,null,null,null,null,null,0]
[null,613,null,null,null,null,null,null,null,0]
[null,614,null,null,null,null,null,null,null,0]
[null,615,null,null,null,null,null,null,null,0]
[null,616,null,null,null,null,null,null,null,0]
[null,617,null,null,null,null,null,null,null,0]
[null,618,null,null,null,null,null,null,null,0]
[null,619,null,null,null,null,null,null,null,0]
[null,620,null,null,null,null,null,null,null,0]
[null,621,null,null,null,null,null,null,null,0]
[null,622,null,null,null,null,null,null,null,0]
[null,623,null,null,null,null,null,null,null,0]
[null,624,null,null,null,null,null,null,null,0]
[null,625,null,null,null,null,null,null,null,0]
[null,626,null,null,null,null,null,null,null,0]
[null,627,null,null,null,null,null,null,null,0]
[null,628,null,null,null,null,null,null,null,0]
[null,629,null,null,null,null,null,null,null,0]
[null,630,null,null,null,null,null,null,null,0]
[null,631,null,null,null,null,null,null,null,0]
[null,632,null,null,null,null,null,null,null,0]
[null,633,null,null,null,null,null,null,null,0]
[null,634,null,null,null,null,null,null,null,0]
[null,635,null,null,null,null,null,null,null,0]
[null,636,null,null,null,null,null,null,null,0]
[null,637,null,null,null,null,null,null,null,0]
[null,638,null,null,null,null,null,null,null,0]
[null,639,null,null,null,null,null,null,null,0]
[null,640,null,null,null,null,null,null,null,0]
[null,641,null,null,null,null,null,null,null,0]
[null,642,null,null,null,null,null,null,null,0]
[null,643,null,null,null,null,null,null,null,0]
[null,644,null,null,null,null,null,null,null,0]
[null,645,null,null,null,null,null,null,null,0]
[null,646,null,null,null,null,null,null,null,0]
[null,647,null,null,null,null,null,null,null,0]
[null,648,null,null,null,null,null,null,null,0]
[null,649,null,null,null,null,null,null,null,0]
[null,650,null,null,null,null,null,null,null,0]
[null,651,null,null,null,null,null,null,null,{"$f":"IFERROR($G804*I804,0)","v":0}]
[null,652,null,null,null,null,null,null,null,{"$f":"IFERROR($G805*I805,0)","v":0}]
[null,653,null,null,null,null,null,null,null,0]
[null,654,null,null,null,null,null,null,null,0]
[null,655,null,null,null,null,null,null,null,0]
[null,656,null,null,null,null,null,null,null,0]
[null,657,null,null,null,null,null,null,null,0]
[null,658,null,null,null,null,null,null,null,0]
[null,659,null,null,null,null,null,null,null,0]
[null,660,null,null,null,null,null,null,null,0]
[null,661,null,null,null,null,null,null,null,0]
[null,662,null,null,null,null,null,null,null,0]
[null,663,null,null,null,null,null,null,null,0]
[null,664,null,null,null,null,null,null,null,0]
[null,665,null,null,null,null,null,null,null,0]
[null,666,null,null,null,null,null,null,null,0]
[null,667,null,null,null,null,null,null,null,0]
[null,668,null,null,null,null,null,null,null,0]
[null,669,null,null,null,null,null,null,null,0]
[null,670,null,null,null,null,null,null,null,0]
[null,671,null,null,null,null,null,null,null,0]
[null,672,null,null,null,null,null,null,null,0]
[null,673,null,null,null,null,null,null,null,0]
[null,674,null,null,null,null,null,null,null,0]
[null,675,null,null,null,null,null,null,null,0]
[null,676,null,null,null,null,null,null,null,0]
[null,677,null,null,null,null,null,null,null,0]
[null,678,null,null,null,null,null,null,null,0]
[null,679,null,null,null,null,null,null,null,0]
[null,680,null,null,null,null,null,null,null,0]
[null,681,null,null,null,null,null,null,null,0]
[null,682,null,null,null,null,null,null,null,0]
[null,683,null,null,null,null,null,null,null,0]
[null,684,null,null,null,null,null,null,null,0]
[null,685,null,null,null,null,null,null,null,0]
[null,686,null,null,null,null,null,null,null,0]
[null,687,null,null,null,null,null,null,null,0]
[null,688,null,null,null,null,null,null,null,0]
[null,689,null,null,null,null,null,null,null,0]
[null,690,null,null,null,null,null,null,null,0]
[null,691,null,null,null,null,null,null,null,0]
[null,692,null,null,null,null,null,null,null,0]
[null,693,null,null,null,null,null,null,null,0]
[null,694,null,null,null,null,null,null,null,0]
[null,695,null,null,null,null,null,null,null,0]
[null,696,null,null,null,null,null,null,null,0]
[null,697,null,null,null,null,null,null,null,0]
[null,698,null,null,null,null,null,null,null,0]
[null,699,null,null,null,null,null,null,null,0]
[null,700,null,null,null,null,null,null,null,0]
[null,701,null,null,null,null,null,null,null,{"$f":"IFERROR($G854*I854,0)","v":0}]
[null,702,null,null,null,null,null,null,null,{"$f":"IFERROR($G855*I855,0)","v":0}]
[null,703,null,null,null,null,null,null,null,0]
[null,704,null,null,null,null,null,null,null,0]
[null,705,null,null,null,null,null,null,null,0]
[null,706,null,null,null,null,null,null,null,0]
[null,707,null,null,null,null,null,null,null,0]
[null,708,null,null,null,null,null,null,null,0]
[null,709,null,null,null,null,null,null,null,0]
[null,710,null,null,null,null,null,null,null,0]
[null,711,null,null,null,null,null,null,null,0]
[null,712,null,null,null,null,null,null,null,0]
[null,713,null,null,null,null,null,null,null,0]
[null,714,null,null,null,null,null,null,null,0]
[null,715,null,null,null,null,null,null,null,0]
[null,716,null,null,null,null,null,null,null,0]
[null,717,null,null,null,null,null,null,null,0]
[null,718,null,null,null,null,null,null,null,0]
[null,719,null,null,null,null,null,null,null,0]
[null,720,null,null,null,null,null,null,null,0]
[null,721,null,null,null,null,null,null,null,0]
[null,722,null,null,null,null,null,null,null,0]
[null,723,null,null,null,null,null,null,null,0]
[null,724,null,null,null,null,null,null,null,0]
[null,725,null,null,null,null,null,null,null,0]
[null,726,null,null,null,null,null,null,null,0]
[null,727,null,null,null,null,null,null,null,0]
[null,728,null,null,null,null,null,null,null,0]
[null,729,null,null,null,null,null,null,null,0]
[null,730,null,null,null,null,null,null,null,0]
[null,731,null,null,null,null,null,null,null,0]
[null,732,null,null,null,null,null,null,null,0]
[null,733,null,null,null,null,null,null,null,0]
[null,734,null,null,null,null,null,null,null,0]
[null,735,null,null,null,null,null,null,null,0]
[null,736,null,null,null,null,null,null,null,0]
[null,737,null,null,null,null,null,null,null,0]
[null,738,null,null,null,null,null,null,null,0]
[null,739,null,null,null,null,null,null,null,0]
[null,740,null,null,null,null,null,null,null,0]
[null,741,null,null,null,null,null,null,null,0]
[null,742,null,null,null,null,null,null,null,0]
[null,743,null,null,null,null,null,null,null,0]
[null,744,null,null,null,null,null,null,null,0]
[null,745,null,null,null,null,null,null,null,0]
[null,746,null,null,null,null,null,null,null,0]
[null,747,null,null,null,null,null,null,null,0]
[null,748,null,null,null,null,null,null,null,0]
[null,749,null,null,null,null,null,null,null,0]
[null,750,null,null,null,null,null,null,null,0]
[null,751,null,null,null,null,null,null,null,{"$f":"IFERROR($G904*I904,0)","v":0}]
[null,752,null,null,null,null,null,null,null,{"$f":"IFERROR($G905*I905,0)","v":0}]
[null,753,null,null,null,null,null,null,null,0]
[null,754,null,null,null,null,null,null,null,0]
[null,755,null,null,null,null,null,null,null,0]
[null,756,null,null,null,null,null,null,null,0]
[null,757,null,null,null,null,null,null,null,0]
[null,758,null,null,null,null,null,null,null,0]
[null,759,null,null,null,null,null,null,null,0]
[null,760,null,null,null,null,null,null,null,0]
[null,761,null,null,null,null,null,null,null,0]
[null,762,null,null,null,null,null,null,null,0]
[null,763,null,null,null,null,null,null,null,0]
[null,764,null,null,null,null,null,null,null,0]
[null,765,null,null,null,null,null,null,null,0]
[null,766,null,null,null,null,null,null,null,0]
[null,767,null,null,null,null,null,null,null,0]
[null,768,null,null,null,null,null,null,null,0]
[null,769,null,null,null,null,null,null,null,0]
[null,770,null,null,null,null,null,null,null,0]
[null,771,null,null,null,null,null,null,null,0]
[null,772,null,null,null,null,null,null,null,0]
[null,773,null,null,null,null,null,null,null,0]
[null,774,null,null,null,null,null,null,null,0]
[null,775,null,null,null,null,null,null,null,0]
[null,776,null,null,null,null,null,null,null,0]
[null,777,null,null,null,null,null,null,null,0]
[null,778,null,null,null,null,null,null,null,0]
[null,779,null,null,null,null,null,null,null,0]
[null,780,null,null,null,null,null,null,null,0]
[null,781,null,null,null,null,null,null,null,0]
[null,782,null,null,null,null,null,null,null,0]
[null,783,null,null,null,null,null,null,null,0]
[null,784,null,null,null,null,null,null,null,0]
[null,785,null,null,null,null,null,null,null,0]
[null,786,null,null,null,null,null,null,null,0]
[null,787,null,null,null,null,null,null,null,0]
[null,788,null,null,null,null,null,null,null,0]
[null,789,null,null,null,null,null,null,null,0]
[null,790,null,null,null,null,null,null,null,0]
[null,791,null,null,null,null,null,null,null,0]
[null,792,null,null,null,null,null,null,null,0]
[null,793,null,null,null,null,null,null,null,0]
[null,794,null,null,null,null,null,null,null,0]
[null,795,null,null,null,null,null,null,null,0]
[null,796,null,null,null,null,null,null,null,0]
[null,797,null,null,null,null,null,null,null,0]
[null,798,null,null,null,null,null,null,null,0]
[null,799,null,null,null,null,null,null,null,0]
[null,800,null,null,null,null,null,null,null,0]
[null,801,null,null,null,null,null,null,null,{"$f":"IFERROR($G954*I954,0)","v":0}]
[null,802,null,null,null,null,null,null,null,{"$f":"IFERROR($G955*I955,0)","v":0}]
[null,803,null,null,null,null,null,null,null,0]
[null,804,null,null,null,null,null,null,null,0]
[null,805,null,null,null,null,null,null,null,0]
[null,806,null,null,null,null,null,null,null,0]
[null,807,null,null,null,null,null,null,null,0]
[null,808,null,null,null,null,null,null,null,0]
[null,809,null,null,null,null,null,null,null,0]
[null,810,null,null,null,null,null,null,null,0]
[null,811,null,null,null,null,null,null,null,0]
[null,812,null,null,null,null,null,null,null,0]
[null,813,null,null,null,null,null,null,null,0]
[null,814,null,null,null,null,null,null,null,0]
[null,815,null,null,null,null,null,null,null,0]
[null,816,null,null,null,null,null,null,null,0]
[null,817,null,null,null,null,null,null,null,0]
[null,818,null,null,null,null,null,null,null,0]
[null,819,null,null,null,null,null,null,null,0]
[null,820,null,null,null,null,null,null,null,0]
[null,821,null,null,null,null,null,null,null,0]
[null,822,null,null,null,null,null,null,null,0]
[null,823,null,null,null,null,null,null,null,0]
[null,824,null,null,null,null,null,null,null,0]
[null,825,null,null,null,null,null,null,null,0]
[null,826,null,null,null,null,null,null,null,0]
[null,827,null,null,null,null,null,null,null,0]
[null,828,null,null,null,null,null,null,null,0]
[null,829,null,null,null,null,null,null,null,0]
[null,830,null,null,null,null,null,null,null,0]
[null,831,null,null,null,null,null,null,null,0]
[null,832,null,null,null,null,null,null,null,0]
[null,833,null,null,null,null,null,null,null,0]
[null,834,null,null,null,null,null,null,null,0]
[null,835,null,null,null,null,null,null,null,0]
[null,836,null,null,null,null,null,null,null,0]
[null,837,null,null,null,null,null,null,null,0]
[null,838,null,null,null,null,null,null,null,0]
[null,839,null,null,null,null,null,null,null,0]
[null,840,null,null,null,null,null,null,null,0]
[null,841,null,null,null,null,null,null,null,0]
[null,842,null,null,null,null,null,null,null,0]
[null,843,null,null,null,null,null,null,null,0]
[null,844,null,null,null,null,null,null,null,0]
[null,845,null,null,null,null,null,null,null,0]
[null,846,null,null,null,null,null,null,null,0]
[null,847,null,null,null,null,null,null,null,0]
[null,848,null,null,null,null,null,null,null,0]
[null,849,null,null,null,null,null,null,null,0]
[null,850,null,null,null,null,null,null,null,0]
[null,851,null,null,null,null,null,null,null,{"$f":"IFERROR($G1004*I1004,0)","v":0}]
[null,852,null,null,null,null,null,null,null,{"$f":"IFERROR($G1005*I1005,0)","v":0}]
[null,853,null,null,null,null,null,null,null,0]
[null,854,null,null,null,null,null,null,null,0]
[null,855,null,null,null,null,null,null,null,0]
[null,856,null,null,null,null,null,null,null,0]
[null,857,null,null,null,null,null,null,null,0]
[null,858,null,null,null,null,null,null,null,0]
[null,859,null,null,null,null,null,null,null,0]
[null,860,null,null,null,null,null,null,null,0]
[null,861,null,null,null,null,null,null,null,0]
[null,862,null,null,null,null,null,null,null,0]
[null,863,null,null,null,null,null,null,null,0]
[null,864,null,null,null,null,null,null,null,0]
[null,865,null,null,null,null,null,null,null,0]
[null,866,null,null,null,null,null,null,null,0]
[null,867,null,null,null,null,null,null,null,0]
[null,868,null,null,null,null,null,null,null,0]
[null,869,null,null,null,null,null,null,null,0]
[null,870,null,null,null,null,null,null,null,0]
[null,871,null,null,null,null,null,null,null,0]
[null,872,null,null,null,null,null,null,null,0]
[null,873,null,null,null,null,null,null,null,0]
[null,874,null,null,null,null,null,null,null,0]
[null,875,null,null,null,null,null,null,null,0]
[null,876,null,null,null,null,null,null,null,0]
[null,877,null,null,null,null,null,null,null,0]
[null,878,null,null,null,null,null,null,null,0]
[null,879,null,null,null,null,null,null,null,0]
[null,880,null,null,null,null,null,null,null,0]
[null,881,null,null,null,null,null,null,null,0]
[null,882,null,null,null,null,null,null,null,0]
[null,883,null,null,null,null,null,null,null,0]
[null,884,null,null,null,null,null,null,null,0]
[null,885,null,null,null,null,null,null,null,0]
[null,886,null,null,null,null,null,null,null,0]
[null,887,null,null,null,null,null,null,null,0]
[null,888,null,null,null,null,null,null,null,0]
[null,889,null,null,null,null,null,null,null,0]
[null,890,null,null,null,null,null,null,null,0]
[null,891,null,null,null,null,null,null,null,0]
[null,892,null,null,null,null,null,null,null,0]
[null,893,null,null,null,null,null,null,null,0]
[null,894,null,null,null,null,null,null,null,0]
[null,895,null,null,null,null,null,null,null,0]
[null,896,null,null,null,null,null,null,null,0]
[null,897,null,null,null,null,null,null,null,0]
[null,898,null,null,null,null,null,null,null,0]
[null,899,null,null,null,null,null,null,null,0]
[null,900,null,null,null,null,null,null,null,0]
[null,901,null,null,null,null,null,null,null,{"$f":"IFERROR($G1054*I1054,0)","v":0}]
[null,902,null,null,null,null,null,null,null,{"$f":"IFERROR($G1055*I1055,0)","v":0}]
[null,903,null,null,null,null,null,null,null,0]
[null,904,null,null,null,null,null,null,null,0]
[null,905,null,null,null,null,null,null,null,0]
[null,906,null,null,null,null,null,null,null,0]
[null,907,null,null,null,null,null,null,null,0]
[null,908,null,null,null,null,null,null,null,0]
[null,909,null,null,null,null,null,null,null,0]
[null,910,null,null,null,null,null,null,null,0]
[null,911,null,null,null,null,null,null,null,0]
[null,912,null,null,null,null,null,null,null,0]
[null,913,null,null,null,null,null,null,null,0]
[null,914,null,null,null,null,null,null,null,0]
[null,915,null,null,null,null,null,null,null,0]
[null,916,null,null,null,null,null,null,null,0]
[null,917,null,null,null,null,null,null,null,0]
[null,918,null,null,null,null,null,null,null,0]
[null,919,null,null,null,null,null,null,null,0]
[null,920,null,null,null,null,null,null,null,0]
[null,921,null,null,null,null,null,null,null,0]
[null,922,null,null,null,null,null,null,null,0]
[null,923,null,null,null,null,null,null,null,0]
[null,924,null,null,null,null,null,null,null,0]
[null,925,null,null,null,null,null,null,null,0]
[null,926,null,null,null,null,null,null,null,0]
[null,927,null,null,null,null,null,null,null,0]
[null,928,null,null,null,null,null,null,null,0]
[null,929,null,null,null,null,null,null,null,0]
[null,930,null,null,null,null,null,null,null,0]
[null,931,null,null,null,null,null,null,null,0]
[null,932,null,null,null,null,null,null,null,0]
[null,933,null,null,null,null,null,null,null,0]
[null,934,null,null,null,null,null,null,null,0]
[null,935,null,null,null,null,null,null,null,0]
[null,936,null,null,null,null,null,null,null,0]
[null,937,null,null,null,null,null,null,null,0]
[null,938,null,null,null,null,null,null,null,0]
[null,939,null,null,null,null,null,null,null,0]
[null,940,null,null,null,null,null,null,null,0]
[null,941,null,null,null,null,null,null,null,0]
[null,942,null,null,null,null,null,null,null,0]
[null,943,null,null,null,null,null,null,null,0]
[null,944,null,null,null,null,null,null,null,0]
[null,945,null,null,null,null,null,null,null,0]
[null,946,null,null,null,null,null,null,null,0]
[null,947,null,null,null,null,null,null,null,0]
[null,948,null,null,null,null,null,null,null,0]
[null,949,null,null,null,null,null,null,null,0]
[null,950,null,null,null,null,null,null,null,0]
[null,951,null,null,null,null,null,null,null,{"$f":"IFERROR($G1104*I1104,0)","v":0}]
[null,952,null,null,null,null,null,null,null,{"$f":"IFERROR($G1105*I1105,0)","v":0}]
[null,953,null,null,null,null,null,null,null,0]
[null,954,null,null,null,null,null,null,null,0]
[null,955,null,null,null,null,null,null,null,0]
[null,956,null,null,null,null,null,null,null,0]
[null,957,null,null,null,null,null,null,null,0]
[null,958,null,null,null,null,null,null,null,0]
[null,959,null,null,null,null,null,null,null,0]
[null,960,null,null,null,null,null,null,null,0]
[null,961,null,null,null,null,null,null,null,0]
[null,962,null,null,null,null,null,null,null,0]
[null,963,null,null,null,null,null,null,null,0]
[null,964,null,null,null,null,null,null,null,0]
[null,965,null,null,null,null,null,null,null,0]
[null,966,null,null,null,null,null,null,null,0]
[null,967,null,null,null,null,null,null,null,0]
[null,968,null,null,null,null,null,null,null,0]
[null,969,null,null,null,null,null,null,null,0]
[null,970,null,null,null,null,null,null,null,0]
[null,971,null,null,null,null,null,null,null,0]
[null,972,null,null,null,null,null,null,null,0]
[null,973,null,null,null,null,null,null,null,0]
[null,974,null,null,null,null,null,null,null,0]
[null,975,null,null,null,null,null,null,null,0]
[null,976,null,null,null,null,null,null,null,0]
[null,977,null,null,null,null,null,null,null,0]
[null,978,null,null,null,null,null,null,null,0]
[null,979,null,null,null,null,null,null,null,0]
[null,980,null,null,null,null,null,null,null,0]
[null,981,null,null,null,null,null,null,null,0]
[null,982,null,null,null,null,null,null,null,0]
[null,983,null,null,null,null,null,null,null,0]
[null,984,null,null,null,null,null,null,null,0]
[null,985,null,null,null,null,null,null,null,0]
[null,986,null,null,null,null,null,null,null,0]
[null,987,null,null,null,null,null,null,null,0]
[null,988,null,null,null,null,null,null,null,0]
[null,989,null,null,null,null,null,null,null,0]
[null,990,null,null,null,null,null,null,null,0]
[null,991,null,null,null,null,null,null,null,0]
[null,992,null,null,null,null,null,null,null,0]
[null,993,null,null,null,null,null,null,null,0]
[null,994,null,null,null,null,null,null,null,0]
[null,995,null,null,null,null,null,null,null,0]
[null,996,null,null,null,null,null,null,null,0]
[null,997,null,null,null,null,null,null,null,0]
[null,998,null,null,null,null,null,null,null,0]
[null,999,null,null,null,null,null,null,null,0]
[null,1000,null,null,null,null,null,null,null,0]
[null,1001,"รวม (total)",null,null,null,{"$f":"SUM(G154:G203)","v":0},{"$f":"SUM(H154:H203)","v":0},null,{"$f":"SUM(J154:J203)","v":0}]

{"sheet":"แบบฟอร์มที่ 8","index":20,"n_rows":62,"n_cols":1009,"rows_kept":62,"cut":false,"hidden":false,"merged":[[59,2,59,5],[45,8,45,16],[37,2,37,6],[38,2,38,6],[39,2,39,6],[40,2,40,6],[46,9,46,13],[47,2,47,5],[47,9,47,13],[48,2,48,5],[52,2,52,5],[50,2,50,5],[51,2,51,5],[50,9,50,13],[49,9,49,13],[49,2,49,5],[48,9,48,13],[51,9,51,13],[16,3,16,6],[20,2,20,6],[11,3,11,6],[12,3,12,6],[46,2,46,5],[36,2,36,6],[21,2,21,6],[14,3,14,6],[15,3,15,6],[41,2,41,6],[29,3,29,6],[22,2,22,6],[54,1,58,1],[54,2,54,5],[55,2,55,5],[56,2,56,5],[57,2,57,5],[58,2,58,5],[53,2,53,5],[46,1,53,1],[2,4,2,8],[3,4,3,8],[9,3,9,6],[10,3,10,6],[32,1,35,1],[32,3,32,6],[33,3,33,6],[31,2,31,6],[35,2,35,6],[34,3,34,6],[27,1,31,1],[27,3,27,6],[30,3,30,6],[28,3,28,6],[7,1008,8,1008],[25,1,26,1],[25,2,26,6],[25,7,26,7],[25,8,25,1007],[25,1008,26,1008],[7,1,8,1],[7,2,8,6],[7,7,8,7],[7,8,7,1007],[9,1,13,1],[14,1,17,1],[13,2,13,6],[17,2,17,6],[18,2,18,6],[19,2,19,6]]}
["แบบฟอร์มที่ 8 การคำนวณเงินกองทุนสำหรับความเสี่ยงด้านเครดิตจากการประกันภัยต่อและการคำนวณความเสี่ยงด้านการกระจุกตัวจากการประกันภัยต่อ"]
[]
[null,"บริษัท",null,null,{"$f":"รายชื่อแบบฟอร์ม!C3","v":0}]
[null,"ณ วันที่",null,null,{"$f":"รายชื่อแบบฟอร์ม!C4","v":"00:00:00"}]
[]
[]
[null,"ตารางที่ 8.1 เงินกองทุนสำหรับความเสี่ยงจากการประกันภัยต่อสำหรับผู้รับประกันภัยต่อในประเทศ"]
[null,"ลำดับที่","รายการ",null,null,null,null,"สัญญาประกันภัยต่อทางการเงิน/1","สัญญาประกันภัยต่อที่ไม่ใช่สัญญาประกันภัยต่อทางการเงิน",null,null,null,null,null,null,null,null,null,null,null,null,null,null,null,null,null,null,null,null,null,null,null,null,null,null,null,null,null,null,null,null,null,null,null,null,null,null,null,null,null,null,null,null,null,null,null,null,null,null,null,null,null,null,null,null,null,null,null,null,null,null,null,null,null,null,null,null,null,null,null,null,null,null,null,null,null,null,null,null,null,null,null,null,null,null,null,null,null,null,null,null,null,null,null,null,null,null,null,null,null,null,null,null,null,null,null,null,null,null,null,null,null,null,null,null,null,null,null,null,null,null,null,null,null,null,null,null,null,null,null,null,null,null,null,null,null,null,null,null,null,null,null,null,null,null,null,null,null,null,null,null,null,null,null,null,null,null,null,null,null,null,null,null,null,null,null,null,null,null,null,null,null,null,null,null,null,null,null,null,null,null,null,null,null,null,null,null,null,null,null,null,null,null,null,null,null,null,null,null,null,null,null,null,null,null,null,null,null,null,null,null,null,null,null,null,null,null,null,null,null,null,null,null,null,null,null,null,null,null,null,null,null,null,null,null,null,null,null,null,null,null,null,null,null,null,null,null,null,null,null,null,null,null,null,null,null,null,null,null,null,null,null,null,null,null,null,null,null,null,null,null,null,null,null,null,null,null,null,null,null,null,null,null,null,null,null,null,null,null,null,null,null,null,null,null,null,null,null,null,null,null,null,null,null,null,null,null,null,null,null,null,null,null,null,null,null,null,null,null,null,null,null,null,null,null,null,null,null,null,null,null,null,null,null,null,null,null,null,null,null,null,null,null,null,null,null,null,null,null,null,null,null,null,null,null,null,null,null,null,null,null,null,null,null,null,null,null,null,null,null,null,null,null,null,null,null,null,null,null,null,null,null,null,null,null,null,null,null,null,null,null,null,null,null,null,null,null,null,null,null,null,null,null,null,null,null,null,null,null,null,null,null,null,null,null,null,null,null,null,null,null,null,null,null,null,null,null,null,null,null,null,null,null,null,null,null,null,null,null,null,null,null,null,null,null,null,null,null,null,null,null,null,null,null,null,null,null,null,null,null,null,null,null,null,null,null,null,null,null,null,null,null,null,null,null,null,null,null,null,null,null,null,null,null,null,null,null,null,null,null,null,null,null,null,null,null,null,null,null,null,null,null,null,null,null,null,null,null,null,null,null,null,null,null,null,null,null,null,null,null,null,null,null,null,null,null,null,null,null,null,null,null,null,null,null,null,null,null,null,null,null,null,null,null,null,null,null,null,null,null,null,null,null,null,null,null,null,null,null,null,null,null,null,null,null,null,null,null,null,null,null,null,null,null,null,null,null,null,null,null,null,null,null,null,null,null,null,null,null,null,null,null,null,null,null,null,null,null,null,null,null,null,null,null,null,null,null,null,null,null,null,null,null,null,null,null,null,null,null,null,null,null,null,null,null,null,null,null,null,null,null,null,null,null,null,null,null,null,null,null,null,null,null,null,null,null,null,null,null,null,null,null,null,null,null,null,null,null,null,null,null,null,null,null,null,null,null,null,null,null,null,null,null,null,null,null,null,null,null,null,null,null,null,null,null,null,null,null,null,null,null,null,null,null,null,null,null,null,null,null,null,null,null,null,null,null,null,null,null,null,null,null,null,null,null,null,null,null,null,null,null,null,null,null,null,null,null,null,null,null,null,null,null,null,null,null,null,null,null,null,null,null,null,null,null,null,null,null,null,null,null,null,null,null,null,null,null,null,null,null,null,null,null,null,null,null,null,null,null,null,null,null,null,null,null,null,null,null,null,null,null,null,null,null,null,null,null,null,null,null,null,null,null,null,null,null,null,null,null,null,null,null,null,null,null,null,null,null,null,null,null,null,null,null,null,null,null,null,null,null,null,null,null,null,null,null,null,null,null,null,null,null,null,null,null,null,null,null,null,null,null,null,null,null,null,null,null,null,null,null,null,null,null,null,null,null,null,null,null,null,null,null,null,null,null,null,null,null,null,null,null,null,null,null,null,null,null,null,null,null,null,null,null,null,null,null,null,null,null,null,null,null,null,null,null,null,null,null,null,null,null,null,null,null,null,null,null,null,null,null,null,null,null,null,null,null,null,null,null,null,null,null,null,null,null,null,null,null,null,null,null,null,null,null,null,null,null,null,null,null,null,null,null,null,null,null,null,null,null,null,null,null,null,null,null,null,null,null,null,null,null,null,null,null,null,null,null,null,null,null,null,null,null,null,null,null,null,null,null,null,null,null,null,null,null,null,null,null,null,null,null,null,null,null,null,null,null,null,"รวม (total)"]
[]
[null,1,"(ก)","เงินวางไว้จากการประกันภัยต่อ (amounts deposit on reinsurance treaties)",null,null,null,null,null,null,null,null,null,null,null,null,null,null,null,null,null,null,null,null,null,null,null,null,null,null,null,null,null,null,null,null,null,null,null,null,null,null,null,null,null,null,null,null,null,null,null,null,null,null,null,null,null,null,null,null,null,null,null,null,null,null,null,null,null,null,null,null,null,null,null,null,null,null,null,null,null,null,null,null,null,null,null,null,null,null,null,null,null,null,null,null,null,null,null,null,null,null,null,null,null,null,null,null,null,null,null,null,null,null,null,null,null,null,null,null,null,null,null,null,null,null,null,null,null,null,null,null,null,null,null,null,null,null,null,null,null,null,null,null,null,null,null,null,null,null,null,null,null,null,null,null,null,null,null,null,null,null,null,null,null,null,null,null,null,null,null,null,null,null,null,null,null,null,null,null,null,null,null,null,null,null,null,null,null,null,null,null,null,null,null,null,null,null,null,null,null,null,null,null,null,null,null,null,null,null,null,null,null,null,null,null,null,null,null,null,null,null,null,null,null,null,null,null,null,null,null,null,null,null,null,null,null,null,null,null,null,null,null,null,null,null,null,null,null,null,null,null,null,null,null,null,null,null,null,null,null,null,null,null,null,null,null,null,null,null,null,null,null,null,null,null,null,null,null,null,null,null,null,null,null,null,null,null,null,null,null,null,null,null,null,null,null,null,null,null,null,null,null,null,null,null,null,null,null,null,null,null,null,null,null,null,null,null,null,null,null,null,null,null,null,null,null,null,null,null,null,null,null,null,null,null,null,null,null,null,null,null,null,null,null,null,null,null,null,null,null,null,null,null,null,null,null,null,null,null,null,null,null,null,null,null,null,null,null,null,null,null,null,null,null,null,null,null,null,null,null,null,null,null,null,null,null,null,null,null,null,null,null,null,null,null,null,null,null,null,null,null,null,null,null,null,null,null,null,null,null,null,null,null,null,null,null,null,null,null,null,null,null,null,null,null,null,null,null,null,null,null,null,null,null,null,null,null,null,null,null,null,null,null,null,null,null,null,null,null,null,null,null,null,null,null,null,null,null,null,null,null,null,null,null,null,null,null,null,null,null,null,null,null,null,null,null,null,null,null,null,null,null,null,null,null,null,null,null,null,null,null,null,null,null,null,null,null,null,null,null,null,null,null,null,null,null,null,null,null,null,null,null,null,null,null,null,null,null,null,null,null,null,null,null,null,null,null,null,null,null,null,null,null,null,null,null,null,null,null,null,null,null,null,null,null,null,null,null,null,null,null,null,null,null,null,null,null,null,null,null,null,null,null,null,null,null,null,null,null,null,null,null,null,null,null,null,null,null,null,null,null,null,null,null,null,null,null,null,null,null,null,null,null,null,null,null,null,null,null,null,null,null,null,null,null,null,null,null,null,null,null,null,null,null,null,null,null,null,null,null,null,null,null,null,null,null,null,null,null,null,null,null,null,null,null,null,null,null,null,null,null,null,null,null,null,null,null,null,null,null,null,null,null,null,null,null,null,null,null,null,null,null,null,null,null,null,null,null,null,null,null,null,null,null,null,null,null,null,null,null,null,null,null,null,null,null,null,null,null,null,null,null,null,null,null,null,null,null,null,null,null,null,null,null,null,null,null,null,null,null,null,null,null,null,null,null,null,null,null,null,null,null,null,null,null,null,null,null,null,null,null,null,null,null,null,null,null,null,null,null,null,null,null,null,null,null,null,null,null,null,null,null,null,null,null,null,null,null,null,null,null,null,null,null,null,null,null,null,null,null,null,null,null,null,null,null,null,null,null,null,null,null,null,null,null,null,null,null,null,null,null,null,null,null,null,null,null,null,null,null,null,null,null,null,null,null,null,null,null,null,null,null,null,null,null,null,null,null,null,null,null,null,null,null,null,null,null,null,null,null,null,null,null,null,null,null,null,null,null,null,null,null,null,null,null,null,null,null,null,null,null,null,null,null,null,null,null,null,null,null,null,null,null,null,null,null,null,null,null,null,null,null,null,null,null,null,null,null,null,null,null,null,null,null,null,null,null,null,null,null,null,null,null,null,null,null,null,null,null,null,null,null,null,null,null,null,null,null,null,null,null,null,null,null,null,null,null,null,null,null,null,null,null,null,null,null,null,null,null,null,null,null,null,null,null,null,null,null,null,null,null,null,null,null,null,null,null,null,null,null,null,null,null,null,null,null,null,null,null,null,null,null,null,null,null,null,null,null,null,null,null,null,null,null,null,null,null,null,null,null,null,null,null,null,null,null,null,null,null,null,null,null,null,null,null,null,null,null,null,null,null,null,null,null,null,null,null,{"$f":"SUM(H10:ALT10)","v":0}]
[null,null,"(ข)","เงินค้างรับเกี่ยวกับการประกันภัยต่อ (due from reinsurers)",null,null,null,null,null,null,null,null,null,null,null,null,null,null,null,null,null,null,null,null,null,null,null,null,null,null,null,null,null,null,null,null,null,null,null,null,null,null,null,null,null,null,null,null,null,null,null,null,null,null,null,null,null,null,null,null,null,null,null,null,null,null,null,null,null,null,null,null,null,null,null,null,null,null,null,null,null,null,null,null,null,null,null,null,null,null,null,null,null,null,null,null,null,null,null,null,null,null,null,null,null,null,null,null,null,null,null,null,null,null,null,null,null,null,null,null,null,null,null,null,null,null,null,null,null,null,null,null,null,null,null,null,null,null,null,null,null,null,null,null,null,null,null,null,null,null,null,null,null,null,null,null,null,null,null,null,null,null,null,null,null,null,null,null,null,null,null,null,null,null,null,null,null,null,null,null,null,null,null,null,null,null,null,null,null,null,null,null,null,null,null,null,null,null,null,null,null,null,null,null,null,null,null,null,null,null,null,null,null,null,null,null,null,null,null,null,null,null,null,null,null,null,null,null,null,null,null,null,null,null,null,null,null,null,null,null,null,null,null,null,null,null,null,null,null,null,null,null,null,null,null,null,null,null,null,null,null,null,null,null,null,null,null,null,null,null,null,null,null,null,null,null,null,null,null,null,null,null,null,null,null,null,null,null,null,null,null,null,null,null,null,null,null,null,null,null,null,null,null,null,null,null,null,null,null,null,null,null,null,null,null,null,null,null,null,null,null,null,null,null,null,null,null,null,null,null,null,null,null,null,null,null,null,null,null,null,null,null,null,null,null,null,null,null,null,null,null,null,null,null,null,null,null,null,null,null,null,null,null,null,null,null,null,null,null,null,null,null,null,null,null,null,null,null,null,null,null,null,null,null,null,null,null,null,null,null,null,null,null,null,null,null,null,null,null,null,null,null,null,null,null,null,null,null,null,null,null,null,null,null,null,null,null,null,null,null,null,null,null,null,null,null,null,null,null,null,null,null,null,null,null,null,null,null,null,null,null,null,null,null,null,null,null,null,null,null,null,null,null,null,null,null,null,null,null,null,null,null,null,null,null,null,null,null,null,null,null,null,null,null,null,null,null,null,null,null,null,null,null,null,null,null,null,null,null,null,null,null,null,null,null,null,null,null,null,null,null,null,null,null,null,null,null,null,null,null,null,null,null,null,null,null,null,null,null,null,null,null,null,null,null,null,null,null,null,null,null,null,null,null,null,null,null,null,null,null,null,null,null,null,null,null,null,null,null,null,null,null,null,null,null,null,null,null,null,null,null,null,null,null,null,null,null,null,null,null,null,null,null,null,null,null,null,null,null,null,null,null,null,null,null,null,null,null,null,null,null,null,null,null,null,null,null,null,null,null,null,null,null,null,null,null,null,null,null,null,null,null,null,null,null,null,null,null,null,null,null,null,null,null,null,null,null,null,null,null,null,null,null,null,null,null,null,null,null,null,null,null,null,null,null,null,null,null,null,null,null,null,null,null,null,null,null,null,null,null,null,null,null,null,null,null,null,null,null,null,null,null,null,null,null,null,null,null,null,null,null,null,null,null,null,null,null,null,null,null,null,null,null,null,null,null,null,null,null,null,null,null,null,null,null,null,null,null,null,null,null,null,null,null,null,null,null,null,null,null,null,null,null,null,null,null,null,null,null,null,null,null,null,null,null,null,null,null,null,null,null,null,null,null,null,null,null,null,null,null,null,null,null,null,null,null,null,null,null,null,null,null,null,null,null,null,null,null,null,null,null,null,null,null,null,null,null,null,null,null,null,null,null,null,null,null,null,null,null,null,null,null,null,null,null,null,null,null,null,null,null,null,null,null,null,null,null,null,null,null,null,null,null,null,null,null,null,null,null,null,null,null,null,null,null,null,null,null,null,null,null,null,null,null,null,null,null,null,null,null,null,null,null,null,null,null,null,null,null,null,null,null,null,null,null,null,null,null,null,null,null,null,null,null,null,null,null,null,null,null,null,null,null,null,null,null,null,null,null,null,null,null,null,null,null,null,null,null,null,null,null,null,null,null,null,null,null,null,null,null,null,null,null,null,null,null,null,null,null,null,null,null,null,null,null,null,null,null,null,null,null,null,null,null,null,null,null,null,null,null,null,null,null,null,null,null,null,null,null,null,null,null,null,null,null,null,null,null,null,null,null,null,null,null,null,null,null,null,null,null,null,null,null,null,null,null,null,null,null,null,null,null,null,null,null,null,null,null,null,null,null,null,null,null,null,null,null,null,null,null,null,null,null,null,null,null,null,null,null,null,null,null,null,null,null,null,null,null,{"$f":"SUM(H11:ALT11)","v":0}]
[null,null,"(ค)","สำรองประกันภัยส่วนที่เรียกคืนจากการประกันภัยต่อที่ไม่รวมค่าเผื่อความผันผวน (reinsurance recoveries on technical reserves without PAD)",null,null,null,null,null,null,null,null,null,null,null,null,null,null,null,null,null,null,null,null,null,null,null,null,null,null,null,null,null,null,null,null,null,null,null,null,null,null,null,null,null,null,null,null,null,null,null,null,null,null,null,null,null,null,null,null,null,null,null,null,null,null,null,null,null,null,null,null,null,null,null,null,null,null,null,null,null,null,null,null,null,null,null,null,null,null,null,null,null,null,null,null,null,null,null,null,null,null,null,null,null,null,null,null,null,null,null,null,null,null,null,null,null,null,null,null,null,null,null,null,null,null,null,null,null,null,null,null,null,null,null,null,null,null,null,null,null,null,null,null,null,null,null,null,null,null,null,null,null,null,null,null,null,null,null,null,null,null,null,null,null,null,null,null,null,null,null,null,null,null,null,null,null,null,null,null,null,null,null,null,null,null,null,null,null,null,null,null,null,null,null,null,null,null,null,null,null,null,null,null,null,null,null,null,null,null,null,null,null,null,null,null,null,null,null,null,null,null,null,null,null,null,null,null,null,null,null,null,null,null,null,null,null,null,null,null,null,null,null,null,null,null,null,null,null,null,null,null,null,null,null,null,null,null,null,null,null,null,null,null,null,null,null,null,null,null,null,null,null,null,null,null,null,null,null,null,null,null,null,null,null,null,null,null,null,null,null,null,null,null,null,null,null,null,null,null,null,null,null,null,null,null,null,null,null,null,null,null,null,null,null,null,null,null,null,null,null,null,null,null,null,null,null,null,null,null,null,null,null,null,null,null,null,null,null,null,null,null,null,null,null,null,null,null,null,null,null,null,null,null,null,null,null,null,null,null,null,null,null,null,null,null,null,null,null,null,null,null,null,null,null,null,null,null,null,null,null,null,null,null,null,null,null,null,null,null,null,null,null,null,null,null,null,null,null,null,null,null,null,null,null,null,null,null,null,null,null,null,null,null,null,null,null,null,null,null,null,null,null,null,null,null,null,null,null,null,null,null,null,null,null,null,null,null,null,null,null,null,null,null,null,null,null,null,null,null,null,null,null,null,null,null,null,null,null,null,null,null,null,null,null,null,null,null,null,null,null,null,null,null,null,null,null,null,null,null,null,null,null,null,null,null,null,null,null,null,null,null,null,null,null,null,null,null,null,null,null,null,null,null,null,null,null,null,null,null,null,null,null,null,null,null,null,null,null,null,null,null,null,null,null,null,null,null,null,null,null,null,null,null,null,null,null,null,null,null,null,null,null,null,null,null,null,null,null,null,null,null,null,null,null,null,null,null,null,null,null,null,null,null,null,null,null,null,null,null,null,null,null,null,null,null,null,null,null,null,null,null,null,null,null,null,null,null,null,null,null,null,null,null,null,null,null,null,null,null,null,null,null,null,null,null,null,null,null,null,null,null,null,null,null,null,null,null,null,null,null,null,null,null,null,null,null,null,null,null,null,null,null,null,null,null,null,null,null,null,null,null,null,null,null,null,null,null,null,null,null,null,null,null,null,null,null,null,null,null,null,null,null,null,null,null,null,null,null,null,null,null,null,null,null,null,null,null,null,null,null,null,null,null,null,null,null,null,null,null,null,null,null,null,null,null,null,null,null,null,null,null,null,null,null,null,null,null,null,null,null,null,null,null,null,null,null,null,null,null,null,null,null,null,null,null,null,null,null,null,null,null,null,null,null,null,null,null,null,null,null,null,null,null,null,null,null,null,null,null,null,null,null,null,null,null,null,null,null,null,null,null,null,null,null,null,null,null,null,null,null,null,null,null,null,null,null,null,null,null,null,null,null,null,null,null,null,null,null,null,null,null,null,null,null,null,null,null,null,null,null,null,null,null,null,null,null,null,null,null,null,null,null,null,null,null,null,null,null,null,null,null,null,null,null,null,null,null,null,null,null,null,null,null,null,null,null,null,null,null,null,null,null,null,null,null,null,null,null,null,null,null,null,null,null,null,null,null,null,null,null,null,null,null,null,null,null,null,null,null,null,null,null,null,null,null,null,null,null,null,null,null,null,null,null,null,null,null,null,null,null,null,null,null,null,null,null,null,null,null,null,null,null,null,null,null,null,null,null,null,null,null,null,null,null,null,null,null,null,null,null,null,null,null,null,null,null,null,null,null,null,null,null,null,null,null,null,null,null,null,null,null,null,null,null,null,null,null,null,null,null,null,null,null,null,null,null,null,null,null,null,null,null,null,null,null,null,null,null,null,null,null,null,null,null,null,null,null,null,null,null,null,null,null,null,null,null,null,null,null,null,null,null,null,null,null,null,null,null,null,null,null,null,null,null,null,null,null,{"$f":"SUM(H12:ALT12)","v":0}]
[null,null,"(ง)","ลูกหนี้ประกันภัยต่ออื่น (other reinsurance receivables)",null,null,null,null,null,null,null,null,null,null,null,null,null,null,null,null,null,null,null,null,null,null,null,null,null,null,null,null,null,null,null,null,null,null,null,null,null,null,null,null,null,null,null,null,null,null,null,null,null,null,null,null,null,null,null,null,null,null,null,null,null,null,null,null,null,null,null,null,null,null,null,null,null,null,null,null,null,null,null,null,null,null,null,null,null,null,null,null,null,null,null,null,null,null,null,null,null,null,null,null,null,null,null,null,null,null,null,null,null,null,null,null,null,null,null,null,null,null,null,null,null,null,null,null,null,null,null,null,null,null,null,null,null,null,null,null,null,null,null,null,null,null,null,null,null,null,null,null,null,null,null,null,null,null,null,null,null,null,null,null,null,null,null,null,null,null,null,null,null,null,null,null,null,null,null,null,null,null,null,null,null,null,null,null,null,null,null,null,null,null,null,null,null,null,null,null,null,null,null,null,null,null,null,null,null,null,null,null,null,null,null,null,null,null,null,null,null,null,null,null,null,null,null,null,null,null,null,null,null,null,null,null,null,null,null,null,null,null,null,null,null,null,null,null,null,null,null,null,null,null,null,null,null,null,null,null,null,null,null,null,null,null,null,null,null,null,null,null,null,null,null,null,null,null,null,null,null,null,null,null,null,null,null,null,null,null,null,null,null,null,null,null,null,null,null,null,null,null,null,null,null,null,null,null,null,null,null,null,null,null,null,null,null,null,null,null,null,null,null,null,null,null,null,null,null,null,null,null,null,null,null,null,null,null,null,null,null,null,null,null,null,null,null,null,null,null,null,null,null,null,null,null,null,null,null,null,null,null,null,null,null,null,null,null,null,null,null,null,null,null,null,null,null,null,null,null,null,null,null,null,null,null,null,null,null,null,null,null,null,null,null,null,null,null,null,null,null,null,null,null,null,null,null,null,null,null,null,null,null,null,null,null,null,null,null,null,null,null,null,null,null,null,null,null,null,null,null,null,null,null,null,null,null,null,null,null,null,null,null,null,null,null,null,null,null,null,null,null,null,null,null,null,null,null,null,null,null,null,null,null,null,null,null,null,null,null,null,null,null,null,null,null,null,null,null,null,null,null,null,null,null,null,null,null,null,null,null,null,null,null,null,null,null,null,null,null,null,null,null,null,null,null,null,null,null,null,null,null,null,null,null,null,null,null,null,null,null,null,null,null,null,null,null,null,null,null,null,null,null,null,null,null,null,null,null,null,null,null,null,null,null,null,null,null,null,null,null,null,null,null,null,null,null,null,null,null,null,null,null,null,null,null,null,null,null,null,null,null,null,null,null,null,null,null,null,null,null,null,null,null,null,null,null,null,null,null,null,null,null,null,null,null,null,null,null,null,null,null,null,null,null,null,null,null,null,null,null,null,null,null,null,null,null,null,null,null,null,null,null,null,null,null,null,null,null,null,null,null,null,null,null,null,null,null,null,null,null,null,null,null,null,null,null,null,null,null,null,null,null,null,null,null,null,null,null,null,null,null,null,null,null,null,null,null,null,null,null,null,null,null,null,null,null,null,null,null,null,null,null,null,null,null,null,null,null,null,null,null,null,null,null,null,null,null,null,null,null,null,null,null,null,null,null,null,null,null,null,null,null,null,null,null,null,null,null,null,null,null,null,null,null,null,null,null,null,null,null,null,null,null,null,null,null,null,null,null,null,null,null,null,null,null,null,null,null,null,null,null,null,null,null,null,null,null,null,null,null,null,null,null,null,null,null,null,null,null,null,null,null,null,null,null,null,null,null,null,null,null,null,null,null,null,null,null,null,null,null,null,null,null,null,null,null,null,null,null,null,null,null,null,null,null,null,null,null,null,null,null,null,null,null,null,null,null,null,null,null,null,null,null,null,null,null,null,null,null,null,null,null,null,null,null,null,null,null,null,null,null,null,null,null,null,null,null,null,null,null,null,null,null,null,null,null,null,null,null,null,null,null,null,null,null,null,null,null,null,null,null,null,null,null,null,null,null,null,null,null,null,null,null,null,null,null,null,null,null,null,null,null,null,null,null,null,null,null,null,null,null,null,null,null,null,null,null,null,null,null,null,null,null,null,null,null,null,null,null,null,null,null,null,null,null,null,null,null,null,null,null,null,null,null,null,null,null,null,null,null,null,null,null,null,null,null,null,null,null,null,null,null,null,null,null,null,null,null,null,null,null,null,null,null,null,null,null,null,null,null,null,null,null,null,null,null,null,null,null,null,null,null,null,null,null,null,null,null,null,null,null,null,null,null,null,null,null,null,null,null,null,null,null,null,null,null,null,{"$f":"SUM(H13:ALT13)","v":0}]
[null,null,"รวมสินทรัพย์จากการประกันภัยต่อ (total reinsurance assets)",null,null,null,null,{"$f":"SUM(H10:H13)","v":0},0,0,0,0,0,0,0,0,0,0,0,0,0,0,0,0,0,0,0,0,0,0,0,0,0,0,0,0,0,0,0,0,0,0,0,0,0,0,0,0,0,0,0,0,0,0,0,0,0,0,0,0,0,0,0,0,0,0,0,0,0,0,0,{"$f":"SUM(BT10:BT13)","v":0},0,0,0,0,0,0,0,0,0,0,0,0,0,0,0,0,0,0,0,0,0,0,0,0,0,0,0,0,0,0,0,0,0,0,0,0,0,0,0,0,0,0,0,0,0,0,0,0,0,0,0,0,0,0,0,0,0,0,0,0,0,0,0,{"$f":"SUM(EF10:EF13)","v":0},{"$f":"SUM(EG10:EG13)","v":0},{"$f":"SUM(EH10:EH13)","v":0},{"$f":"SUM(EI10:EI13)","v":0},0,0,0,0,0,0,0,0,0,0,0,0,0,0,0,0,0,0,0,0,0,0,0,0,0,0,0,0,0,0,0,0,0,0,0,0,0,0,0,0,0,0,0,0,0,0,0,0,0,0,0,0,0,0,0,0,0,0,0,0,0,0,0,{"$f":"SUM(GU10:GU13)","v":0},0,0,0,0,0,0,0,0,0,0,0,0,0,0,0,0,0,0,0,0,0,0,0,0,0,0,0,0,0,0,0,0,0,0,0,0,0,0,0,0,0,0,0,0,0,0,0,0,0,0,0,0,0,0,0,0,0,0,0,0,0,0,0,{"$f":"SUM(JG10:JG13)","v":0},0,0,0,0,0,0,0,0,0,0,0,0,0,0,0,0,0,0,0,0,0,0,0,0,0,0,0,0,0,0,0,0,0,0,0,0,0,0,0,0,0,0,0,0,0,0,0,0,0,0,0,0,0,0,0,0,0,0,0,0,0,0,0,0,0,0,0,0,0,0,0,0,0,0,0,0,0,0,0,0,0,0,0,0,0,0,0,0,0,0,0,0,0,0,0,0,0,0,0,0,0,0,0,0,0,0,0,0,0,0,0,0,0,0,0,0,0,0,0,0,0,0,0,0,0,0,0,0,0,0,0,0,0,0,0,0,0,0,0,0,0,0,0,0,0,0,0,0,0,0,0,0,0,0,0,0,0,0,{"$f":"SUM(PJ10:PJ13)","v":0},{"$f":"SUM(PK10:PK13)","v":0},{"$f":"SUM(PL10:PL13)","v":0},{"$f":"SUM(PM10:PM13)","v":0},0,0,0,0,0,0,0,0,0,0,0,0,0,0,0,0,0,0,0,0,0,0,0,0,0,0,0,0,0,0,0,0,0,0,0,0,0,0,0,0,0,0,0,0,0,0,0,0,0,0,0,0,0,0,0,0,0,0,0,0,0,0,0,{"$f":"SUM(RY10:RY13)","v":0},0,0,0,0,0,0,0,0,0,0,0,0,0,0,0,0,0,0,0,0,0,0,0,0,0,0,0,0,0,0,0,0,0,0,0,0,0,0,0,0,0,0,0,0,0,0,0,0,0,0,0,0,0,0,0,0,0,0,0,0,0,0,0,{"$f":"SUM(UK10:UK13)","v":0},0,0,0,0,0,0,0,0,0,0,0,0,0,0,0,0,0,0,0,0,0,0,0,0,0,0,0,0,0,0,0,0,0,0,0,0,0,0,0,0,0,0,0,0,0,0,0,0,0,0,0,0,0,0,0,0,0,0,0,0,0,0,0,{"$f":"SUM(WW10:WW13)","v":0},0,0,0,0,0,0,0,0,0,0,0,0,0,0,0,0,0,0,0,0,0,0,0,0,0,0,0,0,0,0,0,0,0,0,0,0,0,0,0,0,0,0,0,0,0,0,0,0,0,0,0,0,0,0,0,0,0,0,0,0,0,0,0,0,0,0,0,0,0,0,0,0,0,0,0,0,0,0,0,0,0,0,0,0,0,0,0,0,0,0,0,0,0,0,{"$f":"SUM(AAN10:AAN13)","v":0},{"$f":"SUM(AAO10:AAO13)","v":0},{"$f":"SUM(AAP10:AAP13)","v":0},{"$f":"SUM(AAQ10:AAQ13)","v":0},0,0,0,0,0,0,0,0,0,0,0,0,0,0,0,0,0,0,0,0,0,0,0,0,0,0,0,0,0,0,0,0,0,0,0,0,0,0,0,0,0,0,0,0,0,0,0,0,0,0,0,0,0,0,0,0,0,0,0,0,0,0,0,{"$f":"SUM(ADC10:ADC13)","v":0},0,0,0,0,0,0,0,0,0,0,0,0,0,0,0,0,0,0,0,0,0,0,0,0,0,0,0,0,0,0,0,0,0,0,0,0,0,0,0,0,0,0,0,0,0,0,0,0,0,0,0,0,0,0,0,0,0,0,0,0,0,0,0,{"$f":"SUM(AFO10:AFO13)","v":0},0,0,0,0,0,0,0,0,0,0,0,0,0,0,0,0,0,0,0,0,0,0,0,0,0,0,0,0,0,0,0,0,0,0,0,0,0,0,0,0,0,0,0,0,0,0,0,0,0,0,0,0,0,0,0,0,0,0,0,0,0,0,0,{"$f":"SUM(AIA10:AIA13)","v":0},0,0,0,0,0,0,0,0,0,0,0,0,0,0,0,0,0,0,0,0,0,0,0,0,0,0,0,0,0,0,0,0,0,0,0,0,0,0,0,0,0,0,0,0,0,0,0,0,0,0,0,0,0,0,0,0,0,0,0,0,{"$f":"SUM(AKJ10:AKJ13)","v":0},0,0,0,0,0,0,0,0,0,0,0,0,0,0,0,{"$f":"SUM(AKZ10:AKZ13)","v":0},0,0,0,0,0,0,0,0,0,0,0,0,0,0,0,{"$f":"SUM(ALP10:ALP13)","v":0},0,0,0,0,{"$f":"SUM(ALU10:ALU13)","v":0}]
[null,2,"(ก)","เงินถือไว้จากการประกันภัยต่อ (amounts withheld on reinsurance treaties)",null,null,null,null,null,null,null,null,null,null,null,null,null,null,null,null,null,null,null,null,null,null,null,null,null,null,null,null,null,null,null,null,null,null,null,null,null,null,null,null,null,null,null,null,null,null,null,null,null,null,null,null,null,null,null,null,null,null,null,null,null,null,null,null,null,null,null,null,null,null,null,null,null,null,null,null,null,null,null,null,null,null,null,null,null,null,null,null,null,null,null,null,null,null,null,null,null,null,null,null,null,null,null,null,null,null,null,null,null,null,null,null,null,null,null,null,null,null,null,null,null,null,null,null,null,null,null,null,null,null,null,null,null,null,null,null,null,null,null,null,null,null,null,null,null,null,null,null,null,null,null,null,null,null,null,null,null,null,null,null,null,null,null,null,null,null,null,null,null,null,null,null,null,null,null,null,null,null,null,null,null,null,null,null,null,null,null,null,null,null,null,null,null,null,null,null,null,null,null,null,null,null,null,null,null,null,null,null,null,null,null,null,null,null,null,null,null,null,null,null,null,null,null,null,null,null,null,null,null,null,null,null,null,null,null,null,null,null,null,null,null,null,null,null,null,null,null,null,null,null,null,null,null,null,null,null,null,null,null,null,null,null,null,null,null,null,null,null,null,null,null,null,null,null,null,null,null,null,null,null,null,null,null,null,null,null,null,null,null,null,null,null,null,null,null,null,null,null,null,null,null,null,null,null,null,null,null,null,null,null,null,null,null,null,null,null,null,null,null,null,null,null,null,null,null,null,null,null,null,null,null,null,null,null,null,null,null,null,null,null,null,null,null,null,null,null,null,null,null,null,null,null,null,null,null,null,null,null,null,null,null,null,null,null,null,null,null,null,null,null,null,null,null,null,null,null,null,null,null,null,null,null,null,null,null,null,null,null,null,null,null,null,null,null,null,null,null,null,null,null,null,null,null,null,null,null,null,null,null,null,null,null,null,null,null,null,null,null,null,null,null,null,null,null,null,null,null,null,null,null,null,null,null,null,null,null,null,null,null,null,null,null,null,null,null,null,null,null,null,null,null,null,null,null,null,null,null,null,null,null,null,null,null,null,null,null,null,null,null,null,null,null,null,null,null,null,null,null,null,null,null,null,null,null,null,null,null,null,null,null,null,null,null,null,null,null,null,null,null,null,null,null,null,null,null,null,null,null,null,null,null,null,null,null,null,null,null,null,null,null,null,null,null,null,null,null,null,null,null,null,null,null,null,null,null,null,null,null,null,null,null,null,null,null,null,null,null,null,null,null,null,null,null,null,null,null,null,null,null,null,null,null,null,null,null,null,null,null,null,null,null,null,null,null,null,null,null,null,null,null,null,null,null,null,null,null,null,null,null,null,null,null,null,null,null,null,null,null,null,null,null,null,null,null,null,null,null,null,null,null,null,null,null,null,null,null,null,null,null,null,null,null,null,null,null,null,null,null,null,null,null,null,null,null,null,null,null,null,null,null,null,null,null,null,null,null,null,null,null,null,null,null,null,null,null,null,null,null,null,null,null,null,null,null,null,null,null,null,null,null,null,null,null,null,null,null,null,null,null,null,null,null,null,null,null,null,null,null,null,null,null,null,null,null,null,null,null,null,null,null,null,null,null,null,null,null,null,null,null,null,null,null,null,null,null,null,null,null,null,null,null,null,null,null,null,null,null,null,null,null,null,null,null,null,null,null,null,null,null,null,null,null,null,null,null,null,null,null,null,null,null,null,null,null,null,null,null,null,null,null,null,null,null,null,null,null,null,null,null,null,null,null,null,null,null,null,null,null,null,null,null,null,null,null,null,null,null,null,null,null,null,null,null,null,null,null,null,null,null,null,null,null,null,null,null,null,null,null,null,null,null,null,null,null,null,null,null,null,null,null,null,null,null,null,null,null,null,null,null,null,null,null,null,null,null,null,null,null,null,null,null,null,null,null,null,null,null,null,null,null,null,null,null,null,null,null,null,null,null,null,null,null,null,null,null,null,null,null,null,null,null,null,null,null,null,null,null,null,null,null,null,null,null,null,null,null,null,null,null,null,null,null,null,null,null,null,null,null,null,null,null,null,null,null,null,null,null,null,null,null,null,null,null,null,null,null,null,null,null,null,null,null,null,null,null,null,null,null,null,null,null,null,null,null,null,null,null,null,null,null,null,null,null,null,null,null,null,null,null,null,null,null,null,null,null,null,null,null,null,null,null,null,null,null,null,null,null,null,null,null,null,null,null,null,null,null,null,null,null,null,null,null,null,null,null,null,null,null,null,null,null,null,null,null,null,null,null,null,null,null,null,null,null,null,{"$f":"SUM(H15:ALT15)","v":0}]
[null,null,"(ข)","เงินค้างจ่ายเกี่ยวกับการประกันภัยต่อ (due to reinsurers)",null,null,null,null,null,null,null,null,null,null,null,null,null,null,null,null,null,null,null,null,null,null,null,null,null,null,null,null,null,null,null,null,null,null,null,null,null,null,null,null,null,null,null,null,null,null,null,null,null,null,null,null,null,null,null,null,null,null,null,null,null,null,null,null,null,null,null,null,null,null,null,null,null,null,null,null,null,null,null,null,null,null,null,null,null,null,null,null,null,null,null,null,null,null,null,null,null,null,null,null,null,null,null,null,null,null,null,null,null,null,null,null,null,null,null,null,null,null,null,null,null,null,null,null,null,null,null,null,null,null,null,null,null,null,null,null,null,null,null,null,null,null,null,null,null,null,null,null,null,null,null,null,null,null,null,null,null,null,null,null,null,null,null,null,null,null,null,null,null,null,null,null,null,null,null,null,null,null,null,null,null,null,null,null,null,null,null,null,null,null,null,null,null,null,null,null,null,null,null,null,null,null,null,null,null,null,null,null,null,null,null,null,null,null,null,null,null,null,null,null,null,null,null,null,null,null,null,null,null,null,null,null,null,null,null,null,null,null,null,null,null,null,null,null,null,null,null,null,null,null,null,null,null,null,null,null,null,null,null,null,null,null,null,null,null,null,null,null,null,null,null,null,null,null,null,null,null,null,null,null,null,null,null,null,null,null,null,null,null,null,null,null,null,null,null,null,null,null,null,null,null,null,null,null,null,null,null,null,null,null,null,null,null,null,null,null,null,null,null,null,null,null,null,null,null,null,null,null,null,null,null,null,null,null,null,null,null,null,null,null,null,null,null,null,null,null,null,null,null,null,null,null,null,null,null,null,null,null,null,null,null,null,null,null,null,null,null,null,null,null,null,null,null,null,null,null,null,null,null,null,null,null,null,null,null,null,null,null,null,null,null,null,null,null,null,null,null,null,null,null,null,null,null,null,null,null,null,null,null,null,null,null,null,null,null,null,null,null,null,null,null,null,null,null,null,null,null,null,null,null,null,null,null,null,null,null,null,null,null,null,null,null,null,null,null,null,null,null,null,null,null,null,null,null,null,null,null,null,null,null,null,null,null,null,null,null,null,null,null,null,null,null,null,null,null,null,null,null,null,null,null,null,null,null,null,null,null,null,null,null,null,null,null,null,null,null,null,null,null,null,null,null,null,null,null,null,null,null,null,null,null,null,null,null,null,null,null,null,null,null,null,null,null,null,null,null,null,null,null,null,null,null,null,null,null,null,null,null,null,null,null,null,null,null,null,null,null,null,null,null,null,null,null,null,null,null,null,null,null,null,null,null,null,null,null,null,null,null,null,null,null,null,null,null,null,null,null,null,null,null,null,null,null,null,null,null,null,null,null,null,null,null,null,null,null,null,null,null,null,null,null,null,null,null,null,null,null,null,null,null,null,null,null,null,null,null,null,null,null,null,null,null,null,null,null,null,null,null,null,null,null,null,null,null,null,null,null,null,null,null,null,null,null,null,null,null,null,null,null,null,null,null,null,null,null,null,null,null,null,null,null,null,null,null,null,null,null,null,null,null,null,null,null,null,null,null,null,null,null,null,null,null,null,null,null,null,null,null,null,null,null,null,null,null,null,null,null,null,null,null,null,null,null,null,null,null,null,null,null,null,null,null,null,null,null,null,null,null,null,null,null,null,null,null,null,null,null,null,null,null,null,null,null,null,null,null,null,null,null,null,null,null,null,null,null,null,null,null,null,null,null,null,null,null,null,null,null,null,null,null,null,null,null,null,null,null,null,null,null,null,null,null,null,null,null,null,null,null,null,null,null,null,null,null,null,null,null,null,null,null,null,null,null,null,null,null,null,null,null,null,null,null,null,null,null,null,null,null,null,null,null,null,null,null,null,null,null,null,null,null,null,null,null,null,null,null,null,null,null,null,null,null,null,null,null,null,null,null,null,null,null,null,null,null,null,null,null,null,null,null,null,null,null,null,null,null,null,null,null,null,null,null,null,null,null,null,null,null,null,null,null,null,null,null,null,null,null,null,null,null,null,null,null,null,null,null,null,null,null,null,null,null,null,null,null,null,null,null,null,null,null,null,null,null,null,null,null,null,null,null,null,null,null,null,null,null,null,null,null,null,null,null,null,null,null,null,null,null,null,null,null,null,null,null,null,null,null,null,null,null,null,null,null,null,null,null,null,null,null,null,null,null,null,null,null,null,null,null,null,null,null,null,null,null,null,null,null,null,null,null,null,null,null,null,null,null,null,null,null,null,null,null,null,null,null,null,null,null,null,null,null,null,null,null,null,null,null,null,null,null,null,null,null,null,{"$f":"SUM(H16:ALT16)","v":0}]
[null,null,"(ค)","เจ้าหนี้ประกันภัยต่ออื่น (other reinsurance payables)",null,null,null,null,null,null,null,null,null,null,null,null,null,null,null,null,null,null,null,null,null,null,null,null,null,null,null,null,null,null,null,null,null,null,null,null,null,null,null,null,null,null,null,null,null,null,null,null,null,null,null,null,null,null,null,null,null,null,null,null,null,null,null,null,null,null,null,null,null,null,null,null,null,null,null,null,null,null,null,null,null,null,null,null,null,null,null,null,null,null,null,null,null,null,null,null,null,null,null,null,null,null,null,null,null,null,null,null,null,null,null,null,null,null,null,null,null,null,null,null,null,null,null,null,null,null,null,null,null,null,null,null,null,null,null,null,null,null,null,null,null,null,null,null,null,null,null,null,null,null,null,null,null,null,null,null,null,null,null,null,null,null,null,null,null,null,null,null,null,null,null,null,null,null,null,null,null,null,null,null,null,null,null,null,null,null,null,null,null,null,null,null,null,null,null,null,null,null,null,null,null,null,null,null,null,null,null,null,null,null,null,null,null,null,null,null,null,null,null,null,null,null,null,null,null,null,null,null,null,null,null,null,null,null,null,null,null,null,null,null,null,null,null,null,null,null,null,null,null,null,null,null,null,null,null,null,null,null,null,null,null,null,null,null,null,null,null,null,null,null,null,null,null,null,null,null,null,null,null,null,null,null,null,null,null,null,null,null,null,null,null,null,null,null,null,null,null,null,null,null,null,null,null,null,null,null,null,null,null,null,null,null,null,null,null,null,null,null,null,null,null,null,null,null,null,null,null,null,null,null,null,null,null,null,null,null,null,null,null,null,null,null,null,null,null,null,null,null,null,null,null,null,null,null,null,null,null,null,null,null,null,null,null,null,null,null,null,null,null,null,null,null,null,null,null,null,null,null,null,null,null,null,null,null,null,null,null,null,null,null,null,null,null,null,null,null,null,null,null,null,null,null,null,null,null,null,null,null,null,null,null,null,null,null,null,null,null,null,null,null,null,null,null,null,null,null,null,null,null,null,null,null,null,null,null,null,null,null,null,null,null,null,null,null,null,null,null,null,null,null,null,null,null,null,null,null,null,null,null,null,null,null,null,null,null,null,null,null,null,null,null,null,null,null,null,null,null,null,null,null,null,null,null,null,null,null,null,null,null,null,null,null,null,null,null,null,null,null,null,null,null,null,null,null,null,null,null,null,null,null,null,null,null,null,null,null,null,null,null,null,null,null,null,null,null,null,null,null,null,null,null,null,null,null,null,null,null,null,null,null,null,null,null,null,null,null,null,null,null,null,null,null,null,null,null,null,null,null,null,null,null,null,null,null,null,null,null,null,null,null,null,null,null,null,null,null,null,null,null,null,null,null,null,null,null,null,null,null,null,null,null,null,null,null,null,null,null,null,null,null,null,null,null,null,null,null,null,null,null,null,null,null,null,null,null,null,null,null,null,null,null,null,null,null,null,null,null,null,null,null,null,null,null,null,null,null,null,null,null,null,null,null,null,null,null,null,null,null,null,null,null,null,null,null,null,null,null,null,null,null,null,null,null,null,null,null,null,null,null,null,null,null,null,null,null,null,null,null,null,null,null,null,null,null,null,null,null,null,null,null,null,null,null,null,null,null,null,null,null,null,null,null,null,null,null,null,null,null,null,null,null,null,null,null,null,null,null,null,null,null,null,null,null,null,null,null,null,null,null,null,null,null,null,null,null,null,null,null,null,null,null,null,null,null,null,null,null,null,null,null,null,null,null,null,null,null,null,null,null,null,null,null,null,null,null,null,null,null,null,null,null,null,null,null,null,null,null,null,null,null,null,null,null,null,null,null,null,null,null,null,null,null,null,null,null,null,null,null,null,null,null,null,null,null,null,null,null,null,null,null,null,null,null,null,null,null,null,null,null,null,null,null,null,null,null,null,null,null,null,null,null,null,null,null,null,null,null,null,null,null,null,null,null,null,null,null,null,null,null,null,null,null,null,null,null,null,null,null,null,null,null,null,null,null,null,null,null,null,null,null,null,null,null,null,null,null,null,null,null,null,null,null,null,null,null,null,null,null,null,null,null,null,null,null,null,null,null,null,null,null,null,null,null,null,null,null,null,null,null,null,null,null,null,null,null,null,null,null,null,null,null,null,null,null,null,null,null,null,null,null,null,null,null,null,null,null,null,null,null,null,null,null,null,null,null,null,null,null,null,null,null,null,null,null,null,null,null,null,null,null,null,null,null,null,null,null,null,null,null,null,null,null,null,null,null,null,null,null,null,null,null,null,null,null,null,null,null,null,null,null,null,null,null,null,null,null,null,null,null,null,null,null,null,null,{"$f":"SUM(H17:ALT17)","v":0}]
[null,null,"รวมหนี้สินจากการประกันภัยต่อ (total reinsurance liabilities)",null,null,null,null,{"$f":"SUM(H15:H17)","v":0},0,0,0,0,0,0,0,0,0,0,0,0,0,0,0,0,0,0,0,0,0,0,0,0,0,0,0,0,0,0,0,0,0,0,0,0,0,0,0,0,0,0,0,0,0,0,0,0,0,0,0,0,0,0,0,0,0,0,0,0,0,0,0,{"$f":"SUM(BT15:BT17)","v":0},0,0,0,0,0,0,0,0,0,0,0,0,0,0,0,0,0,0,0,0,0,0,0,0,0,0,0,0,0,0,0,0,0,0,0,0,0,0,0,0,0,0,0,0,0,0,0,0,0,0,0,0,0,0,0,0,0,0,0,0,0,0,0,{"$f":"SUM(EF15:EF17)","v":0},{"$f":"SUM(EG15:EG17)","v":0},{"$f":"SUM(EH15:EH17)","v":0},{"$f":"SUM(EI15:EI17)","v":0},0,0,0,0,0,0,0,0,0,0,0,0,0,0,0,0,0,0,0,0,0,0,0,0,0,0,0,0,0,0,0,0,0,0,0,0,0,0,0,0,0,0,0,0,0,0,0,0,0,0,0,0,0,0,0,0,0,0,0,0,0,0,0,{"$f":"SUM(GU15:GU17)","v":0},0,0,0,0,0,0,0,0,0,0,0,0,0,0,0,0,0,0,0,0,0,0,0,0,0,0,0,0,0,0,0,0,0,0,0,0,0,0,0,0,0,0,0,0,0,0,0,0,0,0,0,0,0,0,0,0,0,0,0,0,0,0,0,{"$f":"SUM(JG15:JG17)","v":0},0,0,0,0,0,0,0,0,0,0,0,0,0,0,0,0,0,0,0,0,0,0,0,0,0,0,0,0,0,0,0,0,0,0,0,0,0,0,0,0,0,0,0,0,0,0,0,0,0,0,0,0,0,0,0,0,0,0,0,0,0,0,0,0,0,0,0,0,0,0,0,0,0,0,0,0,0,0,0,0,0,0,0,0,0,0,0,0,0,0,0,0,0,0,0,0,0,0,0,0,0,0,0,0,0,0,0,0,0,0,0,0,0,0,0,0,0,0,0,0,0,0,0,0,0,0,0,0,0,0,0,0,0,0,0,0,0,0,0,0,0,0,0,0,0,0,0,0,0,0,0,0,0,0,0,0,0,0,{"$f":"SUM(PJ15:PJ17)","v":0},{"$f":"SUM(PK15:PK17)","v":0},{"$f":"SUM(PL15:PL17)","v":0},{"$f":"SUM(PM15:PM17)","v":0},0,0,0,0,0,0,0,0,0,0,0,0,0,0,0,0,0,0,0,0,0,0,0,0,0,0,0,0,0,0,0,0,0,0,0,0,0,0,0,0,0,0,0,0,0,0,0,0,0,0,0,0,0,0,0,0,0,0,0,0,0,0,0,{"$f":"SUM(RY15:RY17)","v":0},0,0,0,0,0,0,0,0,0,0,0,0,0,0,0,0,0,0,0,0,0,0,0,0,0,0,0,0,0,0,0,0,0,0,0,0,0,0,0,0,0,0,0,0,0,0,0,0,0,0,0,0,0,0,0,0,0,0,0,0,0,0,0,{"$f":"SUM(UK15:UK17)","v":0},0,0,0,0,0,0,0,0,0,0,0,0,0,0,0,0,0,0,0,0,0,0,0,0,0,0,0,0,0,0,0,0,0,0,0,0,0,0,0,0,0,0,0,0,0,0,0,0,0,0,0,0,0,0,0,0,0,0,0,0,0,0,0,{"$f":"SUM(WW15:WW17)","v":0},0,0,0,0,0,0,0,0,0,0,0,0,0,0,0,0,0,0,0,0,0,0,0,0,0,0,0,0,0,0,0,0,0,0,0,0,0,0,0,0,0,0,0,0,0,0,0,0,0,0,0,0,0,0,0,0,0,0,0,0,0,0,0,0,0,0,0,0,0,0,0,0,0,0,0,0,0,0,0,0,0,0,0,0,0,0,0,0,0,0,0,0,0,0,{"$f":"SUM(AAN15:AAN17)","v":0},{"$f":"SUM(AAO15:AAO17)","v":0},{"$f":"SUM(AAP15:AAP17)","v":0},{"$f":"SUM(AAQ15:AAQ17)","v":0},0,0,0,0,0,0,0,0,0,0,0,0,0,0,0,0,0,0,0,0,0,0,0,0,0,0,0,0,0,0,0,0,0,0,0,0,0,0,0,0,0,0,0,0,0,0,0,0,0,0,0,0,0,0,0,0,0,0,0,0,0,0,0,{"$f":"SUM(ADC15:ADC17)","v":0},0,0,0,0,0,0,0,0,0,0,0,0,0,0,0,0,0,0,0,0,0,0,0,0,0,0,0,0,0,0,0,0,0,0,0,0,0,0,0,0,0,0,0,0,0,0,0,0,0,0,0,0,0,0,0,0,0,0,0,0,0,0,0,{"$f":"SUM(AFO15:AFO17)","v":0},0,0,0,0,0,0,0,0,0,0,0,0,0,0,0,0,0,0,0,0,0,0,0,0,0,0,0,0,0,0,0,0,0,0,0,0,0,0,0,0,0,0,0,0,0,0,0,0,0,0,0,0,0,0,0,0,0,0,0,0,0,0,0,{"$f":"SUM(AIA15:AIA17)","v":0},0,0,0,0,0,0,0,0,0,0,0,0,0,0,0,0,0,0,0,0,0,0,0,0,0,0,0,0,0,0,0,0,0,0,0,0,0,0,0,0,0,0,0,0,0,0,0,0,0,0,0,0,0,0,0,0,0,0,0,0,{"$f":"SUM(AKJ15:AKJ17)","v":0},0,0,0,0,0,0,0,0,0,0,0,0,0,0,0,{"$f":"SUM(AKZ15:AKZ17)","v":0},0,0,0,0,0,0,0,0,0,0,0,0,0,0,0,{"$f":"SUM(ALP15:ALP17)","v":0},0,0,0,0,{"$f":"SUM(ALU15:ALU17)","v":0}]
[null,3,"สินทรัพย์จากการประกันภัยต่อสุทธิ (net reinsurance assets)",null,null,null,null,{"$f":"H14-H18","v":0},0,0,0,0,0,0,0,0,0,0,0,0,0,0,0,0,0,0,0,0,0,0,0,0,0,0,0,0,0,0,0,0,0,0,0,0,0,0,0,0,0,0,0,0,0,0,0,0,0,0,0,0,0,0,0,0,0,0,0,0,0,0,0,{"$f":"BT14-BT18","v":0},0,0,0,0,0,0,0,0,0,0,0,0,0,0,0,0,0,0,0,0,0,0,0,0,0,0,0,0,0,0,0,0,0,0,0,0,0,0,0,0,0,0,0,0,0,0,0,0,0,0,0,0,0,0,0,0,0,0,0,0,0,0,0,{"$f":"EF14-EF18","v":0},{"$f":"EG14-EG18","v":0},{"$f":"EH14-EH18","v":0},{"$f":"EI14-EI18","v":0},0,0,0,0,0,0,0,0,0,0,0,0,0,0,0,0,0,0,0,0,0,0,0,0,0,0,0,0,0,0,0,0,0,0,0,0,0,0,0,0,0,0,0,0,0,0,0,0,0,0,0,0,0,0,0,0,0,0,0,0,0,0,0,{"$f":"GU14-GU18","v":0},0,0,0,0,0,0,0,0,0,0,0,0,0,0,0,0,0,0,0,0,0,0,0,0,0,0,0,0,0,0,0,0,0,0,0,0,0,0,0,0,0,0,0,0,0,0,0,0,0,0,0,0,0,0,0,0,0,0,0,0,0,0,0,{"$f":"JG14-JG18","v":0},0,0,0,0,0,0,0,0,0,0,0,0,0,0,0,0,0,0,0,0,0,0,0,0,0,0,0,0,0,0,0,0,0,0,0,0,0,0,0,0,0,0,0,0,0,0,0,0,0,0,0,0,0,0,0,0,0,0,0,0,0,0,0,0,0,0,0,0,0,0,0,0,0,0,0,0,0,0,0,0,0,0,0,0,0,0,0,0,0,0,0,0,0,0,0,0,0,0,0,0,0,0,0,0,0,0,0,0,0,0,0,0,0,0,0,0,0,0,0,0,0,0,0,0,0,0,0,0,0,0,0,0,0,0,0,0,0,0,0,0,0,0,0,0,0,0,0,0,0,0,0,0,0,0,0,0,0,0,{"$f":"PJ14-PJ18","v":0},{"$f":"PK14-PK18","v":0},{"$f":"PL14-PL18","v":0},{"$f":"PM14-PM18","v":0},0,0,0,0,0,0,0,0,0,0,0,0,0,0,0,0,0,0,0,0,0,0,0,0,0,0,0,0,0,0,0,0,0,0,0,0,0,0,0,0,0,0,0,0,0,0,0,0,0,0,0,0,0,0,0,0,0,0,0,0,0,0,0,{"$f":"RY14-RY18","v":0},0,0,0,0,0,0,0,0,0,0,0,0,0,0,0,0,0,0,0,0,0,0,0,0,0,0,0,0,0,0,0,0,0,0,0,0,0,0,0,0,0,0,0,0,0,0,0,0,0,0,0,0,0,0,0,0,0,0,0,0,0,0,0,{"$f":"UK14-UK18","v":0},0,0,0,0,0,0,0,0,0,0,0,0,0,0,0,0,0,0,0,0,0,0,0,0,0,0,0,0,0,0,0,0,0,0,0,0,0,0,0,0,0,0,0,0,0,0,0,0,0,0,0,0,0,0,0,0,0,0,0,0,0,0,0,{"$f":"WW14-WW18","v":0},0,0,0,0,0,0,0,0,0,0,0,0,0,0,0,0,0,0,0,0,0,0,0,0,0,0,0,0,0,0,0,0,0,0,0,0,0,0,0,0,0,0,0,0,0,0,0,0,0,0,0,0,0,0,0,0,0,0,0,0,0,0,0,0,0,0,0,0,0,0,0,0,0,0,0,0,0,0,0,0,0,0,0,0,0,0,0,0,0,0,0,0,0,0,{"$f":"AAN14-AAN18","v":0},{"$f":"AAO14-AAO18","v":0},{"$f":"AAP14-AAP18","v":0},{"$f":"AAQ14-AAQ18","v":0},0,0,0,0,0,0,0,0,0,0,0,0,0,0,0,0,0,0,0,0,0,0,0,0,0,0,0,0,0,0,0,0,0,0,0,0,0,0,0,0,0,0,0,0,0,0,0,0,0,0,0,0,0,0,0,0,0,0,0,0,0,0,0,{"$f":"ADC14-ADC18","v":0},0,0,0,0,0,0,0,0,0,0,0,0,0,0,0,0,0,0,0,0,0,0,0,0,0,0,0,0,0,0,0,0,0,0,0,0,0,0,0,0,0,0,0,0,0,0,0,0,0,0,0,0,0,0,0,0,0,0,0,0,0,0,0,{"$f":"AFO14-AFO18","v":0},0,0,0,0,0,0,0,0,0,0,0,0,0,0,0,0,0,0,0,0,0,0,0,0,0,0,0,0,0,0,0,0,0,0,0,0,0,0,0,0,0,0,0,0,0,0,0,0,0,0,0,0,0,0,0,0,0,0,0,0,0,0,0,{"$f":"AIA14-AIA18","v":0},0,0,0,0,0,0,0,0,0,0,0,0,0,0,0,0,0,0,0,0,0,0,0,0,0,0,0,0,0,0,0,0,0,0,0,0,0,0,0,0,0,0,0,0,0,0,0,0,0,0,0,0,0,0,0,0,0,0,0,0,{"$f":"AKJ14-AKJ18","v":0},0,0,0,0,0,0,0,0,0,0,0,0,0,0,0,{"$f":"AKZ14-AKZ18","v":0},0,0,0,0,0,0,0,0,0,0,0,0,0,0,0,{"$f":"ALP14-ALP18","v":0},0,0,0,0,{"$f":"SUM(H19:ALT19)","v":0}]
[null,4,"ค่าความเสี่ยง (ตามตารางด้านล่าง) (risk charge (see below))",null,null,null,null,1]
[null,5,"เงินกองทุนสำหรับความเสี่ยงด้านเครดิตจากการประกันภัยต่อ (reinsurance credit risk capital charge)",null,null,null,null,{"$f":"+IF(H14-H18<0,0,H19*H20)","v":0},0,0,0,0,0,0,0,0,0,0,0,0,0,0,0,0,0,0,0,0,0,0,0,0,0,0,0,0,0,0,0,0,0,0,0,0,0,0,0,0,0,0,0,0,0,0,0,0,0,0,0,0,0,0,0,0,0,0,0,0,0,0,0,{"$f":"+IF(BT14-BT18<0,0,BT19*BT20)","v":0},0,0,0,0,0,0,0,0,0,0,0,0,0,0,0,0,0,0,0,0,0,0,0,0,0,0,0,0,0,0,0,0,0,0,0,0,0,0,0,0,0,0,0,0,0,0,0,0,0,0,0,0,0,0,0,0,0,0,0,0,0,0,0,{"$f":"+IF(EF14-EF18<0,0,EF19*EF20)","v":0},0,0,0,0,0,0,0,0,0,0,0,0,0,0,0,0,0,0,0,0,0,0,0,0,0,0,0,0,0,0,0,0,0,0,0,0,0,0,0,0,0,0,0,0,0,0,0,0,0,0,0,0,0,0,0,0,0,0,0,0,0,0,0,{"$f":"+IF(GR14-GR18<0,0,GR19*GR20)","v":0},0,0,0,0,0,0,0,0,0,0,0,0,0,0,0,0,0,0,0,0,0,0,0,0,0,0,0,0,0,0,0,0,0,0,0,0,0,0,0,0,0,0,0,0,0,0,0,0,0,0,0,0,0,0,0,0,0,0,0,0,0,0,0,{"$f":"+IF(JD14-JD18<0,0,JD19*JD20)","v":0},0,0,0,0,0,0,0,0,0,0,0,0,0,0,0,0,0,0,0,0,0,0,0,0,0,0,0,0,0,0,0,0,0,0,0,0,0,0,0,0,0,0,0,0,0,0,0,0,0,0,0,0,0,0,0,0,0,0,0,0,0,0,0,0,0,0,0,0,0,0,0,0,0,0,0,0,0,0,0,0,0,0,0,0,0,0,0,0,0,0,0,0,0,0,0,0,0,0,0,0,0,0,0,0,0,0,0,0,0,0,0,0,0,0,0,0,0,0,0,0,0,0,0,0,0,0,0,0,0,0,0,0,0,0,0,0,0,0,0,0,0,0,0,0,0,0,0,0,0,0,0,0,0,0,0,0,0,0,0,0,0,0,0,0,0,0,0,0,0,0,0,0,0,0,0,0,0,0,0,0,0,0,0,0,0,0,0,0,0,0,0,0,0,0,0,0,0,0,0,0,0,0,0,0,0,0,0,0,0,0,0,0,0,0,0,0,0,0,0,0,0,0,0,0,0,0,0,0,0,0,0,0,0,0,0,0,0,0,0,0,0,0,0,0,0,0,0,0,0,0,0,0,0,{"$f":"+IF(SX14-SX18<0,0,SX19*SX20)","v":0},0,0,0,0,0,0,0,0,0,0,0,0,0,0,0,0,0,0,0,0,0,0,0,0,0,0,0,0,0,0,0,0,0,0,0,0,0,0,0,0,0,0,0,0,0,0,0,0,0,0,0,0,0,0,0,0,0,0,0,0,0,0,0,{"$f":"+IF(VJ14-VJ18<0,0,VJ19*VJ20)","v":0},0,0,0,0,0,0,0,0,0,0,0,0,0,0,0,0,0,0,0,0,0,0,0,0,0,0,0,0,0,0,0,0,0,0,0,0,0,0,0,0,0,0,0,0,0,0,0,0,0,0,0,0,0,0,0,0,0,0,0,0,0,0,0,{"$f":"+IF(XV14-XV18<0,0,XV19*XV20)","v":0},0,0,0,0,0,0,0,0,0,0,0,0,0,0,0,0,0,0,0,0,0,0,0,0,0,0,0,0,0,0,0,0,0,0,0,0,0,0,0,0,0,0,0,0,0,0,0,0,0,0,0,0,0,0,0,0,0,0,0,0,0,0,0,0,0,0,0,0,0,0,0,0,0,0,0,0,0,0,0,0,0,0,0,0,0,0,0,0,0,0,0,0,0,0,0,0,0,0,0,0,0,0,0,0,0,0,0,0,0,0,0,0,0,0,0,0,0,0,0,0,0,0,0,0,0,0,0,0,0,0,0,0,0,0,0,0,0,0,0,0,0,0,0,0,0,0,0,0,0,0,0,0,0,0,0,0,0,0,0,0,0,0,0,0,0,0,0,0,0,0,0,0,0,0,0,0,0,0,0,0,0,0,0,0,0,0,0,0,0,0,0,0,0,0,0,0,0,0,0,0,0,0,0,0,0,0,0,0,0,0,0,0,0,0,0,0,0,0,0,0,0,0,0,0,0,0,0,0,0,0,0,0,0,0,0,0,0,0,0,0,0,{"$f":"+IF(AHD14-AHD18<0,0,AHD19*AHD20)","v":0},0,0,0,0,0,0,0,0,0,0,0,0,0,0,0,0,0,0,0,0,0,0,0,0,0,0,0,0,0,0,0,0,0,0,0,0,0,0,0,0,0,0,0,0,0,0,0,0,0,0,0,0,0,0,0,0,0,0,0,0,0,0,0,0,0,0,0,0,0,0,0,0,0,0,0,0,0,0,0,0,0,0,0,{"$f":"+IF(AKJ14-AKJ18<0,0,AKJ19*AKJ20)","v":0},0,0,0,0,0,0,0,0,0,0,0,0,0,0,0,{"$f":"+IF(AKZ14-AKZ18<0,0,AKZ19*AKZ20)","v":0},0,0,0,0,0,0,0,0,0,0,0,0,0,0,0,{"$f":"+IF(ALP14-ALP18<0,0,ALP19*ALP20)","v":0},0,0,0,0,{"$f":"SUM(H21:ALT21)","v":0}]
[null,6,"เงินกองทุนสำหรับความเสี่ยงด้านการกระจุกตัวจากการเอาประกันภัยต่อกับผู้รับประกันภัยต่อแต่ละราย (individual reinsurance  concentration risk capital charge)",null,null,null,null,null,{"$f":"MAX(0,IF(($ALU$12+$ALU$30)<0,0,IF(I20>10%,MAX(0,(I12-0.25*($ALU$12+$ALU$30))),MAX(0,(I12-0.5*($ALU$12+$ALU$30)))))-IF(I15<0,0,I15))","v":0},0,0,0,0,0,0,0,0,0,0,0,0,0,0,0,0,0,0,0,0,0,0,0,0,0,0,0,0,0,0,0,0,0,0,0,0,0,0,0,0,0,0,0,0,0,0,0,0,0,0,0,0,0,0,0,0,0,0,0,0,0,0,0,{"$f":"MAX(0,IF(($ALU$12+$ALU$30)<0,0,IF(BU20>10%,MAX(0,(BU12-0.25*($ALU$12+$ALU$30))),MAX(0,(BU12-0.5*($ALU$12+$ALU$30)))))-IF(BU15<0,0,BU15))","v":0},0,0,0,0,0,0,0,0,0,0,0,0,0,0,0,0,0,0,0,0,0,0,0,0,0,0,0,0,0,0,0,0,0,0,0,0,0,0,0,0,0,0,0,0,0,0,0,0,0,0,0,0,0,0,0,0,0,0,0,0,0,0,0,{"$f":"MAX(0,IF(($ALU$12+$ALU$30)<0,0,IF(EG20>10%,MAX(0,(EG12-0.25*($ALU$12+$ALU$30))),MAX(0,(EG12-0.5*($ALU$12+$ALU$30)))))-IF(EG15<0,0,EG15))","v":0},0,0,0,0,0,0,0,0,0,0,0,0,0,0,0,0,0,0,0,0,0,0,0,0,0,0,0,0,0,0,0,0,0,0,0,0,0,0,0,0,0,0,0,0,0,0,0,0,0,0,0,0,0,0,0,0,0,0,0,0,0,0,0,{"$f":"MAX(0,IF(($ALU$12+$ALU$30)<0,0,IF(GS20>10%,MAX(0,(GS12-0.25*($ALU$12+$ALU$30))),MAX(0,(GS12-0.5*($ALU$12+$ALU$30)))))-IF(GS15<0,0,GS15))","v":0},0,0,0,0,0,0,0,0,0,0,0,0,0,0,0,0,0,0,0,0,0,0,0,0,0,0,0,0,0,0,0,0,0,0,0,0,0,0,0,0,0,0,0,0,0,0,0,0,0,0,0,0,0,0,0,0,0,0,0,0,0,0,0,{"$f":"MAX(0,IF(($ALU$12+$ALU$30)<0,0,IF(JE20>10%,MAX(0,(JE12-0.25*($ALU$12+$ALU$30))),MAX(0,(JE12-0.5*($ALU$12+$ALU$30)))))-IF(JE15<0,0,JE15))","v":0},0,0,0,0,0,0,0,0,0,0,0,0,0,0,0,0,0,0,0,0,0,0,0,0,0,0,0,0,0,0,0,0,0,0,0,0,0,0,0,0,0,0,0,0,0,0,0,0,0,0,0,0,0,0,0,0,0,0,0,0,0,0,0,{"$f":"MAX(0,IF(($ALU$12+$ALU$30)<0,0,IF(LQ20>10%,MAX(0,(LQ12-0.25*($ALU$12+$ALU$30))),MAX(0,(LQ12-0.5*($ALU$12+$ALU$30)))))-IF(LQ15<0,0,LQ15))","v":0},0,0,0,0,0,0,0,0,0,0,0,0,0,0,0,0,0,0,0,0,0,0,0,0,0,0,0,0,0,0,0,0,0,0,0,0,0,0,0,0,0,0,0,0,0,0,0,0,0,0,0,0,0,0,0,0,0,0,0,0,0,0,0,{"$f":"MAX(0,IF(($ALU$12+$ALU$30)<0,0,IF(OC20>10%,MAX(0,(OC12-0.25*($ALU$12+$ALU$30))),MAX(0,(OC12-0.5*($ALU$12+$ALU$30)))))-IF(OC15<0,0,OC15))","v":0},0,0,0,0,0,0,0,0,0,0,0,0,0,0,0,0,0,0,0,0,0,0,0,0,0,0,0,0,0,0,0,0,0,0,0,0,0,0,0,0,0,0,0,0,0,0,0,0,0,0,0,0,0,0,0,0,0,0,0,0,0,0,0,{"$f":"MAX(0,IF(($ALU$12+$ALU$30)<0,0,IF(QO20>10%,MAX(0,(QO12-0.25*($ALU$12+$ALU$30))),MAX(0,(QO12-0.5*($ALU$12+$ALU$30)))))-IF(QO15<0,0,QO15))","v":0},0,0,0,0,0,0,0,0,0,0,0,0,0,0,0,0,0,0,0,0,0,0,0,0,0,0,0,0,0,0,0,0,0,0,0,0,0,0,0,0,0,0,0,0,0,0,0,0,0,0,0,0,0,0,0,0,0,0,0,0,0,0,0,{"$f":"MAX(0,IF(($ALU$12+$ALU$30)<0,0,IF(TA20>10%,MAX(0,(TA12-0.25*($ALU$12+$ALU$30))),MAX(0,(TA12-0.5*($ALU$12+$ALU$30)))))-IF(TA15<0,0,TA15))","v":0},0,0,0,0,0,0,0,0,0,0,0,0,0,0,0,0,0,0,0,0,0,0,0,0,0,0,0,0,0,0,0,0,0,0,0,0,0,0,0,0,0,0,0,0,0,0,0,0,0,0,0,0,0,0,0,0,0,0,0,0,0,0,0,{"$f":"MAX(0,IF(($ALU$12+$ALU$30)<0,0,IF(VM20>10%,MAX(0,(VM12-0.25*($ALU$12+$ALU$30))),MAX(0,(VM12-0.5*($ALU$12+$ALU$30)))))-IF(VM15<0,0,VM15))","v":0},0,0,0,0,0,0,0,0,0,0,0,0,0,0,0,0,0,0,0,0,0,0,0,0,0,0,0,0,0,0,0,0,0,0,0,0,0,0,0,0,0,0,0,0,0,0,0,0,0,0,0,0,0,0,0,0,0,0,0,0,0,0,0,{"$f":"MAX(0,IF(($ALU$12+$ALU$30)<0,0,IF(XY20>10%,MAX(0,(XY12-0.25*($ALU$12+$ALU$30))),MAX(0,(XY12-0.5*($ALU$12+$ALU$30)))))-IF(XY15<0,0,XY15))","v":0},0,0,0,0,0,0,0,0,0,0,0,0,0,0,0,0,0,0,0,0,0,0,0,0,0,0,0,0,0,0,0,0,0,0,0,0,0,0,0,0,0,0,0,0,0,0,0,0,0,0,0,0,0,0,0,0,0,0,0,0,0,0,0,{"$f":"MAX(0,IF(($ALU$12+$ALU$30)<0,0,IF(AAK20>10%,MAX(0,(AAK12-0.25*($ALU$12+$ALU$30))),MAX(0,(AAK12-0.5*($ALU$12+$ALU$30)))))-IF(AAK15<0,0,AAK15))","v":0},0,0,0,0,0,0,0,0,0,0,0,0,0,0,0,0,0,0,0,0,0,0,0,0,0,0,0,0,0,0,0,0,0,0,0,0,0,0,0,0,0,0,0,0,0,0,0,0,0,0,0,0,0,0,0,0,0,0,0,0,0,0,0,{"$f":"MAX(0,IF(($ALU$12+$ALU$30)<0,0,IF(ACW20>10%,MAX(0,(ACW12-0.25*($ALU$12+$ALU$30))),MAX(0,(ACW12-0.5*($ALU$12+$ALU$30)))))-IF(ACW15<0,0,ACW15))","v":0},0,0,0,0,0,0,0,0,0,0,0,0,0,0,0,0,0,0,0,0,0,0,0,0,0,0,0,0,0,0,0,0,0,0,0,0,0,0,0,0,0,0,0,0,0,0,0,0,0,0,0,0,0,0,0,0,0,0,0,0,0,0,0,{"$f":"MAX(0,IF(($ALU$12+$ALU$30)<0,0,IF(AFI20>10%,MAX(0,(AFI12-0.25*($ALU$12+$ALU$30))),MAX(0,(AFI12-0.5*($ALU$12+$ALU$30)))))-IF(AFI15<0,0,AFI15))","v":0},0,0,0,0,0,0,0,0,0,0,0,0,0,0,0,0,0,0,0,0,0,0,0,0,0,0,0,0,0,0,0,0,0,0,0,0,0,0,0,0,0,0,0,0,0,0,0,0,0,0,0,0,0,0,0,0,0,0,0,0,0,0,0,{"$f":"MAX(0,IF(($ALU$12+$ALU$30)<0,0,IF(AHU20>10%,MAX(0,(AHU12-0.25*($ALU$12+$ALU$30))),MAX(0,(AHU12-0.5*($ALU$12+$ALU$30)))))-IF(AHU15<0,0,AHU15))","v":0},0,0,0,0,0,0,0,0,0,0,0,0,0,0,0,0,0,0,0,0,0,0,0,0,0,0,0,0,0,0,0,0,0,0,0,0,0,0,0,0,0,0,0,0,0,0,0,0,0,0,0,0,0,0,0,0,0,0,0,0,0,0,0,{"$f":"MAX(0,IF(($ALU$12+$ALU$30)<0,0,IF(AKG20>10%,MAX(0,(AKG12-0.25*($ALU$12+$ALU$30))),MAX(0,(AKG12-0.5*($ALU$12+$ALU$30)))))-IF(AKG15<0,0,AKG15))","v":0},0,0,0,0,0,0,0,0,0,0,0,0,0,0,0,0,0,0,0,0,0,0,0,0,0,0,0,0,0,0,0,0,0,0,0,0,0,0,0,{"$f":"SUM(H22:ALT22)","v":0}]
[null,7,"เงินกองทุนสำหรับความเสียงด้านการกระจุกตัวจากการเอาประกันภัยต่อกับผู้รับประกันภัยต่อในประเทศ (local reinsurance concentration risk capital charge)",null,null,null,null,null,{"$f":"MAX(0,MIN(I12-I15-I21,I22))","v":0},{"$f":"MAX(0,MIN(J12-J15-J21,J22))","v":0},0,0,0,0,0,0,0,0,0,0,0,0,0,0,0,0,0,0,0,0,0,0,0,0,0,0,0,0,0,0,0,0,0,0,0,0,0,0,0,0,0,0,0,0,0,0,0,0,0,0,0,0,0,0,0,0,0,0,0,0,0,0,0,{"$f":"MAX(0,MIN(BV12-BV15-BV21,BV22))","v":0},0,0,0,0,0,0,0,0,0,0,0,0,0,0,0,0,0,0,0,0,0,0,0,0,0,0,0,0,0,0,0,0,0,0,0,0,0,0,0,0,0,0,0,0,0,0,0,0,0,0,0,0,0,0,0,0,0,0,0,0,0,0,0,{"$f":"MAX(0,MIN(EH12-EH15-EH21,EH22))","v":0},0,0,0,0,0,0,0,0,0,0,0,0,0,0,0,0,0,0,0,0,0,0,0,0,0,0,0,0,0,0,0,0,0,0,0,0,0,0,0,0,0,0,0,0,0,0,0,0,0,0,0,0,0,0,0,0,0,0,0,0,0,0,0,{"$f":"MAX(0,MIN(GT12-GT15-GT21,GT22))","v":0},0,0,0,0,0,0,0,0,0,0,0,0,0,0,0,0,0,0,0,0,0,0,0,0,0,0,0,0,0,0,0,0,0,0,0,0,0,0,0,0,0,0,0,0,0,0,0,0,0,0,0,0,0,0,0,0,0,0,0,0,0,0,0,{"$f":"MAX(0,MIN(JF12-JF15-JF21,JF22))","v":0},0,0,0,0,0,0,0,0,0,0,0,0,0,0,0,0,0,0,0,0,0,0,0,0,0,0,0,0,0,0,0,0,0,0,0,0,0,0,0,0,0,0,0,0,0,0,0,0,0,0,0,0,0,0,0,0,0,0,0,0,0,0,0,0,0,0,0,0,0,0,0,0,0,0,0,0,0,0,0,0,0,0,0,0,0,0,0,0,0,0,0,0,0,0,0,0,0,0,0,0,0,0,0,0,0,0,0,0,0,0,0,0,0,0,0,0,0,0,0,0,0,0,0,0,0,0,0,0,0,0,0,0,0,0,0,0,0,0,0,0,0,0,0,0,0,0,0,0,0,0,0,0,0,0,0,0,0,0,0,0,0,0,0,0,0,0,0,0,0,0,0,0,0,0,0,0,0,0,0,0,0,0,0,0,0,0,0,0,0,0,0,0,0,0,0,0,0,0,0,0,0,0,0,0,0,0,0,0,0,0,0,0,0,0,0,0,0,0,0,0,0,0,0,0,0,0,0,0,0,0,0,0,0,0,0,0,0,0,0,0,0,0,0,0,0,0,0,0,0,0,0,0,0,{"$f":"MAX(0,MIN(SZ12-SZ15-SZ21,SZ22))","v":0},0,0,0,0,0,0,0,0,0,0,0,0,0,0,0,0,0,0,0,0,0,0,0,0,0,0,0,0,0,0,0,0,0,0,0,0,0,0,0,0,0,0,0,0,0,0,0,0,0,0,0,0,0,0,0,0,0,0,0,0,0,0,0,{"$f":"MAX(0,MIN(VL12-VL15-VL21,VL22))","v":0},0,0,0,0,0,0,0,0,0,0,0,0,0,0,0,0,0,0,0,0,0,0,0,0,0,0,0,0,0,0,0,0,0,0,0,0,0,0,0,0,0,0,0,0,0,0,0,0,0,0,0,0,0,0,0,0,0,0,0,0,0,0,0,{"$f":"MAX(0,MIN(XX12-XX15-XX21,XX22))","v":0},0,0,0,0,0,0,0,0,0,0,0,0,0,0,0,0,0,0,0,0,0,0,0,0,0,0,0,0,0,0,0,0,0,0,0,0,0,0,0,0,0,0,0,0,0,0,0,0,0,0,0,0,0,0,0,0,0,0,0,0,0,0,0,0,0,0,0,0,0,0,0,0,0,0,0,0,0,0,0,0,0,0,0,0,0,0,0,0,0,0,0,0,0,0,0,0,0,0,0,0,0,0,0,0,0,0,0,0,0,0,0,0,0,0,0,0,0,0,0,0,0,0,0,0,0,0,0,0,0,0,0,0,0,0,0,0,0,0,0,0,0,0,0,0,0,0,0,0,0,0,0,0,0,0,0,0,0,0,0,0,0,0,0,0,0,0,0,0,0,0,0,0,0,0,0,0,0,0,0,0,0,0,0,0,0,0,0,0,0,0,0,0,0,0,0,0,0,0,0,0,0,0,0,0,0,0,0,0,0,0,0,0,0,0,0,0,0,0,0,0,0,0,0,0,0,0,0,0,0,0,0,0,0,0,0,0,0,0,0,{"$f":"MAX(0,MIN(AHD12-AHD15-AHD21,AHD22))","v":0},0,0,0,0,0,0,0,0,0,0,0,0,0,0,0,0,0,0,0,0,0,0,0,0,0,0,0,0,0,0,0,0,0,0,0,0,0,0,0,0,0,0,0,0,0,0,0,0,0,0,0,0,0,0,0,0,0,0,0,0,0,0,0,0,0,0,0,0,0,0,0,0,0,0,0,0,0,0,0,0,0,0,0,{"$f":"MAX(0,MIN(AKJ12-AKJ15-AKJ21,AKJ22))","v":0},0,0,0,0,0,0,0,0,0,0,0,0,0,0,0,{"$f":"MAX(0,MIN(AKZ12-AKZ15-AKZ21,AKZ22))","v":0},0,0,0,0,0,0,0,0,0,0,0,0,0,0,0,{"$f":"MAX(0,MIN(ALP12-ALP15-ALP21,ALP22))","v":0},0,0,0,0,{"$f":"SUM(H23:ALT23)","v":0}]
[]
[null,"ตารางที่ 8.2 เงินกองทุนสำหรับความเสี่ยงจากการประกันภัยต่อสำหรับผู้รับประกันภัยต่อต่างประเทศ"]
[null,"ลำดับที่","รายการ",null,null,null,null,"สัญญาประกันภัยต่อทางการเงิน/1","สัญญาประกันภัยต่อที่ไม่ใช่สัญญาประกันภัยต่อทางการเงิน",null,null,null,null,null,null,null,null,null,null,null,null,null,null,null,null,null,null,null,null,null,null,null,null,null,null,null,null,null,null,null,null,null,null,null,null,null,null,null,null,null,null,null,null,null,null,null,null,null,null,null,null,null,null,null,null,null,null,null,null,null,null,null,null,null,null,null,null,null,null,null,null,null,null,null,null,null,null,null,null,null,null,null,null,null,null,null,null,null,null,null,null,null,null,null,null,null,null,null,null,null,null,null,null,null,null,null,null,null,null,null,null,null,null,null,null,null,null,null,null,null,null,null,null,null,null,null,null,null,null,null,null,null,null,null,null,null,null,null,null,null,null,null,null,null,null,null,null,null,null,null,null,null,null,null,null,null,null,null,null,null,null,null,null,null,null,null,null,null,null,null,null,null,null,null,null,null,null,null,null,null,null,null,null,null,null,null,null,null,null,null,null,null,null,null,null,null,null,null,null,null,null,null,null,null,null,null,null,null,null,null,null,null,null,null,null,null,null,null,null,null,null,null,null,null,null,null,null,null,null,null,null,null,null,null,null,null,null,null,null,null,null,null,null,null,null,null,null,null,null,null,null,null,null,null,null,null,null,null,null,null,null,null,null,null,null,null,null,null,null,null,null,null,null,null,null,null,null,null,null,null,null,null,null,null,null,null,null,null,null,null,null,null,null,null,null,null,null,null,null,null,null,null,null,null,null,null,null,null,null,null,null,null,null,null,null,null,null,null,null,null,null,null,null,null,null,null,null,null,null,null,null,null,null,null,null,null,null,null,null,null,null,null,null,null,null,null,null,null,null,null,null,null,null,null,null,null,null,null,null,null,null,null,null,null,null,null,null,null,null,null,null,null,null,null,null,null,null,null,null,null,null,null,null,null,null,null,null,null,null,null,null,null,null,null,null,null,null,null,null,null,null,null,null,null,null,null,null,null,null,null,null,null,null,null,null,null,null,null,null,null,null,null,null,null,null,null,null,null,null,null,null,null,null,null,null,null,null,null,null,null,null,null,null,null,null,null,null,null,null,null,null,null,null,null,null,null,null,null,null,null,null,null,null,null,null,null,null,null,null,null,null,null,null,null,null,null,null,null,null,null,null,null,null,null,null,null,null,null,null,null,null,null,null,null,null,null,null,null,null,null,null,null,null,null,null,null,null,null,null,null,null,null,null,null,null,null,null,null,null,null,null,null,null,null,null,null,null,null,null,null,null,null,null,null,null,null,null,null,null,null,null,null,null,null,null,null,null,null,null,null,null,null,null,null,null,null,null,null,null,null,null,null,null,null,null,null,null,null,null,null,null,null,null,null,null,null,null,null,null,null,null,null,null,null,null,null,null,null,null,null,null,null,null,null,null,null,null,null,null,null,null,null,null,null,null,null,null,null,null,null,null,null,null,null,null,null,null,null,null,null,null,null,null,null,null,null,null,null,null,null,null,null,null,null,null,null,null,null,null,null,null,null,null,null,null,null,null,null,null,null,null,null,null,null,null,null,null,null,null,null,null,null,null,null,null,null,null,null,null,null,null,null,null,null,null,null,null,null,null,null,null,null,null,null,null,null,null,null,null,null,null,null,null,null,null,null,null,null,null,null,null,null,null,null,null,null,null,null,null,null,null,null,null,null,null,null,null,null,null,null,null,null,null,null,null,null,null,null,null,null,null,null,null,null,null,null,null,null,null,null,null,null,null,null,null,null,null,null,null,null,null,null,null,null,null,null,null,null,null,null,null,null,null,null,null,null,null,null,null,null,null,null,null,null,null,null,null,null,null,null,null,null,null,null,null,null,null,null,null,null,null,null,null,null,null,null,null,null,null,null,null,null,null,null,null,null,null,null,null,null,null,null,null,null,null,null,null,null,null,null,null,null,null,null,null,null,null,null,null,null,null,null,null,null,null,null,null,null,null,null,null,null,null,null,null,null,null,null,null,null,null,null,null,null,null,null,null,null,null,null,null,null,null,null,null,null,null,null,null,null,null,null,null,null,null,null,null,null,null,null,null,null,null,null,null,null,null,null,null,null,null,null,null,null,null,null,null,null,null,null,null,null,null,null,null,null,null,null,null,null,null,null,null,null,null,null,null,null,null,null,null,null,null,null,null,null,null,null,null,null,null,null,null,null,null,null,null,null,null,null,null,null,null,null,null,null,null,null,null,null,null,null,null,null,null,null,null,null,null,null,null,null,null,null,null,null,null,null,null,null,null,null,null,null,null,null,null,null,null,null,null,null,null,null,null,null,null,null,null,null,null,null,null,null,null,null,null,null,"รวม (total)"]
[]
[null,1,"(ก)","เงินวางไว้จากการประกันภัยต่อ (amounts deposit on reinsurance treaties)",null,null,null,null,null,null,null,null,null,null,null,null,null,null,null,null,null,null,null,null,null,null,null,null,null,null,null,null,null,null,null,null,null,null,null,null,null,null,null,null,null,null,null,null,null,null,null,null,null,null,null,null,null,null,null,null,null,null,null,null,null,null,null,null,null,null,null,null,null,null,null,null,null,null,null,null,null,null,null,null,null,null,null,null,null,null,null,null,null,null,null,null,null,null,null,null,null,null,null,null,null,null,null,null,null,null,null,null,null,null,null,null,null,null,null,null,null,null,null,null,null,null,null,null,null,null,null,null,null,null,null,null,null,null,null,null,null,null,null,null,null,null,null,null,null,null,null,null,null,null,null,null,null,null,null,null,null,null,null,null,null,null,null,null,null,null,null,null,null,null,null,null,null,null,null,null,null,null,null,null,null,null,null,null,null,null,null,null,null,null,null,null,null,null,null,null,null,null,null,null,null,null,null,null,null,null,null,null,null,null,null,null,null,null,null,null,null,null,null,null,null,null,null,null,null,null,null,null,null,null,null,null,null,null,null,null,null,null,null,null,null,null,null,null,null,null,null,null,null,null,null,null,null,null,null,null,null,null,null,null,null,null,null,null,null,null,null,null,null,null,null,null,null,null,null,null,null,null,null,null,null,null,null,null,null,null,null,null,null,null,null,null,null,null,null,null,null,null,null,null,null,null,null,null,null,null,null,null,null,null,null,null,null,null,null,null,null,null,null,null,null,null,null,null,null,null,null,null,null,null,null,null,null,null,null,null,null,null,null,null,null,null,null,null,null,null,null,null,null,null,null,null,null,null,null,null,null,null,null,null,null,null,null,null,null,null,null,null,null,null,null,null,null,null,null,null,null,null,null,null,null,null,null,null,null,null,null,null,null,null,null,null,null,null,null,null,null,null,null,null,null,null,null,null,null,null,null,null,null,null,null,null,null,null,null,null,null,null,null,null,null,null,null,null,null,null,null,null,null,null,null,null,null,null,null,null,null,null,null,null,null,null,null,null,null,null,null,null,null,null,null,null,null,null,null,null,null,null,null,null,null,null,null,null,null,null,null,null,null,null,null,null,null,null,null,null,null,null,null,null,null,null,null,null,null,null,null,null,null,null,null,null,null,null,null,null,null,null,null,null,null,null,null,null,null,null,null,null,null,null,null,null,null,null,null,null,null,null,null,null,null,null,null,null,null,null,null,null,null,null,null,null,null,null,null,null,null,null,null,null,null,null,null,null,null,null,null,null,null,null,null,null,null,null,null,null,null,null,null,null,null,null,null,null,null,null,null,null,null,null,null,null,null,null,null,null,null,null,null,null,null,null,null,null,null,null,null,null,null,null,null,null,null,null,null,null,null,null,null,null,null,null,null,null,null,null,null,null,null,null,null,null,null,null,null,null,null,null,null,null,null,null,null,null,null,null,null,null,null,null,null,null,null,null,null,null,null,null,null,null,null,null,null,null,null,null,null,null,null,null,null,null,null,null,null,null,null,null,null,null,null,null,null,null,null,null,null,null,null,null,null,null,null,null,null,null,null,null,null,null,null,null,null,null,null,null,null,null,null,null,null,null,null,null,null,null,null,null,null,null,null,null,null,null,null,null,null,null,null,null,null,null,null,null,null,null,null,null,null,null,null,null,null,null,null,null,null,null,null,null,null,null,null,null,null,null,null,null,null,null,null,null,null,null,null,null,null,null,null,null,null,null,null,null,null,null,null,null,null,null,null,null,null,null,null,null,null,null,null,null,null,null,null,null,null,null,null,null,null,null,null,null,null,null,null,null,null,null,null,null,null,null,null,null,null,null,null,null,null,null,null,null,null,null,null,null,null,null,null,null,null,null,null,null,null,null,null,null,null,null,null,null,null,null,null,null,null,null,null,null,null,null,null,null,null,null,null,null,null,null,null,null,null,null,null,null,null,null,null,null,null,null,null,null,null,null,null,null,null,null,null,null,null,null,null,null,null,null,null,null,null,null,null,null,null,null,null,null,null,null,null,null,null,null,null,null,null,null,null,null,null,null,null,null,null,null,null,null,null,null,null,null,null,null,null,null,null,null,null,null,null,null,null,null,null,null,null,null,null,null,null,null,null,null,null,null,null,null,null,null,null,null,null,null,null,null,null,null,null,null,null,null,null,null,null,null,null,null,null,null,null,null,null,null,null,null,null,null,null,null,null,null,null,null,null,null,null,null,null,null,null,null,null,null,null,null,null,null,null,null,null,null,null,null,null,null,null,null,null,null,null,null,null,null,null,null,null,null,null,null,null,null,null,null,{"$f":"SUM(H28:ALT28)","v":0}]
[null,null,"(ข)","เงินค้างรับเกี่ยวกับการประกันภัยต่อ (due from reinsurers)",null,null,null,null,null,null,null,null,null,null,null,null,null,null,null,null,null,null,null,null,null,null,null,null,null,null,null,null,null,null,null,null,null,null,null,null,null,null,null,null,null,null,null,null,null,null,null,null,null,null,null,null,null,null,null,null,null,null,null,null,null,null,null,null,null,null,null,null,null,null,null,null,null,null,null,null,null,null,null,null,null,null,null,null,null,null,null,null,null,null,null,null,null,null,null,null,null,null,null,null,null,null,null,null,null,null,null,null,null,null,null,null,null,null,null,null,null,null,null,null,null,null,null,null,null,null,null,null,null,null,null,null,null,null,null,null,null,null,null,null,null,null,null,null,null,null,null,null,null,null,null,null,null,null,null,null,null,null,null,null,null,null,null,null,null,null,null,null,null,null,null,null,null,null,null,null,null,null,null,null,null,null,null,null,null,null,null,null,null,null,null,null,null,null,null,null,null,null,null,null,null,null,null,null,null,null,null,null,null,null,null,null,null,null,null,null,null,null,null,null,null,null,null,null,null,null,null,null,null,null,null,null,null,null,null,null,null,null,null,null,null,null,null,null,null,null,null,null,null,null,null,null,null,null,null,null,null,null,null,null,null,null,null,null,null,null,null,null,null,null,null,null,null,null,null,null,null,null,null,null,null,null,null,null,null,null,null,null,null,null,null,null,null,null,null,null,null,null,null,null,null,null,null,null,null,null,null,null,null,null,null,null,null,null,null,null,null,null,null,null,null,null,null,null,null,null,null,null,null,null,null,null,null,null,null,null,null,null,null,null,null,null,null,null,null,null,null,null,null,null,null,null,null,null,null,null,null,null,null,null,null,null,null,null,null,null,null,null,null,null,null,null,null,null,null,null,null,null,null,null,null,null,null,null,null,null,null,null,null,null,null,null,null,null,null,null,null,null,null,null,null,null,null,null,null,null,null,null,null,null,null,null,null,null,null,null,null,null,null,null,null,null,null,null,null,null,null,null,null,null,null,null,null,null,null,null,null,null,null,null,null,null,null,null,null,null,null,null,null,null,null,null,null,null,null,null,null,null,null,null,null,null,null,null,null,null,null,null,null,null,null,null,null,null,null,null,null,null,null,null,null,null,null,null,null,null,null,null,null,null,null,null,null,null,null,null,null,null,null,null,null,null,null,null,null,null,null,null,null,null,null,null,null,null,null,null,null,null,null,null,null,null,null,null,null,null,null,null,null,null,null,null,null,null,null,null,null,null,null,null,null,null,null,null,null,null,null,null,null,null,null,null,null,null,null,null,null,null,null,null,null,null,null,null,null,null,null,null,null,null,null,null,null,null,null,null,null,null,null,null,null,null,null,null,null,null,null,null,null,null,null,null,null,null,null,null,null,null,null,null,null,null,null,null,null,null,null,null,null,null,null,null,null,null,null,null,null,null,null,null,null,null,null,null,null,null,null,null,null,null,null,null,null,null,null,null,null,null,null,null,null,null,null,null,null,null,null,null,null,null,null,null,null,null,null,null,null,null,null,null,null,null,null,null,null,null,null,null,null,null,null,null,null,null,null,null,null,null,null,null,null,null,null,null,null,null,null,null,null,null,null,null,null,null,null,null,null,null,null,null,null,null,null,null,null,null,null,null,null,null,null,null,null,null,null,null,null,null,null,null,null,null,null,null,null,null,null,null,null,null,null,null,null,null,null,null,null,null,null,null,null,null,null,null,null,null,null,null,null,null,null,null,null,null,null,null,null,null,null,null,null,null,null,null,null,null,null,null,null,null,null,null,null,null,null,null,null,null,null,null,null,null,null,null,null,null,null,null,null,null,null,null,null,null,null,null,null,null,null,null,null,null,null,null,null,null,null,null,null,null,null,null,null,null,null,null,null,null,null,null,null,null,null,null,null,null,null,null,null,null,null,null,null,null,null,null,null,null,null,null,null,null,null,null,null,null,null,null,null,null,null,null,null,null,null,null,null,null,null,null,null,null,null,null,null,null,null,null,null,null,null,null,null,null,null,null,null,null,null,null,null,null,null,null,null,null,null,null,null,null,null,null,null,null,null,null,null,null,null,null,null,null,null,null,null,null,null,null,null,null,null,null,null,null,null,null,null,null,null,null,null,null,null,null,null,null,null,null,null,null,null,null,null,null,null,null,null,null,null,null,null,null,null,null,null,null,null,null,null,null,null,null,null,null,null,null,null,null,null,null,null,null,null,null,null,null,null,null,null,null,null,null,null,null,null,null,null,null,null,null,null,null,null,null,null,null,null,null,null,null,null,null,null,null,null,null,null,null,null,null,null,null,null,null,{"$f":"SUM(H29:ALT29)","v":0}]
[null,null,"(ค)","สำรองประกันภัยส่วนที่เรียกคืนจากการประกันภัยต่อที่ไม่รวมค่าเผื่อความผันผวน (reinsurance recoveries on technical reserves without PAD)",null,null,null,null,null,null,null,null,null,null,null,null,null,null,null,null,null,null,null,null,null,null,null,null,null,null,null,null,null,null,null,null,null,null,null,null,null,null,null,null,null,null,null,null,null,null,null,null,null,null,null,null,null,null,null,null,null,null,null,null,null,null,null,null,null,null,null,null,null,null,null,null,null,null,null,null,null,null,null,null,null,null,null,null,null,null,null,null,null,null,null,null,null,null,null,null,null,null,null,null,null,null,null,null,null,null,null,null,null,null,null,null,null,null,null,null,null,null,null,null,null,null,null,null,null,null,null,null,null,null,null,null,null,null,null,null,null,null,null,null,null,null,null,null,null,null,null,null,null,null,null,null,null,null,null,null,null,null,null,null,null,null,null,null,null,null,null,null,null,null,null,null,null,null,null,null,null,null,null,null,null,null,null,null,null,null,null,null,null,null,null,null,null,null,null,null,null,null,null,null,null,null,null,null,null,null,null,null,null,null,null,null,null,null,null,null,null,null,null,null,null,null,null,null,null,null,null,null,null,null,null,null,null,null,null,null,null,null,null,null,null,null,null,null,null,null,null,null,null,null,null,null,null,null,null,null,null,null,null,null,null,null,null,null,null,null,null,null,null,null,null,null,null,null,null,null,null,null,null,null,null,null,null,null,null,null,null,null,null,null,null,null,null,null,null,null,null,null,null,null,null,null,null,null,null,null,null,null,null,null,null,null,null,null,null,null,null,null,null,null,null,null,null,null,null,null,null,null,null,null,null,null,null,null,null,null,null,null,null,null,null,null,null,null,null,null,null,null,null,null,null,null,null,null,null,null,null,null,null,null,null,null,null,null,null,null,null,null,null,null,null,null,null,null,null,null,null,null,null,null,null,null,null,null,null,null,null,null,null,null,null,null,null,null,null,null,null,null,null,null,null,null,null,null,null,null,null,null,null,null,null,null,null,null,null,null,null,null,null,null,null,null,null,null,null,null,null,null,null,null,null,null,null,null,null,null,null,null,null,null,null,null,null,null,null,null,null,null,null,null,null,null,null,null,null,null,null,null,null,null,null,null,null,null,null,null,null,null,null,null,null,null,null,null,null,null,null,null,null,null,null,null,null,null,null,null,null,null,null,null,null,null,null,null,null,null,null,null,null,null,null,null,null,null,null,null,null,null,null,null,null,null,null,null,null,null,null,null,null,null,null,null,null,null,null,null,null,null,null,null,null,null,null,null,null,null,null,null,null,null,null,null,null,null,null,null,null,null,null,null,null,null,null,null,null,null,null,null,null,null,null,null,null,null,null,null,null,null,null,null,null,null,null,null,null,null,null,null,null,null,null,null,null,null,null,null,null,null,null,null,null,null,null,null,null,null,null,null,null,null,null,null,null,null,null,null,null,null,null,null,null,null,null,null,null,null,null,null,null,null,null,null,null,null,null,null,null,null,null,null,null,null,null,null,null,null,null,null,null,null,null,null,null,null,null,null,null,null,null,null,null,null,null,null,null,null,null,null,null,null,null,null,null,null,null,null,null,null,null,null,null,null,null,null,null,null,null,null,null,null,null,null,null,null,null,null,null,null,null,null,null,null,null,null,null,null,null,null,null,null,null,null,null,null,null,null,null,null,null,null,null,null,null,null,null,null,null,null,null,null,null,null,null,null,null,null,null,null,null,null,null,null,null,null,null,null,null,null,null,null,null,null,null,null,null,null,null,null,null,null,null,null,null,null,null,null,null,null,null,null,null,null,null,null,null,null,null,null,null,null,null,null,null,null,null,null,null,null,null,null,null,null,null,null,null,null,null,null,null,null,null,null,null,null,null,null,null,null,null,null,null,null,null,null,null,null,null,null,null,null,null,null,null,null,null,null,null,null,null,null,null,null,null,null,null,null,null,null,null,null,null,null,null,null,null,null,null,null,null,null,null,null,null,null,null,null,null,null,null,null,null,null,null,null,null,null,null,null,null,null,null,null,null,null,null,null,null,null,null,null,null,null,null,null,null,null,null,null,null,null,null,null,null,null,null,null,null,null,null,null,null,null,null,null,null,null,null,null,null,null,null,null,null,null,null,null,null,null,null,null,null,null,null,null,null,null,null,null,null,null,null,null,null,null,null,null,null,null,null,null,null,null,null,null,null,null,null,null,null,null,null,null,null,null,null,null,null,null,null,null,null,null,null,null,null,null,null,null,null,null,null,null,null,null,null,null,null,null,null,null,null,null,null,null,null,null,null,null,null,null,null,null,null,null,null,null,null,null,null,null,null,null,null,null,null,null,null,null,null,null,null,null,null,null,{"$f":"SUM(H30:ALT30)","v":0}]
[null,null,"(ง)","ลูกหนี้ประกันภัยต่ออื่น (other reinsurance receivables)",null,null,null,null,null,null,null,null,null,null,null,null,null,null,null,null,null,null,null,null,null,null,null,null,null,null,null,null,null,null,null,null,null,null,null,null,null,null,null,null,null,null,null,null,null,null,null,null,null,null,null,null,null,null,null,null,null,null,null,null,null,null,null,null,null,null,null,null,null,null,null,null,null,null,null,null,null,null,null,null,null,null,null,null,null,null,null,null,null,null,null,null,null,null,null,null,null,null,null,null,null,null,null,null,null,null,null,null,null,null,null,null,null,null,null,null,null,null,null,null,null,null,null,null,null,null,null,null,null,null,null,null,null,null,null,null,null,null,null,null,null,null,null,null,null,null,null,null,null,null,null,null,null,null,null,null,null,null,null,null,null,null,null,null,null,null,null,null,null,null,null,null,null,null,null,null,null,null,null,null,null,null,null,null,null,null,null,null,null,null,null,null,null,null,null,null,null,null,null,null,null,null,null,null,null,null,null,null,null,null,null,null,null,null,null,null,null,null,null,null,null,null,null,null,null,null,null,null,null,null,null,null,null,null,null,null,null,null,null,null,null,null,null,null,null,null,null,null,null,null,null,null,null,null,null,null,null,null,null,null,null,null,null,null,null,null,null,null,null,null,null,null,null,null,null,null,null,null,null,null,null,null,null,null,null,null,null,null,null,null,null,null,null,null,null,null,null,null,null,null,null,null,null,null,null,null,null,null,null,null,null,null,null,null,null,null,null,null,null,null,null,null,null,null,null,null,null,null,null,null,null,null,null,null,null,null,null,null,null,null,null,null,null,null,null,null,null,null,null,null,null,null,null,null,null,null,null,null,null,null,null,null,null,null,null,null,null,null,null,null,null,null,null,null,null,null,null,null,null,null,null,null,null,null,null,null,null,null,null,null,null,null,null,null,null,null,null,null,null,null,null,null,null,null,null,null,null,null,null,null,null,null,null,null,null,null,null,null,null,null,null,null,null,null,null,null,null,null,null,null,null,null,null,null,null,null,null,null,null,null,null,null,null,null,null,null,null,null,null,null,null,null,null,null,null,null,null,null,null,null,null,null,null,null,null,null,null,null,null,null,null,null,null,null,null,null,null,null,null,null,null,null,null,null,null,null,null,null,null,null,null,null,null,null,null,null,null,null,null,null,null,null,null,null,null,null,null,null,null,null,null,null,null,null,null,null,null,null,null,null,null,null,null,null,null,null,null,null,null,null,null,null,null,null,null,null,null,null,null,null,null,null,null,null,null,null,null,null,null,null,null,null,null,null,null,null,null,null,null,null,null,null,null,null,null,null,null,null,null,null,null,null,null,null,null,null,null,null,null,null,null,null,null,null,null,null,null,null,null,null,null,null,null,null,null,null,null,null,null,null,null,null,null,null,null,null,null,null,null,null,null,null,null,null,null,null,null,null,null,null,null,null,null,null,null,null,null,null,null,null,null,null,null,null,null,null,null,null,null,null,null,null,null,null,null,null,null,null,null,null,null,null,null,null,null,null,null,null,null,null,null,null,null,null,null,null,null,null,null,null,null,null,null,null,null,null,null,null,null,null,null,null,null,null,null,null,null,null,null,null,null,null,null,null,null,null,null,null,null,null,null,null,null,null,null,null,null,null,null,null,null,null,null,null,null,null,null,null,null,null,null,null,null,null,null,null,null,null,null,null,null,null,null,null,null,null,null,null,null,null,null,null,null,null,null,null,null,null,null,null,null,null,null,null,null,null,null,null,null,null,null,null,null,null,null,null,null,null,null,null,null,null,null,null,null,null,null,null,null,null,null,null,null,null,null,null,null,null,null,null,null,null,null,null,null,null,null,null,null,null,null,null,null,null,null,null,null,null,null,null,null,null,null,null,null,null,null,null,null,null,null,null,null,null,null,null,null,null,null,null,null,null,null,null,null,null,null,null,null,null,null,null,null,null,null,null,null,null,null,null,null,null,null,null,null,null,null,null,null,null,null,null,null,null,null,null,null,null,null,null,null,null,null,null,null,null,null,null,null,null,null,null,null,null,null,null,null,null,null,null,null,null,null,null,null,null,null,null,null,null,null,null,null,null,null,null,null,null,null,null,null,null,null,null,null,null,null,null,null,null,null,null,null,null,null,null,null,null,null,null,null,null,null,null,null,null,null,null,null,null,null,null,null,null,null,null,null,null,null,null,null,null,null,null,null,null,null,null,null,null,null,null,null,null,null,null,null,null,null,null,null,null,null,null,null,null,null,null,null,null,null,null,null,null,null,null,null,null,null,null,null,null,null,null,null,null,null,null,null,null,null,null,null,null,{"$f":"SUM(H31:ALT31)","v":0}]
[null,null,"รวมสินทรัพย์จากการประกันภัยต่อ (total reinsurance assets)",null,null,null,null,{"$f":"SUM(H28:H31)","v":0},0,0,0,0,0,0,0,0,0,0,0,0,0,0,0,0,0,0,0,0,0,0,0,0,0,0,0,0,0,0,0,0,0,0,0,0,0,0,0,0,0,0,0,0,0,0,0,0,0,0,0,0,0,0,0,0,0,0,0,0,0,0,0,{"$f":"SUM(BT28:BT31)","v":0},0,0,0,0,0,0,0,0,0,0,0,0,0,0,0,0,0,0,0,0,0,0,0,0,0,0,0,0,0,0,0,0,0,0,0,0,0,0,0,0,0,0,0,0,0,0,0,0,0,0,0,0,0,0,0,0,0,0,0,0,0,0,0,{"$f":"SUM(EF28:EF31)","v":0},{"$f":"SUM(EG28:EG31)","v":0},{"$f":"SUM(EH28:EH31)","v":0},{"$f":"SUM(EI28:EI31)","v":0},0,0,0,0,0,0,0,0,0,0,0,0,0,0,0,0,0,0,0,0,0,0,0,0,0,0,0,0,0,0,0,0,0,0,0,0,0,0,0,0,0,0,0,0,0,0,0,0,0,0,0,0,0,0,0,0,0,0,0,0,0,0,0,{"$f":"SUM(GU28:GU31)","v":0},0,0,0,0,0,0,0,0,0,0,0,0,0,0,0,0,0,0,0,0,0,0,0,0,0,0,0,0,0,0,0,0,0,0,0,0,0,0,0,0,0,0,0,0,0,0,0,0,0,0,0,0,0,0,0,0,0,0,0,0,0,0,0,{"$f":"SUM(JG28:JG31)","v":0},0,0,0,0,0,0,0,0,0,0,0,0,0,0,0,0,0,0,0,0,0,0,0,0,0,0,0,0,0,0,0,0,0,0,0,0,0,0,0,0,0,0,0,0,0,0,0,0,0,0,0,0,0,0,0,0,0,0,0,0,0,0,0,0,0,0,0,0,0,0,0,0,0,0,0,0,0,0,0,0,0,0,0,0,0,0,0,0,0,0,0,0,0,0,0,0,0,0,0,0,0,0,0,0,0,0,0,0,0,0,0,0,0,0,0,0,0,0,0,0,0,0,0,0,0,0,0,0,0,0,0,0,0,0,0,0,0,0,0,0,0,0,0,0,0,0,0,0,0,0,0,0,0,0,0,0,0,0,{"$f":"SUM(PJ28:PJ31)","v":0},{"$f":"SUM(PK28:PK31)","v":0},{"$f":"SUM(PL28:PL31)","v":0},{"$f":"SUM(PM28:PM31)","v":0},0,0,0,0,0,0,0,0,0,0,0,0,0,0,0,0,0,0,0,0,0,0,0,0,0,0,0,0,0,0,0,0,0,0,0,0,0,0,0,0,0,0,0,0,0,0,0,0,0,0,0,0,0,0,0,0,0,0,0,0,0,0,0,{"$f":"SUM(RY28:RY31)","v":0},0,0,0,0,0,0,0,0,0,0,0,0,0,0,0,0,0,0,0,0,0,0,0,0,0,0,0,0,0,0,0,0,0,0,0,0,0,0,0,0,0,0,0,0,0,0,0,0,0,0,0,0,0,0,0,0,0,0,0,0,0,0,0,{"$f":"SUM(UK28:UK31)","v":0},0,0,0,0,0,0,0,0,0,0,0,0,0,0,0,0,0,0,0,0,0,0,0,0,0,0,0,0,0,0,0,0,0,0,0,0,0,0,0,0,0,0,0,0,0,0,0,0,0,0,0,0,0,0,0,0,0,0,0,0,0,0,0,{"$f":"SUM(WW28:WW31)","v":0},0,0,0,0,0,0,0,0,0,0,0,0,0,0,0,0,0,0,0,0,0,0,0,0,0,0,0,0,0,0,0,0,0,0,0,0,0,0,0,0,0,0,0,0,0,0,0,0,0,0,0,0,0,0,0,0,0,0,0,0,0,0,0,0,0,0,0,0,0,0,0,0,0,0,0,0,0,0,0,0,0,0,0,0,0,0,0,0,0,0,0,0,0,0,{"$f":"SUM(AAN28:AAN31)","v":0},{"$f":"SUM(AAO28:AAO31)","v":0},{"$f":"SUM(AAP28:AAP31)","v":0},{"$f":"SUM(AAQ28:AAQ31)","v":0},0,0,0,0,0,0,0,0,0,0,0,0,0,0,0,0,0,0,0,0,0,0,0,0,0,0,0,0,0,0,0,0,0,0,0,0,0,0,0,0,0,0,0,0,0,0,0,0,0,0,0,0,0,0,0,0,0,0,0,0,0,0,0,{"$f":"SUM(ADC28:ADC31)","v":0},0,0,0,0,0,0,0,0,0,0,0,0,0,0,0,0,0,0,0,0,0,0,0,0,0,0,0,0,0,0,0,0,0,0,0,0,0,0,0,0,0,0,0,0,0,0,0,0,0,0,0,0,0,0,0,0,0,0,0,0,0,0,0,{"$f":"SUM(AFO28:AFO31)","v":0},0,0,0,0,0,0,0,0,0,0,0,0,0,0,0,0,0,0,0,0,0,0,0,0,0,0,0,0,0,0,0,0,0,0,0,0,0,0,0,0,0,0,0,0,0,0,0,0,0,0,0,0,0,0,0,0,0,0,0,0,0,0,0,{"$f":"SUM(AIA28:AIA31)","v":0},0,0,0,0,0,0,0,0,0,0,0,0,0,0,0,0,0,0,0,0,0,0,0,0,0,0,0,0,0,0,0,0,0,0,0,0,0,0,0,0,0,0,0,0,0,0,0,0,0,0,0,0,0,0,0,0,0,0,0,0,{"$f":"SUM(AKJ28:AKJ31)","v":0},0,0,0,0,0,0,0,0,0,0,0,0,0,0,0,{"$f":"SUM(AKZ28:AKZ31)","v":0},0,0,0,0,0,0,0,0,0,0,0,0,0,0,0,{"$f":"SUM(ALP28:ALP31)","v":0},0,0,0,0,{"$f":"SUM(ALU28:ALU31)","v":0}]
[null,2,"(ก)","เงินถือไว้จากการประกันภัยต่อ (amounts withheld on reinsurance treaties)",null,null,null,null,null,null,null,null,null,null,null,null,null,null,null,null,null,null,null,null,null,null,null,null,null,null,null,null,null,null,null,null,null,null,null,null,null,null,null,null,null,null,null,null,null,null,null,null,null,null,null,null,null,null,null,null,null,null,null,null,null,null,null,null,null,null,null,null,null,null,null,null,null,null,null,null,null,null,null,null,null,null,null,null,null,null,null,null,null,null,null,null,null,null,null,null,null,null,null,null,null,null,null,null,null,null,null,null,null,null,null,null,null,null,null,null,null,null,null,null,null,null,null,null,null,null,null,null,null,null,null,null,null,null,null,null,null,null,null,null,null,null,null,null,null,null,null,null,null,null,null,null,null,null,null,null,null,null,null,null,null,null,null,null,null,null,null,null,null,null,null,null,null,null,null,null,null,null,null,null,null,null,null,null,null,null,null,null,null,null,null,null,null,null,null,null,null,null,null,null,null,null,null,null,null,null,null,null,null,null,null,null,null,null,null,null,null,null,null,null,null,null,null,null,null,null,null,null,null,null,null,null,null,null,null,null,null,null,null,null,null,null,null,null,null,null,null,null,null,null,null,null,null,null,null,null,null,null,null,null,null,null,null,null,null,null,null,null,null,null,null,null,null,null,null,null,null,null,null,null,null,null,null,null,null,null,null,null,null,null,null,null,null,null,null,null,null,null,null,null,null,null,null,null,null,null,null,null,null,null,null,null,null,null,null,null,null,null,null,null,null,null,null,null,null,null,null,null,null,null,null,null,null,null,null,null,null,null,null,null,null,null,null,null,null,null,null,null,null,null,null,null,null,null,null,null,null,null,null,null,null,null,null,null,null,null,null,null,null,null,null,null,null,null,null,null,null,null,null,null,null,null,null,null,null,null,null,null,null,null,null,null,null,null,null,null,null,null,null,null,null,null,null,null,null,null,null,null,null,null,null,null,null,null,null,null,null,null,null,null,null,null,null,null,null,null,null,null,null,null,null,null,null,null,null,null,null,null,null,null,null,null,null,null,null,null,null,null,null,null,null,null,null,null,null,null,null,null,null,null,null,null,null,null,null,null,null,null,null,null,null,null,null,null,null,null,null,null,null,null,null,null,null,null,null,null,null,null,null,null,null,null,null,null,null,null,null,null,null,null,null,null,null,null,null,null,null,null,null,null,null,null,null,null,null,null,null,null,null,null,null,null,null,null,null,null,null,null,null,null,null,null,null,null,null,null,null,null,null,null,null,null,null,null,null,null,null,null,null,null,null,null,null,null,null,null,null,null,null,null,null,null,null,null,null,null,null,null,null,null,null,null,null,null,null,null,null,null,null,null,null,null,null,null,null,null,null,null,null,null,null,null,null,null,null,null,null,null,null,null,null,null,null,null,null,null,null,null,null,null,null,null,null,null,null,null,null,null,null,null,null,null,null,null,null,null,null,null,null,null,null,null,null,null,null,null,null,null,null,null,null,null,null,null,null,null,null,null,null,null,null,null,null,null,null,null,null,null,null,null,null,null,null,null,null,null,null,null,null,null,null,null,null,null,null,null,null,null,null,null,null,null,null,null,null,null,null,null,null,null,null,null,null,null,null,null,null,null,null,null,null,null,null,null,null,null,null,null,null,null,null,null,null,null,null,null,null,null,null,null,null,null,null,null,null,null,null,null,null,null,null,null,null,null,null,null,null,null,null,null,null,null,null,null,null,null,null,null,null,null,null,null,null,null,null,null,null,null,null,null,null,null,null,null,null,null,null,null,null,null,null,null,null,null,null,null,null,null,null,null,null,null,null,null,null,null,null,null,null,null,null,null,null,null,null,null,null,null,null,null,null,null,null,null,null,null,null,null,null,null,null,null,null,null,null,null,null,null,null,null,null,null,null,null,null,null,null,null,null,null,null,null,null,null,null,null,null,null,null,null,null,null,null,null,null,null,null,null,null,null,null,null,null,null,null,null,null,null,null,null,null,null,null,null,null,null,null,null,null,null,null,null,null,null,null,null,null,null,null,null,null,null,null,null,null,null,null,null,null,null,null,null,null,null,null,null,null,null,null,null,null,null,null,null,null,null,null,null,null,null,null,null,null,null,null,null,null,null,null,null,null,null,null,null,null,null,null,null,null,null,null,null,null,null,null,null,null,null,null,null,null,null,null,null,null,null,null,null,null,null,null,null,null,null,null,null,null,null,null,null,null,null,null,null,null,null,null,null,null,null,null,null,null,null,null,null,null,null,null,null,null,null,null,null,null,null,null,null,null,null,null,null,null,null,null,null,null,null,null,null,null,null,null,null,{"$f":"SUM(H33:ALT33)","v":0}]
[null,null,"(ข)","เงินค้างจ่ายเกี่ยวกับการประกันภัยต่อ (due to reinsurers)",null,null,null,null,null,null,null,null,null,null,null,null,null,null,null,null,null,null,null,null,null,null,null,null,null,null,null,null,null,null,null,null,null,null,null,null,null,null,null,null,null,null,null,null,null,null,null,null,null,null,null,null,null,null,null,null,null,null,null,null,null,null,null,null,null,null,null,null,null,null,null,null,null,null,null,null,null,null,null,null,null,null,null,null,null,null,null,null,null,null,null,null,null,null,null,null,null,null,null,null,null,null,null,null,null,null,null,null,null,null,null,null,null,null,null,null,null,null,null,null,null,null,null,null,null,null,null,null,null,null,null,null,null,null,null,null,null,null,null,null,null,null,null,null,null,null,null,null,null,null,null,null,null,null,null,null,null,null,null,null,null,null,null,null,null,null,null,null,null,null,null,null,null,null,null,null,null,null,null,null,null,null,null,null,null,null,null,null,null,null,null,null,null,null,null,null,null,null,null,null,null,null,null,null,null,null,null,null,null,null,null,null,null,null,null,null,null,null,null,null,null,null,null,null,null,null,null,null,null,null,null,null,null,null,null,null,null,null,null,null,null,null,null,null,null,null,null,null,null,null,null,null,null,null,null,null,null,null,null,null,null,null,null,null,null,null,null,null,null,null,null,null,null,null,null,null,null,null,null,null,null,null,null,null,null,null,null,null,null,null,null,null,null,null,null,null,null,null,null,null,null,null,null,null,null,null,null,null,null,null,null,null,null,null,null,null,null,null,null,null,null,null,null,null,null,null,null,null,null,null,null,null,null,null,null,null,null,null,null,null,null,null,null,null,null,null,null,null,null,null,null,null,null,null,null,null,null,null,null,null,null,null,null,null,null,null,null,null,null,null,null,null,null,null,null,null,null,null,null,null,null,null,null,null,null,null,null,null,null,null,null,null,null,null,null,null,null,null,null,null,null,null,null,null,null,null,null,null,null,null,null,null,null,null,null,null,null,null,null,null,null,null,null,null,null,null,null,null,null,null,null,null,null,null,null,null,null,null,null,null,null,null,null,null,null,null,null,null,null,null,null,null,null,null,null,null,null,null,null,null,null,null,null,null,null,null,null,null,null,null,null,null,null,null,null,null,null,null,null,null,null,null,null,null,null,null,null,null,null,null,null,null,null,null,null,null,null,null,null,null,null,null,null,null,null,null,null,null,null,null,null,null,null,null,null,null,null,null,null,null,null,null,null,null,null,null,null,null,null,null,null,null,null,null,null,null,null,null,null,null,null,null,null,null,null,null,null,null,null,null,null,null,null,null,null,null,null,null,null,null,null,null,null,null,null,null,null,null,null,null,null,null,null,null,null,null,null,null,null,null,null,null,null,null,null,null,null,null,null,null,null,null,null,null,null,null,null,null,null,null,null,null,null,null,null,null,null,null,null,null,null,null,null,null,null,null,null,null,null,null,null,null,null,null,null,null,null,null,null,null,null,null,null,null,null,null,null,null,null,null,null,null,null,null,null,null,null,null,null,null,null,null,null,null,null,null,null,null,null,null,null,null,null,null,null,null,null,null,null,null,null,null,null,null,null,null,null,null,null,null,null,null,null,null,null,null,null,null,null,null,null,null,null,null,null,null,null,null,null,null,null,null,null,null,null,null,null,null,null,null,null,null,null,null,null,null,null,null,null,null,null,null,null,null,null,null,null,null,null,null,null,null,null,null,null,null,null,null,null,null,null,null,null,null,null,null,null,null,null,null,null,null,null,null,null,null,null,null,null,null,null,null,null,null,null,null,null,null,null,null,null,null,null,null,null,null,null,null,null,null,null,null,null,null,null,null,null,null,null,null,null,null,null,null,null,null,null,null,null,null,null,null,null,null,null,null,null,null,null,null,null,null,null,null,null,null,null,null,null,null,null,null,null,null,null,null,null,null,null,null,null,null,null,null,null,null,null,null,null,null,null,null,null,null,null,null,null,null,null,null,null,null,null,null,null,null,null,null,null,null,null,null,null,null,null,null,null,null,null,null,null,null,null,null,null,null,null,null,null,null,null,null,null,null,null,null,null,null,null,null,null,null,null,null,null,null,null,null,null,null,null,null,null,null,null,null,null,null,null,null,null,null,null,null,null,null,null,null,null,null,null,null,null,null,null,null,null,null,null,null,null,null,null,null,null,null,null,null,null,null,null,null,null,null,null,null,null,null,null,null,null,null,null,null,null,null,null,null,null,null,null,null,null,null,null,null,null,null,null,null,null,null,null,null,null,null,null,null,null,null,null,null,null,null,null,null,null,null,null,null,null,null,null,null,null,null,null,null,null,null,null,null,null,null,{"$f":"SUM(H34:ALT34)","v":0}]
[null,null,"(ค)","เจ้าหนี้ประกันภัยต่ออื่น (other reinsurance payables)",null,null,null,null,null,null,null,null,null,null,null,null,null,null,null,null,null,null,null,null,null,null,null,null,null,null,null,null,null,null,null,null,null,null,null,null,null,null,null,null,null,null,null,null,null,null,null,null,null,null,null,null,null,null,null,null,null,null,null,null,null,null,null,null,null,null,null,null,null,null,null,null,null,null,null,null,null,null,null,null,null,null,null,null,null,null,null,null,null,null,null,null,null,null,null,null,null,null,null,null,null,null,null,null,null,null,null,null,null,null,null,null,null,null,null,null,null,null,null,null,null,null,null,null,null,null,null,null,null,null,null,null,null,null,null,null,null,null,null,null,null,null,null,null,null,null,null,null,null,null,null,null,null,null,null,null,null,null,null,null,null,null,null,null,null,null,null,null,null,null,null,null,null,null,null,null,null,null,null,null,null,null,null,null,null,null,null,null,null,null,null,null,null,null,null,null,null,null,null,null,null,null,null,null,null,null,null,null,null,null,null,null,null,null,null,null,null,null,null,null,null,null,null,null,null,null,null,null,null,null,null,null,null,null,null,null,null,null,null,null,null,null,null,null,null,null,null,null,null,null,null,null,null,null,null,null,null,null,null,null,null,null,null,null,null,null,null,null,null,null,null,null,null,null,null,null,null,null,null,null,null,null,null,null,null,null,null,null,null,null,null,null,null,null,null,null,null,null,null,null,null,null,null,null,null,null,null,null,null,null,null,null,null,null,null,null,null,null,null,null,null,null,null,null,null,null,null,null,null,null,null,null,null,null,null,null,null,null,null,null,null,null,null,null,null,null,null,null,null,null,null,null,null,null,null,null,null,null,null,null,null,null,null,null,null,null,null,null,null,null,null,null,null,null,null,null,null,null,null,null,null,null,null,null,null,null,null,null,null,null,null,null,null,null,null,null,null,null,null,null,null,null,null,null,null,null,null,null,null,null,null,null,null,null,null,null,null,null,null,null,null,null,null,null,null,null,null,null,null,null,null,null,null,null,null,null,null,null,null,null,null,null,null,null,null,null,null,null,null,null,null,null,null,null,null,null,null,null,null,null,null,null,null,null,null,null,null,null,null,null,null,null,null,null,null,null,null,null,null,null,null,null,null,null,null,null,null,null,null,null,null,null,null,null,null,null,null,null,null,null,null,null,null,null,null,null,null,null,null,null,null,null,null,null,null,null,null,null,null,null,null,null,null,null,null,null,null,null,null,null,null,null,null,null,null,null,null,null,null,null,null,null,null,null,null,null,null,null,null,null,null,null,null,null,null,null,null,null,null,null,null,null,null,null,null,null,null,null,null,null,null,null,null,null,null,null,null,null,null,null,null,null,null,null,null,null,null,null,null,null,null,null,null,null,null,null,null,null,null,null,null,null,null,null,null,null,null,null,null,null,null,null,null,null,null,null,null,null,null,null,null,null,null,null,null,null,null,null,null,null,null,null,null,null,null,null,null,null,null,null,null,null,null,null,null,null,null,null,null,null,null,null,null,null,null,null,null,null,null,null,null,null,null,null,null,null,null,null,null,null,null,null,null,null,null,null,null,null,null,null,null,null,null,null,null,null,null,null,null,null,null,null,null,null,null,null,null,null,null,null,null,null,null,null,null,null,null,null,null,null,null,null,null,null,null,null,null,null,null,null,null,null,null,null,null,null,null,null,null,null,null,null,null,null,null,null,null,null,null,null,null,null,null,null,null,null,null,null,null,null,null,null,null,null,null,null,null,null,null,null,null,null,null,null,null,null,null,null,null,null,null,null,null,null,null,null,null,null,null,null,null,null,null,null,null,null,null,null,null,null,null,null,null,null,null,null,null,null,null,null,null,null,null,null,null,null,null,null,null,null,null,null,null,null,null,null,null,null,null,null,null,null,null,null,null,null,null,null,null,null,null,null,null,null,null,null,null,null,null,null,null,null,null,null,null,null,null,null,null,null,null,null,null,null,null,null,null,null,null,null,null,null,null,null,null,null,null,null,null,null,null,null,null,null,null,null,null,null,null,null,null,null,null,null,null,null,null,null,null,null,null,null,null,null,null,null,null,null,null,null,null,null,null,null,null,null,null,null,null,null,null,null,null,null,null,null,null,null,null,null,null,null,null,null,null,null,null,null,null,null,null,null,null,null,null,null,null,null,null,null,null,null,null,null,null,null,null,null,null,null,null,null,null,null,null,null,null,null,null,null,null,null,null,null,null,null,null,null,null,null,null,null,null,null,null,null,null,null,null,null,null,null,null,null,null,null,null,null,null,null,null,null,null,null,null,null,null,null,null,null,null,null,null,null,{"$f":"SUM(H35:ALT35)","v":0}]
[null,null,"รวมหนี้สินจากการประกันภัยต่อ (total reinsurance liabilities)",null,null,null,null,{"$f":"SUM(H33:H35)","v":0},0,0,0,0,0,0,0,0,0,0,0,0,0,0,0,0,0,0,0,0,0,0,0,0,0,0,0,0,0,0,0,0,0,0,0,0,0,0,0,0,0,0,0,0,0,0,0,0,0,0,0,0,0,0,0,0,0,0,0,0,0,0,0,{"$f":"SUM(BT33:BT35)","v":0},0,0,0,0,0,0,0,0,0,0,0,0,0,0,0,0,0,0,0,0,0,0,0,0,0,0,0,0,0,0,0,0,0,0,0,0,0,0,0,0,0,0,0,0,0,0,0,0,0,0,0,0,0,0,0,0,0,0,0,0,0,0,0,{"$f":"SUM(EF33:EF35)","v":0},{"$f":"SUM(EG33:EG35)","v":0},{"$f":"SUM(EH33:EH35)","v":0},{"$f":"SUM(EI33:EI35)","v":0},0,0,0,0,0,0,0,0,0,0,0,0,0,0,0,0,0,0,0,0,0,0,0,0,0,0,0,0,0,0,0,0,0,0,0,0,0,0,0,0,0,0,0,0,0,0,0,0,0,0,0,0,0,0,0,0,0,0,0,0,0,0,0,{"$f":"SUM(GU33:GU35)","v":0},0,0,0,0,0,0,0,0,0,0,0,0,0,0,0,0,0,0,0,0,0,0,0,0,0,0,0,0,0,0,0,0,0,0,0,0,0,0,0,0,0,0,0,0,0,0,0,0,0,0,0,0,0,0,0,0,0,0,0,0,0,0,0,{"$f":"SUM(JG33:JG35)","v":0},0,0,0,0,0,0,0,0,0,0,0,0,0,0,0,0,0,0,0,0,0,0,0,0,0,0,0,0,0,0,0,0,0,0,0,0,0,0,0,0,0,0,0,0,0,0,0,0,0,0,0,0,0,0,0,0,0,0,0,0,0,0,0,0,0,0,0,0,0,0,0,0,0,0,0,0,0,0,0,0,0,0,0,0,0,0,0,0,0,0,0,0,0,0,0,0,0,0,0,0,0,0,0,0,0,0,0,0,0,0,0,0,0,0,0,0,0,0,0,0,0,0,0,0,0,0,0,0,0,0,0,0,0,0,0,0,0,0,0,0,0,0,0,0,0,0,0,0,0,0,0,0,0,0,0,0,0,0,{"$f":"SUM(PJ33:PJ35)","v":0},{"$f":"SUM(PK33:PK35)","v":0},{"$f":"SUM(PL33:PL35)","v":0},{"$f":"SUM(PM33:PM35)","v":0},0,0,0,0,0,0,0,0,0,0,0,0,0,0,0,0,0,0,0,0,0,0,0,0,0,0,0,0,0,0,0,0,0,0,0,0,0,0,0,0,0,0,0,0,0,0,0,0,0,0,0,0,0,0,0,0,0,0,0,0,0,0,0,{"$f":"SUM(RY33:RY35)","v":0},0,0,0,0,0,0,0,0,0,0,0,0,0,0,0,0,0,0,0,0,0,0,0,0,0,0,0,0,0,0,0,0,0,0,0,0,0,0,0,0,0,0,0,0,0,0,0,0,0,0,0,0,0,0,0,0,0,0,0,0,0,0,0,{"$f":"SUM(UK33:UK35)","v":0},0,0,0,0,0,0,0,0,0,0,0,0,0,0,0,0,0,0,0,0,0,0,0,0,0,0,0,0,0,0,0,0,0,0,0,0,0,0,0,0,0,0,0,0,0,0,0,0,0,0,0,0,0,0,0,0,0,0,0,0,0,0,0,{"$f":"SUM(WW33:WW35)","v":0},0,0,0,0,0,0,0,0,0,0,0,0,0,0,0,0,0,0,0,0,0,0,0,0,0,0,0,0,0,0,0,0,0,0,0,0,0,0,0,0,0,0,0,0,0,0,0,0,0,0,0,0,0,0,0,0,0,0,0,0,0,0,0,0,0,0,0,0,0,0,0,0,0,0,0,0,0,0,0,0,0,0,0,0,0,0,0,0,0,0,0,0,0,0,{"$f":"SUM(AAN33:AAN35)","v":0},{"$f":"SUM(AAO33:AAO35)","v":0},{"$f":"SUM(AAP33:AAP35)","v":0},{"$f":"SUM(AAQ33:AAQ35)","v":0},0,0,0,0,0,0,0,0,0,0,0,0,0,0,0,0,0,0,0,0,0,0,0,0,0,0,0,0,0,0,0,0,0,0,0,0,0,0,0,0,0,0,0,0,0,0,0,0,0,0,0,0,0,0,0,0,0,0,0,0,0,0,0,{"$f":"SUM(ADC33:ADC35)","v":0},0,0,0,0,0,0,0,0,0,0,0,0,0,0,0,0,0,0,0,0,0,0,0,0,0,0,0,0,0,0,0,0,0,0,0,0,0,0,0,0,0,0,0,0,0,0,0,0,0,0,0,0,0,0,0,0,0,0,0,0,0,0,0,{"$f":"SUM(AFO33:AFO35)","v":0},0,0,0,0,0,0,0,0,0,0,0,0,0,0,0,0,0,0,0,0,0,0,0,0,0,0,0,0,0,0,0,0,0,0,0,0,0,0,0,0,0,0,0,0,0,0,0,0,0,0,0,0,0,0,0,0,0,0,0,0,0,0,0,{"$f":"SUM(AIA33:AIA35)","v":0},0,0,0,0,0,0,0,0,0,0,0,0,0,0,0,0,0,0,0,0,0,0,0,0,0,0,0,0,0,0,0,0,0,0,0,0,0,0,0,0,0,0,0,0,0,0,0,0,0,0,0,0,0,0,0,0,0,0,0,0,{"$f":"SUM(AKJ33:AKJ35)","v":0},0,0,0,0,0,0,0,0,0,0,0,0,0,0,0,{"$f":"SUM(AKZ33:AKZ35)","v":0},0,0,0,0,0,0,0,0,0,0,0,0,0,0,0,{"$f":"SUM(ALP33:ALP35)","v":0},0,0,0,0,{"$f":"SUM(ALU33:ALU35)","v":0}]
[null,3,"สินทรัพย์จากการประกันภัยต่อสุทธิ (net reinsurance assets)",null,null,null,null,{"$f":"H32-H36","v":0},0,0,0,0,0,0,0,0,0,0,0,0,0,0,0,0,0,0,0,0,0,0,0,0,0,0,0,0,0,0,0,0,0,0,0,0,0,0,0,0,0,0,0,0,0,0,0,0,0,0,0,0,0,0,0,0,0,0,0,0,0,0,0,{"$f":"BT32-BT36","v":0},0,0,0,0,0,0,0,0,0,0,0,0,0,0,0,0,0,0,0,0,0,0,0,0,0,0,0,0,0,0,0,0,0,0,0,0,0,0,0,0,0,0,0,0,0,0,0,0,0,0,0,0,0,0,0,0,0,0,0,0,0,0,0,{"$f":"EF32-EF36","v":0},{"$f":"EG32-EG36","v":0},{"$f":"EH32-EH36","v":0},{"$f":"EI32-EI36","v":0},0,0,0,0,0,0,0,0,0,0,0,0,0,0,0,0,0,0,0,0,0,0,0,0,0,0,0,0,0,0,0,0,0,0,0,0,0,0,0,0,0,0,0,0,0,0,0,0,0,0,0,0,0,0,0,0,0,0,0,0,0,0,0,{"$f":"GU32-GU36","v":0},0,0,0,0,0,0,0,0,0,0,0,0,0,0,0,0,0,0,0,0,0,0,0,0,0,0,0,0,0,0,0,0,0,0,0,0,0,0,0,0,0,0,0,0,0,0,0,0,0,0,0,0,0,0,0,0,0,0,0,0,0,0,0,{"$f":"JG32-JG36","v":0},0,0,0,0,0,0,0,0,0,0,0,0,0,0,0,0,0,0,0,0,0,0,0,0,0,0,0,0,0,0,0,0,0,0,0,0,0,0,0,0,0,0,0,0,0,0,0,0,0,0,0,0,0,0,0,0,0,0,0,0,0,0,0,0,0,0,0,0,0,0,0,0,0,0,0,0,0,0,0,0,0,0,0,0,0,0,0,0,0,0,0,0,0,0,0,0,0,0,0,0,0,0,0,0,0,0,0,0,0,0,0,0,0,0,0,0,0,0,0,0,0,0,0,0,0,0,0,0,0,0,0,0,0,0,0,0,0,0,0,0,0,0,0,0,0,0,0,0,0,0,0,0,0,0,0,0,0,0,{"$f":"PJ32-PJ36","v":0},{"$f":"PK32-PK36","v":0},{"$f":"PL32-PL36","v":0},{"$f":"PM32-PM36","v":0},0,0,0,0,0,0,0,0,0,0,0,0,0,0,0,0,0,0,0,0,0,0,0,0,0,0,0,0,0,0,0,0,0,0,0,0,0,0,0,0,0,0,0,0,0,0,0,0,0,0,0,0,0,0,0,0,0,0,0,0,0,0,0,{"$f":"RY32-RY36","v":0},0,0,0,0,0,0,0,0,0,0,0,0,0,0,0,0,0,0,0,0,0,0,0,0,0,0,0,0,0,0,0,0,0,0,0,0,0,0,0,0,0,0,0,0,0,0,0,0,0,0,0,0,0,0,0,0,0,0,0,0,0,0,0,{"$f":"UK32-UK36","v":0},0,0,0,0,0,0,0,0,0,0,0,0,0,0,0,0,0,0,0,0,0,0,0,0,0,0,0,0,0,0,0,0,0,0,0,0,0,0,0,0,0,0,0,0,0,0,0,0,0,0,0,0,0,0,0,0,0,0,0,0,0,0,0,{"$f":"WW32-WW36","v":0},0,0,0,0,0,0,0,0,0,0,0,0,0,0,0,0,0,0,0,0,0,0,0,0,0,0,0,0,0,0,0,0,0,0,0,0,0,0,0,0,0,0,0,0,0,0,0,0,0,0,0,0,0,0,0,0,0,0,0,0,0,0,0,0,0,0,0,0,0,0,0,0,0,0,0,0,0,0,0,0,0,0,0,0,0,0,0,0,0,0,0,0,0,0,{"$f":"AAN32-AAN36","v":0},{"$f":"AAO32-AAO36","v":0},{"$f":"AAP32-AAP36","v":0},{"$f":"AAQ32-AAQ36","v":0},0,0,0,0,0,0,0,0,0,0,0,0,0,0,0,0,0,0,0,0,0,0,0,0,0,0,0,0,0,0,0,0,0,0,0,0,0,0,0,0,0,0,0,0,0,0,0,0,0,0,0,0,0,0,0,0,0,0,0,0,0,0,0,{"$f":"ADC32-ADC36","v":0},0,0,0,0,0,0,0,0,0,0,0,0,0,0,0,0,0,0,0,0,0,0,0,0,0,0,0,0,0,0,0,0,0,0,0,0,0,0,0,0,0,0,0,0,0,0,0,0,0,0,0,0,0,0,0,0,0,0,0,0,0,0,0,{"$f":"AFO32-AFO36","v":0},0,0,0,0,0,0,0,0,0,0,0,0,0,0,0,0,0,0,0,0,0,0,0,0,0,0,0,0,0,0,0,0,0,0,0,0,0,0,0,0,0,0,0,0,0,0,0,0,0,0,0,0,0,0,0,0,0,0,0,0,0,0,0,{"$f":"AIA32-AIA36","v":0},0,0,0,0,0,0,0,0,0,0,0,0,0,0,0,0,0,0,0,0,0,0,0,0,0,0,0,0,0,0,0,0,0,0,0,0,0,0,0,0,0,0,0,0,0,0,0,0,0,0,0,0,0,0,0,0,0,0,0,0,{"$f":"AKJ32-AKJ36","v":0},0,0,0,0,0,0,0,0,0,0,0,0,0,0,0,{"$f":"AKZ32-AKZ36","v":0},0,0,0,0,0,0,0,0,0,0,0,0,0,0,0,{"$f":"ALP32-ALP36","v":0},0,0,0,0,{"$f":"SUM(H37:ALT37)","v":0}]
[null,4,"ค่าความเสี่ยง (ตามตารางด้านล่าง) (risk charge (see below))",null,null,null,null,1]
[null,5,"เงินกองทุนสำหรับความเสี่ยงด้านเครดิตจากการประกันภัยต่อ (reinsurance credit risk capital charge)",null,null,null,null,{"$f":"+IF(H32-H36<0,0,H37*H38)","v":0},0,0,0,0,0,0,0,0,0,0,0,0,0,0,0,0,0,0,0,0,0,0,0,0,0,0,0,0,0,0,0,0,0,0,0,0,0,0,0,0,0,0,0,0,0,0,0,0,0,0,0,0,0,0,0,0,0,0,0,0,0,0,0,{"$f":"+IF(BT32-BT36<0,0,BT37*BT38)","v":0},0,0,0,0,0,0,0,0,0,0,0,0,0,0,0,0,0,0,0,0,0,0,0,0,0,0,0,0,0,0,0,0,0,0,0,0,0,0,0,0,0,0,0,0,0,0,0,0,0,0,0,0,0,0,0,0,0,0,0,0,0,0,0,{"$f":"+IF(EF32-EF36<0,0,EF37*EF38)","v":0},0,0,0,0,0,0,0,0,0,0,0,0,0,0,0,0,0,0,0,0,0,0,0,0,0,0,0,0,0,0,0,0,0,0,0,0,0,0,0,0,0,0,0,0,0,0,0,0,0,0,0,0,0,0,0,0,0,0,0,0,0,0,0,{"$f":"+IF(GR32-GR36<0,0,GR37*GR38)","v":0},0,0,0,0,0,0,0,0,0,0,0,0,0,0,0,0,0,0,0,0,0,0,0,0,0,0,0,0,0,0,0,0,0,0,0,0,0,0,0,0,0,0,0,0,0,0,0,0,0,0,0,0,0,0,0,0,0,0,0,0,0,0,0,{"$f":"+IF(JD32-JD36<0,0,JD37*JD38)","v":0},0,0,0,0,0,0,0,0,0,0,0,0,0,0,0,0,0,0,0,0,0,0,0,0,0,0,0,0,0,0,0,0,0,0,0,0,0,0,0,0,0,0,0,0,0,0,0,0,0,0,0,0,0,0,0,0,0,0,0,0,0,0,0,0,0,0,0,0,0,0,0,0,0,0,0,0,0,0,0,0,0,0,0,0,0,0,0,0,0,0,0,0,0,0,0,0,0,0,0,0,0,0,0,0,0,0,0,0,0,0,0,0,0,0,0,0,0,0,0,0,0,0,0,0,0,0,0,0,0,0,0,0,0,0,0,0,0,0,0,0,0,0,0,0,0,0,0,0,0,0,0,0,0,0,0,0,0,0,0,0,0,0,0,0,0,0,0,0,0,0,0,0,0,0,0,0,0,0,0,0,0,0,0,0,0,0,0,0,0,0,0,0,0,0,0,0,0,0,0,0,0,0,0,0,0,0,0,0,0,0,0,0,0,0,0,0,0,0,0,0,0,0,0,0,0,0,0,0,0,0,0,0,0,0,0,0,0,0,0,0,0,0,0,0,0,0,0,0,0,0,0,0,0,{"$f":"+IF(SX32-SX36<0,0,SX37*SX38)","v":0},0,0,0,0,0,0,0,0,0,0,0,0,0,0,0,0,0,0,0,0,0,0,0,0,0,0,0,0,0,0,0,0,0,0,0,0,0,0,0,0,0,0,0,0,0,0,0,0,0,0,0,0,0,0,0,0,0,0,0,0,0,0,0,{"$f":"+IF(VJ32-VJ36<0,0,VJ37*VJ38)","v":0},0,0,0,0,0,0,0,0,0,0,0,0,0,0,0,0,0,0,0,0,0,0,0,0,0,0,0,0,0,0,0,0,0,0,0,0,0,0,0,0,0,0,0,0,0,0,0,0,0,0,0,0,0,0,0,0,0,0,0,0,0,0,0,{"$f":"+IF(XV32-XV36<0,0,XV37*XV38)","v":0},0,0,0,0,0,0,0,0,0,0,0,0,0,0,0,0,0,0,0,0,0,0,0,0,0,0,0,0,0,0,0,0,0,0,0,0,0,0,0,0,0,0,0,0,0,0,0,0,0,0,0,0,0,0,0,0,0,0,0,0,0,0,0,0,0,0,0,0,0,0,0,0,0,0,0,0,0,0,0,0,0,0,0,0,0,0,0,0,0,0,0,0,0,0,0,0,0,0,0,0,0,0,0,0,0,0,0,0,0,0,0,0,0,0,0,0,0,0,0,0,0,0,0,0,0,0,0,0,0,0,0,0,0,0,0,0,0,0,0,0,0,0,0,0,0,0,0,0,0,0,0,0,0,0,0,0,0,0,0,0,0,0,0,0,0,0,0,0,0,0,0,0,0,0,0,0,0,0,0,0,0,0,0,0,0,0,0,0,0,0,0,0,0,0,0,0,0,0,0,0,0,0,0,0,0,0,0,0,0,0,0,0,0,0,0,0,0,0,0,0,0,0,0,0,0,0,0,0,0,0,0,0,0,0,0,0,0,0,0,0,0,{"$f":"+IF(AHD32-AHD36<0,0,AHD37*AHD38)","v":0},0,0,0,0,0,0,0,0,0,0,0,0,0,0,0,0,0,0,0,0,0,0,0,0,0,0,0,0,0,0,0,0,0,0,0,0,0,0,0,0,0,0,0,0,0,0,0,0,0,0,0,0,0,0,0,0,0,0,0,0,0,0,0,0,0,0,0,0,0,0,0,0,0,0,0,0,0,0,0,0,0,0,0,{"$f":"+IF(AKJ32-AKJ36<0,0,AKJ37*AKJ38)","v":0},0,0,0,0,0,0,0,0,0,0,0,0,0,0,0,{"$f":"+IF(AKZ32-AKZ36<0,0,AKZ37*AKZ38)","v":0},0,0,0,0,0,0,0,0,0,0,0,0,0,0,0,{"$f":"+IF(ALP32-ALP36<0,0,ALP37*ALP38)","v":0},0,0,0,0,{"$f":"SUM(H39:ALT39)","v":0}]
[null,6,"เงินกองทุนสำหรับความเสี่ยงด้านการกระจุกตัวจากการเอาประกันภัยต่อกับผู้รับประกันภัยต่อแต่ละราย (individual reinsurance  concentration risk capital charge)",null,null,null,null,null,{"$f":"MAX(0,IF(($ALU$12+$ALU$30)<0,0,IF(I38>10%,MAX(0,(I30-0.25*($ALU$12+$ALU$30))),MAX(0,(I30-0.5*($ALU$12+$ALU$30)))))-IF(I33<0,0,I33))","v":0},0,0,0,0,0,0,0,0,0,0,0,0,0,0,0,0,0,0,0,0,0,0,0,0,0,0,0,0,0,0,0,0,0,0,0,0,0,0,0,0,0,0,0,0,0,0,0,0,0,0,0,0,0,0,0,0,0,0,0,0,0,0,0,{"$f":"MAX(0,IF(($ALU$12+$ALU$30)<0,0,IF(BU38>10%,MAX(0,(BU30-0.25*($ALU$12+$ALU$30))),MAX(0,(BU30-0.5*($ALU$12+$ALU$30)))))-IF(BU33<0,0,BU33))","v":0},0,0,0,0,0,0,0,0,0,0,0,0,0,0,0,0,0,0,0,0,0,0,0,0,0,0,0,0,0,0,0,0,0,0,0,0,0,0,0,0,0,0,0,0,0,0,0,0,0,0,0,0,0,0,0,0,0,0,0,0,0,0,0,{"$f":"MAX(0,IF(($ALU$12+$ALU$30)<0,0,IF(EG38>10%,MAX(0,(EG30-0.25*($ALU$12+$ALU$30))),MAX(0,(EG30-0.5*($ALU$12+$ALU$30)))))-IF(EG33<0,0,EG33))","v":0},0,0,0,0,0,0,0,0,0,0,0,0,0,0,0,0,0,0,0,0,0,0,0,0,0,0,0,0,0,0,0,0,0,0,0,0,0,0,0,0,0,0,0,0,0,0,0,0,0,0,0,0,0,0,0,0,0,0,0,0,0,0,0,{"$f":"MAX(0,IF(($ALU$12+$ALU$30)<0,0,IF(GS38>10%,MAX(0,(GS30-0.25*($ALU$12+$ALU$30))),MAX(0,(GS30-0.5*($ALU$12+$ALU$30)))))-IF(GS33<0,0,GS33))","v":0},0,0,0,0,0,0,0,0,0,0,0,0,0,0,0,0,0,0,0,0,0,0,0,0,0,0,0,0,0,0,0,0,0,0,0,0,0,0,0,0,0,0,0,0,0,0,0,0,0,0,0,0,0,0,0,0,0,0,0,0,0,0,0,{"$f":"MAX(0,IF(($ALU$12+$ALU$30)<0,0,IF(JE38>10%,MAX(0,(JE30-0.25*($ALU$12+$ALU$30))),MAX(0,(JE30-0.5*($ALU$12+$ALU$30)))))-IF(JE33<0,0,JE33))","v":0},0,0,0,0,0,0,0,0,0,0,0,0,0,0,0,0,0,0,0,0,0,0,0,0,0,0,0,0,0,0,0,0,0,0,0,0,0,0,0,0,0,0,0,0,0,0,0,0,0,0,0,0,0,0,0,0,0,0,0,0,0,0,0,{"$f":"MAX(0,IF(($ALU$12+$ALU$30)<0,0,IF(LQ38>10%,MAX(0,(LQ30-0.25*($ALU$12+$ALU$30))),MAX(0,(LQ30-0.5*($ALU$12+$ALU$30)))))-IF(LQ33<0,0,LQ33))","v":0},0,0,0,0,0,0,0,0,0,0,0,0,0,0,0,0,0,0,0,0,0,0,0,0,0,0,0,0,0,0,0,0,0,0,0,0,0,0,0,0,0,0,0,0,0,0,0,0,0,0,0,0,0,0,0,0,0,0,0,0,0,0,0,{"$f":"MAX(0,IF(($ALU$12+$ALU$30)<0,0,IF(OC38>10%,MAX(0,(OC30-0.25*($ALU$12+$ALU$30))),MAX(0,(OC30-0.5*($ALU$12+$ALU$30)))))-IF(OC33<0,0,OC33))","v":0},0,0,0,0,0,0,0,0,0,0,0,0,0,0,0,0,0,0,0,0,0,0,0,0,0,0,0,0,0,0,0,0,0,0,0,0,0,0,0,0,0,0,0,0,0,0,0,0,0,0,0,0,0,0,0,0,0,0,0,0,0,0,0,{"$f":"MAX(0,IF(($ALU$12+$ALU$30)<0,0,IF(QO38>10%,MAX(0,(QO30-0.25*($ALU$12+$ALU$30))),MAX(0,(QO30-0.5*($ALU$12+$ALU$30)))))-IF(QO33<0,0,QO33))","v":0},0,0,0,0,0,0,0,0,0,0,0,0,0,0,0,0,0,0,0,0,0,0,0,0,0,0,0,0,0,0,0,0,0,0,0,0,0,0,0,0,0,0,0,0,0,0,0,0,0,0,0,0,0,0,0,0,0,0,0,0,0,0,0,{"$f":"MAX(0,IF(($ALU$12+$ALU$30)<0,0,IF(TA38>10%,MAX(0,(TA30-0.25*($ALU$12+$ALU$30))),MAX(0,(TA30-0.5*($ALU$12+$ALU$30)))))-IF(TA33<0,0,TA33))","v":0},0,0,0,0,0,0,0,0,0,0,0,0,0,0,0,0,0,0,0,0,0,0,0,0,0,0,0,0,0,0,0,0,0,0,0,0,0,0,0,0,0,0,0,0,0,0,0,0,0,0,0,0,0,0,0,0,0,0,0,0,0,0,0,{"$f":"MAX(0,IF(($ALU$12+$ALU$30)<0,0,IF(VM38>10%,MAX(0,(VM30-0.25*($ALU$12+$ALU$30))),MAX(0,(VM30-0.5*($ALU$12+$ALU$30)))))-IF(VM33<0,0,VM33))","v":0},0,0,0,0,0,0,0,0,0,0,0,0,0,0,0,0,0,0,0,0,0,0,0,0,0,0,0,0,0,0,0,0,0,0,0,0,0,0,0,0,0,0,0,0,0,0,0,0,0,0,0,0,0,0,0,0,0,0,0,0,0,0,0,{"$f":"MAX(0,IF(($ALU$12+$ALU$30)<0,0,IF(XY38>10%,MAX(0,(XY30-0.25*($ALU$12+$ALU$30))),MAX(0,(XY30-0.5*($ALU$12+$ALU$30)))))-IF(XY33<0,0,XY33))","v":0},0,0,0,0,0,0,0,0,0,0,0,0,0,0,0,0,0,0,0,0,0,0,0,0,0,0,0,0,0,0,0,0,0,0,0,0,0,0,0,0,0,0,0,0,0,0,0,0,0,0,0,0,0,0,0,0,0,0,0,0,0,0,0,{"$f":"MAX(0,IF(($ALU$12+$ALU$30)<0,0,IF(AAK38>10%,MAX(0,(AAK30-0.25*($ALU$12+$ALU$30))),MAX(0,(AAK30-0.5*($ALU$12+$ALU$30)))))-IF(AAK33<0,0,AAK33))","v":0},0,0,0,0,0,0,0,0,0,0,0,0,0,0,0,0,0,0,0,0,0,0,0,0,0,0,0,0,0,0,0,0,0,0,0,0,0,0,0,0,0,0,0,0,0,0,0,0,0,0,0,0,0,0,0,0,0,0,0,0,0,0,0,{"$f":"MAX(0,IF(($ALU$12+$ALU$30)<0,0,IF(ACW38>10%,MAX(0,(ACW30-0.25*($ALU$12+$ALU$30))),MAX(0,(ACW30-0.5*($ALU$12+$ALU$30)))))-IF(ACW33<0,0,ACW33))","v":0},0,0,0,0,0,0,0,0,0,0,0,0,0,0,0,0,0,0,0,0,0,0,0,0,0,0,0,0,0,0,0,0,0,0,0,0,0,0,0,0,0,0,0,0,0,0,0,0,0,0,0,0,0,0,0,0,0,0,0,0,0,0,0,{"$f":"MAX(0,IF(($ALU$12+$ALU$30)<0,0,IF(AFI38>10%,MAX(0,(AFI30-0.25*($ALU$12+$ALU$30))),MAX(0,(AFI30-0.5*($ALU$12+$ALU$30)))))-IF(AFI33<0,0,AFI33))","v":0},0,0,0,0,0,0,0,0,0,0,0,0,0,0,0,0,0,0,0,0,0,0,0,0,0,0,0,0,0,0,0,0,0,0,0,0,0,0,0,0,0,0,0,0,0,0,0,0,0,0,0,0,0,0,0,0,0,0,0,0,0,0,0,{"$f":"MAX(0,IF(($ALU$12+$ALU$30)<0,0,IF(AHU38>10%,MAX(0,(AHU30-0.25*($ALU$12+$ALU$30))),MAX(0,(AHU30-0.5*($ALU$12+$ALU$30)))))-IF(AHU33<0,0,AHU33))","v":0},0,0,0,0,0,0,0,0,0,0,0,0,0,0,0,0,0,0,0,0,0,0,0,0,0,0,0,0,0,0,0,0,0,0,0,0,0,0,0,0,0,0,0,0,0,0,0,0,0,0,0,0,0,0,0,0,0,0,0,0,0,0,0,{"$f":"MAX(0,IF(($ALU$12+$ALU$30)<0,0,IF(AKG38>10%,MAX(0,(AKG30-0.25*($ALU$12+$ALU$30))),MAX(0,(AKG30-0.5*($ALU$12+$ALU$30)))))-IF(AKG33<0,0,AKG33))","v":0},0,0,0,0,0,0,0,0,0,0,0,0,0,0,0,0,0,0,0,0,0,0,0,0,0,0,0,0,0,0,0,0,0,0,0,0,0,0,0,{"$f":"SUM(H40:ALT40)","v":0}]
[null,7,"เงินกองทุนสำหรับความเสี่ยงด้านการกระจุกตัวจากการเอาประกันภัยต่อสำหรับความเสี่ยงรวมของผู้รับประกันภัยต่อในแต่ละระดับความเสี่ยง (additional Reinsurance concentration risk capital charge)",null,null,null,null,null,{"$f":"IF(I30>0,I$30/VLOOKUP(I38,$G$48:$P$52,10)*VLOOKUP(I38,$G$48:$Q$52,11),0)","v":0},{"$f":"IF(J30>0,J$30/VLOOKUP(J38,$G$48:$P$52,10)*VLOOKUP(J38,$G$48:$Q$52,11),0)","v":0},0,0,0,0,0,0,0,0,0,0,0,0,0,0,0,0,0,0,0,0,0,0,0,0,0,0,0,0,0,0,0,0,0,0,0,0,0,0,0,0,0,0,0,0,0,0,0,0,0,0,0,0,0,0,0,0,0,0,0,0,0,0,0,{"$f":"IF(BV30>0,BV$30/VLOOKUP(BV38,$G$48:$P$52,10)*VLOOKUP(BV38,$G$48:$Q$52,11),0)","v":0},0,0,0,0,0,0,0,0,0,0,0,0,0,0,0,0,0,0,0,0,0,0,0,0,0,0,0,0,0,0,0,0,0,0,0,0,0,0,0,0,0,0,0,0,0,0,0,0,0,0,0,0,0,0,0,0,0,0,0,0,0,0,0,{"$f":"IF(EH30>0,EH$30/VLOOKUP(EH38,$G$48:$P$52,10)*VLOOKUP(EH38,$G$48:$Q$52,11),0)","v":0},0,0,0,0,0,0,0,0,0,0,0,0,0,0,0,0,0,0,0,0,0,0,0,0,0,0,0,0,0,0,0,0,0,0,0,0,0,0,0,0,0,0,0,0,0,0,0,0,0,0,0,0,0,0,0,0,0,0,0,0,0,0,0,{"$f":"IF(GT30>0,GT$30/VLOOKUP(GT38,$G$48:$P$52,10)*VLOOKUP(GT38,$G$48:$Q$52,11),0)","v":0},0,0,0,0,0,0,0,0,0,0,0,0,0,0,0,0,0,0,0,0,0,0,0,0,0,0,0,0,0,0,0,0,0,0,0,0,0,0,0,0,0,0,0,0,0,0,0,0,0,0,0,0,0,0,0,0,0,0,0,0,0,0,0,{"$f":"IF(JF30>0,JF$30/VLOOKUP(JF38,$G$48:$P$52,10)*VLOOKUP(JF38,$G$48:$Q$52,11),0)","v":0},0,0,0,0,0,0,0,0,0,0,0,0,0,0,0,0,0,0,0,0,0,0,0,0,0,0,0,0,0,0,0,0,0,0,0,0,0,0,0,0,0,0,0,0,0,0,0,0,0,0,0,0,0,0,0,0,0,0,0,0,0,0,0,0,0,0,0,0,0,0,0,0,0,0,0,0,0,0,0,0,0,0,0,0,0,0,0,0,0,0,0,0,0,0,0,0,0,0,0,0,0,0,0,0,0,0,0,0,0,0,0,0,0,0,0,0,0,0,0,0,0,0,0,0,0,0,0,0,0,0,0,0,0,0,0,0,0,0,0,0,0,0,0,0,0,0,0,0,0,0,0,0,0,0,0,0,0,0,0,0,0,0,0,0,0,0,0,0,0,0,0,0,0,0,0,0,0,0,0,0,0,0,0,0,0,0,0,0,0,0,0,0,0,0,0,0,0,0,0,0,0,0,0,0,0,0,0,0,0,0,0,0,0,0,0,0,0,0,0,0,0,0,0,0,0,0,0,0,0,0,0,0,0,0,0,0,0,0,0,0,0,0,0,0,0,0,0,0,0,0,0,0,0,{"$f":"IF(SZ30>0,SZ$30/VLOOKUP(SZ38,$G$48:$P$52,10)*VLOOKUP(SZ38,$G$48:$Q$52,11),0)","v":0},0,0,0,0,0,0,0,0,0,0,0,0,0,0,0,0,0,0,0,0,0,0,0,0,0,0,0,0,0,0,0,0,0,0,0,0,0,0,0,0,0,0,0,0,0,0,0,0,0,0,0,0,0,0,0,0,0,0,0,0,0,0,0,{"$f":"IF(VL30>0,VL$30/VLOOKUP(VL38,$G$48:$P$52,10)*VLOOKUP(VL38,$G$48:$Q$52,11),0)","v":0},0,0,0,0,0,0,0,0,0,0,0,0,0,0,0,0,0,0,0,0,0,0,0,0,0,0,0,0,0,0,0,0,0,0,0,0,0,0,0,0,0,0,0,0,0,0,0,0,0,0,0,0,0,0,0,0,0,0,0,0,0,0,0,{"$f":"IF(XX30>0,XX$30/VLOOKUP(XX38,$G$48:$P$52,10)*VLOOKUP(XX38,$G$48:$Q$52,11),0)","v":0},0,0,0,0,0,0,0,0,0,0,0,0,0,0,0,0,0,0,0,0,0,0,0,0,0,0,0,0,0,0,0,0,0,0,0,0,0,0,0,0,0,0,0,0,0,0,0,0,0,0,0,0,0,0,0,0,0,0,0,0,0,0,0,0,0,0,0,0,0,0,0,0,0,0,0,0,0,0,0,0,0,0,0,0,0,0,0,0,0,0,0,0,0,0,0,0,0,0,0,0,0,0,0,0,0,0,0,0,0,0,0,0,0,0,0,0,0,0,0,0,0,0,0,0,0,0,0,0,0,0,0,0,0,0,0,0,0,0,0,0,0,0,0,0,0,0,0,0,0,0,0,0,0,0,0,0,0,0,0,0,0,0,0,0,0,0,0,0,0,0,0,0,0,0,0,0,0,0,0,0,0,0,0,0,0,0,0,0,0,0,0,0,0,0,0,0,0,0,0,0,0,0,0,0,0,0,0,0,0,0,0,0,0,0,0,0,0,0,0,0,0,0,0,0,0,0,0,0,0,0,0,0,0,0,0,0,0,0,0,{"$f":"IF(AHD30>0,AHD$30/VLOOKUP(AHD38,$G$48:$P$52,10)*VLOOKUP(AHD38,$G$48:$Q$52,11),0)","v":0},0,0,0,0,0,0,0,0,0,0,0,0,0,0,0,0,0,0,0,0,0,0,0,0,0,0,0,0,0,0,0,0,0,0,0,0,0,0,0,0,0,0,0,0,0,0,0,0,0,0,0,0,0,0,0,0,0,0,0,0,0,0,0,0,0,0,0,0,0,0,0,0,0,0,0,0,0,0,0,0,0,0,0,{"$f":"IF(AKJ30>0,AKJ$30/VLOOKUP(AKJ38,$G$48:$P$52,10)*VLOOKUP(AKJ38,$G$48:$Q$52,11),0)","v":0},0,0,0,0,0,0,0,0,0,0,0,0,0,0,0,{"$f":"IF(AKZ30>0,AKZ$30/VLOOKUP(AKZ38,$G$48:$P$52,10)*VLOOKUP(AKZ38,$G$48:$Q$52,11),0)","v":0},0,0,0,0,0,0,0,0,0,0,0,0,0,0,0,{"$f":"IF(ALP30>0,ALP$30/VLOOKUP(ALP38,$G$48:$P$52,10)*VLOOKUP(ALP38,$G$48:$Q$52,11),0)","v":0},0,0,0,0,{"$f":"SUM(H41:ALT41)","v":0}]
[null,8,"เงินกองทุนสำหรับความเสี่ยงด้านการกระจุกตัวจากการเอาประกันภัยต่อกับผู้รับประกันภัยต่อต่างประเทศ (offshore reinsurance concentration risk capital charge)",null,null,null,null,null,{"$f":"MAX(0,MIN(I30-I33-I39,I40+I41))","v":0},{"$f":"MAX(0,MIN(J30-J33-J39,J40+J41))","v":0},0,0,0,0,0,0,0,0,0,0,0,0,0,0,0,0,0,0,0,0,0,0,0,0,0,0,0,0,0,0,0,0,0,0,0,0,0,0,0,0,0,0,0,0,0,0,0,0,0,0,0,0,0,0,0,0,0,0,0,0,0,0,0,{"$f":"MAX(0,MIN(BV30-BV33-BV39,BV40+BV41))","v":0},0,0,0,0,0,0,0,0,0,0,0,0,0,0,0,0,0,0,0,0,0,0,0,0,0,0,0,0,0,0,0,0,0,0,0,0,0,0,0,0,0,0,0,0,0,0,0,0,0,0,0,0,0,0,0,0,0,0,0,0,0,0,0,{"$f":"MAX(0,MIN(EH30-EH33-EH39,EH40+EH41))","v":0},0,0,0,0,0,0,0,0,0,0,0,0,0,0,0,0,0,0,0,0,0,0,0,0,0,0,0,0,0,0,0,0,0,0,0,0,0,0,0,0,0,0,0,0,0,0,0,0,0,0,0,0,0,0,0,0,0,0,0,0,0,0,0,{"$f":"MAX(0,MIN(GT30-GT33-GT39,GT40+GT41))","v":0},0,0,0,0,0,0,0,0,0,0,0,0,0,0,0,0,0,0,0,0,0,0,0,0,0,0,0,0,0,0,0,0,0,0,0,0,0,0,0,0,0,0,0,0,0,0,0,0,0,0,0,0,0,0,0,0,0,0,0,0,0,0,0,{"$f":"MAX(0,MIN(JF30-JF33-JF39,JF40+JF41))","v":0},0,0,0,0,0,0,0,0,0,0,0,0,0,0,0,0,0,0,0,0,0,0,0,0,0,0,0,0,0,0,0,0,0,0,0,0,0,0,0,0,0,0,0,0,0,0,0,0,0,0,0,0,0,0,0,0,0,0,0,0,0,0,0,0,0,0,0,0,0,0,0,0,0,0,0,0,0,0,0,0,0,0,0,0,0,0,0,0,0,0,0,0,0,0,0,0,0,0,0,0,0,0,0,0,0,0,0,0,0,0,0,0,0,0,0,0,0,0,0,0,0,0,0,0,0,0,0,0,0,0,0,0,0,0,0,0,0,0,0,0,0,0,0,0,0,0,0,0,0,0,0,0,0,0,0,0,0,0,0,0,0,0,0,0,0,0,0,0,0,0,0,0,0,0,0,0,0,0,0,0,0,0,0,0,0,0,0,0,0,0,0,0,0,0,0,0,0,0,0,0,0,0,0,0,0,0,0,0,0,0,0,0,0,0,0,0,0,0,0,0,0,0,0,0,0,0,0,0,0,0,0,0,0,0,0,0,0,0,0,0,0,0,0,0,0,0,0,0,0,0,0,0,0,{"$f":"MAX(0,MIN(SZ30-SZ33-SZ39,SZ40+SZ41))","v":0},0,0,0,0,0,0,0,0,0,0,0,0,0,0,0,0,0,0,0,0,0,0,0,0,0,0,0,0,0,0,0,0,0,0,0,0,0,0,0,0,0,0,0,0,0,0,0,0,0,0,0,0,0,0,0,0,0,0,0,0,0,0,0,{"$f":"MAX(0,MIN(VL30-VL33-VL39,VL40+VL41))","v":0},0,0,0,0,0,0,0,0,0,0,0,0,0,0,0,0,0,0,0,0,0,0,0,0,0,0,0,0,0,0,0,0,0,0,0,0,0,0,0,0,0,0,0,0,0,0,0,0,0,0,0,0,0,0,0,0,0,0,0,0,0,0,0,{"$f":"MAX(0,MIN(XX30-XX33-XX39,XX40+XX41))","v":0},0,0,0,0,0,0,0,0,0,0,0,0,0,0,0,0,0,0,0,0,0,0,0,0,0,0,0,0,0,0,0,0,0,0,0,0,0,0,0,0,0,0,0,0,0,0,0,0,0,0,0,0,0,0,0,0,0,0,0,0,0,0,0,0,0,0,0,0,0,0,0,0,0,0,0,0,0,0,0,0,0,0,0,0,0,0,0,0,0,0,0,0,0,0,0,0,0,0,0,0,0,0,0,0,0,0,0,0,0,0,0,0,0,0,0,0,0,0,0,0,0,0,0,0,0,0,0,0,0,0,0,0,0,0,0,0,0,0,0,0,0,0,0,0,0,0,0,0,0,0,0,0,0,0,0,0,0,0,0,0,0,0,0,0,0,0,0,0,0,0,0,0,0,0,0,0,0,0,0,0,0,0,0,0,0,0,0,0,0,0,0,0,0,0,0,0,0,0,0,0,0,0,0,0,0,0,0,0,0,0,0,0,0,0,0,0,0,0,0,0,0,0,0,0,0,0,0,0,0,0,0,0,0,0,0,0,0,0,0,{"$f":"MAX(0,MIN(AHD30-AHD33-AHD39,AHD40+AHD41))","v":0},0,0,0,0,0,0,0,0,0,0,0,0,0,0,0,0,0,0,0,0,0,0,0,0,0,0,0,0,0,0,0,0,0,0,0,0,0,0,0,0,0,0,0,0,0,0,0,0,0,0,0,0,0,0,0,0,0,0,0,0,0,0,0,0,0,0,0,0,0,0,0,0,0,0,0,0,0,0,0,0,0,0,0,{"$f":"MAX(0,MIN(AKJ30-AKJ33-AKJ39,AKJ40+AKJ41))","v":0},0,0,0,0,0,0,0,0,0,0,0,0,0,0,0,{"$f":"MAX(0,MIN(AKZ30-AKZ33-AKZ39,AKZ40+AKZ41))","v":0},0,0,0,0,0,0,0,0,0,0,0,0,0,0,0,{"$f":"MAX(0,MIN(ALP30-ALP33-ALP39,ALP40+ALP41))","v":0},0,0,0,0,{"$f":"SUM(H42:ALT42)","v":0}]
[]
[]
[]
[null,"การจัดระดับความเสี่ยง (risk rating)"]
[null,"(a)","ความเสี่ยงภัยด้านเครดิตของผู้รับประกันภัยต่อต่างประเทศ (credit exposures to offshore reinsurers )",null,null,null,"ร้อยละของค่าความเสี่ยง (% risk charge)",null,null,"เงินกองทุนสำหรับความเสี่ยงด้านการกระจุกตัวจากการเอาประกันภัยต่อสำหรับความเสี่ยงรวมของผู้รับประกันภัยต่อในแต่ละระดับความเสี่ยง (additional Reinsurance concentration risk capital charge)",null,null,null,null,"ร้อยละขีดจำกัดของสินทรัพย์จากการประกันภัยต่อ(% limit of reinsurance Asset)","สินทรัพย์จากการประกันภัยต่อ (reinsurance assets)","ก่อนการกระจายกลับไปแต่ละผู้รับประกันภัยต่อแต่ละราย (before allocating back to each reinsurer)"]
[null,null,"ระดับความเสี่ยง 1 (risk grade 1)",null,null,null,1.6E-2,null,null,"ระดับความเสี่ยง 1 (risk grade 1)",null,null,null,null,1,{"$f":"SUMIF($I$38:$ALT$38,$G48,$I$30:$ALT$30)","v":0},{"$f":"MAX(0,$P48-$O48*$P$53)","v":0}]
[null,null,"ระดับความเสี่ยง 2 (risk grade 2)",null,null,null,2.8000000000000001E-2,null,null,"ระดับความเสี่ยง 2 (risk grade 2)",null,null,null,null,1,{"$f":"SUMIF($I$38:$ALT$38,$G49,$I$30:$ALT$30)","v":0},{"$f":"MAX(0,$P49-$O49*$P$53)","v":0}]
[null,null,"ระดับความเสี่ยง 3 (risk grade 3)",null,null,null,0.04,null,null,"ระดับความเสี่ยง 3 (risk grade 3)",null,null,null,null,1,{"$f":"SUMIF($I$38:$ALT$38,$G50,$I$30:$ALT$30)","v":0},{"$f":"MAX(0,$P50-$O50*$P$53)","v":0}]
[null,null,"ระดับความเสี่ยง 4 (risk grade 4)",null,null,null,0.08,null,null,"ระดับความเสี่ยง 4 (risk grade 4)",null,null,null,null,0.5,{"$f":"SUMIF($I$38:$ALT$38,$G51,$I$30:$ALT$30)","v":0},{"$f":"MAX(0,$P51-$O51*$P$53)","v":0}]
[null,null,"ระดับความเสี่ยง 5 (risk grade 5)",null,null,null,0.15,null,null,"ระดับความเสี่ยง 5, 6 และ 7 (risk grade 5, 6 and 7)",null,null,null,null,0.25,{"$f":"SUMIF($I$38:$ALT$38,$G52,$I$30:$ALT$30)+SUMIF($I$38:$ALT$38,$G53,$I$30:$ALT$30)+SUMIF($I$38:$ALT$38,$G54,$I$30:$ALT$30)","v":0},{"$f":"MAX(0,$P52-$O52*$P$53)","v":0}]
[null,null,"ระดับความเสี่ยง 6 (risk grade 6)",null,null,null,0.25,null,null,"รวม (total)",null,null,null,null,null,{"$f":"SUM(P48:P52)","v":0},{"$f":"SUM(Q48:Q52)","v":0}]
[null,null,"ระดับความเสี่ยง 7 (risk grade 7)",null,null,null,0.48499999999999999]
[null,"(b)","ความเสี่ยงภัยด้านเครดิตของผู้รับประกันภัยต่อในประเทศไทยตามอัตราส่วนความเพียงพอของเงินกองทุน (credit exposures to Thai reinsurers according to reinsurer's capital adequacy ratio (CAR))",null,null,null,"ร้อยละของค่าความเสี่ยง (% risk charge)"]
[null,null,"(i) อัตราส่วนความเพียงพอของเงินกองทุนตั้งแต่ 300% (CAR ≥ 300%)",null,null,null,1.6E-2]
[null,null,"(ii) อัตราส่วนความเพียงพอของเงินกองทุนตั้งแต่ 200% แต่ไม่ถึง 300% (CAR ≥ 200% and <300%)",null,null,null,2.8000000000000001E-2]
[null,null,"(iii) อัตราส่วนความเพียงพอของเงินกองทุนตั้งแต่ 150% แต่ไม่ถึง 200% (CAR ≥ 150% and <200%)",null,null,null,0.04]
[null,null,"(iv) อัตราส่วนความเพียงพอของเงินกองทุนน้อยกว่า 150% (CAR <150%)",null,null,null,0.08]
[null,"(c)","การประกันภัยต่อทางการเงิน (financial reinsurance)",null,null,null,1]
[]
[null,"/1 หมายรวมถึงสัญญาประกันภัยต่อที่เข้าข่ายต้องขอรับความเห็นชอบจากนายทะเบียนตามที่กำหนดไว้ในประกาศ คปภ. ว่าด้วยหลักเกณฑ์ วิธีการ และเงื่อนไขในการประกันภัยต่อของบริษัทประกันชีวิต และไม่ได้รับความเห็นชอบจากนายทะเบียน"]

{"sheet":"แบบฟอร์มที่ 9","index":21,"n_rows":12038,"n_cols":11,"rows_kept":4500,"cut":true,"hidden":false,"merged":[[6017,1,9019,1],[3013,1,6016,1],[11007,4,11007,6],[11008,4,11008,6],[11009,4,11009,6],[11010,4,11010,6],[11011,4,11011,6],[11012,4,11012,6],[11013,4,11013,6],[11014,4,11014,6],[11015,4,11015,6],[11016,4,11016,6],[11017,4,11017,6],[11018,4,11018,6],[11019,4,11019,6],[11020,4,11020,6],[11021,4,11021,6],[11022,4,11022,6],[11023,3,11023,6],[10974,4,10974,6],[10975,4,10975,6],[10976,4,10976,6],[10977,4,10977,6],[10978,4,10978,6],[10979,4,10979,6],[10980,4,10980,6],[10981,4,10981,6],[10982,4,10982,6],[10983,4,10983,6],[10984,4,10984,6],[10985,4,10985,6],[10986,4,10986,6],[10987,4,10987,6],[10988,4,10988,6],[10989,4,10989,6],[10990,4,10990,6],[10991,4,10991,6],[10992,4,10992,6],[10993,4,10993,6],[10994,4,10994,6],[10995,4,10995,6],[10996,4,10996,6],[10997,4,10997,6],[10998,4,10998,6],[10999,4,10999,6],[11000,4,11000,6],[11001,4,11001,6],[11002,4,11002,6],[11003,4,11003,6],[11004,4,11004,6],[11005,4,11005,6],[11006,4,11006,6],[10941,4,10941,6],[10942,4,10942,6],[10943,4,10943,6],[10944,4,10944,6],[10945,4,10945,6],[10946,4,10946,6],[10947,4,10947,6],[10948,4,10948,6],[10949,4,10949,6],[10950,4,10950,6],[10951,4,10951,6],[10952,4,10952,6],[10953,4,10953,6],[10954,4,10954,6],[10955,4,10955,6],[10956,4,10956,6],[10957,4,10957,6],[10958,4,10958,6],[10959,4,10959,6],[10960,4,10960,6],[10961,4,10961,6],[10962,4,10962,6],[10963,4,10963,6],[10964,4,10964,6],[10965,4,10965,6],[10966,4,10966,6],[10967,4,10967,6],[10968,4,10968,6],[10969,4,10969,6],[10970,4,10970,6],[10971,4,10971,6],[10972,4,10972,6],[10973,4,10973,6],[10908,4,10908,6],[10909,4,10909,6],[10910,4,10910,6],[10911,4,10911,6],[10912,4,10912,6],[10913,4,10913,6],[10914,4,10914,6],[10915,4,10915,6],[10916,4,10916,6],[10917,4,10917,6],[10918,4,10918,6],[10919,4,10919,6],[10920,4,10920,6],[10921,4,10921,6],[10922,4,10922,6],[10923,4,10923,6],[10924,4,10924,6],[10925,4,10925,6],[10926,4,10926,6],[10927,4,10927,6],[10928,4,10928,6],[10929,4,10929,6],[10930,4,10930,6],[10931,4,10931,6],[10932,4,10932,6],[10933,4,10933,6],[10934,4,10934,6],[10935,4,10935,6],[10936,4,10936,6],[10937,4,10937,6],[10938,4,10938,6],[10939,4,10939,6],[10940,4,10940,6],[10875,4,10875,6],[10876,4,10876,6],[10877,4,10877,6],[10878,4,10878,6],[10879,4,10879,6],[10880,4,10880,6],[10881,4,10881,6],[10882,4,10882,6],[10883,4,10883,6],[10884,4,10884,6],[10885,4,10885,6],[10886,4,10886,6],[10887,4,10887,6],[10888,4,10888,6],[10889,4,10889,6],[10890,4,10890,6],[10891,4,10891,6],[10892,4,10892,6],[10893,4,10893,6],[10894,4,10894,6],[10895,4,10895,6],[10896,4,10896,6],[10897,4,10897,6],[10898,4,10898,6],[10899,4,10899,6],[10900,4,10900,6],[10901,4,10901,6],[10902,4,10902,6],[10903,4,10903,6],[10904,4,10904,6],[10905,4,10905,6],[10906,4,10906,6],[10907,4,10907,6],[10842,4,10842,6],[10843,4,10843,6],[10844,4,10844,6],[10845,4,10845,6],[10846,4,10846,6],[10847,4,10847,6],[10848,4,10848,6],[10849,4,10849,6],[10850,4,10850,6],[10851,4,10851,6],[10852,4,10852,6],[10853,4,10853,6],[10854,4,10854,6],[10855,4,10855,6],[10856,4,10856,6],[10857,4,10857,6],[10858,4,10858,6],[10859,4,10859,6],[10860,4,10860,6],[10861,4,10861,6],[10862,4,10862,6],[10863,4,10863,6],[10864,4,10864,6],[10865,4,10865,6],[10866,4,10866,6],[10867,4,10867,6],[10868,4,10868,6],[10869,4,10869,6],[10870,4,10870,6],[10871,4,10871,6],[10872,4,10872,6],[10873,4,10873,6],[10874,4,10874,6],[10809,4,10809,6],[10810,4,10810,6],[10811,4,10811,6],[10812,4,10812,6],[10813,4,10813,6],[10814,4,10814,6],[10815,4,10815,6],[10816,4,10816,6],[10817,4,10817,6],[10818,4,10818,6],[10819,4,10819,6],[10820,4,10820,6],[10821,4,10821,6],[10822,4,10822,6],[10823,4,10823,6],[10824,4,10824,6],[10825,4,10825,6],[10826,4,10826,6],[10827,4,10827,6],[10828,4,10828,6],[10829,4,10829,6],[10830,4,10830,6],[10831,4,10831,6],[10832,4,10832,6],[10833,4,10833,6],[10834,4,10834,6],[10835,4,10835,6],[10836,4,10836,6],[10837,4,10837,6],[10838,4,10838,6],[10839,4,10839,6],[10840,4,10840,6],[10841,4,10841,6],[10776,4,10776,6],[10777,4,10777,6],[10778,4,10778,6],[10779,4,10779,6],[10780,4,10780,6],[10781,4,10781,6],[10782,4,10782,6],[10783,4,10783,6],[10784,4,10784,6],[10785,4,10785,6],[10786,4,10786,6],[10787,4,10787,6],[10788,4,10788,6],[10789,4,10789,6],[10790,4,10790,6],[10791,4,10791,6],[10792,4,10792,6],[10793,4,10793,6],[10794,4,10794,6],[10795,4,10795,6],[10796,4,10796,6],[10797,4,10797,6],[10798,4,10798,6],[10799,4,10799,6],[10800,4,10800,6],[10801,4,10801,6],[10802,4,10802,6],[10803,4,10803,6],[10804,4,10804,6],[10805,4,10805,6],[10806,4,10806,6],[10807,4,10807,6],[10808,4,10808,6],[10743,4,10743,6],[10744,4,10744,6],[10745,4,10745,6],[10746,4,10746,6],[10747,4,10747,6],[10748,4,10748,6],[10749,4,10749,6],[10750,4,10750,6],[10751,4,10751,6],[10752,4,10752,6],[10753,4,10753,6],[10754,4,10754,6],[10755,4,10755,6],[10756,4,10756,6],[10757,4,10757,6],[10758,4,10758,6],[10759,4,10759,6],[10760,4,10760,6],[10761,4,10761,6],[10762,4,10762,6],[10763,4,10763,6],[10764,4,10764,6],[10765,4,10765,6],[10766,4,10766,6],[10767,4,10767,6],[10768,4,10768,6],[10769,4,10769,6],[10770,4,10770,6],[10771,4,10771,6],[10772,4,10772,6],[10773,4,10773,6],[10774,4,10774,6],[10775,4,10775,6],[10710,4,10710,6],[10711,4,10711,6],[10712,4,10712,6],[10713,4,10713,6],[10714,4,10714,6],[10715,4,10715,6],[10716,4,10716,6],[10717,4,10717,6],[10718,4,10718,6],[10719,4,10719,6],[10720,4,10720,6],[10721,4,10721,6],[10722,4,10722,6],[10723,4,10723,6],[10724,4,10724,6],[10725,4,10725,6],[10726,4,10726,6],[10727,4,10727,6],[10728,4,10728,6],[10729,4,10729,6],[10730,4,10730,6],[10731,4,10731,6],[10732,4,10732,6],[10733,4,10733,6],[10734,4,10734,6],[10735,4,10735,6],[10736,4,10736,6],[10737,4,10737,6],[10738,4,10738,6],[10739,4,10739,6],[10740,4,10740,6],[10741,4,10741,6],[10742,4,10742,6],[10677,4,10677,6],[10678,4,10678,6],[10679,4,10679,6],[10680,4,10680,6],[10681,4,10681,6],[10682,4,10682,6],[10683,4,10683,6],[10684,4,10684,6],[10685,4,10685,6],[10686,4,10686,6],[10687,4,10687,6],[10688,4,10688,6],[10689,4,10689,6],[10690,4,10690,6],[10691,4,10691,6],[10692,4,10692,6],[10693,4,10693,6],[10694,4,10694,6],[10695,4,10695,6],[10696,4,10696,6],[10697,4,10697,6],[10698,4,10698,6],[10699,4,10699,6],[10700,4,10700,6],[10701,4,10701,6],[10702,4,10702,6],[10703,4,10703,6],[10704,4,10704,6],[10705,4,10705,6],[10706,4,10706,6],[10707,4,10707,6],[10708,4,10708,6],[10709,4,10709,6],[10644,4,10644,6],[10645,4,10645,6],[10646,4,10646,6],[10647,4,10647,6],[10648,4,10648,6],[10649,4,10649,6],[10650,4,10650,6],[10651,4,10651,6],[10652,4,10652,6],[10653,4,10653,6],[10654,4,10654,6],[10655,4,10655,6],[10656,4,10656,6],[10657,4,10657,6],[10658,4,10658,6],[10659,4,10659,6],[10660,4,10660,6],[10661,4,10661,6],[10662,4,10662,6],[10663,4,10663,6],[10664,4,10664,6],[10665,4,10665,6],[10666,4,10666,6],[10667,4,10667,6],[10668,4,10668,6],[10669,4,10669,6],[10670,4,10670,6],[10671,4,10671,6],[10672,4,10672,6],[10673,4,10673,6],[10674,4,10674,6],[10675,4,10675,6],[10676,4,10676,6],[10611,4,10611,6],[10612,4,10612,6],[10613,4,10613,6],[10614,4,10614,6],[10615,4,10615,6],[10616,4,10616,6],[10617,4,10617,6],[10618,4,10618,6],[10619,4,10619,6],[10620,4,10620,6],[10621,4,10621,6],[10622,4,10622,6],[10623,4,10623,6],[10624,4,10624,6],[10625,4,10625,6],[10626,4,10626,6],[10627,4,10627,6],[10628,4,10628,6],[10629,4,10629,6],[10630,4,10630,6],[10631,4,10631,6],[10632,4,10632,6],[10633,4,10633,6],[10634,4,10634,6],[10635,4,10635,6],[10636,4,10636,6],[10637,4,10637,6],[10638,4,10638,6],[10639,4,10639,6],[10640,4,10640,6],[10641,4,10641,6],[10642,4,10642,6],[10643,4,10643,6],[10578,4,10578,6],[10579,4,10579,6],[10580,4,10580,6],[10581,4,10581,6],[10582,4,10582,6],[10583,4,10583,6],[10584,4,10584,6],[10585,4,10585,6],[10586,4,10586,6],[10587,4,10587,6],[10588,4,10588,6],[10589,4,10589,6],[10590,4,10590,6],[10591,4,10591,6],[10592,4,10592,6],[10593,4,10593,6],[10594,4,10594,6],[10595,4,10595,6],[10596,4,10596,6],[10597,4,10597,6],[10598,4,10598,6],[10599,4,10599,6],[10600,4,10600,6],[10601,4,10601,6],[10602,4,10602,6],[10603,4,10603,6],[10604,4,10604,6],[10605,4,10605,6],[10606,4,10606,6],[10607,4,10607,6],[10608,4,10608,6],[10609,4,10609,6],[10610,4,10610,6],[10545,4,10545,6],[10546,4,10546,6],[10547,4,10547,6],[10548,4,10548,6],[10549,4,10549,6],[10550,4,10550,6],[10551,4,10551,6],[10552,4,10552,6],[10553,4,10553,6],[10554,4,10554,6],[10555,4,10555,6],[10556,4,10556,6],[10557,4,10557,6],[10558,4,10558,6],[10559,4,10559,6],[10560,4,10560,6],[10561,4,10561,6],[10562,4,10562,6],[10563,4,10563,6],[10564,4,10564,6],[10565,4,10565,6],[10566,4,10566,6],[10567,4,10567,6],[10568,4,10568,6],[10569,4,10569,6],[10570,4,10570,6],[10571,4,10571,6],[10572,4,10572,6],[10573,4,10573,6],[10574,4,10574,6],[10575,4,10575,6],[10576,4,10576,6],[10577,4,10577,6],[10512,4,10512,6],[10513,4,10513,6],[10514,4,10514,6],[10515,4,10515,6],[10516,4,10516,6],[10517,4,10517,6],[10518,4,10518,6],[10519,4,10519,6],[10520,4,10520,6],[10521,4,10521,6],[10522,4,10522,6],[10523,4,10523,6],[10524,4,10524,6],[10525,4,10525,6],[10526,4,10526,6],[10527,4,10527,6],[10528,4,10528,6],[10529,4,10529,6],[10530,4,10530,6],[10531,4,10531,6],[10532,4,10532,6],[10533,4,10533,6],[10534,4,10534,6],[10535,4,10535,6],[10536,4,10536,6],[10537,4,10537,6],[10538,4,10538,6],[10539,4,10539,6],[10540,4,10540,6],[10541,4,10541,6],[10542,4,10542,6],[10543,4,10543,6],[10544,4,10544,6],[10479,4,10479,6],[10480,4,10480,6],[10481,4,10481,6],[10482,4,10482,6],[10483,4,10483,6],[10484,4,10484,6],[10485,4,10485,6],[10486,4,10486,6],[10487,4,10487,6],[10488,4,10488,6],[10489,4,10489,6],[10490,4,10490,6],[10491,4,10491,6],[10492,4,10492,6],[10493,4,10493,6],[10494,4,10494,6],[10495,4,10495,6],[10496,4,10496,6],[10497,4,10497,6],[10498,4,10498,6],[10499,4,10499,6],[10500,4,10500,6],[10501,4,10501,6],[10502,4,10502,6],[10503,4,10503,6],[10504,4,10504,6],[10505,4,10505,6],[10506,4,10506,6],[10507,4,10507,6],[10508,4,10508,6],[10509,4,10509,6],[10510,4,10510,6],[10511,4,10511,6],[10446,4,10446,6],[10447,4,10447,6],[10448,4,10448,6],[10449,4,10449,6],[10450,4,10450,6],[10451,4,10451,6],[10452,4,10452,6],[10453,4,10453,6],[10454,4,10454,6],[10455,4,10455,6],[10456,4,10456,6],[10457,4,10457,6],[10458,4,10458,6],[10459,4,10459,6],[10460,4,10460,6],[10461,4,10461,6],[10462,4,10462,6],[10463,4,10463,6],[10464,4,10464,6],[10465,4,10465,6],[10466,4,10466,6],[10467,4,10467,6],[10468,4,10468,6],[10469,4,10469,6],[10470,4,10470,6],[10471,4,10471,6],[10472,4,10472,6],[10473,4,10473,6],[10474,4,10474,6],[10475,4,10475,6],[10476,4,10476,6],[10477,4,10477,6],[10478,4,10478,6],[10413,4,10413,6],[10414,4,10414,6],[10415,4,10415,6],[10416,4,10416,6],[10417,4,10417,6],[10418,4,10418,6],[10419,4,10419,6],[10420,4,10420,6],[10421,4,10421,6],[10422,4,10422,6],[10423,4,10423,6],[10424,4,10424,6],[10425,4,10425,6],[10426,4,10426,6],[10427,4,10427,6],[10428,4,10428,6],[10429,4,10429,6],[10430,4,10430,6],[10431,4,10431,6],[10432,4,10432,6],[10433,4,10433,6],[10434,4,10434,6],[10435,4,10435,6],[10436,4,10436,6],[10437,4,10437,6],[10438,4,10438,6],[10439,4,10439,6],[10440,4,10440,6],[10441,4,10441,6],[10442,4,10442,6],[10443,4,10443,6],[10444,4,10444,6],[10445,4,10445,6],[10380,4,10380,6],[10381,4,10381,6],[10382,4,10382,6],[10383,4,10383,6],[10384,4,10384,6],[10385,4,10385,6],[10386,4,10386,6],[10387,4,10387,6],[10388,4,10388,6],[10389,4,10389,6],[10390,4,10390,6],[10391,4,10391,6],[10392,4,10392,6],[10393,4,10393,6],[10394,4,10394,6],[10395,4,10395,6],[10396,4,10396,6],[10397,4,10397,6],[10398,4,10398,6],[10399,4,10399,6],[10400,4,10400,6],[10401,4,10401,6],[10402,4,10402,6],[10403,4,10403,6],[10404,4,10404,6],[10405,4,10405,6],[10406,4,10406,6],[10407,4,10407,6],[10408,4,10408,6],[10409,4,10409,6],[10410,4,10410,6],[10411,4,10411,6],[10412,4,10412,6],[10347,4,10347,6],[10348,4,10348,6],[10349,4,10349,6],[10350,4,10350,6],[10351,4,10351,6],[10352,4,10352,6],[10353,4,10353,6],[10354,4,10354,6],[10355,4,10355,6],[10356,4,10356,6],[10357,4,10357,6],[10358,4,10358,6],[10359,4,10359,6],[10360,4,10360,6],[10361,4,10361,6],[10362,4,10362,6],[10363,4,10363,6],[10364,4,10364,6],[10365,4,10365,6],[10366,4,10366,6],[10367,4,10367,6],[10368,4,10368,6],[10369,4,10369,6],[10370,4,10370,6],[10371,4,10371,6],[10372,4,10372,6],[10373,4,10373,6],[10374,4,10374,6],[10375,4,10375,6],[10376,4,10376,6],[10377,4,10377,6],[10378,4,10378,6],[10379,4,10379,6],[10314,4,10314,6],[10315,4,10315,6],[10316,4,10316,6],[10317,4,10317,6],[10318,4,10318,6],[10319,4,10319,6],[10320,4,10320,6],[10321,4,10321,6],[10322,4,10322,6],[10323,4,10323,6],[10324,4,10324,6],[10325,4,10325,6],[10326,4,10326,6],[10327,4,10327,6],[10328,4,10328,6],[10329,4,10329,6],[10330,4,10330,6],[10331,4,10331,6],[10332,4,10332,6],[10333,4,10333,6],[10334,4,10334,6],[10335,4,10335,6],[10336,4,10336,6],[10337,4,10337,6],[10338,4,10338,6],[10339,4,10339,6],[10340,4,10340,6],[10341,4,10341,6],[10342,4,10342,6],[10343,4,10343,6],[10344,4,10344,6],[10345,4,10345,6],[10346,4,10346,6],[10281,4,10281,6],[10282,4,10282,6],[10283,4,10283,6],[10284,4,10284,6],[10285,4,10285,6],[10286,4,10286,6],[10287,4,10287,6],[10288,4,10288,6],[10289,4,10289,6],[10290,4,10290,6],[10291,4,10291,6],[10292,4,10292,6],[10293,4,10293,6],[10294,4,10294,6],[10295,4,10295,6],[10296,4,10296,6],[10297,4,10297,6],[10298,4,10298,6],[10299,4,10299,6],[10300,4,10300,6],[10301,4,10301,6],[10302,4,10302,6],[10303,4,10303,6],[10304,4,10304,6],[10305,4,10305,6],[10306,4,10306,6],[10307,4,10307,6],[10308,4,10308,6],[10309,4,10309,6],[10310,4,10310,6],[10311,4,10311,6],[10312,4,10312,6],[10313,4,10313,6],[10248,4,10248,6],[10249,4,10249,6],[10250,4,10250,6],[10251,4,10251,6],[10252,4,10252,6],[10253,4,10253,6],[10254,4,10254,6],[10255,4,10255,6],[10256,4,10256,6],[10257,4,10257,6],[10258,4,10258,6],[10259,4,10259,6],[10260,4,10260,6],[10261,4,10261,6],[10262,4,10262,6],[10263,4,10263,6],[10264,4,10264,6],[10265,4,10265,6],[10266,4,10266,6],[10267,4,10267,6],[10268,4,10268,6],[10269,4,10269,6],[10270,4,10270,6],[10271,4,10271,6],[10272,4,10272,6],[10273,4,10273,6],[10274,4,10274,6],[10275,4,10275,6],[10276,4,10276,6],[10277,4,10277,6],[10278,4,10278,6],[10279,4,10279,6],[10280,4,10280,6],[10215,4,10215,6],[10216,4,10216,6],[10217,4,10217,6],[10218,4,10218,6],[10219,4,10219,6],[10220,4,10220,6],[10221,4,10221,6],[10222,4,10222,6],[10223,4,10223,6],[10224,4,10224,6],[10225,4,10225,6],[10226,4,10226,6],[10227,4,10227,6],[10228,4,10228,6],[10229,4,10229,6],[10230,4,10230,6],[10231,4,10231,6],[10232,4,10232,6],[10233,4,10233,6],[10234,4,10234,6],[10235,4,10235,6],[10236,4,10236,6],[10237,4,10237,6],[10238,4,10238,6],[10239,4,10239,6],[10240,4,10240,6],[10241,4,10241,6],[10242,4,10242,6],[10243,4,10243,6],[10244,4,10244,6],[10245,4,10245,6],[10246,4,10246,6],[10247,4,10247,6],[10182,4,10182,6],[10183,4,10183,6],[10184,4,10184,6],[10185,4,10185,6],[10186,4,10186,6],[10187,4,10187,6],[10188,4,10188,6],[10189,4,10189,6],[10190,4,10190,6],[10191,4,10191,6],[10192,4,10192,6],[10193,4,10193,6],[10194,4,10194,6],[10195,4,10195,6],[10196,4,10196,6],[10197,4,10197,6],[10198,4,10198,6],[10199,4,10199,6],[10200,4,10200,6],[10201,4,10201,6],[10202,4,10202,6],[10203,4,10203,6],[10204,4,10204,6],[10205,4,10205,6],[10206,4,10206,6],[10207,4,10207,6],[10208,4,10208,6],[10209,4,10209,6],[10210,4,10210,6],[10211,4,10211,6],[10212,4,10212,6],[10213,4,10213,6],[10214,4,10214,6],[10149,4,10149,6],[10150,4,10150,6],[10151,4,10151,6],[10152,4,10152,6],[10153,4,10153,6],[10154,4,10154,6],[10155,4,10155,6],[10156,4,10156,6],[10157,4,10157,6],[10158,4,10158,6],[10159,4,10159,6],[10160,4,10160,6],[10161,4,10161,6],[10162,4,10162,6],[10163,4,10163,6],[10164,4,10164,6],[10165,4,10165,6],[10166,4,10166,6],[10167,4,10167,6],[10168,4,10168,6],[10169,4,10169,6],[10170,4,10170,6],[10171,4,10171,6],[10172,4,10172,6],[10173,4,10173,6],[10174,4,10174,6],[10175,4,10175,6],[10176,4,10176,6],[10177,4,10177,6],[10178,4,10178,6],[10179,4,10179,6],[10180,4,10180,6],[10181,4,10181,6],[10116,4,10116,6],[10117,4,10117,6],[10118,4,10118,6],[10119,4,10119,6],[10120,4,10120,6],[10121,4,10121,6],[10122,4,10122,6],[10123,4,10123,6],[10124,4,10124,6],[10125,4,10125,6],[10126,4,10126,6],[10127,4,10127,6],[10128,4,10128,6],[10129,4,10129,6],[10130,4,10130,6],[10131,4,10131,6],[10132,4,10132,6],[10133,4,10133,6],[10134,4,10134,6],[10135,4,10135,6],[10136,4,10136,6],[10137,4,10137,6],[10138,4,10138,6],[10139,4,10139,6],[10140,4,10140,6],[10141,4,10141,6],[10142,4,10142,6],[10143,4,10143,6],[10144,4,10144,6],[10145,4,10145,6],[10146,4,10146,6],[10147,4,10147,6],[10148,4,10148,6],[10083,4,10083,6],[10084,4,10084,6],[10085,4,10085,6],[10086,4,10086,6],[10087,4,10087,6],[10088,4,10088,6],[10089,4,10089,6],[10090,4,10090,6],[10091,4,10091,6],[10092,4,10092,6],[10093,4,10093,6],[10094,4,10094,6],[10095,4,10095,6],[10096,4,10096,6],[10097,4,10097,6],[10098,4,10098,6],[10099,4,10099,6],[10100,4,10100,6],[10101,4,10101,6],[10102,4,10102,6],[10103,4,10103,6],[10104,4,10104,6],[10105,4,10105,6],[10106,4,10106,6],[10107,4,10107,6],[10108,4,10108,6],[10109,4,10109,6],[10110,4,10110,6],[10111,4,10111,6],[10112,4,10112,6],[10113,4,10113,6],[10114,4,10114,6],[10115,4,10115,6],[10021,1,11023,1],[10021,2,10021,6],[10022,2,11022,2],[10022,3,10022,6],[10023,4,10023,6],[10024,4,10024,6],[10025,4,10025,6],[10026,4,10026,6],[10027,4,10027,6],[10028,4,10028,6],[10029,4,10029,6],[10030,4,10030,6],[10031,4,10031,6],[10032,4,10032,6],[10033,4,10033,6],[10034,4,10034,6],[10035,4,10035,6],[10036,4,10036,6],[10037,4,10037,6],[10038,4,10038,6],[10039,4,10039,6],[10040,4,10040,6],[10041,4,10041,6],[10042,4,10042,6],[10043,4,10043,6],[10044,4,10044,6],[10045,4,10045,6],[10046,4,10046,6],[10047,4,10047,6],[10048,4,10048,6],[10049,4,10049,6],[10050,4,10050,6],[10051,4,10051,6],[10052,4,10052,6],[10053,4,10053,6],[10054,4,10054,6],[10055,4,10055,6],[10056,4,10056,6],[10057,4,10057,6],[10058,4,10058,6],[10059,4,10059,6],[10060,4,10060,6],[10061,4,10061,6],[10062,4,10062,6],[10063,4,10063,6],[10064,4,10064,6],[10065,4,10065,6],[10066,4,10066,6],[10067,4,10067,6],[10068,4,10068,6],[10069,4,10069,6],[10070,4,10070,6],[10071,4,10071,6],[10072,4,10072,6],[10073,4,10073,6],[10074,4,10074,6],[10075,4,10075,6]],"bounds":{"rows_first":2000,"rows_last":500,"rows_between":2000,"halvings":0},"merged_total":12053,"flags":["merged_cut"]}
["แบบฟอร์มที่ 9 การคำนวณเงินกองทุนสำหรับความเสี่ยงด้านการกระจุกตัว"]
[]
[null,null,null,"บริษัท"]
[null,null,null,"ณ วันที่"]
[]
[null,"ตารางที่ 9.1 เงินกองทุนสำหรับความเสี่ยงด้านการกระจุกตัว"]
[null,"ลำดับที่","ประเภทของการกระจุกตัว",null,null,null,null,"ขีดจำกัดที่กำหนด\n(ร้อยละของ\nสินทรัพย์รวม)","ความเสี่ยงภัย\n(มูลค่าที่ประเมินได้ตามประกาศฯ ประเมินราคาทรัพย์สินและหนี้สินของบริษัทประกันชีวิต)","ขีดจำกัด","เงินกองทุนตามระดับความเสี่ยง"]
[]
[null,1,"ผู้ออกตราสารหนี้"]
[null,null,"(ยกเว้นรัฐบาล และรัฐวิสาหกิจของประเทศไทย)"]
[null,null,"(ก)","มิได้จดทะเบียนซื้อขายในสมาคมตลาดตราสารหนี้ไทย"]
[null,null,null,1,null,null,null,0.05,null,{"$f":"$I$12030*H12","v":0},{"$f":"IF(I12-J12<0,0,I12-J12)","v":0}]
[null,null,null,2,null,null,null,0.05,null,0,0]
[null,null,null,3,null,null,null,0.05,null,0,0]
[null,null,null,4,null,null,null,0.05,null,0,0]
[null,null,null,5,null,null,null,0.05,null,0,0]
[null,null,null,6,null,null,null,0.05,null,0,0]
[null,null,null,7,null,null,null,0.05,null,0,0]
[null,null,null,8,null,null,null,0.05,null,0,0]
[null,null,null,9,null,null,null,0.05,null,0,0]
[null,null,null,10,null,null,null,0.05,null,0,0]
[null,null,null,11,null,null,null,0.05,null,0,0]
[null,null,null,12,null,null,null,0.05,null,0,0]
[null,null,null,13,null,null,null,0.05,null,0,0]
[null,null,null,14,null,null,null,0.05,null,0,0]
[null,null,null,15,null,null,null,0.05,null,0,0]
[null,null,null,16,null,null,null,0.05,null,0,0]
[null,null,null,17,null,null,null,0.05,null,0,0]
[null,null,null,18,null,null,null,0.05,null,0,0]
[null,null,null,19,null,null,null,0.05,null,0,0]
[null,null,null,20,null,null,null,0.05,null,0,0]
[null,null,null,21,null,null,null,0.05,null,0,0]
[null,null,null,22,null,null,null,0.05,null,0,0]
[null,null,null,23,null,null,null,0.05,null,0,0]
[null,null,null,24,null,null,null,0.05,null,0,0]
[null,null,null,25,null,null,null,0.05,null,0,0]
[null,null,null,26,null,null,null,0.05,null,0,0]
[null,null,null,27,null,null,null,0.05,null,0,0]
[null,null,null,28,null,null,null,0.05,null,0,0]
[null,null,null,29,null,null,null,0.05,null,0,0]
[null,null,null,30,null,null,null,0.05,null,0,0]
[null,null,null,31,null,null,null,0.05,null,0,0]
[null,null,null,32,null,null,null,0.05,null,0,0]
[null,null,null,33,null,null,null,0.05,null,0,0]
[null,null,null,34,null,null,null,0.05,null,0,0]
[null,null,null,35,null,null,null,0.05,null,0,0]
[null,null,null,36,null,null,null,0.05,null,0,0]
[null,null,null,37,null,null,null,0.05,null,0,0]
[null,null,null,38,null,null,null,0.05,null,0,0]
[null,null,null,39,null,null,null,0.05,null,0,0]
[null,null,null,40,null,null,null,0.05,null,0,0]
[null,null,null,41,null,null,null,0.05,null,0,0]
[null,null,null,42,null,null,null,0.05,null,0,0]
[null,null,null,43,null,null,null,0.05,null,0,0]
[null,null,null,44,null,null,null,0.05,null,0,0]
[null,null,null,45,null,null,null,0.05,null,0,0]
[null,null,null,46,null,null,null,0.05,null,0,0]
[null,null,null,47,null,null,null,0.05,null,0,0]
[null,null,null,48,null,null,null,0.05,null,0,0]
[null,null,null,49,null,null,null,0.05,null,0,0]
[null,null,null,50,null,null,null,0.05,null,0,0]
[null,null,null,51,null,null,null,0.05,null,0,0]
[null,null,null,52,null,null,null,0.05,null,0,0]
[null,null,null,53,null,null,null,0.05,null,0,0]
[null,null,null,54,null,null,null,0.05,null,0,0]
[null,null,null,55,null,null,null,0.05,null,0,0]
[null,null,null,56,null,null,null,0.05,null,0,0]
[null,null,null,57,null,null,null,0.05,null,0,0]
[null,null,null,58,null,null,null,0.05,null,0,0]
[null,null,null,59,null,null,null,0.05,null,0,0]
[null,null,null,60,null,null,null,0.05,null,0,0]
[null,null,null,61,null,null,null,0.05,null,0,0]
[null,null,null,62,null,null,null,0.05,null,0,0]
[null,null,null,63,null,null,null,0.05,null,0,0]
[null,null,null,64,null,null,null,0.05,null,0,0]
[null,null,null,65,null,null,null,0.05,null,{"$f":"$I$12030*H76","v":0},{"$f":"IF(I76-J76<0,0,I76-J76)","v":0}]
[null,null,null,66,null,null,null,0.05,null,0,0]
[null,null,null,67,null,null,null,0.05,null,0,0]
[null,null,null,68,null,null,null,0.05,null,0,0]
[null,null,null,69,null,null,null,0.05,null,0,0]
[null,null,null,70,null,null,null,0.05,null,0,0]
[null,null,null,71,null,null,null,0.05,null,0,0]
[null,null,null,72,null,null,null,0.05,null,0,0]
[null,null,null,73,null,null,null,0.05,null,0,0]
[null,null,null,74,null,null,null,0.05,null,0,0]
[null,null,null,75,null,null,null,0.05,null,0,0]
[null,null,null,76,null,null,null,0.05,null,0,0]
[null,null,null,77,null,null,null,0.05,null,0,0]
[null,null,null,78,null,null,null,0.05,null,0,0]
[null,null,null,79,null,null,null,0.05,null,0,0]
[null,null,null,80,null,null,null,0.05,null,0,0]
[null,null,null,81,null,null,null,0.05,null,0,0]
[null,null,null,82,null,null,null,0.05,null,0,0]
[null,null,null,83,null,null,null,0.05,null,0,0]
[null,null,null,84,null,null,null,0.05,null,0,0]
[null,null,null,85,null,null,null,0.05,null,0,0]
[null,null,null,86,null,null,null,0.05,null,0,0]
[null,null,null,87,null,null,null,0.05,null,0,0]
[null,null,null,88,null,null,null,0.05,null,0,0]
[null,null,null,89,null,null,null,0.05,null,0,0]
[null,null,null,90,null,null,null,0.05,null,0,0]
[null,null,null,91,null,null,null,0.05,null,0,0]
[null,null,null,92,null,null,null,0.05,null,0,0]
[null,null,null,93,null,null,null,0.05,null,0,0]
[null,null,null,94,null,null,null,0.05,null,0,0]
[null,null,null,95,null,null,null,0.05,null,0,0]
[null,null,null,96,null,null,null,0.05,null,0,0]
[null,null,null,97,null,null,null,0.05,null,0,0]
[null,null,null,98,null,null,null,0.05,null,0,0]
[null,null,null,99,null,null,null,0.05,null,0,0]
[null,null,null,100,null,null,null,0.05,null,0,0]
[null,null,null,101,null,null,null,0.05,null,0,0]
[null,null,null,102,null,null,null,0.05,null,0,0]
[null,null,null,103,null,null,null,0.05,null,0,0]
[null,null,null,104,null,null,null,0.05,null,0,0]
[null,null,null,105,null,null,null,0.05,null,0,0]
[null,null,null,106,null,null,null,0.05,null,0,0]
[null,null,null,107,null,null,null,0.05,null,0,0]
[null,null,null,108,null,null,null,0.05,null,0,0]
[null,null,null,109,null,null,null,0.05,null,0,0]
[null,null,null,110,null,null,null,0.05,null,0,0]
[null,null,null,111,null,null,null,0.05,null,0,0]
[null,null,null,112,null,null,null,0.05,null,0,0]
[null,null,null,113,null,null,null,0.05,null,0,0]
[null,null,null,114,null,null,null,0.05,null,0,0]
[null,null,null,115,null,null,null,0.05,null,0,0]
[null,null,null,116,null,null,null,0.05,null,0,0]
[null,null,null,117,null,null,null,0.05,null,0,0]
[null,null,null,118,null,null,null,0.05,null,0,0]
[null,null,null,119,null,null,null,0.05,null,0,0]
[null,null,null,120,null,null,null,0.05,null,0,0]
[null,null,null,121,null,null,null,0.05,null,0,0]
[null,null,null,122,null,null,null,0.05,null,0,0]
[null,null,null,123,null,null,null,0.05,null,0,0]
[null,null,null,124,null,null,null,0.05,null,0,0]
[null,null,null,125,null,null,null,0.05,null,0,0]
[null,null,null,126,null,null,null,0.05,null,0,0]
[null,null,null,127,null,null,null,0.05,null,0,0]
[null,null,null,128,null,null,null,0.05,null,0,0]
[null,null,null,129,null,null,null,0.05,null,{"$f":"$I$12030*H140","v":0},0]
[null,null,null,130,null,null,null,0.05,null,0,0]
[null,null,null,131,null,null,null,0.05,null,0,{"$f":"IF(I142-J142<0,0,I142-J142)","v":0}]
[null,null,null,132,null,null,null,0.05,null,0,0]
[null,null,null,133,null,null,null,0.05,null,0,0]
[null,null,null,134,null,null,null,0.05,null,0,0]
[null,null,null,135,null,null,null,0.05,null,0,0]
[null,null,null,136,null,null,null,0.05,null,0,0]
[null,null,null,137,null,null,null,0.05,null,0,0]
[null,null,null,138,null,null,null,0.05,null,0,0]
[null,null,null,139,null,null,null,0.05,null,0,0]
[null,null,null,140,null,null,null,0.05,null,0,0]
[null,null,null,141,null,null,null,0.05,null,0,0]
[null,null,null,142,null,null,null,0.05,null,0,0]
[null,null,null,143,null,null,null,0.05,null,0,0]
[null,null,null,144,null,null,null,0.05,null,0,0]
[null,null,null,145,null,null,null,0.05,null,0,0]
[null,null,null,146,null,null,null,0.05,null,0,0]
[null,null,null,147,null,null,null,0.05,null,0,0]
[null,null,null,148,null,null,null,0.05,null,0,0]
[null,null,null,149,null,null,null,0.05,null,0,0]
[null,null,null,150,null,null,null,0.05,null,0,0]
[null,null,null,151,null,null,null,0.05,null,0,0]
[null,null,null,152,null,null,null,0.05,null,0,0]
[null,null,null,153,null,null,null,0.05,null,0,0]
[null,null,null,154,null,null,null,0.05,null,0,0]
[null,null,null,155,null,null,null,0.05,null,0,0]
[null,null,null,156,null,null,null,0.05,null,0,0]
[null,null,null,157,null,null,null,0.05,null,0,0]
[null,null,null,158,null,null,null,0.05,null,0,0]
[null,null,null,159,null,null,null,0.05,null,0,0]
[null,null,null,160,null,null,null,0.05,null,0,0]
[null,null,null,161,null,null,null,0.05,null,0,0]
[null,null,null,162,null,null,null,0.05,null,0,0]
[null,null,null,163,null,null,null,0.05,null,0,0]
[null,null,null,164,null,null,null,0.05,null,0,0]
[null,null,null,165,null,null,null,0.05,null,0,0]
[null,null,null,166,null,null,null,0.05,null,0,0]
[null,null,null,167,null,null,null,0.05,null,0,0]
[null,null,null,168,null,null,null,0.05,null,0,0]
[null,null,null,169,null,null,null,0.05,null,0,0]
[null,null,null,170,null,null,null,0.05,null,0,0]
[null,null,null,171,null,null,null,0.05,null,0,0]
[null,null,null,172,null,null,null,0.05,null,0,0]
[null,null,null,173,null,null,null,0.05,null,0,0]
[null,null,null,174,null,null,null,0.05,null,0,0]
[null,null,null,175,null,null,null,0.05,null,0,0]
[null,null,null,176,null,null,null,0.05,null,0,0]
[null,null,null,177,null,null,null,0.05,null,0,0]
[null,null,null,178,null,null,null,0.05,null,0,0]
[null,null,null,179,null,null,null,0.05,null,0,0]
[null,null,null,180,null,null,null,0.05,null,0,0]
[null,null,null,181,null,null,null,0.05,null,0,0]
[null,null,null,182,null,null,null,0.05,null,0,0]
[null,null,null,183,null,null,null,0.05,null,0,0]
[null,null,null,184,null,null,null,0.05,null,0,0]
[null,null,null,185,null,null,null,0.05,null,0,0]
[null,null,null,186,null,null,null,0.05,null,0,0]
[null,null,null,187,null,null,null,0.05,null,0,0]
[null,null,null,188,null,null,null,0.05,null,0,0]
[null,null,null,189,null,null,null,0.05,null,0,0]
[null,null,null,190,null,null,null,0.05,null,0,0]
[null,null,null,191,null,null,null,0.05,null,0,0]
[null,null,null,192,null,null,null,0.05,null,0,0]
[null,null,null,193,null,null,null,0.05,null,{"$f":"$I$12030*H204","v":0},0]
[null,null,null,194,null,null,null,0.05,null,0,0]
[null,null,null,195,null,null,null,0.05,null,0,{"$f":"IF(I206-J206<0,0,I206-J206)","v":0}]
[null,null,null,196,null,null,null,0.05,null,0,0]
[null,null,null,197,null,null,null,0.05,null,0,0]
[null,null,null,198,null,null,null,0.05,null,0,0]
[null,null,null,199,null,null,null,0.05,null,0,0]
[null,null,null,200,null,null,null,0.05,null,0,0]
[null,null,null,201,null,null,null,0.05,null,0,0]
[null,null,null,202,null,null,null,0.05,null,0,0]
[null,null,null,203,null,null,null,0.05,null,0,0]
[null,null,null,204,null,null,null,0.05,null,0,0]
[null,null,null,205,null,null,null,0.05,null,0,0]
[null,null,null,206,null,null,null,0.05,null,0,0]
[null,null,null,207,null,null,null,0.05,null,0,0]
[null,null,null,208,null,null,null,0.05,null,0,0]
[null,null,null,209,null,null,null,0.05,null,0,0]
[null,null,null,210,null,null,null,0.05,null,0,0]
[null,null,null,211,null,null,null,0.05,null,0,0]
[null,null,null,212,null,null,null,0.05,null,0,0]
[null,null,null,213,null,null,null,0.05,null,0,0]
[null,null,null,214,null,null,null,0.05,null,0,0]
[null,null,null,215,null,null,null,0.05,null,0,0]
[null,null,null,216,null,null,null,0.05,null,0,0]
[null,null,null,217,null,null,null,0.05,null,0,0]
[null,null,null,218,null,null,null,0.05,null,0,0]
[null,null,null,219,null,null,null,0.05,null,0,0]
[null,null,null,220,null,null,null,0.05,null,0,0]
[null,null,null,221,null,null,null,0.05,null,0,0]
[null,null,null,222,null,null,null,0.05,null,0,0]
[null,null,null,223,null,null,null,0.05,null,0,0]
[null,null,null,224,null,null,null,0.05,null,0,0]
[null,null,null,225,null,null,null,0.05,null,0,0]
[null,null,null,226,null,null,null,0.05,null,0,0]
[null,null,null,227,null,null,null,0.05,null,0,0]
[null,null,null,228,null,null,null,0.05,null,0,0]
[null,null,null,229,null,null,null,0.05,null,0,0]
[null,null,null,230,null,null,null,0.05,null,0,0]
[null,null,null,231,null,null,null,0.05,null,0,0]
[null,null,null,232,null,null,null,0.05,null,0,0]
[null,null,null,233,null,null,null,0.05,null,0,0]
[null,null,null,234,null,null,null,0.05,null,0,0]
[null,null,null,235,null,null,null,0.05,null,0,0]
[null,null,null,236,null,null,null,0.05,null,0,0]
[null,null,null,237,null,null,null,0.05,null,0,0]
[null,null,null,238,null,null,null,0.05,null,0,0]
[null,null,null,239,null,null,null,0.05,null,0,0]
[null,null,null,240,null,null,null,0.05,null,0,0]
[null,null,null,241,null,null,null,0.05,null,0,0]
[null,null,null,242,null,null,null,0.05,null,0,0]
[null,null,null,243,null,null,null,0.05,null,0,0]
[null,null,null,244,null,null,null,0.05,null,0,0]
[null,null,null,245,null,null,null,0.05,null,0,0]
[null,null,null,246,null,null,null,0.05,null,0,0]
[null,null,null,247,null,null,null,0.05,null,0,0]
[null,null,null,248,null,null,null,0.05,null,0,0]
[null,null,null,249,null,null,null,0.05,null,0,0]
[null,null,null,250,null,null,null,0.05,null,0,0]
[null,null,null,251,null,null,null,0.05,null,0,0]
[null,null,null,252,null,null,null,0.05,null,0,0]
[null,null,null,253,null,null,null,0.05,null,0,0]
[null,null,null,254,null,null,null,0.05,null,0,0]
[null,null,null,255,null,null,null,0.05,null,0,0]
[null,null,null,256,null,null,null,0.05,null,0,0]
[null,null,null,257,null,null,null,0.05,null,{"$f":"$I$12030*H268","v":0},0]
[null,null,null,258,null,null,null,0.05,null,0,0]
[null,null,null,259,null,null,null,0.05,null,0,{"$f":"IF(I270-J270<0,0,I270-J270)","v":0}]
[null,null,null,260,null,null,null,0.05,null,0,0]
[null,null,null,261,null,null,null,0.05,null,0,0]
[null,null,null,262,null,null,null,0.05,null,0,0]
[null,null,null,263,null,null,null,0.05,null,0,0]
[null,null,null,264,null,null,null,0.05,null,0,0]
[null,null,null,265,null,null,null,0.05,null,0,0]
[null,null,null,266,null,null,null,0.05,null,0,0]
[null,null,null,267,null,null,null,0.05,null,0,0]
[null,null,null,268,null,null,null,0.05,null,0,0]
[null,null,null,269,null,null,null,0.05,null,0,0]
[null,null,null,270,null,null,null,0.05,null,0,0]
[null,null,null,271,null,null,null,0.05,null,0,0]
[null,null,null,272,null,null,null,0.05,null,0,0]
[null,null,null,273,null,null,null,0.05,null,0,0]
[null,null,null,274,null,null,null,0.05,null,0,0]
[null,null,null,275,null,null,null,0.05,null,0,0]
[null,null,null,276,null,null,null,0.05,null,0,0]
[null,null,null,277,null,null,null,0.05,null,0,0]
[null,null,null,278,null,null,null,0.05,null,0,0]
[null,null,null,279,null,null,null,0.05,null,0,0]
[null,null,null,280,null,null,null,0.05,null,0,0]
[null,null,null,281,null,null,null,0.05,null,0,0]
[null,null,null,282,null,null,null,0.05,null,0,0]
[null,null,null,283,null,null,null,0.05,null,0,0]
[null,null,null,284,null,null,null,0.05,null,0,0]
[null,null,null,285,null,null,null,0.05,null,0,0]
[null,null,null,286,null,null,null,0.05,null,0,0]
[null,null,null,287,null,null,null,0.05,null,0,0]
[null,null,null,288,null,null,null,0.05,null,0,0]
[null,null,null,289,null,null,null,0.05,null,0,0]
[null,null,null,290,null,null,null,0.05,null,0,0]
[null,null,null,291,null,null,null,0.05,null,0,0]
[null,null,null,292,null,null,null,0.05,null,0,0]
[null,null,null,293,null,null,null,0.05,null,0,0]
[null,null,null,294,null,null,null,0.05,null,0,0]
[null,null,null,295,null,null,null,0.05,null,0,0]
[null,null,null,296,null,null,null,0.05,null,0,0]
[null,null,null,297,null,null,null,0.05,null,0,0]
[null,null,null,298,null,null,null,0.05,null,0,0]
[null,null,null,299,null,null,null,0.05,null,0,0]
[null,null,null,300,null,null,null,0.05,null,0,0]
[null,null,null,301,null,null,null,0.05,null,0,0]
[null,null,null,302,null,null,null,0.05,null,0,0]
[null,null,null,303,null,null,null,0.05,null,0,0]
[null,null,null,304,null,null,null,0.05,null,0,0]
[null,null,null,305,null,null,null,0.05,null,0,0]
[null,null,null,306,null,null,null,0.05,null,0,0]
[null,null,null,307,null,null,null,0.05,null,0,0]
[null,null,null,308,null,null,null,0.05,null,0,0]
[null,null,null,309,null,null,null,0.05,null,0,0]
[null,null,null,310,null,null,null,0.05,null,0,0]
[null,null,null,311,null,null,null,0.05,null,0,0]
[null,null,null,312,null,null,null,0.05,null,0,0]
[null,null,null,313,null,null,null,0.05,null,0,0]
[null,null,null,314,null,null,null,0.05,null,0,0]
[null,null,null,315,null,null,null,0.05,null,0,0]
[null,null,null,316,null,null,null,0.05,null,0,0]
[null,null,null,317,null,null,null,0.05,null,0,0]
[null,null,null,318,null,null,null,0.05,null,0,0]
[null,null,null,319,null,null,null,0.05,null,0,0]
[null,null,null,320,null,null,null,0.05,null,0,0]
[null,null,null,321,null,null,null,0.05,null,{"$f":"$I$12030*H332","v":0},0]
[null,null,null,322,null,null,null,0.05,null,0,0]
[null,null,null,323,null,null,null,0.05,null,0,{"$f":"IF(I334-J334<0,0,I334-J334)","v":0}]
[null,null,null,324,null,null,null,0.05,null,0,0]
[null,null,null,325,null,null,null,0.05,null,0,0]
[null,null,null,326,null,null,null,0.05,null,0,0]
[null,null,null,327,null,null,null,0.05,null,0,0]
[null,null,null,328,null,null,null,0.05,null,0,0]
[null,null,null,329,null,null,null,0.05,null,0,0]
[null,null,null,330,null,null,null,0.05,null,0,0]
[null,null,null,331,null,null,null,0.05,null,0,0]
[null,null,null,332,null,null,null,0.05,null,0,0]
[null,null,null,333,null,null,null,0.05,null,0,0]
[null,null,null,334,null,null,null,0.05,null,0,0]
[null,null,null,335,null,null,null,0.05,null,0,0]
[null,null,null,336,null,null,null,0.05,null,0,0]
[null,null,null,337,null,null,null,0.05,null,0,0]
[null,null,null,338,null,null,null,0.05,null,0,0]
[null,null,null,339,null,null,null,0.05,null,0,0]
[null,null,null,340,null,null,null,0.05,null,0,0]
[null,null,null,341,null,null,null,0.05,null,0,0]
[null,null,null,342,null,null,null,0.05,null,0,0]
[null,null,null,343,null,null,null,0.05,null,0,0]
[null,null,null,344,null,null,null,0.05,null,0,0]
[null,null,null,345,null,null,null,0.05,null,0,0]
[null,null,null,346,null,null,null,0.05,null,0,0]
[null,null,null,347,null,null,null,0.05,null,0,0]
[null,null,null,348,null,null,null,0.05,null,0,0]
[null,null,null,349,null,null,null,0.05,null,0,0]
[null,null,null,350,null,null,null,0.05,null,0,0]
[null,null,null,351,null,null,null,0.05,null,0,0]
[null,null,null,352,null,null,null,0.05,null,0,0]
[null,null,null,353,null,null,null,0.05,null,0,0]
[null,null,null,354,null,null,null,0.05,null,0,0]
[null,null,null,355,null,null,null,0.05,null,0,0]
[null,null,null,356,null,null,null,0.05,null,0,0]
[null,null,null,357,null,null,null,0.05,null,0,0]
[null,null,null,358,null,null,null,0.05,null,0,0]
[null,null,null,359,null,null,null,0.05,null,0,0]
[null,null,null,360,null,null,null,0.05,null,0,0]
[null,null,null,361,null,null,null,0.05,null,0,0]
[null,null,null,362,null,null,null,0.05,null,0,0]
[null,null,null,363,null,null,null,0.05,null,0,0]
[null,null,null,364,null,null,null,0.05,null,0,0]
[null,null,null,365,null,null,null,0.05,null,0,0]
[null,null,null,366,null,null,null,0.05,null,0,0]
[null,null,null,367,null,null,null,0.05,null,0,0]
[null,null,null,368,null,null,null,0.05,null,0,0]
[null,null,null,369,null,null,null,0.05,null,0,0]
[null,null,null,370,null,null,null,0.05,null,0,0]
[null,null,null,371,null,null,null,0.05,null,0,0]
[null,null,null,372,null,null,null,0.05,null,0,0]
[null,null,null,373,null,null,null,0.05,null,0,0]
[null,null,null,374,null,null,null,0.05,null,0,0]
[null,null,null,375,null,null,null,0.05,null,0,0]
[null,null,null,376,null,null,null,0.05,null,0,0]
[null,null,null,377,null,null,null,0.05,null,0,0]
[null,null,null,378,null,null,null,0.05,null,0,0]
[null,null,null,379,null,null,null,0.05,null,0,0]
[null,null,null,380,null,null,null,0.05,null,0,0]
[null,null,null,381,null,null,null,0.05,null,0,0]
[null,null,null,382,null,null,null,0.05,null,0,0]
[null,null,null,383,null,null,null,0.05,null,0,0]
[null,null,null,384,null,null,null,0.05,null,0,0]
[null,null,null,385,null,null,null,0.05,null,{"$f":"$I$12030*H396","v":0},0]
[null,null,null,386,null,null,null,0.05,null,0,0]
[null,null,null,387,null,null,null,0.05,null,0,{"$f":"IF(I398-J398<0,0,I398-J398)","v":0}]
[null,null,null,388,null,null,null,0.05,null,0,0]
[null,null,null,389,null,null,null,0.05,null,0,0]
[null,null,null,390,null,null,null,0.05,null,0,0]
[null,null,null,391,null,null,null,0.05,null,0,0]
[null,null,null,392,null,null,null,0.05,null,0,0]
[null,null,null,393,null,null,null,0.05,null,0,0]
[null,null,null,394,null,null,null,0.05,null,0,0]
[null,null,null,395,null,null,null,0.05,null,0,0]
[null,null,null,396,null,null,null,0.05,null,0,0]
[null,null,null,397,null,null,null,0.05,null,0,0]
[null,null,null,398,null,null,null,0.05,null,0,0]
[null,null,null,399,null,null,null,0.05,null,0,0]
[null,null,null,400,null,null,null,0.05,null,0,0]
[null,null,null,401,null,null,null,0.05,null,0,0]
[null,null,null,402,null,null,null,0.05,null,0,0]
[null,null,null,403,null,null,null,0.05,null,0,0]
[null,null,null,404,null,null,null,0.05,null,0,0]
[null,null,null,405,null,null,null,0.05,null,0,0]
[null,null,null,406,null,null,null,0.05,null,0,0]
[null,null,null,407,null,null,null,0.05,null,0,0]
[null,null,null,408,null,null,null,0.05,null,0,0]
[null,null,null,409,null,null,null,0.05,null,0,0]
[null,null,null,410,null,null,null,0.05,null,0,0]
[null,null,null,411,null,null,null,0.05,null,0,0]
[null,null,null,412,null,null,null,0.05,null,0,0]
[null,null,null,413,null,null,null,0.05,null,0,0]
[null,null,null,414,null,null,null,0.05,null,0,0]
[null,null,null,415,null,null,null,0.05,null,0,0]
[null,null,null,416,null,null,null,0.05,null,0,0]
[null,null,null,417,null,null,null,0.05,null,0,0]
[null,null,null,418,null,null,null,0.05,null,0,0]
[null,null,null,419,null,null,null,0.05,null,0,0]
[null,null,null,420,null,null,null,0.05,null,0,0]
[null,null,null,421,null,null,null,0.05,null,0,0]
[null,null,null,422,null,null,null,0.05,null,0,0]
[null,null,null,423,null,null,null,0.05,null,0,0]
[null,null,null,424,null,null,null,0.05,null,0,0]
[null,null,null,425,null,null,null,0.05,null,0,0]
[null,null,null,426,null,null,null,0.05,null,0,0]
[null,null,null,427,null,null,null,0.05,null,0,0]
[null,null,null,428,null,null,null,0.05,null,0,0]
[null,null,null,429,null,null,null,0.05,null,0,0]
[null,null,null,430,null,null,null,0.05,null,0,0]
[null,null,null,431,null,null,null,0.05,null,0,0]
[null,null,null,432,null,null,null,0.05,null,0,0]
[null,null,null,433,null,null,null,0.05,null,0,0]
[null,null,null,434,null,null,null,0.05,null,0,0]
[null,null,null,435,null,null,null,0.05,null,0,0]
[null,null,null,436,null,null,null,0.05,null,0,0]
[null,null,null,437,null,null,null,0.05,null,0,0]
[null,null,null,438,null,null,null,0.05,null,0,0]
[null,null,null,439,null,null,null,0.05,null,0,0]
[null,null,null,440,null,null,null,0.05,null,0,0]
[null,null,null,441,null,null,null,0.05,null,0,0]
[null,null,null,442,null,null,null,0.05,null,0,0]
[null,null,null,443,null,null,null,0.05,null,0,0]
[null,null,null,444,null,null,null,0.05,null,0,0]
[null,null,null,445,null,null,null,0.05,null,0,0]
[null,null,null,446,null,null,null,0.05,null,0,0]
[null,null,null,447,null,null,null,0.05,null,0,0]
[null,null,null,448,null,null,null,0.05,null,0,0]
[null,null,null,449,null,null,null,0.05,null,{"$f":"$I$12030*H460","v":0},0]
[null,null,null,450,null,null,null,0.05,null,0,0]
[null,null,null,451,null,null,null,0.05,null,0,{"$f":"IF(I462-J462<0,0,I462-J462)","v":0}]
[null,null,null,452,null,null,null,0.05,null,0,0]
[null,null,null,453,null,null,null,0.05,null,0,0]
[null,null,null,454,null,null,null,0.05,null,0,0]
[null,null,null,455,null,null,null,0.05,null,0,0]
[null,null,null,456,null,null,null,0.05,null,0,0]
[null,null,null,457,null,null,null,0.05,null,0,0]
[null,null,null,458,null,null,null,0.05,null,0,0]
[null,null,null,459,null,null,null,0.05,null,0,0]
[null,null,null,460,null,null,null,0.05,null,0,0]
[null,null,null,461,null,null,null,0.05,null,0,0]
[null,null,null,462,null,null,null,0.05,null,0,0]
[null,null,null,463,null,null,null,0.05,null,0,0]
[null,null,null,464,null,null,null,0.05,null,0,0]
[null,null,null,465,null,null,null,0.05,null,0,0]
[null,null,null,466,null,null,null,0.05,null,0,0]
[null,null,null,467,null,null,null,0.05,null,0,0]
[null,null,null,468,null,null,null,0.05,null,0,0]
[null,null,null,469,null,null,null,0.05,null,0,0]
[null,null,null,470,null,null,null,0.05,null,0,0]
[null,null,null,471,null,null,null,0.05,null,0,0]
[null,null,null,472,null,null,null,0.05,null,0,0]
[null,null,null,473,null,null,null,0.05,null,0,0]
[null,null,null,474,null,null,null,0.05,null,0,0]
[null,null,null,475,null,null,null,0.05,null,0,0]
[null,null,null,476,null,null,null,0.05,null,0,0]
[null,null,null,477,null,null,null,0.05,null,0,0]
[null,null,null,478,null,null,null,0.05,null,0,0]
[null,null,null,479,null,null,null,0.05,null,0,0]
[null,null,null,480,null,null,null,0.05,null,0,0]
[null,null,null,481,null,null,null,0.05,null,0,0]
[null,null,null,482,null,null,null,0.05,null,0,0]
[null,null,null,483,null,null,null,0.05,null,0,0]
[null,null,null,484,null,null,null,0.05,null,0,0]
[null,null,null,485,null,null,null,0.05,null,0,0]
[null,null,null,486,null,null,null,0.05,null,0,0]
[null,null,null,487,null,null,null,0.05,null,0,0]
[null,null,null,488,null,null,null,0.05,null,0,0]
[null,null,null,489,null,null,null,0.05,null,0,0]
[null,null,null,490,null,null,null,0.05,null,0,0]
[null,null,null,491,null,null,null,0.05,null,0,0]
[null,null,null,492,null,null,null,0.05,null,0,0]
[null,null,null,493,null,null,null,0.05,null,0,0]
[null,null,null,494,null,null,null,0.05,null,0,0]
[null,null,null,495,null,null,null,0.05,null,0,0]
[null,null,null,496,null,null,null,0.05,null,0,0]
[null,null,null,497,null,null,null,0.05,null,0,0]
[null,null,null,498,null,null,null,0.05,null,0,0]
[null,null,null,499,null,null,null,0.05,null,0,0]
[null,null,null,500,null,null,null,0.05,null,0,0]
[null,null,null,501,null,null,null,0.05,null,0,0]
[null,null,null,502,null,null,null,0.05,null,0,0]
[null,null,null,503,null,null,null,0.05,null,0,0]
[null,null,null,504,null,null,null,0.05,null,0,0]
[null,null,null,505,null,null,null,0.05,null,0,0]
[null,null,null,506,null,null,null,0.05,null,0,0]
[null,null,null,507,null,null,null,0.05,null,0,0]
[null,null,null,508,null,null,null,0.05,null,0,0]
[null,null,null,509,null,null,null,0.05,null,0,0]
[null,null,null,510,null,null,null,0.05,null,0,0]
[null,null,null,511,null,null,null,0.05,null,0,0]
[null,null,null,512,null,null,null,0.05,null,0,0]
[null,null,null,513,null,null,null,0.05,null,{"$f":"$I$12030*H524","v":0},0]
[null,null,null,514,null,null,null,0.05,null,0,0]
[null,null,null,515,null,null,null,0.05,null,0,{"$f":"IF(I526-J526<0,0,I526-J526)","v":0}]
[null,null,null,516,null,null,null,0.05,null,0,0]
[null,null,null,517,null,null,null,0.05,null,0,0]
[null,null,null,518,null,null,null,0.05,null,0,0]
[null,null,null,519,null,null,null,0.05,null,0,0]
[null,null,null,520,null,null,null,0.05,null,0,0]
[null,null,null,521,null,null,null,0.05,null,0,0]
[null,null,null,522,null,null,null,0.05,null,0,0]
[null,null,null,523,null,null,null,0.05,null,0,0]
[null,null,null,524,null,null,null,0.05,null,0,0]
[null,null,null,525,null,null,null,0.05,null,0,0]
[null,null,null,526,null,null,null,0.05,null,0,0]
[null,null,null,527,null,null,null,0.05,null,0,0]
[null,null,null,528,null,null,null,0.05,null,0,0]
[null,null,null,529,null,null,null,0.05,null,0,0]
[null,null,null,530,null,null,null,0.05,null,0,0]
[null,null,null,531,null,null,null,0.05,null,0,0]
[null,null,null,532,null,null,null,0.05,null,0,0]
[null,null,null,533,null,null,null,0.05,null,0,0]
[null,null,null,534,null,null,null,0.05,null,0,0]
[null,null,null,535,null,null,null,0.05,null,0,0]
[null,null,null,536,null,null,null,0.05,null,0,0]
[null,null,null,537,null,null,null,0.05,null,0,0]
[null,null,null,538,null,null,null,0.05,null,0,0]
[null,null,null,539,null,null,null,0.05,null,0,0]
[null,null,null,540,null,null,null,0.05,null,0,0]
[null,null,null,541,null,null,null,0.05,null,0,0]
[null,null,null,542,null,null,null,0.05,null,0,0]
[null,null,null,543,null,null,null,0.05,null,0,0]
[null,null,null,544,null,null,null,0.05,null,0,0]
[null,null,null,545,null,null,null,0.05,null,0,0]
[null,null,null,546,null,null,null,0.05,null,0,0]
[null,null,null,547,null,null,null,0.05,null,0,0]
[null,null,null,548,null,null,null,0.05,null,0,0]
[null,null,null,549,null,null,null,0.05,null,0,0]
[null,null,null,550,null,null,null,0.05,null,0,0]
[null,null,null,551,null,null,null,0.05,null,0,0]
[null,null,null,552,null,null,null,0.05,null,0,0]
[null,null,null,553,null,null,null,0.05,null,0,0]
[null,null,null,554,null,null,null,0.05,null,0,0]
[null,null,null,555,null,null,null,0.05,null,0,0]
[null,null,null,556,null,null,null,0.05,null,0,0]
[null,null,null,557,null,null,null,0.05,null,0,0]
[null,null,null,558,null,null,null,0.05,null,0,0]
[null,null,null,559,null,null,null,0.05,null,0,0]
[null,null,null,560,null,null,null,0.05,null,0,0]
[null,null,null,561,null,null,null,0.05,null,0,0]
[null,null,null,562,null,null,null,0.05,null,0,0]
[null,null,null,563,null,null,null,0.05,null,0,0]
[null,null,null,564,null,null,null,0.05,null,0,0]
[null,null,null,565,null,null,null,0.05,null,0,0]
[null,null,null,566,null,null,null,0.05,null,0,0]
[null,null,null,567,null,null,null,0.05,null,0,0]
[null,null,null,568,null,null,null,0.05,null,0,0]
[null,null,null,569,null,null,null,0.05,null,0,0]
[null,null,null,570,null,null,null,0.05,null,0,0]
[null,null,null,571,null,null,null,0.05,null,0,0]
[null,null,null,572,null,null,null,0.05,null,0,0]
[null,null,null,573,null,null,null,0.05,null,0,0]
[null,null,null,574,null,null,null,0.05,null,0,0]
[null,null,null,575,null,null,null,0.05,null,0,0]
[null,null,null,576,null,null,null,0.05,null,0,0]
[null,null,null,577,null,null,null,0.05,null,{"$f":"$I$12030*H588","v":0},0]
[null,null,null,578,null,null,null,0.05,null,0,0]
[null,null,null,579,null,null,null,0.05,null,0,{"$f":"IF(I590-J590<0,0,I590-J590)","v":0}]
[null,null,null,580,null,null,null,0.05,null,0,0]
[null,null,null,581,null,null,null,0.05,null,0,0]
[null,null,null,582,null,null,null,0.05,null,0,0]
[null,null,null,583,null,null,null,0.05,null,0,0]
[null,null,null,584,null,null,null,0.05,null,0,0]
[null,null,null,585,null,null,null,0.05,null,0,0]
[null,null,null,586,null,null,null,0.05,null,0,0]
[null,null,null,587,null,null,null,0.05,null,0,0]
[null,null,null,588,null,null,null,0.05,null,0,0]
[null,null,null,589,null,null,null,0.05,null,0,0]
[null,null,null,590,null,null,null,0.05,null,0,0]
[null,null,null,591,null,null,null,0.05,null,0,0]
[null,null,null,592,null,null,null,0.05,null,0,0]
[null,null,null,593,null,null,null,0.05,null,0,0]
[null,null,null,594,null,null,null,0.05,null,0,0]
[null,null,null,595,null,null,null,0.05,null,0,0]
[null,null,null,596,null,null,null,0.05,null,0,0]
[null,null,null,597,null,null,null,0.05,null,0,0]
[null,null,null,598,null,null,null,0.05,null,0,0]
[null,null,null,599,null,null,null,0.05,null,0,0]
[null,null,null,600,null,null,null,0.05,null,0,0]
[null,null,null,601,null,null,null,0.05,null,0,0]
[null,null,null,602,null,null,null,0.05,null,0,0]
[null,null,null,603,null,null,null,0.05,null,0,0]
[null,null,null,604,null,null,null,0.05,null,0,0]
[null,null,null,605,null,null,null,0.05,null,0,0]
[null,null,null,606,null,null,null,0.05,null,0,0]
[null,null,null,607,null,null,null,0.05,null,0,0]
[null,null,null,608,null,null,null,0.05,null,0,0]
[null,null,null,609,null,null,null,0.05,null,0,0]
[null,null,null,610,null,null,null,0.05,null,0,0]
[null,null,null,611,null,null,null,0.05,null,0,0]
[null,null,null,612,null,null,null,0.05,null,0,0]
[null,null,null,613,null,null,null,0.05,null,0,0]
[null,null,null,614,null,null,null,0.05,null,0,0]
[null,null,null,615,null,null,null,0.05,null,0,0]
[null,null,null,616,null,null,null,0.05,null,0,0]
[null,null,null,617,null,null,null,0.05,null,0,0]
[null,null,null,618,null,null,null,0.05,null,0,0]
[null,null,null,619,null,null,null,0.05,null,0,0]
[null,null,null,620,null,null,null,0.05,null,0,0]
[null,null,null,621,null,null,null,0.05,null,0,0]
[null,null,null,622,null,null,null,0.05,null,0,0]
[null,null,null,623,null,null,null,0.05,null,0,0]
[null,null,null,624,null,null,null,0.05,null,0,0]
[null,null,null,625,null,null,null,0.05,null,0,0]
[null,null,null,626,null,null,null,0.05,null,0,0]
[null,null,null,627,null,null,null,0.05,null,0,0]
[null,null,null,628,null,null,null,0.05,null,0,0]
[null,null,null,629,null,null,null,0.05,null,0,0]
[null,null,null,630,null,null,null,0.05,null,0,0]
[null,null,null,631,null,null,null,0.05,null,0,0]
[null,null,null,632,null,null,null,0.05,null,0,0]
[null,null,null,633,null,null,null,0.05,null,0,0]
[null,null,null,634,null,null,null,0.05,null,0,0]
[null,null,null,635,null,null,null,0.05,null,0,0]
[null,null,null,636,null,null,null,0.05,null,0,0]
[null,null,null,637,null,null,null,0.05,null,0,0]
[null,null,null,638,null,null,null,0.05,null,0,0]
[null,null,null,639,null,null,null,0.05,null,0,0]
[null,null,null,640,null,null,null,0.05,null,0,0]
[null,null,null,641,null,null,null,0.05,null,{"$f":"$I$12030*H652","v":0},0]
[null,null,null,642,null,null,null,0.05,null,0,0]
[null,null,null,643,null,null,null,0.05,null,0,{"$f":"IF(I654-J654<0,0,I654-J654)","v":0}]
[null,null,null,644,null,null,null,0.05,null,0,0]
[null,null,null,645,null,null,null,0.05,null,0,0]
[null,null,null,646,null,null,null,0.05,null,0,0]
[null,null,null,647,null,null,null,0.05,null,0,0]
[null,null,null,648,null,null,null,0.05,null,0,0]
[null,null,null,649,null,null,null,0.05,null,0,0]
[null,null,null,650,null,null,null,0.05,null,0,0]
[null,null,null,651,null,null,null,0.05,null,0,0]
[null,null,null,652,null,null,null,0.05,null,0,0]
[null,null,null,653,null,null,null,0.05,null,0,0]
[null,null,null,654,null,null,null,0.05,null,0,0]
[null,null,null,655,null,null,null,0.05,null,0,0]
[null,null,null,656,null,null,null,0.05,null,0,0]
[null,null,null,657,null,null,null,0.05,null,0,0]
[null,null,null,658,null,null,null,0.05,null,0,0]
[null,null,null,659,null,null,null,0.05,null,0,0]
[null,null,null,660,null,null,null,0.05,null,0,0]
[null,null,null,661,null,null,null,0.05,null,0,0]
[null,null,null,662,null,null,null,0.05,null,0,0]
[null,null,null,663,null,null,null,0.05,null,0,0]
[null,null,null,664,null,null,null,0.05,null,0,0]
[null,null,null,665,null,null,null,0.05,null,0,0]
[null,null,null,666,null,null,null,0.05,null,0,0]
[null,null,null,667,null,null,null,0.05,null,0,0]
[null,null,null,668,null,null,null,0.05,null,0,0]
[null,null,null,669,null,null,null,0.05,null,0,0]
[null,null,null,670,null,null,null,0.05,null,0,0]
[null,null,null,671,null,null,null,0.05,null,0,0]
[null,null,null,672,null,null,null,0.05,null,0,0]
[null,null,null,673,null,null,null,0.05,null,0,0]
[null,null,null,674,null,null,null,0.05,null,0,0]
[null,null,null,675,null,null,null,0.05,null,0,0]
[null,null,null,676,null,null,null,0.05,null,0,0]
[null,null,null,677,null,null,null,0.05,null,0,0]
[null,null,null,678,null,null,null,0.05,null,0,0]
[null,null,null,679,null,null,null,0.05,null,0,0]
[null,null,null,680,null,null,null,0.05,null,0,0]
[null,null,null,681,null,null,null,0.05,null,0,0]
[null,null,null,682,null,null,null,0.05,null,0,0]
[null,null,null,683,null,null,null,0.05,null,0,0]
[null,null,null,684,null,null,null,0.05,null,0,0]
[null,null,null,685,null,null,null,0.05,null,0,0]
[null,null,null,686,null,null,null,0.05,null,0,0]
[null,null,null,687,null,null,null,0.05,null,0,0]
[null,null,null,688,null,null,null,0.05,null,0,0]
[null,null,null,689,null,null,null,0.05,null,0,0]
[null,null,null,690,null,null,null,0.05,null,0,0]
[null,null,null,691,null,null,null,0.05,null,0,0]
[null,null,null,692,null,null,null,0.05,null,0,0]
[null,null,null,693,null,null,null,0.05,null,0,0]
[null,null,null,694,null,null,null,0.05,null,0,0]
[null,null,null,695,null,null,null,0.05,null,0,0]
[null,null,null,696,null,null,null,0.05,null,0,0]
[null,null,null,697,null,null,null,0.05,null,0,0]
[null,null,null,698,null,null,null,0.05,null,0,0]
[null,null,null,699,null,null,null,0.05,null,0,0]
[null,null,null,700,null,null,null,0.05,null,0,0]
[null,null,null,701,null,null,null,0.05,null,0,0]
[null,null,null,702,null,null,null,0.05,null,0,0]
[null,null,null,703,null,null,null,0.05,null,0,0]
[null,null,null,704,null,null,null,0.05,null,0,0]
[null,null,null,705,null,null,null,0.05,null,{"$f":"$I$12030*H716","v":0},0]
[null,null,null,706,null,null,null,0.05,null,0,0]
[null,null,null,707,null,null,null,0.05,null,0,{"$f":"IF(I718-J718<0,0,I718-J718)","v":0}]
[null,null,null,708,null,null,null,0.05,null,0,0]
[null,null,null,709,null,null,null,0.05,null,0,0]
[null,null,null,710,null,null,null,0.05,null,0,0]
[null,null,null,711,null,null,null,0.05,null,0,0]
[null,null,null,712,null,null,null,0.05,null,0,0]
[null,null,null,713,null,null,null,0.05,null,0,0]
[null,null,null,714,null,null,null,0.05,null,0,0]
[null,null,null,715,null,null,null,0.05,null,0,0]
[null,null,null,716,null,null,null,0.05,null,0,0]
[null,null,null,717,null,null,null,0.05,null,0,0]
[null,null,null,718,null,null,null,0.05,null,0,0]
[null,null,null,719,null,null,null,0.05,null,0,0]
[null,null,null,720,null,null,null,0.05,null,0,0]
[null,null,null,721,null,null,null,0.05,null,0,0]
[null,null,null,722,null,null,null,0.05,null,0,0]
[null,null,null,723,null,null,null,0.05,null,0,0]
[null,null,null,724,null,null,null,0.05,null,0,0]
[null,null,null,725,null,null,null,0.05,null,0,0]
[null,null,null,726,null,null,null,0.05,null,0,0]
[null,null,null,727,null,null,null,0.05,null,0,0]
[null,null,null,728,null,null,null,0.05,null,0,0]
[null,null,null,729,null,null,null,0.05,null,0,0]
[null,null,null,730,null,null,null,0.05,null,0,0]
[null,null,null,731,null,null,null,0.05,null,0,0]
[null,null,null,732,null,null,null,0.05,null,0,0]
[null,null,null,733,null,null,null,0.05,null,0,0]
[null,null,null,734,null,null,null,0.05,null,0,0]
[null,null,null,735,null,null,null,0.05,null,0,0]
[null,null,null,736,null,null,null,0.05,null,0,0]
[null,null,null,737,null,null,null,0.05,null,0,0]
[null,null,null,738,null,null,null,0.05,null,0,0]
[null,null,null,739,null,null,null,0.05,null,0,0]
[null,null,null,740,null,null,null,0.05,null,0,0]
[null,null,null,741,null,null,null,0.05,null,0,0]
[null,null,null,742,null,null,null,0.05,null,0,0]
[null,null,null,743,null,null,null,0.05,null,0,0]
[null,null,null,744,null,null,null,0.05,null,0,0]
[null,null,null,745,null,null,null,0.05,null,0,0]
[null,null,null,746,null,null,null,0.05,null,0,0]
[null,null,null,747,null,null,null,0.05,null,0,0]
[null,null,null,748,null,null,null,0.05,null,0,0]
[null,null,null,749,null,null,null,0.05,null,0,0]
[null,null,null,750,null,null,null,0.05,null,0,0]
[null,null,null,751,null,null,null,0.05,null,0,0]
[null,null,null,752,null,null,null,0.05,null,0,0]
[null,null,null,753,null,null,null,0.05,null,0,0]
[null,null,null,754,null,null,null,0.05,null,0,0]
[null,null,null,755,null,null,null,0.05,null,0,0]
[null,null,null,756,null,null,null,0.05,null,0,0]
[null,null,null,757,null,null,null,0.05,null,0,0]
[null,null,null,758,null,null,null,0.05,null,0,0]
[null,null,null,759,null,null,null,0.05,null,0,0]
[null,null,null,760,null,null,null,0.05,null,0,0]
[null,null,null,761,null,null,null,0.05,null,0,0]
[null,null,null,762,null,null,null,0.05,null,0,0]
[null,null,null,763,null,null,null,0.05,null,0,0]
[null,null,null,764,null,null,null,0.05,null,0,0]
[null,null,null,765,null,null,null,0.05,null,0,0]
[null,null,null,766,null,null,null,0.05,null,0,0]
[null,null,null,767,null,null,null,0.05,null,0,0]
[null,null,null,768,null,null,null,0.05,null,0,0]
[null,null,null,769,null,null,null,0.05,null,{"$f":"$I$12030*H780","v":0},0]
[null,null,null,770,null,null,null,0.05,null,0,0]
[null,null,null,771,null,null,null,0.05,null,0,{"$f":"IF(I782-J782<0,0,I782-J782)","v":0}]
[null,null,null,772,null,null,null,0.05,null,0,0]
[null,null,null,773,null,null,null,0.05,null,0,0]
[null,null,null,774,null,null,null,0.05,null,0,0]
[null,null,null,775,null,null,null,0.05,null,0,0]
[null,null,null,776,null,null,null,0.05,null,0,0]
[null,null,null,777,null,null,null,0.05,null,0,0]
[null,null,null,778,null,null,null,0.05,null,0,0]
[null,null,null,779,null,null,null,0.05,null,0,0]
[null,null,null,780,null,null,null,0.05,null,0,0]
[null,null,null,781,null,null,null,0.05,null,0,0]
[null,null,null,782,null,null,null,0.05,null,0,0]
[null,null,null,783,null,null,null,0.05,null,0,0]
[null,null,null,784,null,null,null,0.05,null,0,0]
[null,null,null,785,null,null,null,0.05,null,0,0]
[null,null,null,786,null,null,null,0.05,null,0,0]
[null,null,null,787,null,null,null,0.05,null,0,0]
[null,null,null,788,null,null,null,0.05,null,0,0]
[null,null,null,789,null,null,null,0.05,null,0,0]
[null,null,null,790,null,null,null,0.05,null,0,0]
[null,null,null,791,null,null,null,0.05,null,0,0]
[null,null,null,792,null,null,null,0.05,null,0,0]
[null,null,null,793,null,null,null,0.05,null,0,0]
[null,null,null,794,null,null,null,0.05,null,0,0]
[null,null,null,795,null,null,null,0.05,null,0,0]
[null,null,null,796,null,null,null,0.05,null,0,0]
[null,null,null,797,null,null,null,0.05,null,0,0]
[null,null,null,798,null,null,null,0.05,null,0,0]
[null,null,null,799,null,null,null,0.05,null,0,0]
[null,null,null,800,null,null,null,0.05,null,0,0]
[null,null,null,801,null,null,null,0.05,null,0,0]
[null,null,null,802,null,null,null,0.05,null,0,0]
[null,null,null,803,null,null,null,0.05,null,0,0]
[null,null,null,804,null,null,null,0.05,null,0,0]
[null,null,null,805,null,null,null,0.05,null,0,0]
[null,null,null,806,null,null,null,0.05,null,0,0]
[null,null,null,807,null,null,null,0.05,null,0,0]
[null,null,null,808,null,null,null,0.05,null,0,0]
[null,null,null,809,null,null,null,0.05,null,0,0]
[null,null,null,810,null,null,null,0.05,null,0,0]
[null,null,null,811,null,null,null,0.05,null,0,0]
[null,null,null,812,null,null,null,0.05,null,0,0]
[null,null,null,813,null,null,null,0.05,null,0,0]
[null,null,null,814,null,null,null,0.05,null,0,0]
[null,null,null,815,null,null,null,0.05,null,0,0]
[null,null,null,816,null,null,null,0.05,null,0,0]
[null,null,null,817,null,null,null,0.05,null,0,0]
[null,null,null,818,null,null,null,0.05,null,0,0]
[null,null,null,819,null,null,null,0.05,null,0,0]
[null,null,null,820,null,null,null,0.05,null,0,0]
[null,null,null,821,null,null,null,0.05,null,0,0]
[null,null,null,822,null,null,null,0.05,null,0,0]
[null,null,null,823,null,null,null,0.05,null,0,0]
[null,null,null,824,null,null,null,0.05,null,0,0]
[null,null,null,825,null,null,null,0.05,null,0,0]
[null,null,null,826,null,null,null,0.05,null,0,0]
[null,null,null,827,null,null,null,0.05,null,0,0]
[null,null,null,828,null,null,null,0.05,null,0,0]
[null,null,null,829,null,null,null,0.05,null,0,0]
[null,null,null,830,null,null,null,0.05,null,0,0]
[null,null,null,831,null,null,null,0.05,null,0,0]
[null,null,null,832,null,null,null,0.05,null,0,0]
[null,null,null,833,null,null,null,0.05,null,{"$f":"$I$12030*H844","v":0},0]
[null,null,null,834,null,null,null,0.05,null,0,0]
[null,null,null,835,null,null,null,0.05,null,0,0]
[null,null,null,836,null,null,null,0.05,null,0,0]
[null,null,null,837,null,null,null,0.05,null,0,{"$f":"IF(I848-J848<0,0,I848-J848)","v":0}]
[null,null,null,838,null,null,null,0.05,null,0,0]
[null,null,null,839,null,null,null,0.05,null,0,0]
[null,null,null,840,null,null,null,0.05,null,0,0]
[null,null,null,841,null,null,null,0.05,null,0,0]
[null,null,null,842,null,null,null,0.05,null,0,0]
[null,null,null,843,null,null,null,0.05,null,0,0]
[null,null,null,844,null,null,null,0.05,null,0,0]
[null,null,null,845,null,null,null,0.05,null,0,0]
[null,null,null,846,null,null,null,0.05,null,0,0]
[null,null,null,847,null,null,null,0.05,null,0,0]
[null,null,null,848,null,null,null,0.05,null,0,0]
[null,null,null,849,null,null,null,0.05,null,0,0]
[null,null,null,850,null,null,null,0.05,null,0,0]
[null,null,null,851,null,null,null,0.05,null,0,0]
[null,null,null,852,null,null,null,0.05,null,0,0]
[null,null,null,853,null,null,null,0.05,null,0,0]
[null,null,null,854,null,null,null,0.05,null,0,0]
[null,null,null,855,null,null,null,0.05,null,0,0]
[null,null,null,856,null,null,null,0.05,null,0,0]
[null,null,null,857,null,null,null,0.05,null,0,0]
[null,null,null,858,null,null,null,0.05,null,0,0]
[null,null,null,859,null,null,null,0.05,null,0,0]
[null,null,null,860,null,null,null,0.05,null,0,0]
[null,null,null,861,null,null,null,0.05,null,0,0]
[null,null,null,862,null,null,null,0.05,null,0,0]
[null,null,null,863,null,null,null,0.05,null,0,0]
[null,null,null,864,null,null,null,0.05,null,0,0]
[null,null,null,865,null,null,null,0.05,null,0,0]
[null,null,null,866,null,null,null,0.05,null,0,0]
[null,null,null,867,null,null,null,0.05,null,0,0]
[null,null,null,868,null,null,null,0.05,null,0,0]
[null,null,null,869,null,null,null,0.05,null,0,0]
[null,null,null,870,null,null,null,0.05,null,0,0]
[null,null,null,871,null,null,null,0.05,null,0,0]
[null,null,null,872,null,null,null,0.05,null,0,0]
[null,null,null,873,null,null,null,0.05,null,0,0]
[null,null,null,874,null,null,null,0.05,null,0,0]
[null,null,null,875,null,null,null,0.05,null,0,0]
[null,null,null,876,null,null,null,0.05,null,0,0]
[null,null,null,877,null,null,null,0.05,null,0,0]
[null,null,null,878,null,null,null,0.05,null,0,0]
[null,null,null,879,null,null,null,0.05,null,0,0]
[null,null,null,880,null,null,null,0.05,null,0,0]
[null,null,null,881,null,null,null,0.05,null,0,0]
[null,null,null,882,null,null,null,0.05,null,0,0]
[null,null,null,883,null,null,null,0.05,null,0,0]
[null,null,null,884,null,null,null,0.05,null,0,0]
[null,null,null,885,null,null,null,0.05,null,0,0]
[null,null,null,886,null,null,null,0.05,null,0,0]
[null,null,null,887,null,null,null,0.05,null,0,0]
[null,null,null,888,null,null,null,0.05,null,0,0]
[null,null,null,889,null,null,null,0.05,null,0,0]
[null,null,null,890,null,null,null,0.05,null,0,0]
[null,null,null,891,null,null,null,0.05,null,0,0]
[null,null,null,892,null,null,null,0.05,null,0,0]
[null,null,null,893,null,null,null,0.05,null,0,0]
[null,null,null,894,null,null,null,0.05,null,0,0]
[null,null,null,895,null,null,null,0.05,null,0,0]
[null,null,null,896,null,null,null,0.05,null,0,0]
[null,null,null,897,null,null,null,0.05,null,{"$f":"$I$12030*H908","v":0},0]
[null,null,null,898,null,null,null,0.05,null,0,0]
[null,null,null,899,null,null,null,0.05,null,0,0]
[null,null,null,900,null,null,null,0.05,null,0,0]
[null,null,null,901,null,null,null,0.05,null,0,{"$f":"IF(I912-J912<0,0,I912-J912)","v":0}]
[null,null,null,902,null,null,null,0.05,null,0,0]
[null,null,null,903,null,null,null,0.05,null,0,0]
[null,null,null,904,null,null,null,0.05,null,0,0]
[null,null,null,905,null,null,null,0.05,null,0,0]
[null,null,null,906,null,null,null,0.05,null,0,0]
[null,null,null,907,null,null,null,0.05,null,0,0]
[null,null,null,908,null,null,null,0.05,null,0,0]
[null,null,null,909,null,null,null,0.05,null,0,0]
[null,null,null,910,null,null,null,0.05,null,0,0]
[null,null,null,911,null,null,null,0.05,null,0,0]
[null,null,null,912,null,null,null,0.05,null,0,0]
[null,null,null,913,null,null,null,0.05,null,0,0]
[null,null,null,914,null,null,null,0.05,null,0,0]
[null,null,null,915,null,null,null,0.05,null,0,0]
[null,null,null,916,null,null,null,0.05,null,0,0]
[null,null,null,917,null,null,null,0.05,null,0,0]
[null,null,null,918,null,null,null,0.05,null,0,0]
[null,null,null,919,null,null,null,0.05,null,0,0]
[null,null,null,920,null,null,null,0.05,null,0,0]
[null,null,null,921,null,null,null,0.05,null,0,0]
[null,null,null,922,null,null,null,0.05,null,0,0]
[null,null,null,923,null,null,null,0.05,null,0,0]
[null,null,null,924,null,null,null,0.05,null,0,0]
[null,null,null,925,null,null,null,0.05,null,0,0]
[null,null,null,926,null,null,null,0.05,null,0,0]
[null,null,null,927,null,null,null,0.05,null,0,0]
[null,null,null,928,null,null,null,0.05,null,0,0]
[null,null,null,929,null,null,null,0.05,null,0,0]
[null,null,null,930,null,null,null,0.05,null,0,0]
[null,null,null,931,null,null,null,0.05,null,0,0]
[null,null,null,932,null,null,null,0.05,null,0,0]
[null,null,null,933,null,null,null,0.05,null,0,0]
[null,null,null,934,null,null,null,0.05,null,0,0]
[null,null,null,935,null,null,null,0.05,null,0,0]
[null,null,null,936,null,null,null,0.05,null,0,0]
[null,null,null,937,null,null,null,0.05,null,0,0]
[null,null,null,938,null,null,null,0.05,null,0,0]
[null,null,null,939,null,null,null,0.05,null,0,0]
[null,null,null,940,null,null,null,0.05,null,0,0]
[null,null,null,941,null,null,null,0.05,null,0,0]
[null,null,null,942,null,null,null,0.05,null,0,0]
[null,null,null,943,null,null,null,0.05,null,0,0]
[null,null,null,944,null,null,null,0.05,null,0,0]
[null,null,null,945,null,null,null,0.05,null,0,0]
[null,null,null,946,null,null,null,0.05,null,0,0]
[null,null,null,947,null,null,null,0.05,null,0,0]
[null,null,null,948,null,null,null,0.05,null,0,0]
[null,null,null,949,null,null,null,0.05,null,0,0]
[null,null,null,950,null,null,null,0.05,null,0,0]
[null,null,null,951,null,null,null,0.05,null,0,0]
[null,null,null,952,null,null,null,0.05,null,0,0]
[null,null,null,953,null,null,null,0.05,null,0,0]
[null,null,null,954,null,null,null,0.05,null,0,0]
[null,null,null,955,null,null,null,0.05,null,0,0]
[null,null,null,956,null,null,null,0.05,null,0,0]
[null,null,null,957,null,null,null,0.05,null,0,0]
[null,null,null,958,null,null,null,0.05,null,0,0]
[null,null,null,959,null,null,null,0.05,null,0,0]
[null,null,null,960,null,null,null,0.05,null,0,0]
[null,null,null,961,null,null,null,0.05,null,{"$f":"$I$12030*H972","v":0},0]
[null,null,null,962,null,null,null,0.05,null,0,0]
[null,null,null,963,null,null,null,0.05,null,0,0]
[null,null,null,964,null,null,null,0.05,null,0,0]
[null,null,null,965,null,null,null,0.05,null,0,{"$f":"IF(I976-J976<0,0,I976-J976)","v":0}]
[null,null,null,966,null,null,null,0.05,null,0,0]
[null,null,null,967,null,null,null,0.05,null,0,0]
[null,null,null,968,null,null,null,0.05,null,0,0]
[null,null,null,969,null,null,null,0.05,null,0,0]
[null,null,null,970,null,null,null,0.05,null,0,0]
[null,null,null,971,null,null,null,0.05,null,0,0]
[null,null,null,972,null,null,null,0.05,null,0,0]
[null,null,null,973,null,null,null,0.05,null,0,0]
[null,null,null,974,null,null,null,0.05,null,0,0]
[null,null,null,975,null,null,null,0.05,null,0,0]
[null,null,null,976,null,null,null,0.05,null,0,0]
[null,null,null,977,null,null,null,0.05,null,0,0]
[null,null,null,978,null,null,null,0.05,null,0,0]
[null,null,null,979,null,null,null,0.05,null,0,0]
[null,null,null,980,null,null,null,0.05,null,0,0]
[null,null,null,981,null,null,null,0.05,null,0,0]
[null,null,null,982,null,null,null,0.05,null,0,0]
[null,null,null,983,null,null,null,0.05,null,0,0]
[null,null,null,984,null,null,null,0.05,null,0,0]
[null,null,null,985,null,null,null,0.05,null,0,0]
[null,null,null,986,null,null,null,0.05,null,0,0]
[null,null,null,987,null,null,null,0.05,null,0,0]
[null,null,null,988,null,null,null,0.05,null,0,0]
[null,null,null,989,null,null,null,0.05,null,0,0]
[null,null,null,990,null,null,null,0.05,null,0,0]
[null,null,null,991,null,null,null,0.05,null,0,0]
[null,null,null,992,null,null,null,0.05,null,0,0]
[null,null,null,993,null,null,null,0.05,null,0,0]
[null,null,null,994,null,null,null,0.05,null,0,0]
[null,null,null,995,null,null,null,0.05,null,0,0]
[null,null,null,996,null,null,null,0.05,null,0,0]
[null,null,null,997,null,null,null,0.05,null,0,0]
[null,null,null,998,null,null,null,0.05,null,0,0]
[null,null,null,999,null,null,null,0.05,null,0,0]
[null,null,null,1000,null,null,null,0.05,null,0,{"$f":"IF(I1011-J1011<0,0,I1011-J1011)","v":0}]
[null,null,"(ข)","จดทะเบียนซื้อขายในสมาคมตลาดตราสารหนี้ไทย"]
[null,null,null,1,null,null,null,0.1,null,{"$f":"$I$12030*H1013","v":0},{"$f":"IF(I1013-J1013<0,0,I1013-J1013)","v":0}]
[null,null,null,2,null,null,null,0.1,null,0,0]
[null,null,null,3,null,null,null,0.1,null,0,0]
[null,null,null,4,null,null,null,0.1,null,0,0]
[null,null,null,5,null,null,null,0.1,null,0,0]
[null,null,null,6,null,null,null,0.1,null,0,0]
[null,null,null,7,null,null,null,0.1,null,0,0]
[null,null,null,8,null,null,null,0.1,null,0,0]
[null,null,null,9,null,null,null,0.1,null,0,0]
[null,null,null,10,null,null,null,0.1,null,0,0]
[null,null,null,11,null,null,null,0.1,null,0,0]
[null,null,null,12,null,null,null,0.1,null,0,0]
[null,null,null,13,null,null,null,0.1,null,0,0]
[null,null,null,14,null,null,null,0.1,null,0,0]
[null,null,null,15,null,null,null,0.1,null,0,0]
[null,null,null,16,null,null,null,0.1,null,0,0]
[null,null,null,17,null,null,null,0.1,null,0,0]
[null,null,null,18,null,null,null,0.1,null,0,0]
[null,null,null,19,null,null,null,0.1,null,0,0]
[null,null,null,20,null,null,null,0.1,null,0,0]
[null,null,null,21,null,null,null,0.1,null,0,0]
[null,null,null,22,null,null,null,0.1,null,0,0]
[null,null,null,23,null,null,null,0.1,null,0,0]
[null,null,null,24,null,null,null,0.1,null,0,0]
[null,null,null,25,null,null,null,0.1,null,0,0]
[null,null,null,26,null,null,null,0.1,null,0,0]
[null,null,null,27,null,null,null,0.1,null,0,0]
[null,null,null,28,null,null,null,0.1,null,0,0]
[null,null,null,29,null,null,null,0.1,null,0,0]
[null,null,null,30,null,null,null,0.1,null,0,0]
[null,null,null,31,null,null,null,0.1,null,0,0]
[null,null,null,32,null,null,null,0.1,null,0,0]
[null,null,null,33,null,null,null,0.1,null,0,0]
[null,null,null,34,null,null,null,0.1,null,0,0]
[null,null,null,35,null,null,null,0.1,null,0,0]
[null,null,null,36,null,null,null,0.1,null,0,0]
[null,null,null,37,null,null,null,0.1,null,0,0]
[null,null,null,38,null,null,null,0.1,null,0,0]
[null,null,null,39,null,null,null,0.1,null,0,0]
[null,null,null,40,null,null,null,0.1,null,0,0]
[null,null,null,41,null,null,null,0.1,null,0,0]
[null,null,null,42,null,null,null,0.1,null,0,0]
[null,null,null,43,null,null,null,0.1,null,0,0]
[null,null,null,44,null,null,null,0.1,null,0,0]
[null,null,null,45,null,null,null,0.1,null,0,0]
[null,null,null,46,null,null,null,0.1,null,0,0]
[null,null,null,47,null,null,null,0.1,null,0,0]
[null,null,null,48,null,null,null,0.1,null,0,0]
[null,null,null,49,null,null,null,0.1,null,0,0]
[null,null,null,50,null,null,null,0.1,null,0,0]
[null,null,null,51,null,null,null,0.1,null,0,0]
[null,null,null,52,null,null,null,0.1,null,0,0]
[null,null,null,53,null,null,null,0.1,null,0,0]
[null,null,null,54,null,null,null,0.1,null,0,0]
[null,null,null,55,null,null,null,0.1,null,0,0]
[null,null,null,56,null,null,null,0.1,null,0,0]
[null,null,null,57,null,null,null,0.1,null,0,0]
[null,null,null,58,null,null,null,0.1,null,0,0]
[null,null,null,59,null,null,null,0.1,null,0,0]
[null,null,null,60,null,null,null,0.1,null,0,0]
[null,null,null,61,null,null,null,0.1,null,0,0]
[null,null,null,62,null,null,null,0.1,null,0,0]
[null,null,null,63,null,null,null,0.1,null,0,0]
[null,null,null,64,null,null,null,0.1,null,0,0]
[null,null,null,65,null,null,null,0.1,null,{"$f":"$I$12030*H1077","v":0},{"$f":"IF(I1077-J1077<0,0,I1077-J1077)","v":0}]
[null,null,null,66,null,null,null,0.1,null,0,0]
[null,null,null,67,null,null,null,0.1,null,0,0]
[null,null,null,68,null,null,null,0.1,null,0,0]
[null,null,null,69,null,null,null,0.1,null,0,0]
[null,null,null,70,null,null,null,0.1,null,0,0]
[null,null,null,71,null,null,null,0.1,null,0,0]
[null,null,null,72,null,null,null,0.1,null,0,0]
[null,null,null,73,null,null,null,0.1,null,0,0]
[null,null,null,74,null,null,null,0.1,null,0,0]
[null,null,null,75,null,null,null,0.1,null,0,0]
[null,null,null,76,null,null,null,0.1,null,0,0]
[null,null,null,77,null,null,null,0.1,null,0,0]
[null,null,null,78,null,null,null,0.1,null,0,0]
[null,null,null,79,null,null,null,0.1,null,0,0]
[null,null,null,80,null,null,null,0.1,null,0,0]
[null,null,null,81,null,null,null,0.1,null,0,0]
[null,null,null,82,null,null,null,0.1,null,0,0]
[null,null,null,83,null,null,null,0.1,null,0,0]
[null,null,null,84,null,null,null,0.1,null,0,0]
[null,null,null,85,null,null,null,0.1,null,0,0]
[null,null,null,86,null,null,null,0.1,null,0,0]
[null,null,null,87,null,null,null,0.1,null,0,0]
[null,null,null,88,null,null,null,0.1,null,0,0]
[null,null,null,89,null,null,null,0.1,null,0,0]
[null,null,null,90,null,null,null,0.1,null,0,0]
[null,null,null,91,null,null,null,0.1,null,0,0]
[null,null,null,92,null,null,null,0.1,null,0,0]
[null,null,null,93,null,null,null,0.1,null,0,0]
[null,null,null,94,null,null,null,0.1,null,0,0]
[null,null,null,95,null,null,null,0.1,null,0,0]
[null,null,null,96,null,null,null,0.1,null,0,0]
[null,null,null,97,null,null,null,0.1,null,0,0]
[null,null,null,98,null,null,null,0.1,null,0,0]
[null,null,null,99,null,null,null,0.1,null,0,0]
[null,null,null,100,null,null,null,0.1,null,0,0]
[null,null,null,101,null,null,null,0.1,null,0,0]
[null,null,null,102,null,null,null,0.1,null,0,0]
[null,null,null,103,null,null,null,0.1,null,0,0]
[null,null,null,104,null,null,null,0.1,null,0,0]
[null,null,null,105,null,null,null,0.1,null,0,0]
[null,null,null,106,null,null,null,0.1,null,0,0]
[null,null,null,107,null,null,null,0.1,null,0,0]
[null,null,null,108,null,null,null,0.1,null,0,0]
[null,null,null,109,null,null,null,0.1,null,0,0]
[null,null,null,110,null,null,null,0.1,null,0,0]
[null,null,null,111,null,null,null,0.1,null,0,0]
[null,null,null,112,null,null,null,0.1,null,0,0]
[null,null,null,113,null,null,null,0.1,null,0,0]
[null,null,null,114,null,null,null,0.1,null,0,0]
[null,null,null,115,null,null,null,0.1,null,0,0]
[null,null,null,116,null,null,null,0.1,null,0,0]
[null,null,null,117,null,null,null,0.1,null,0,0]
[null,null,null,118,null,null,null,0.1,null,0,0]
[null,null,null,119,null,null,null,0.1,null,0,0]
[null,null,null,120,null,null,null,0.1,null,0,0]
[null,null,null,121,null,null,null,0.1,null,0,0]
[null,null,null,122,null,null,null,0.1,null,0,0]
[null,null,null,123,null,null,null,0.1,null,0,0]
[null,null,null,124,null,null,null,0.1,null,0,0]
[null,null,null,125,null,null,null,0.1,null,0,0]
[null,null,null,126,null,null,null,0.1,null,0,0]
[null,null,null,127,null,null,null,0.1,null,0,0]
[null,null,null,128,null,null,null,0.1,null,0,0]
[null,null,null,129,null,null,null,0.1,null,{"$f":"$I$12030*H1141","v":0},0]
[null,null,null,130,null,null,null,0.1,null,0,0]
[null,null,null,131,null,null,null,0.1,null,0,{"$f":"IF(I1143-J1143<0,0,I1143-J1143)","v":0}]
[null,null,null,132,null,null,null,0.1,null,0,0]
[null,null,null,133,null,null,null,0.1,null,0,0]
[null,null,null,134,null,null,null,0.1,null,0,0]
[null,null,null,135,null,null,null,0.1,null,0,0]
[null,null,null,136,null,null,null,0.1,null,0,0]
[null,null,null,137,null,null,null,0.1,null,0,0]
[null,null,null,138,null,null,null,0.1,null,0,0]
[null,null,null,139,null,null,null,0.1,null,0,0]
[null,null,null,140,null,null,null,0.1,null,0,0]
[null,null,null,141,null,null,null,0.1,null,0,0]
[null,null,null,142,null,null,null,0.1,null,0,0]
[null,null,null,143,null,null,null,0.1,null,0,0]
[null,null,null,144,null,null,null,0.1,null,0,0]
[null,null,null,145,null,null,null,0.1,null,0,0]
[null,null,null,146,null,null,null,0.1,null,0,0]
[null,null,null,147,null,null,null,0.1,null,0,0]
[null,null,null,148,null,null,null,0.1,null,0,0]
[null,null,null,149,null,null,null,0.1,null,0,0]
[null,null,null,150,null,null,null,0.1,null,0,0]
[null,null,null,151,null,null,null,0.1,null,0,0]
[null,null,null,152,null,null,null,0.1,null,0,0]
[null,null,null,153,null,null,null,0.1,null,0,0]
[null,null,null,154,null,null,null,0.1,null,0,0]
[null,null,null,155,null,null,null,0.1,null,0,0]
[null,null,null,156,null,null,null,0.1,null,0,0]
[null,null,null,157,null,null,null,0.1,null,0,0]
[null,null,null,158,null,null,null,0.1,null,0,0]
[null,null,null,159,null,null,null,0.1,null,0,0]
[null,null,null,160,null,null,null,0.1,null,0,0]
[null,null,null,161,null,null,null,0.1,null,0,0]
[null,null,null,162,null,null,null,0.1,null,0,0]
[null,null,null,163,null,null,null,0.1,null,0,0]
[null,null,null,164,null,null,null,0.1,null,0,0]
[null,null,null,165,null,null,null,0.1,null,0,0]
[null,null,null,166,null,null,null,0.1,null,0,0]
[null,null,null,167,null,null,null,0.1,null,0,0]
[null,null,null,168,null,null,null,0.1,null,0,0]
[null,null,null,169,null,null,null,0.1,null,0,0]
[null,null,null,170,null,null,null,0.1,null,0,0]
[null,null,null,171,null,null,null,0.1,null,0,0]
[null,null,null,172,null,null,null,0.1,null,0,0]
[null,null,null,173,null,null,null,0.1,null,0,0]
[null,null,null,174,null,null,null,0.1,null,0,0]
[null,null,null,175,null,null,null,0.1,null,0,0]
[null,null,null,176,null,null,null,0.1,null,0,0]
[null,null,null,177,null,null,null,0.1,null,0,0]
[null,null,null,178,null,null,null,0.1,null,0,0]
[null,null,null,179,null,null,null,0.1,null,0,0]
[null,null,null,180,null,null,null,0.1,null,0,0]
[null,null,null,181,null,null,null,0.1,null,0,0]
[null,null,null,182,null,null,null,0.1,null,0,0]
[null,null,null,183,null,null,null,0.1,null,0,0]
[null,null,null,184,null,null,null,0.1,null,0,0]
[null,null,null,185,null,null,null,0.1,null,0,0]
[null,null,null,186,null,null,null,0.1,null,0,0]
[null,null,null,187,null,null,null,0.1,null,0,0]
[null,null,null,188,null,null,null,0.1,null,0,0]
[null,null,null,189,null,null,null,0.1,null,0,0]
[null,null,null,190,null,null,null,0.1,null,0,0]
[null,null,null,191,null,null,null,0.1,null,0,0]
[null,null,null,192,null,null,null,0.1,null,0,0]
[null,null,null,193,null,null,null,0.1,null,{"$f":"$I$12030*H1205","v":0},0]
[null,null,null,194,null,null,null,0.1,null,0,0]
[null,null,null,195,null,null,null,0.1,null,0,{"$f":"IF(I1207-J1207<0,0,I1207-J1207)","v":0}]
[null,null,null,196,null,null,null,0.1,null,0,0]
[null,null,null,197,null,null,null,0.1,null,0,0]
[null,null,null,198,null,null,null,0.1,null,0,0]
[null,null,null,199,null,null,null,0.1,null,0,0]
[null,null,null,200,null,null,null,0.1,null,0,0]
[null,null,null,201,null,null,null,0.1,null,0,0]
[null,null,null,202,null,null,null,0.1,null,0,0]
[null,null,null,203,null,null,null,0.1,null,0,0]
[null,null,null,204,null,null,null,0.1,null,0,0]
[null,null,null,205,null,null,null,0.1,null,0,0]
[null,null,null,206,null,null,null,0.1,null,0,0]
[null,null,null,207,null,null,null,0.1,null,0,0]
[null,null,null,208,null,null,null,0.1,null,0,0]
[null,null,null,209,null,null,null,0.1,null,0,0]
[null,null,null,210,null,null,null,0.1,null,0,0]
[null,null,null,211,null,null,null,0.1,null,0,0]
[null,null,null,212,null,null,null,0.1,null,0,0]
[null,null,null,213,null,null,null,0.1,null,0,0]
[null,null,null,214,null,null,null,0.1,null,0,0]
[null,null,null,215,null,null,null,0.1,null,0,0]
[null,null,null,216,null,null,null,0.1,null,0,0]
[null,null,null,217,null,null,null,0.1,null,0,0]
[null,null,null,218,null,null,null,0.1,null,0,0]
[null,null,null,219,null,null,null,0.1,null,0,0]
[null,null,null,220,null,null,null,0.1,null,0,0]
[null,null,null,221,null,null,null,0.1,null,0,0]
[null,null,null,222,null,null,null,0.1,null,0,0]
[null,null,null,223,null,null,null,0.1,null,0,0]
[null,null,null,224,null,null,null,0.1,null,0,0]
[null,null,null,225,null,null,null,0.1,null,0,0]
[null,null,null,226,null,null,null,0.1,null,0,0]
[null,null,null,227,null,null,null,0.1,null,0,0]
[null,null,null,228,null,null,null,0.1,null,0,0]
[null,null,null,229,null,null,null,0.1,null,0,0]
[null,null,null,230,null,null,null,0.1,null,0,0]
[null,null,null,231,null,null,null,0.1,null,0,0]
[null,null,null,232,null,null,null,0.1,null,0,0]
[null,null,null,233,null,null,null,0.1,null,0,0]
[null,null,null,234,null,null,null,0.1,null,0,0]
[null,null,null,235,null,null,null,0.1,null,0,0]
[null,null,null,236,null,null,null,0.1,null,0,0]
[null,null,null,237,null,null,null,0.1,null,0,0]
[null,null,null,238,null,null,null,0.1,null,0,0]
[null,null,null,239,null,null,null,0.1,null,0,0]
[null,null,null,240,null,null,null,0.1,null,0,0]
[null,null,null,241,null,null,null,0.1,null,0,0]
[null,null,null,242,null,null,null,0.1,null,0,0]
[null,null,null,243,null,null,null,0.1,null,0,0]
[null,null,null,244,null,null,null,0.1,null,0,0]
[null,null,null,245,null,null,null,0.1,null,0,0]
[null,null,null,246,null,null,null,0.1,null,0,0]
[null,null,null,247,null,null,null,0.1,null,0,0]
[null,null,null,248,null,null,null,0.1,null,0,0]
[null,null,null,249,null,null,null,0.1,null,0,0]
[null,null,null,250,null,null,null,0.1,null,0,0]
[null,null,null,251,null,null,null,0.1,null,0,0]
[null,null,null,252,null,null,null,0.1,null,0,0]
[null,null,null,253,null,null,null,0.1,null,0,0]
[null,null,null,254,null,null,null,0.1,null,0,0]
[null,null,null,255,null,null,null,0.1,null,0,0]
[null,null,null,256,null,null,null,0.1,null,0,0]
[null,null,null,257,null,null,null,0.1,null,{"$f":"$I$12030*H1269","v":0},0]
[null,null,null,258,null,null,null,0.1,null,0,0]
[null,null,null,259,null,null,null,0.1,null,0,0]
[null,null,null,260,null,null,null,0.1,null,0,0]
[null,null,null,261,null,null,null,0.1,null,0,{"$f":"IF(I1273-J1273<0,0,I1273-J1273)","v":0}]
[null,null,null,262,null,null,null,0.1,null,0,0]
[null,null,null,263,null,null,null,0.1,null,0,0]
[null,null,null,264,null,null,null,0.1,null,0,0]
[null,null,null,265,null,null,null,0.1,null,0,0]
[null,null,null,266,null,null,null,0.1,null,0,0]
[null,null,null,267,null,null,null,0.1,null,0,0]
[null,null,null,268,null,null,null,0.1,null,0,0]
[null,null,null,269,null,null,null,0.1,null,0,0]
[null,null,null,270,null,null,null,0.1,null,0,0]
[null,null,null,271,null,null,null,0.1,null,0,0]
[null,null,null,272,null,null,null,0.1,null,0,0]
[null,null,null,273,null,null,null,0.1,null,0,0]
[null,null,null,274,null,null,null,0.1,null,0,0]
[null,null,null,275,null,null,null,0.1,null,0,0]
[null,null,null,276,null,null,null,0.1,null,0,0]
[null,null,null,277,null,null,null,0.1,null,0,0]
[null,null,null,278,null,null,null,0.1,null,0,0]
[null,null,null,279,null,null,null,0.1,null,0,0]
[null,null,null,280,null,null,null,0.1,null,0,0]
[null,null,null,281,null,null,null,0.1,null,0,0]
[null,null,null,282,null,null,null,0.1,null,0,0]
[null,null,null,283,null,null,null,0.1,null,0,0]
[null,null,null,284,null,null,null,0.1,null,0,0]
[null,null,null,285,null,null,null,0.1,null,0,0]
[null,null,null,286,null,null,null,0.1,null,0,0]
[null,null,null,287,null,null,null,0.1,null,0,0]
[null,null,null,288,null,null,null,0.1,null,0,0]
[null,null,null,289,null,null,null,0.1,null,0,0]
[null,null,null,290,null,null,null,0.1,null,0,0]
[null,null,null,291,null,null,null,0.1,null,0,0]
[null,null,null,292,null,null,null,0.1,null,0,0]
[null,null,null,293,null,null,null,0.1,null,0,0]
[null,null,null,294,null,null,null,0.1,null,0,0]
[null,null,null,295,null,null,null,0.1,null,0,0]
[null,null,null,296,null,null,null,0.1,null,0,0]
[null,null,null,297,null,null,null,0.1,null,0,0]
[null,null,null,298,null,null,null,0.1,null,0,0]
[null,null,null,299,null,null,null,0.1,null,0,0]
[null,null,null,300,null,null,null,0.1,null,0,0]
[null,null,null,301,null,null,null,0.1,null,0,0]
[null,null,null,302,null,null,null,0.1,null,0,0]
[null,null,null,303,null,null,null,0.1,null,0,0]
[null,null,null,304,null,null,null,0.1,null,0,0]
[null,null,null,305,null,null,null,0.1,null,0,0]
[null,null,null,306,null,null,null,0.1,null,0,0]
[null,null,null,307,null,null,null,0.1,null,0,0]
[null,null,null,308,null,null,null,0.1,null,0,0]
[null,null,null,309,null,null,null,0.1,null,0,0]
[null,null,null,310,null,null,null,0.1,null,0,0]
[null,null,null,311,null,null,null,0.1,null,0,0]
[null,null,null,312,null,null,null,0.1,null,0,0]
[null,null,null,313,null,null,null,0.1,null,0,0]
[null,null,null,314,null,null,null,0.1,null,0,0]
[null,null,null,315,null,null,null,0.1,null,0,0]
[null,null,null,316,null,null,null,0.1,null,0,0]
[null,null,null,317,null,null,null,0.1,null,0,0]
[null,null,null,318,null,null,null,0.1,null,0,0]
[null,null,null,319,null,null,null,0.1,null,0,0]
[null,null,null,320,null,null,null,0.1,null,0,0]
[null,null,null,321,null,null,null,0.1,null,{"$f":"$I$12030*H1333","v":0},0]
[null,null,null,322,null,null,null,0.1,null,0,0]
[null,null,null,323,null,null,null,0.1,null,0,0]
[null,null,null,324,null,null,null,0.1,null,0,0]
[null,null,null,325,null,null,null,0.1,null,0,{"$f":"IF(I1337-J1337<0,0,I1337-J1337)","v":0}]
[null,null,null,326,null,null,null,0.1,null,0,0]
[null,null,null,327,null,null,null,0.1,null,0,0]
[null,null,null,328,null,null,null,0.1,null,0,0]
[null,null,null,329,null,null,null,0.1,null,0,0]
[null,null,null,330,null,null,null,0.1,null,0,0]
[null,null,null,331,null,null,null,0.1,null,0,0]
[null,null,null,332,null,null,null,0.1,null,0,0]
[null,null,null,333,null,null,null,0.1,null,0,0]
[null,null,null,334,null,null,null,0.1,null,0,0]
[null,null,null,335,null,null,null,0.1,null,0,0]
[null,null,null,336,null,null,null,0.1,null,0,0]
[null,null,null,337,null,null,null,0.1,null,0,0]
[null,null,null,338,null,null,null,0.1,null,0,0]
[null,null,null,339,null,null,null,0.1,null,0,0]
[null,null,null,340,null,null,null,0.1,null,0,0]
[null,null,null,341,null,null,null,0.1,null,0,0]
[null,null,null,342,null,null,null,0.1,null,0,0]
[null,null,null,343,null,null,null,0.1,null,0,0]
[null,null,null,344,null,null,null,0.1,null,0,0]
[null,null,null,345,null,null,null,0.1,null,0,0]
[null,null,null,346,null,null,null,0.1,null,0,0]
[null,null,null,347,null,null,null,0.1,null,0,0]
[null,null,null,348,null,null,null,0.1,null,0,0]
[null,null,null,349,null,null,null,0.1,null,0,0]
[null,null,null,350,null,null,null,0.1,null,0,0]
[null,null,null,351,null,null,null,0.1,null,0,0]
[null,null,null,352,null,null,null,0.1,null,0,0]
[null,null,null,353,null,null,null,0.1,null,0,0]
[null,null,null,354,null,null,null,0.1,null,0,0]
[null,null,null,355,null,null,null,0.1,null,0,0]
[null,null,null,356,null,null,null,0.1,null,0,0]
[null,null,null,357,null,null,null,0.1,null,0,0]
[null,null,null,358,null,null,null,0.1,null,0,0]
[null,null,null,359,null,null,null,0.1,null,0,0]
[null,null,null,360,null,null,null,0.1,null,0,0]
[null,null,null,361,null,null,null,0.1,null,0,0]
[null,null,null,362,null,null,null,0.1,null,0,0]
[null,null,null,363,null,null,null,0.1,null,0,0]
[null,null,null,364,null,null,null,0.1,null,0,0]
[null,null,null,365,null,null,null,0.1,null,0,0]
[null,null,null,366,null,null,null,0.1,null,0,0]
[null,null,null,367,null,null,null,0.1,null,0,0]
[null,null,null,368,null,null,null,0.1,null,0,0]
[null,null,null,369,null,null,null,0.1,null,0,0]
[null,null,null,370,null,null,null,0.1,null,0,0]
[null,null,null,371,null,null,null,0.1,null,0,0]
[null,null,null,372,null,null,null,0.1,null,0,0]
[null,null,null,373,null,null,null,0.1,null,0,0]
[null,null,null,374,null,null,null,0.1,null,0,0]
[null,null,null,375,null,null,null,0.1,null,0,0]
[null,null,null,376,null,null,null,0.1,null,0,0]
[null,null,null,377,null,null,null,0.1,null,0,0]
[null,null,null,378,null,null,null,0.1,null,0,0]
[null,null,null,379,null,null,null,0.1,null,0,0]
[null,null,null,380,null,null,null,0.1,null,0,0]
[null,null,null,381,null,null,null,0.1,null,0,0]
[null,null,null,382,null,null,null,0.1,null,0,0]
[null,null,null,383,null,null,null,0.1,null,0,0]
[null,null,null,384,null,null,null,0.1,null,0,0]
[null,null,null,385,null,null,null,0.1,null,{"$f":"$I$12030*H1397","v":0},0]
[null,null,null,386,null,null,null,0.1,null,0,0]
[null,null,null,387,null,null,null,0.1,null,0,0]
[null,null,null,388,null,null,null,0.1,null,0,0]
[null,null,null,389,null,null,null,0.1,null,0,{"$f":"IF(I1401-J1401<0,0,I1401-J1401)","v":0}]
[null,null,null,390,null,null,null,0.1,null,0,0]
[null,null,null,391,null,null,null,0.1,null,0,0]
[null,null,null,392,null,null,null,0.1,null,0,0]
[null,null,null,393,null,null,null,0.1,null,0,0]
[null,null,null,394,null,null,null,0.1,null,0,0]
[null,null,null,395,null,null,null,0.1,null,0,0]
[null,null,null,396,null,null,null,0.1,null,0,0]
[null,null,null,397,null,null,null,0.1,null,0,0]
[null,null,null,398,null,null,null,0.1,null,0,0]
[null,null,null,399,null,null,null,0.1,null,0,0]
[null,null,null,400,null,null,null,0.1,null,0,0]
[null,null,null,401,null,null,null,0.1,null,0,0]
[null,null,null,402,null,null,null,0.1,null,0,0]
[null,null,null,403,null,null,null,0.1,null,0,0]
[null,null,null,404,null,null,null,0.1,null,0,0]
[null,null,null,405,null,null,null,0.1,null,0,0]
[null,null,null,406,null,null,null,0.1,null,0,0]
[null,null,null,407,null,null,null,0.1,null,0,0]
[null,null,null,408,null,null,null,0.1,null,0,0]
[null,null,null,409,null,null,null,0.1,null,0,0]
[null,null,null,410,null,null,null,0.1,null,0,0]
[null,null,null,411,null,null,null,0.1,null,0,0]
[null,null,null,412,null,null,null,0.1,null,0,0]
[null,null,null,413,null,null,null,0.1,null,0,0]
[null,null,null,414,null,null,null,0.1,null,0,0]
[null,null,null,415,null,null,null,0.1,null,0,0]
[null,null,null,416,null,null,null,0.1,null,0,0]
[null,null,null,417,null,null,null,0.1,null,0,0]
[null,null,null,418,null,null,null,0.1,null,0,0]
[null,null,null,419,null,null,null,0.1,null,0,0]
[null,null,null,420,null,null,null,0.1,null,0,0]
[null,null,null,421,null,null,null,0.1,null,0,0]
[null,null,null,422,null,null,null,0.1,null,0,0]
[null,null,null,423,null,null,null,0.1,null,0,0]
[null,null,null,424,null,null,null,0.1,null,0,0]
[null,null,null,425,null,null,null,0.1,null,0,0]
[null,null,null,426,null,null,null,0.1,null,0,0]
[null,null,null,427,null,null,null,0.1,null,0,0]
[null,null,null,428,null,null,null,0.1,null,0,0]
[null,null,null,429,null,null,null,0.1,null,0,0]
[null,null,null,430,null,null,null,0.1,null,0,0]
[null,null,null,431,null,null,null,0.1,null,0,0]
[null,null,null,432,null,null,null,0.1,null,0,0]
[null,null,null,433,null,null,null,0.1,null,0,0]
[null,null,null,434,null,null,null,0.1,null,0,0]
[null,null,null,435,null,null,null,0.1,null,0,0]
[null,null,null,436,null,null,null,0.1,null,0,0]
[null,null,null,437,null,null,null,0.1,null,0,0]
[null,null,null,438,null,null,null,0.1,null,0,0]
[null,null,null,439,null,null,null,0.1,null,0,0]
[null,null,null,440,null,null,null,0.1,null,0,0]
[null,null,null,441,null,null,null,0.1,null,0,0]
[null,null,null,442,null,null,null,0.1,null,0,0]
[null,null,null,443,null,null,null,0.1,null,0,0]
[null,null,null,444,null,null,null,0.1,null,0,0]
[null,null,null,445,null,null,null,0.1,null,0,0]
[null,null,null,446,null,null,null,0.1,null,0,0]
[null,null,null,447,null,null,null,0.1,null,0,0]
[null,null,null,448,null,null,null,0.1,null,0,0]
[null,null,null,449,null,null,null,0.1,null,{"$f":"$I$12030*H1461","v":0},0]
[null,null,null,450,null,null,null,0.1,null,0,0]
[null,null,null,451,null,null,null,0.1,null,0,0]
[null,null,null,452,null,null,null,0.1,null,0,0]
[null,null,null,453,null,null,null,0.1,null,0,{"$f":"IF(I1465-J1465<0,0,I1465-J1465)","v":0}]
[null,null,null,454,null,null,null,0.1,null,0,0]
[null,null,null,455,null,null,null,0.1,null,0,0]
[null,null,null,456,null,null,null,0.1,null,0,0]
[null,null,null,457,null,null,null,0.1,null,0,0]
[null,null,null,458,null,null,null,0.1,null,0,0]
[null,null,null,459,null,null,null,0.1,null,0,0]
[null,null,null,460,null,null,null,0.1,null,0,0]
[null,null,null,461,null,null,null,0.1,null,0,0]
[null,null,null,462,null,null,null,0.1,null,0,0]
[null,null,null,463,null,null,null,0.1,null,0,0]
[null,null,null,464,null,null,null,0.1,null,0,0]
[null,null,null,465,null,null,null,0.1,null,0,0]
[null,null,null,466,null,null,null,0.1,null,0,0]
[null,null,null,467,null,null,null,0.1,null,0,0]
[null,null,null,468,null,null,null,0.1,null,0,0]
[null,null,null,469,null,null,null,0.1,null,0,0]
[null,null,null,470,null,null,null,0.1,null,0,0]
[null,null,null,471,null,null,null,0.1,null,0,0]
[null,null,null,472,null,null,null,0.1,null,0,0]
[null,null,null,473,null,null,null,0.1,null,0,0]
[null,null,null,474,null,null,null,0.1,null,0,0]
[null,null,null,475,null,null,null,0.1,null,0,0]
[null,null,null,476,null,null,null,0.1,null,0,0]
[null,null,null,477,null,null,null,0.1,null,0,0]
[null,null,null,478,null,null,null,0.1,null,0,0]
[null,null,null,479,null,null,null,0.1,null,0,0]
[null,null,null,480,null,null,null,0.1,null,0,0]
[null,null,null,481,null,null,null,0.1,null,0,0]
[null,null,null,482,null,null,null,0.1,null,0,0]
[null,null,null,483,null,null,null,0.1,null,0,0]
[null,null,null,484,null,null,null,0.1,null,0,0]
[null,null,null,485,null,null,null,0.1,null,0,0]
[null,null,null,486,null,null,null,0.1,null,0,0]
[null,null,null,487,null,null,null,0.1,null,0,0]
[null,null,null,488,null,null,null,0.1,null,0,0]
[null,null,null,489,null,null,null,0.1,null,0,0]
[null,null,null,490,null,null,null,0.1,null,0,0]
[null,null,null,491,null,null,null,0.1,null,0,0]
[null,null,null,492,null,null,null,0.1,null,0,0]
[null,null,null,493,null,null,null,0.1,null,0,0]
[null,null,null,494,null,null,null,0.1,null,0,0]
[null,null,null,495,null,null,null,0.1,null,0,0]
[null,null,null,496,null,null,null,0.1,null,0,0]
[null,null,null,497,null,null,null,0.1,null,0,0]
[null,null,null,498,null,null,null,0.1,null,0,0]
[null,null,null,499,null,null,null,0.1,null,0,0]
[null,null,null,500,null,null,null,0.1,null,0,0]
[null,null,null,501,null,null,null,0.1,null,0,0]
[null,null,null,502,null,null,null,0.1,null,0,0]
[null,null,null,503,null,null,null,0.1,null,0,0]
[null,null,null,504,null,null,null,0.1,null,0,0]
[null,null,null,505,null,null,null,0.1,null,0,0]
[null,null,null,506,null,null,null,0.1,null,0,0]
[null,null,null,507,null,null,null,0.1,null,0,0]
[null,null,null,508,null,null,null,0.1,null,0,0]
[null,null,null,509,null,null,null,0.1,null,0,0]
[null,null,null,510,null,null,null,0.1,null,0,0]
[null,null,null,511,null,null,null,0.1,null,0,0]
[null,null,null,512,null,null,null,0.1,null,0,0]
[null,null,null,513,null,null,null,0.1,null,{"$f":"$I$12030*H1525","v":0},0]
[null,null,null,514,null,null,null,0.1,null,0,0]
[null,null,null,515,null,null,null,0.1,null,0,0]
[null,null,null,516,null,null,null,0.1,null,0,0]
[null,null,null,517,null,null,null,0.1,null,0,{"$f":"IF(I1529-J1529<0,0,I1529-J1529)","v":0}]
[null,null,null,518,null,null,null,0.1,null,0,0]
[null,null,null,519,null,null,null,0.1,null,0,0]
[null,null,null,520,null,null,null,0.1,null,0,0]
[null,null,null,521,null,null,null,0.1,null,0,0]
[null,null,null,522,null,null,null,0.1,null,0,0]
[null,null,null,523,null,null,null,0.1,null,0,0]
[null,null,null,524,null,null,null,0.1,null,0,0]
[null,null,null,525,null,null,null,0.1,null,0,0]
[null,null,null,526,null,null,null,0.1,null,0,0]
[null,null,null,527,null,null,null,0.1,null,0,0]
[null,null,null,528,null,null,null,0.1,null,0,0]
[null,null,null,529,null,null,null,0.1,null,0,0]
[null,null,null,530,null,null,null,0.1,null,0,0]
[null,null,null,531,null,null,null,0.1,null,0,0]
[null,null,null,532,null,null,null,0.1,null,0,0]
[null,null,null,533,null,null,null,0.1,null,0,0]
[null,null,null,534,null,null,null,0.1,null,0,0]
[null,null,null,535,null,null,null,0.1,null,0,0]
[null,null,null,536,null,null,null,0.1,null,0,0]
[null,null,null,537,null,null,null,0.1,null,0,0]
[null,null,null,538,null,null,null,0.1,null,0,0]
[null,null,null,539,null,null,null,0.1,null,0,0]
[null,null,null,540,null,null,null,0.1,null,0,0]
[null,null,null,541,null,null,null,0.1,null,0,0]
[null,null,null,542,null,null,null,0.1,null,0,0]
[null,null,null,543,null,null,null,0.1,null,0,0]
[null,null,null,544,null,null,null,0.1,null,0,0]
[null,null,null,545,null,null,null,0.1,null,0,0]
[null,null,null,546,null,null,null,0.1,null,0,0]
[null,null,null,547,null,null,null,0.1,null,0,0]
[null,null,null,548,null,null,null,0.1,null,0,0]
[null,null,null,549,null,null,null,0.1,null,0,0]
[null,null,null,550,null,null,null,0.1,null,0,0]
[null,null,null,551,null,null,null,0.1,null,0,0]
[null,null,null,552,null,null,null,0.1,null,0,0]
[null,null,null,553,null,null,null,0.1,null,0,0]
[null,null,null,554,null,null,null,0.1,null,0,0]
[null,null,null,555,null,null,null,0.1,null,0,0]
[null,null,null,556,null,null,null,0.1,null,0,0]
[null,null,null,557,null,null,null,0.1,null,0,0]
[null,null,null,558,null,null,null,0.1,null,0,0]
[null,null,null,559,null,null,null,0.1,null,0,0]
[null,null,null,560,null,null,null,0.1,null,0,0]
[null,null,null,561,null,null,null,0.1,null,0,0]
[null,null,null,562,null,null,null,0.1,null,0,0]
[null,null,null,563,null,null,null,0.1,null,0,0]
[null,null,null,564,null,null,null,0.1,null,0,0]
[null,null,null,565,null,null,null,0.1,null,0,0]
[null,null,null,566,null,null,null,0.1,null,0,0]
[null,null,null,567,null,null,null,0.1,null,0,0]
[null,null,null,568,null,null,null,0.1,null,0,0]
[null,null,null,569,null,null,null,0.1,null,0,0]
[null,null,null,570,null,null,null,0.1,null,0,0]
[null,null,null,571,null,null,null,0.1,null,0,0]
[null,null,null,572,null,null,null,0.1,null,0,0]
[null,null,null,573,null,null,null,0.1,null,0,0]
[null,null,null,574,null,null,null,0.1,null,0,0]
[null,null,null,575,null,null,null,0.1,null,0,0]
[null,null,null,576,null,null,null,0.1,null,0,0]
[null,null,null,577,null,null,null,0.1,null,{"$f":"$I$12030*H1589","v":0},0]
[null,null,null,578,null,null,null,0.1,null,0,0]
[null,null,null,579,null,null,null,0.1,null,0,0]
[null,null,null,580,null,null,null,0.1,null,0,0]
[null,null,null,581,null,null,null,0.1,null,0,{"$f":"IF(I1593-J1593<0,0,I1593-J1593)","v":0}]
[null,null,null,582,null,null,null,0.1,null,0,0]
[null,null,null,583,null,null,null,0.1,null,0,0]
[null,null,null,584,null,null,null,0.1,null,0,0]
[null,null,null,585,null,null,null,0.1,null,0,0]
[null,null,null,586,null,null,null,0.1,null,0,0]
[null,null,null,587,null,null,null,0.1,null,0,0]
[null,null,null,588,null,null,null,0.1,null,0,0]
[null,null,null,589,null,null,null,0.1,null,0,0]
[null,null,null,590,null,null,null,0.1,null,0,0]
[null,null,null,591,null,null,null,0.1,null,0,0]
[null,null,null,592,null,null,null,0.1,null,0,0]
[null,null,null,593,null,null,null,0.1,null,0,0]
[null,null,null,594,null,null,null,0.1,null,0,0]
[null,null,null,595,null,null,null,0.1,null,0,0]
[null,null,null,596,null,null,null,0.1,null,0,0]
[null,null,null,597,null,null,null,0.1,null,0,0]
[null,null,null,598,null,null,null,0.1,null,0,0]
[null,null,null,599,null,null,null,0.1,null,0,0]
[null,null,null,600,null,null,null,0.1,null,0,0]
[null,null,null,601,null,null,null,0.1,null,0,0]
[null,null,null,602,null,null,null,0.1,null,0,0]
[null,null,null,603,null,null,null,0.1,null,0,0]
[null,null,null,604,null,null,null,0.1,null,0,0]
[null,null,null,605,null,null,null,0.1,null,0,0]
[null,null,null,606,null,null,null,0.1,null,0,0]
[null,null,null,607,null,null,null,0.1,null,0,0]
[null,null,null,608,null,null,null,0.1,null,0,0]
[null,null,null,609,null,null,null,0.1,null,0,0]
[null,null,null,610,null,null,null,0.1,null,0,0]
[null,null,null,611,null,null,null,0.1,null,0,0]
[null,null,null,612,null,null,null,0.1,null,0,0]
[null,null,null,613,null,null,null,0.1,null,0,0]
[null,null,null,614,null,null,null,0.1,null,0,0]
[null,null,null,615,null,null,null,0.1,null,0,0]
[null,null,null,616,null,null,null,0.1,null,0,0]
[null,null,null,617,null,null,null,0.1,null,0,0]
[null,null,null,618,null,null,null,0.1,null,0,0]
[null,null,null,619,null,null,null,0.1,null,0,0]
[null,null,null,620,null,null,null,0.1,null,0,0]
[null,null,null,621,null,null,null,0.1,null,0,0]
[null,null,null,622,null,null,null,0.1,null,0,0]
[null,null,null,623,null,null,null,0.1,null,0,0]
[null,null,null,624,null,null,null,0.1,null,0,0]
[null,null,null,625,null,null,null,0.1,null,0,0]
[null,null,null,626,null,null,null,0.1,null,0,0]
[null,null,null,627,null,null,null,0.1,null,0,0]
[null,null,null,628,null,null,null,0.1,null,0,0]
[null,null,null,629,null,null,null,0.1,null,0,0]
[null,null,null,630,null,null,null,0.1,null,0,0]
[null,null,null,631,null,null,null,0.1,null,0,0]
[null,null,null,632,null,null,null,0.1,null,0,0]
[null,null,null,633,null,null,null,0.1,null,0,0]
[null,null,null,634,null,null,null,0.1,null,0,0]
[null,null,null,635,null,null,null,0.1,null,0,0]
[null,null,null,636,null,null,null,0.1,null,0,0]
[null,null,null,637,null,null,null,0.1,null,0,0]
[null,null,null,638,null,null,null,0.1,null,0,0]
[null,null,null,639,null,null,null,0.1,null,0,0]
[null,null,null,640,null,null,null,0.1,null,0,0]
[null,null,null,641,null,null,null,0.1,null,{"$f":"$I$12030*H1653","v":0},0]
[null,null,null,642,null,null,null,0.1,null,0,0]
[null,null,null,643,null,null,null,0.1,null,0,0]
[null,null,null,644,null,null,null,0.1,null,0,0]
[null,null,null,645,null,null,null,0.1,null,0,{"$f":"IF(I1657-J1657<0,0,I1657-J1657)","v":0}]
[null,null,null,646,null,null,null,0.1,null,0,0]
[null,null,null,647,null,null,null,0.1,null,0,0]
[null,null,null,648,null,null,null,0.1,null,0,0]
[null,null,null,649,null,null,null,0.1,null,0,0]
[null,null,null,650,null,null,null,0.1,null,0,0]
[null,null,null,651,null,null,null,0.1,null,0,0]
[null,null,null,652,null,null,null,0.1,null,0,0]
[null,null,null,653,null,null,null,0.1,null,0,0]
[null,null,null,654,null,null,null,0.1,null,0,0]
[null,null,null,655,null,null,null,0.1,null,0,0]
[null,null,null,656,null,null,null,0.1,null,0,0]
[null,null,null,657,null,null,null,0.1,null,0,0]
[null,null,null,658,null,null,null,0.1,null,0,0]
[null,null,null,659,null,null,null,0.1,null,0,0]
[null,null,null,660,null,null,null,0.1,null,0,0]
[null,null,null,661,null,null,null,0.1,null,0,0]
[null,null,null,662,null,null,null,0.1,null,0,0]
[null,null,null,663,null,null,null,0.1,null,0,0]
[null,null,null,664,null,null,null,0.1,null,0,0]
[null,null,null,665,null,null,null,0.1,null,0,0]
[null,null,null,666,null,null,null,0.1,null,0,0]
[null,null,null,667,null,null,null,0.1,null,0,0]
[null,null,null,668,null,null,null,0.1,null,0,0]
[null,null,null,669,null,null,null,0.1,null,0,0]
[null,null,null,670,null,null,null,0.1,null,0,0]
[null,null,null,671,null,null,null,0.1,null,0,0]
[null,null,null,672,null,null,null,0.1,null,0,0]
[null,null,null,673,null,null,null,0.1,null,0,0]
[null,null,null,674,null,null,null,0.1,null,0,0]
[null,null,null,675,null,null,null,0.1,null,0,0]
[null,null,null,676,null,null,null,0.1,null,0,0]
[null,null,null,677,null,null,null,0.1,null,0,0]
[null,null,null,678,null,null,null,0.1,null,0,0]
[null,null,null,679,null,null,null,0.1,null,0,0]
[null,null,null,680,null,null,null,0.1,null,0,0]
[null,null,null,681,null,null,null,0.1,null,0,0]
[null,null,null,682,null,null,null,0.1,null,0,0]
[null,null,null,683,null,null,null,0.1,null,0,0]
[null,null,null,684,null,null,null,0.1,null,0,0]
[null,null,null,685,null,null,null,0.1,null,0,0]
[null,null,null,686,null,null,null,0.1,null,0,0]
[null,null,null,687,null,null,null,0.1,null,0,0]
[null,null,null,688,null,null,null,0.1,null,0,0]
[null,null,null,689,null,null,null,0.1,null,0,0]
[null,null,null,690,null,null,null,0.1,null,0,0]
[null,null,null,691,null,null,null,0.1,null,0,0]
[null,null,null,692,null,null,null,0.1,null,0,0]
[null,null,null,693,null,null,null,0.1,null,0,0]
[null,null,null,694,null,null,null,0.1,null,0,0]
[null,null,null,695,null,null,null,0.1,null,0,0]
[null,null,null,696,null,null,null,0.1,null,0,0]
[null,null,null,697,null,null,null,0.1,null,0,0]
[null,null,null,698,null,null,null,0.1,null,0,0]
[null,null,null,699,null,null,null,0.1,null,0,0]
[null,null,null,700,null,null,null,0.1,null,0,0]
[null,null,null,701,null,null,null,0.1,null,0,0]
[null,null,null,702,null,null,null,0.1,null,0,0]
[null,null,null,703,null,null,null,0.1,null,0,0]
[null,null,null,704,null,null,null,0.1,null,0,0]
[null,null,null,705,null,null,null,0.1,null,{"$f":"$I$12030*H1717","v":0},0]
[null,null,null,706,null,null,null,0.1,null,0,0]
[null,null,null,707,null,null,null,0.1,null,0,0]
[null,null,null,708,null,null,null,0.1,null,0,0]
[null,null,null,709,null,null,null,0.1,null,0,{"$f":"IF(I1721-J1721<0,0,I1721-J1721)","v":0}]
[null,null,null,710,null,null,null,0.1,null,0,0]
[null,null,null,711,null,null,null,0.1,null,0,0]
[null,null,null,712,null,null,null,0.1,null,0,0]
[null,null,null,713,null,null,null,0.1,null,0,0]
[null,null,null,714,null,null,null,0.1,null,0,0]
[null,null,null,715,null,null,null,0.1,null,0,0]
[null,null,null,716,null,null,null,0.1,null,0,0]
[null,null,null,717,null,null,null,0.1,null,0,0]
[null,null,null,718,null,null,null,0.1,null,0,0]
[null,null,null,719,null,null,null,0.1,null,0,0]
[null,null,null,720,null,null,null,0.1,null,0,0]
[null,null,null,721,null,null,null,0.1,null,0,0]
[null,null,null,722,null,null,null,0.1,null,0,0]
[null,null,null,723,null,null,null,0.1,null,0,0]
[null,null,null,724,null,null,null,0.1,null,0,0]
[null,null,null,725,null,null,null,0.1,null,0,0]
[null,null,null,726,null,null,null,0.1,null,0,0]
[null,null,null,727,null,null,null,0.1,null,0,0]
[null,null,null,728,null,null,null,0.1,null,0,0]
[null,null,null,729,null,null,null,0.1,null,0,0]
[null,null,null,730,null,null,null,0.1,null,0,0]
[null,null,null,731,null,null,null,0.1,null,0,0]
[null,null,null,732,null,null,null,0.1,null,0,0]
[null,null,null,733,null,null,null,0.1,null,0,0]
[null,null,null,734,null,null,null,0.1,null,0,0]
[null,null,null,735,null,null,null,0.1,null,0,0]
[null,null,null,736,null,null,null,0.1,null,0,0]
[null,null,null,737,null,null,null,0.1,null,0,0]
[null,null,null,738,null,null,null,0.1,null,0,0]
[null,null,null,739,null,null,null,0.1,null,0,0]
[null,null,null,740,null,null,null,0.1,null,0,0]
[null,null,null,741,null,null,null,0.1,null,0,0]
[null,null,null,742,null,null,null,0.1,null,0,0]
[null,null,null,743,null,null,null,0.1,null,0,0]
[null,null,null,744,null,null,null,0.1,null,0,0]
[null,null,null,745,null,null,null,0.1,null,0,0]
[null,null,null,746,null,null,null,0.1,null,0,0]
[null,null,null,747,null,null,null,0.1,null,0,0]
[null,null,null,748,null,null,null,0.1,null,0,0]
[null,null,null,749,null,null,null,0.1,null,0,0]
[null,null,null,750,null,null,null,0.1,null,0,0]
[null,null,null,751,null,null,null,0.1,null,0,0]
[null,null,null,752,null,null,null,0.1,null,0,0]
[null,null,null,753,null,null,null,0.1,null,0,0]
[null,null,null,754,null,null,null,0.1,null,0,0]
[null,null,null,755,null,null,null,0.1,null,0,0]
[null,null,null,756,null,null,null,0.1,null,0,0]
[null,null,null,757,null,null,null,0.1,null,0,0]
[null,null,null,758,null,null,null,0.1,null,0,0]
[null,null,null,759,null,null,null,0.1,null,0,0]
[null,null,null,760,null,null,null,0.1,null,0,0]
[null,null,null,761,null,null,null,0.1,null,0,0]
[null,null,null,762,null,null,null,0.1,null,0,0]
[null,null,null,763,null,null,null,0.1,null,0,0]
[null,null,null,764,null,null,null,0.1,null,0,0]
[null,null,null,765,null,null,null,0.1,null,0,0]
[null,null,null,766,null,null,null,0.1,null,0,0]
[null,null,null,767,null,null,null,0.1,null,0,0]
[null,null,null,768,null,null,null,0.1,null,0,0]
[null,null,null,769,null,null,null,0.1,null,{"$f":"$I$12030*H1781","v":0},0]
[null,null,null,770,null,null,null,0.1,null,0,0]
[null,null,null,771,null,null,null,0.1,null,0,0]
[null,null,null,772,null,null,null,0.1,null,0,0]
[null,null,null,773,null,null,null,0.1,null,0,{"$f":"IF(I1785-J1785<0,0,I1785-J1785)","v":0}]
[null,null,null,774,null,null,null,0.1,null,0,0]
[null,null,null,775,null,null,null,0.1,null,0,0]
[null,null,null,776,null,null,null,0.1,null,0,0]
[null,null,null,777,null,null,null,0.1,null,0,0]
[null,null,null,778,null,null,null,0.1,null,0,0]
[null,null,null,779,null,null,null,0.1,null,0,0]
[null,null,null,780,null,null,null,0.1,null,0,0]
[null,null,null,781,null,null,null,0.1,null,0,0]
[null,null,null,782,null,null,null,0.1,null,0,0]
[null,null,null,783,null,null,null,0.1,null,0,0]
[null,null,null,784,null,null,null,0.1,null,0,0]
[null,null,null,785,null,null,null,0.1,null,0,0]
[null,null,null,786,null,null,null,0.1,null,0,0]
[null,null,null,787,null,null,null,0.1,null,0,0]
[null,null,null,788,null,null,null,0.1,null,0,0]
[null,null,null,789,null,null,null,0.1,null,0,0]
[null,null,null,790,null,null,null,0.1,null,0,0]
[null,null,null,791,null,null,null,0.1,null,0,0]
[null,null,null,792,null,null,null,0.1,null,0,0]
[null,null,null,793,null,null,null,0.1,null,0,0]
[null,null,null,794,null,null,null,0.1,null,0,0]
[null,null,null,795,null,null,null,0.1,null,0,0]
[null,null,null,796,null,null,null,0.1,null,0,0]
[null,null,null,797,null,null,null,0.1,null,0,0]
[null,null,null,798,null,null,null,0.1,null,0,0]
[null,null,null,799,null,null,null,0.1,null,0,0]
[null,null,null,800,null,null,null,0.1,null,0,0]
[null,null,null,801,null,null,null,0.1,null,0,0]
[null,null,null,802,null,null,null,0.1,null,0,0]
[null,null,null,803,null,null,null,0.1,null,0,0]
[null,null,null,804,null,null,null,0.1,null,0,0]
[null,null,null,805,null,null,null,0.1,null,0,0]
[null,null,null,806,null,null,null,0.1,null,0,0]
[null,null,null,807,null,null,null,0.1,null,0,0]
[null,null,null,808,null,null,null,0.1,null,0,0]
[null,null,null,809,null,null,null,0.1,null,0,0]
[null,null,null,810,null,null,null,0.1,null,0,0]
[null,null,null,811,null,null,null,0.1,null,0,0]
[null,null,null,812,null,null,null,0.1,null,0,0]
[null,null,null,813,null,null,null,0.1,null,0,0]
[null,null,null,814,null,null,null,0.1,null,0,0]
[null,null,null,815,null,null,null,0.1,null,0,0]
[null,null,null,816,null,null,null,0.1,null,0,0]
[null,null,null,817,null,null,null,0.1,null,0,0]
[null,null,null,818,null,null,null,0.1,null,0,0]
[null,null,null,819,null,null,null,0.1,null,0,0]
[null,null,null,820,null,null,null,0.1,null,0,0]
[null,null,null,821,null,null,null,0.1,null,0,0]
[null,null,null,822,null,null,null,0.1,null,0,0]
[null,null,null,823,null,null,null,0.1,null,0,0]
[null,null,null,824,null,null,null,0.1,null,0,0]
[null,null,null,825,null,null,null,0.1,null,0,0]
[null,null,null,826,null,null,null,0.1,null,0,0]
[null,null,null,827,null,null,null,0.1,null,0,0]
[null,null,null,828,null,null,null,0.1,null,0,0]
[null,null,null,829,null,null,null,0.1,null,0,0]
[null,null,null,830,null,null,null,0.1,null,0,0]
[null,null,null,831,null,null,null,0.1,null,0,0]
[null,null,null,832,null,null,null,0.1,null,0,0]
[null,null,null,833,null,null,null,0.1,null,{"$f":"$I$12030*H1845","v":0},0]
[null,null,null,834,null,null,null,0.1,null,0,0]
[null,null,null,835,null,null,null,0.1,null,0,0]
[null,null,null,836,null,null,null,0.1,null,0,0]
[null,null,null,837,null,null,null,0.1,null,0,{"$f":"IF(I1849-J1849<0,0,I1849-J1849)","v":0}]
[null,null,null,838,null,null,null,0.1,null,0,0]
[null,null,null,839,null,null,null,0.1,null,0,0]
[null,null,null,840,null,null,null,0.1,null,0,0]
[null,null,null,841,null,null,null,0.1,null,0,0]
[null,null,null,842,null,null,null,0.1,null,0,0]
[null,null,null,843,null,null,null,0.1,null,0,0]
[null,null,null,844,null,null,null,0.1,null,0,0]
[null,null,null,845,null,null,null,0.1,null,0,0]
[null,null,null,846,null,null,null,0.1,null,0,0]
[null,null,null,847,null,null,null,0.1,null,0,0]
[null,null,null,848,null,null,null,0.1,null,0,0]
[null,null,null,849,null,null,null,0.1,null,0,0]
[null,null,null,850,null,null,null,0.1,null,0,0]
[null,null,null,851,null,null,null,0.1,null,0,0]
[null,null,null,852,null,null,null,0.1,null,0,0]
[null,null,null,853,null,null,null,0.1,null,0,0]
[null,null,null,854,null,null,null,0.1,null,0,0]
[null,null,null,855,null,null,null,0.1,null,0,0]
[null,null,null,856,null,null,null,0.1,null,0,0]
[null,null,null,857,null,null,null,0.1,null,0,0]
[null,null,null,858,null,null,null,0.1,null,0,0]
[null,null,null,859,null,null,null,0.1,null,0,0]
[null,null,null,860,null,null,null,0.1,null,0,0]
[null,null,null,861,null,null,null,0.1,null,0,0]
[null,null,null,862,null,null,null,0.1,null,0,0]
[null,null,null,863,null,null,null,0.1,null,0,0]
[null,null,null,864,null,null,null,0.1,null,0,0]
[null,null,null,865,null,null,null,0.1,null,0,0]
[null,null,null,866,null,null,null,0.1,null,0,0]
[null,null,null,867,null,null,null,0.1,null,0,0]
[null,null,null,868,null,null,null,0.1,null,0,0]
[null,null,null,869,null,null,null,0.1,null,0,0]
[null,null,null,870,null,null,null,0.1,null,0,0]
[null,null,null,871,null,null,null,0.1,null,0,0]
[null,null,null,872,null,null,null,0.1,null,0,0]
[null,null,null,873,null,null,null,0.1,null,0,0]
[null,null,null,874,null,null,null,0.1,null,0,0]
[null,null,null,875,null,null,null,0.1,null,0,0]
[null,null,null,876,null,null,null,0.1,null,0,0]
[null,null,null,877,null,null,null,0.1,null,0,0]
[null,null,null,878,null,null,null,0.1,null,0,0]
[null,null,null,879,null,null,null,0.1,null,0,0]
[null,null,null,880,null,null,null,0.1,null,0,0]
[null,null,null,881,null,null,null,0.1,null,0,0]
[null,null,null,882,null,null,null,0.1,null,0,0]
[null,null,null,883,null,null,null,0.1,null,0,0]
[null,null,null,884,null,null,null,0.1,null,0,0]
[null,null,null,885,null,null,null,0.1,null,0,0]
[null,null,null,886,null,null,null,0.1,null,0,0]
[null,null,null,887,null,null,null,0.1,null,0,0]
[null,null,null,888,null,null,null,0.1,null,0,0]
[null,null,null,889,null,null,null,0.1,null,0,0]
[null,null,null,890,null,null,null,0.1,null,0,0]
[null,null,null,891,null,null,null,0.1,null,0,0]
[null,null,null,892,null,null,null,0.1,null,0,0]
[null,null,null,893,null,null,null,0.1,null,0,0]
[null,null,null,894,null,null,null,0.1,null,0,0]
[null,null,null,895,null,null,null,0.1,null,0,0]
[null,null,null,896,null,null,null,0.1,null,0,0]
[null,null,null,897,null,null,null,0.1,null,{"$f":"$I$12030*H1909","v":0},0]
[null,null,null,898,null,null,null,0.1,null,0,0]
[null,null,null,899,null,null,null,0.1,null,0,0]
[null,null,null,900,null,null,null,0.1,null,0,0]
[null,null,null,901,null,null,null,0.1,null,0,{"$f":"IF(I1913-J1913<0,0,I1913-J1913)","v":0}]
[null,null,null,902,null,null,null,0.1,null,0,0]
[null,null,null,903,null,null,null,0.1,null,0,0]
[null,null,null,904,null,null,null,0.1,null,0,0]
[null,null,null,905,null,null,null,0.1,null,0,0]
[null,null,null,906,null,null,null,0.1,null,0,0]
[null,null,null,907,null,null,null,0.1,null,0,0]
[null,null,null,908,null,null,null,0.1,null,0,0]
[null,null,null,909,null,null,null,0.1,null,0,0]
[null,null,null,910,null,null,null,0.1,null,0,0]
[null,null,null,911,null,null,null,0.1,null,0,0]
[null,null,null,912,null,null,null,0.1,null,0,0]
[null,null,null,913,null,null,null,0.1,null,0,0]
[null,null,null,914,null,null,null,0.1,null,0,0]
[null,null,null,915,null,null,null,0.1,null,0,0]
[null,null,null,916,null,null,null,0.1,null,0,0]
[null,null,null,917,null,null,null,0.1,null,0,0]
[null,null,null,918,null,null,null,0.1,null,0,0]
[null,null,null,919,null,null,null,0.1,null,0,0]
[null,null,null,920,null,null,null,0.1,null,0,0]
[null,null,null,921,null,null,null,0.1,null,0,0]
[null,null,null,922,null,null,null,0.1,null,0,0]
[null,null,null,923,null,null,null,0.1,null,0,0]
[null,null,null,924,null,null,null,0.1,null,0,0]
[null,null,null,925,null,null,null,0.1,null,0,0]
[null,null,null,926,null,null,null,0.1,null,0,0]
[null,null,null,927,null,null,null,0.1,null,0,0]
[null,null,null,928,null,null,null,0.1,null,0,0]
[null,null,null,929,null,null,null,0.1,null,0,0]
[null,null,null,930,null,null,null,0.1,null,0,0]
[null,null,null,931,null,null,null,0.1,null,0,0]
[null,null,null,932,null,null,null,0.1,null,0,0]
[null,null,null,933,null,null,null,0.1,null,0,0]
[null,null,null,934,null,null,null,0.1,null,0,0]
[null,null,null,935,null,null,null,0.1,null,0,0]
[null,null,null,936,null,null,null,0.1,null,0,0]
[null,null,null,937,null,null,null,0.1,null,0,0]
[null,null,null,938,null,null,null,0.1,null,0,0]
[null,null,null,939,null,null,null,0.1,null,0,0]
[null,null,null,940,null,null,null,0.1,null,0,0]
[null,null,null,941,null,null,null,0.1,null,0,0]
[null,null,null,942,null,null,null,0.1,null,0,0]
[null,null,null,943,null,null,null,0.1,null,0,0]
[null,null,null,944,null,null,null,0.1,null,0,0]
[null,null,null,945,null,null,null,0.1,null,0,0]
[null,null,null,946,null,null,null,0.1,null,0,0]
[null,null,null,947,null,null,null,0.1,null,0,0]
[null,null,null,948,null,null,null,0.1,null,0,0]
[null,null,null,949,null,null,null,0.1,null,0,0]
[null,null,null,950,null,null,null,0.1,null,0,0]
[null,null,null,951,null,null,null,0.1,null,0,0]
[null,null,null,952,null,null,null,0.1,null,0,0]
[null,null,null,953,null,null,null,0.1,null,0,0]
[null,null,null,954,null,null,null,0.1,null,0,0]
[null,null,null,955,null,null,null,0.1,null,0,0]
[null,null,null,956,null,null,null,0.1,null,0,0]
[null,null,null,957,null,null,null,0.1,null,0,0]
[null,null,null,958,null,null,null,0.1,null,0,0]
[null,null,null,959,null,null,null,0.1,null,0,0]
[null,null,null,960,null,null,null,0.1,null,0,0]
[null,null,null,961,null,null,null,0.1,null,{"$f":"$I$12030*H1973","v":0},0]
[null,null,null,962,null,null,null,0.1,null,0,0]
[null,null,null,963,null,null,null,0.1,null,0,0]
[null,null,null,964,null,null,null,0.1,null,0,0]
[null,null,null,965,null,null,null,0.1,null,0,0]
[null,null,null,966,null,null,null,0.1,null,0,0]
[null,null,null,967,null,null,null,0.1,null,0,{"$f":"IF(I1979-J1979<0,0,I1979-J1979)","v":0}]
[null,null,null,968,null,null,null,0.1,null,0,0]
[null,null,null,969,null,null,null,0.1,null,0,0]
[null,null,null,970,null,null,null,0.1,null,0,0]
[null,null,null,971,null,null,null,0.1,null,0,0]
[null,null,null,972,null,null,null,0.1,null,0,0]
[null,null,null,973,null,null,null,0.1,null,0,0]
[null,null,null,974,null,null,null,0.1,null,0,0]
[null,null,null,975,null,null,null,0.1,null,0,0]
[null,null,null,976,null,null,null,0.1,null,0,0]
[null,null,null,977,null,null,null,0.1,null,0,0]
[null,null,null,978,null,null,null,0.1,null,0,0]
[null,null,null,979,null,null,null,0.1,null,0,0]
[null,null,null,980,null,null,null,0.1,null,0,0]
[null,null,null,981,null,null,null,0.1,null,0,0]
[null,null,null,982,null,null,null,0.1,null,0,0]
[null,null,null,983,null,null,null,0.1,null,0,0]
[null,null,null,984,null,null,null,0.1,null,0,0]
[null,null,null,985,null,null,null,0.1,null,0,0]
[null,null,null,986,null,null,null,0.1,null,0,0]
[null,null,null,987,null,null,null,0.1,null,0,0]
[null,null,null,988,null,null,null,0.1,null,0,0]
[null,null,null,990,null,null,null,0.1,null,0,0]
[null,null,null,994,null,null,null,0.1,null,0,0]
[null,null,null,999,null,null,null,0.1,null,0,0]
[null,null,null,4,null,null,null,0.2,null,0,0]
[null,null,null,8,null,null,null,0.2,null,0,0]
[null,null,null,13,null,null,null,0.2,null,0,0]
[null,null,null,19,null,null,null,0.2,null,0,0]
[null,null,null,24,null,null,null,0.2,null,0,0]
[null,null,null,27,null,null,null,0.2,null,0,0]
[null,null,null,34,null,null,null,0.2,null,0,0]
[null,null,null,39,null,null,null,0.2,null,0,0]
[null,null,null,40,null,null,null,0.2,null,0,0]
[null,null,null,46,null,null,null,0.2,null,0,0]
[null,null,null,49,null,null,null,0.2,null,0,0]
[null,null,null,55,null,null,null,0.2,null,0,0]
[null,null,null,60,null,null,null,0.2,null,0,0]
[null,null,null,66,null,null,null,0.2,null,0,0]
[null,null,null,71,null,null,null,0.2,null,0,0]
[null,null,null,75,null,null,null,0.2,null,0,0]
[null,null,null,81,null,null,null,0.2,null,0,0]
[null,null,null,86,null,null,null,0.2,null,0,0]
[null,null,null,90,null,null,null,0.2,null,0,0]
[null,null,null,96,null,null,null,0.2,null,0,0]
[null,null,null,101,null,null,null,0.2,null,0,0]
[null,null,null,102,null,null,null,0.2,null,0,0]
[null,null,null,109,null,null,null,0.2,null,0,0]
[null,null,null,111,null,null,null,0.2,null,0,0]
[null,null,null,117,null,null,null,0.2,null,0,0]
[null,null,null,122,null,null,null,0.2,null,0,0]
[null,null,null,128,null,null,null,0.2,null,0,0]
[null,null,null,134,null,null,null,0.2,null,0,0]
[null,null,null,137,null,null,null,0.2,null,0,0]
[null,null,null,143,null,null,null,0.2,null,0,0]
[null,null,null,148,null,null,null,0.2,null,0,0]
[null,null,null,153,null,null,null,0.2,null,0,0]
[null,null,null,158,null,null,null,0.2,null,0,0]
[null,null,null,163,null,null,null,0.2,null,0,0]
[null,null,null,164,null,null,null,0.2,null,0,0]
[null,null,null,172,null,null,null,0.2,null,0,0]
[null,null,null,173,null,null,null,0.2,null,0,0]
[null,null,null,179,null,null,null,0.2,null,0,0]
[null,null,null,184,null,null,null,0.2,null,0,0]
[null,null,null,190,null,null,null,0.2,null,0,0]
[null,null,null,193,null,null,null,0.2,null,{"$f":"$I$12030*H2206","v":0},0]
[null,null,null,199,null,null,null,0.2,null,0,0]
[null,null,null,205,null,null,null,0.2,null,0,0]
[null,null,null,210,null,null,null,0.2,null,0,0]
[null,null,null,212,null,null,null,0.2,null,0,0]
[null,null,null,220,null,null,null,0.2,null,0,0]
[null,null,null,225,null,null,null,0.2,null,0,0]
[null,null,null,226,null,null,null,0.2,null,0,0]
[null,null,null,231,null,null,null,0.2,null,0,0]
[null,null,null,235,null,null,null,0.2,null,0,0]
[null,null,null,241,null,null,null,0.2,null,0,0]
[null,null,null,246,null,null,null,0.2,null,0,0]
[null,null,null,252,null,null,null,0.2,null,0,0]
[null,null,null,256,null,null,null,0.2,null,0,0]
[null,null,null,261,null,null,null,0.2,null,0,{"$f":"IF(I2274-J2274<0,0,I2274-J2274)","v":0}]
[null,null,null,267,null,null,null,0.2,null,0,0]
[null,null,null,272,null,null,null,0.2,null,0,0]
[null,null,null,275,null,null,null,0.2,null,0,0]
[null,null,null,282,null,null,null,0.2,null,0,0]
[null,null,null,287,null,null,null,0.2,null,0,0]
[null,null,null,288,null,null,null,0.2,null,0,0]
[null,null,null,294,null,null,null,0.2,null,0,0]
[null,null,null,297,null,null,null,0.2,null,0,0]
[null,null,null,303,null,null,null,0.2,null,0,0]
[null,null,null,308,null,null,null,0.2,null,0,0]
[null,null,null,313,null,null,null,0.2,null,0,0]
[null,null,null,319,null,null,null,0.2,null,0,0]
[null,null,null,323,null,null,null,0.2,null,0,0]
[null,null,null,329,null,null,null,0.2,null,0,0]
[null,null,null,334,null,null,null,0.2,null,0,0]
[null,null,null,338,null,null,null,0.2,null,0,0]
[null,null,null,344,null,null,null,0.2,null,0,0]
[null,null,null,349,null,null,null,0.2,null,0,0]
[null,null,null,350,null,null,null,0.2,null,0,0]
[null,null,null,357,null,null,null,0.2,null,0,0]
[null,null,null,359,null,null,null,0.2,null,0,0]
[null,null,null,365,null,null,null,0.2,null,0,0]
[null,null,null,370,null,null,null,0.2,null,0,0]
[null,null,null,375,null,null,null,0.2,null,0,0]
[null,null,null,382,null,null,null,0.2,null,0,0]
[null,null,null,385,null,null,null,0.2,null,{"$f":"$I$12030*H2398","v":0},0]
[null,null,null,391,null,null,null,0.2,null,0,{"$f":"IF(I2404-J2404<0,0,I2404-J2404)","v":0}]
[null,null,null,396,null,null,null,0.2,null,0,0]
[null,null,null,401,null,null,null,0.2,null,0,0]
[null,null,null,406,null,null,null,0.2,null,0,0]
[null,null,null,411,null,null,null,0.2,null,0,0]
[null,null,null,416,null,null,null,0.2,null,0,0]
[null,null,null,420,null,null,null,0.2,null,0,0]
[null,null,null,421,null,null,null,0.2,null,0,0]
[null,null,null,427,null,null,null,0.2,null,0,0]
[null,null,null,432,null,null,null,0.2,null,0,0]
[null,null,null,437,null,null,null,0.2,null,0,0]
[null,null,null,441,null,null,null,0.2,null,0,0]
[null,null,null,447,null,null,null,0.2,null,0,0]
[null,null,null,453,null,null,null,0.2,null,0,0]
[null,null,null,458,null,null,null,0.2,null,0,0]
[null,null,null,460,null,null,null,0.2,null,0,0]
[null,null,null,468,null,null,null,0.2,null,0,0]
[null,null,null,473,null,null,null,0.2,null,0,0]
[null,null,null,478,null,null,null,0.2,null,0,0]
[null,null,null,479,null,null,null,0.2,null,0,0]
[null,null,null,483,null,null,null,0.2,null,0,0]
[null,null,null,489,null,null,null,0.2,null,0,0]
[null,null,null,494,null,null,null,0.2,null,0,0]
[null,null,null,499,null,null,null,0.2,null,0,0]
[null,null,null,504,null,null,null,0.2,null,0,0]
[null,null,null,509,null,null,null,0.2,null,0,0]
[null,null,null,515,null,null,null,0.2,null,0,0]
[null,null,null,520,null,null,null,0.2,null,0,0]
[null,null,null,523,null,null,null,0.2,null,0,0]
[null,null,null,530,null,null,null,0.2,null,0,0]
[null,null,null,535,null,null,null,0.2,null,0,0]
[null,null,null,540,null,null,null,0.2,null,0,0]
[null,null,null,542,null,null,null,0.2,null,0,0]
[null,null,null,545,null,null,null,0.2,null,0,0]
[null,null,null,551,null,null,null,0.2,null,0,0]
[null,null,null,556,null,null,null,0.2,null,0,0]
[null,null,null,561,null,null,null,0.2,null,0,0]
[null,null,null,567,null,null,null,0.2,null,0,0]
[null,null,null,571,null,null,null,0.2,null,0,0]
[null,null,null,576,null,null,null,0.2,null,0,0]
[null,null,null,582,null,null,null,0.2,null,0,0]
[null,null,null,586,null,null,null,0.2,null,0,0]
[null,null,null,592,null,null,null,0.2,null,0,0]
[null,null,null,597,null,null,null,0.2,null,0,0]
[null,null,null,602,null,null,null,0.2,null,0,0]
[null,null,null,605,null,null,null,0.2,null,0,0]
[null,null,null,607,null,null,null,0.2,null,0,0]
[null,null,null,613,null,null,null,0.2,null,0,0]
[null,null,null,618,null,null,null,0.2,null,0,0]
[null,null,null,623,null,null,null,0.2,null,0,0]
[null,null,null,630,null,null,null,0.2,null,0,0]
[null,null,null,633,null,null,null,0.2,null,0,0]
[null,null,null,638,null,null,null,0.2,null,0,0]
[null,null,null,644,null,null,null,0.2,null,0,0]
[null,null,null,649,null,null,null,0.2,null,0,0]
[null,null,null,654,null,null,null,0.2,null,0,0]
[null,null,null,659,null,null,null,0.2,null,0,0]
[null,null,null,664,null,null,null,0.2,null,0,0]
[null,null,null,668,null,null,null,0.2,null,0,0]
[null,null,null,669,null,null,null,0.2,null,0,0]
[null,null,null,675,null,null,null,0.2,null,0,0]
[null,null,null,680,null,null,null,0.2,null,0,0]
[null,null,null,685,null,null,null,0.2,null,0,0]
[null,null,null,689,null,null,null,0.2,null,0,0]
[null,null,null,695,null,null,null,0.2,null,0,0]
[null,null,null,700,null,null,null,0.2,null,0,0]
[null,null,null,706,null,null,null,0.2,null,0,0]
[null,null,null,708,null,null,null,0.2,null,0,0]
[null,null,null,716,null,null,null,0.2,null,0,0]
[null,null,null,721,null,null,null,0.2,null,0,0]
[null,null,null,726,null,null,null,0.2,null,0,0]
[null,null,null,727,null,null,null,0.2,null,0,0]
[null,null,null,731,null,null,null,0.2,null,0,0]
[null,null,null,736,null,null,null,0.2,null,0,0]
[null,null,null,742,null,null,null,0.2,null,0,0]
[null,null,null,747,null,null,null,0.2,null,0,0]
[null,null,null,752,null,null,null,0.2,null,0,0]
[null,null,null,757,null,null,null,0.2,null,0,0]
[null,null,null,762,null,null,null,0.2,null,0,0]
[null,null,null,768,null,null,null,0.2,null,0,0]
[null,null,null,771,null,null,null,0.2,null,0,0]
[null,null,null,778,null,null,null,0.2,null,0,0]
[null,null,null,783,null,null,null,0.2,null,0,0]
[null,null,null,788,null,null,null,0.2,null,0,0]
[null,null,null,790,null,null,null,0.2,null,0,0]
[null,null,null,793,null,null,null,0.2,null,0,0]
[null,null,null,798,null,null,null,0.2,null,0,0]
[null,null,null,804,null,null,null,0.2,null,0,0]
[null,null,null,809,null,null,null,0.2,null,0,0]
[null,null,null,815,null,null,null,0.2,null,0,0]
[null,null,null,819,null,null,null,0.2,null,0,0]
[null,null,null,824,null,null,null,0.2,null,0,0]
[null,null,null,830,null,null,null,0.2,null,0,0]
[null,null,null,834,null,null,null,0.2,null,0,0]
[null,null,null,839,null,null,null,0.2,null,0,{"$f":"IF(I2852-J2852<0,0,I2852-J2852)","v":0}]
[null,null,null,845,null,null,null,0.2,null,0,0]
[null,null,null,850,null,null,null,0.2,null,0,0]
[null,null,null,853,null,null,null,0.2,null,0,0]
[null,null,null,855,null,null,null,0.2,null,0,0]
[null,null,null,860,null,null,null,0.2,null,0,0]
[null,null,null,866,null,null,null,0.2,null,0,0]
[null,null,null,871,null,null,null,0.2,null,0,0]
[null,null,null,878,null,null,null,0.2,null,0,0]
[null,null,null,881,null,null,null,0.2,null,0,0]
[null,null,null,886,null,null,null,0.2,null,0,0]
[null,null,null,892,null,null,null,0.2,null,0,0]
[null,null,null,897,null,null,null,0.2,null,{"$f":"$I$12030*H2910","v":0},0]
[null,null,null,901,null,null,null,0.2,null,0,0]
[null,null,null,907,null,null,null,0.2,null,0,0]
[null,null,null,912,null,null,null,0.2,null,0,0]
[null,null,null,916,null,null,null,0.2,null,0,0]
[null,null,null,917,null,null,null,0.2,null,0,0]
[null,null,null,922,null,null,null,0.2,null,0,0]
[null,null,null,928,null,null,null,0.2,null,0,0]
[null,null,null,933,null,null,null,0.2,null,0,0]
[null,null,null,937,null,null,null,0.2,null,0,0]
[null,null,null,943,null,null,null,0.2,null,0,0]
[null,null,null,948,null,null,null,0.2,null,0,0]
[null,null,null,954,null,null,null,0.2,null,0,0]
[null,null,null,956,null,null,null,0.2,null,0,0]
[null,null,null,963,null,null,null,0.2,null,0,0]
[null,null,null,969,null,null,null,0.2,null,0,0]
[null,null,null,974,null,null,null,0.2,null,0,0]
[null,null,null,975,null,null,null,0.2,null,0,0]
[null,null,null,979,null,null,null,0.2,null,0,0]
[null,null,null,984,null,null,null,0.2,null,0,0]
[null,null,null,990,null,null,null,0.2,null,0,0]
[null,null,null,995,null,null,null,0.2,null,0,0]
[null,null,null,1000,null,null,null,0.2,null,0,{"$f":"IF(I3013-J3013<0,0,I3013-J3013)","v":0}]
[null,null,null,3,null,null,null,0.15,null,0,0]
[null,null,null,8,null,null,null,0.15,null,0,0]
[null,null,null,14,null,null,null,0.15,null,0,0]
[null,null,null,17,null,null,null,0.15,null,0,0]
[null,null,null,23,null,null,null,0.15,null,0,0]
[null,null,null,29,null,null,null,0.15,null,0,0]
[null,null,null,34,null,null,null,0.15,null,0,0]
[null,null,null,36,null,null,null,0.15,null,0,0]
[null,null,null,39,null,null,null,0.15,null,0,0]
[null,null,null,44,null,null,null,0.15,null,0,0]
[null,null,null,50,null,null,null,0.15,null,0,0]
[null,null,null,55,null,null,null,0.15,null,0,0]
[null,null,null,61,null,null,null,0.15,null,0,0]
[null,null,null,65,null,null,null,0.15,null,{"$f":"$I$12030*H3080","v":0},0]
[null,null,null,70,null,null,null,0.15,null,0,0]
[null,null,null,76,null,null,null,0.15,null,0,0]
[null,null,null,80,null,null,null,0.15,null,0,0]
[null,null,null,85,null,null,null,0.15,null,0,0]
[null,null,null,91,null,null,null,0.15,null,0,0]
[null,null,null,96,null,null,null,0.15,null,0,0]
[null,null,null,99,null,null,null,0.15,null,0,0]
[null,null,null,101,null,null,null,0.15,null,0,0]
[null,null,null,106,null,null,null,0.15,null,0,0]
[null,null,null,112,null,null,null,0.15,null,0,0]
[null,null,null,117,null,null,null,0.15,null,0,0]
[null,null,null,124,null,null,null,0.15,null,0,0]
[null,null,null,127,null,null,null,0.15,null,0,0]
[null,null,null,132,null,null,null,0.15,null,0,0]
[null,null,null,138,null,null,null,0.15,null,0,0]
[null,null,null,143,null,null,null,0.15,null,0,0]
[null,null,null,147,null,null,null,0.15,null,0,0]
[null,null,null,153,null,null,null,0.15,null,0,0]
[null,null,null,158,null,null,null,0.15,null,0,0]
[null,null,null,162,null,null,null,0.15,null,0,0]
[null,null,null,163,null,null,null,0.15,null,0,0]
[null,null,null,168,null,null,null,0.15,null,0,0]
[null,null,null,174,null,null,null,0.15,null,0,0]
[null,null,null,179,null,null,null,0.15,null,0,0]
[null,null,null,183,null,null,null,0.15,null,0,0]
[null,null,null,189,null,null,null,0.15,null,0,0]
[null,null,null,194,null,null,null,0.15,null,0,{"$f":"MAX(0,(I3209-J3209)*0.92)","v":0}]
[null,null,null,200,null,null,null,0.15,null,0,0]
[null,null,null,202,null,null,null,0.15,null,0,0]
[null,null,null,209,null,null,null,0.15,null,0,0]
[null,null,null,215,null,null,null,0.15,null,0,0]
[null,null,null,220,null,null,null,0.15,null,0,0]
[null,null,null,221,null,null,null,0.15,null,0,0]
[null,null,null,225,null,null,null,0.15,null,0,0]
[null,null,null,230,null,null,null,0.15,null,0,0]
[null,null,null,236,null,null,null,0.15,null,0,0]
[null,null,null,241,null,null,null,0.15,null,0,0]
[null,null,null,246,null,null,null,0.15,null,0,0]
[null,null,null,251,null,null,null,0.15,null,0,0]
[null,null,null,256,null,null,null,0.15,null,0,0]
[null,null,null,261,null,null,null,0.15,null,0,0]
[null,null,null,265,null,null,null,0.15,null,0,0]
[null,null,null,271,null,null,null,0.15,null,0,0]
[null,null,null,277,null,null,null,0.15,null,0,0]
[null,null,null,282,null,null,null,0.15,null,0,0]
[null,null,null,284,null,null,null,0.15,null,0,0]
[null,null,null,287,null,null,null,0.15,null,0,0]
[null,null,null,292,null,null,null,0.15,null,0,0]
[null,null,null,298,null,null,null,0.15,null,0,0]
[null,null,null,303,null,null,null,0.15,null,0,0]
[null,null,null,309,null,null,null,0.15,null,0,0]
[null,null,null,313,null,null,null,0.15,null,0,0]
[null,null,null,318,null,null,null,0.15,null,0,0]
[null,null,null,323,null,null,null,0.15,null,0,0]
[null,null,null,328,null,null,null,0.15,null,0,0]
[null,null,null,333,null,null,null,0.15,null,0,0]
[null,null,null,339,null,null,null,0.15,null,0,0]
[null,null,null,344,null,null,null,0.15,null,0,0]
[null,null,null,347,null,null,null,0.15,null,0,0]
[null,null,null,349,null,null,null,0.15,null,0,0]
[null,null,null,354,null,null,null,0.15,null,0,0]
[null,null,null,360,null,null,null,0.15,null,0,0]
[null,null,null,365,null,null,null,0.15,null,0,0]
[null,null,null,372,null,null,null,0.15,null,0,0]
[null,null,null,375,null,null,null,0.15,null,0,0]
[null,null,null,380,null,null,null,0.15,null,0,0]
[null,null,null,385,null,null,null,0.15,null,{"$f":"$I$12030*H3400","v":0},0]
[null,null,null,391,null,null,null,0.15,null,0,0]
[null,null,null,395,null,null,null,0.15,null,0,0]
[null,null,null,401,null,null,null,0.15,null,0,0]
[null,null,null,406,null,null,null,0.15,null,0,0]
[null,null,null,410,null,null,null,0.15,null,0,0]
[null,null,null,411,null,null,null,0.15,null,0,0]
[null,null,null,416,null,null,null,0.15,null,0,0]
[null,null,null,421,null,null,null,0.15,null,0,0]
[null,null,null,427,null,null,null,0.15,null,0,0]
[null,null,null,431,null,null,null,0.15,null,0,0]
[null,null,null,437,null,null,null,0.15,null,0,0]
[null,null,null,442,null,null,null,0.15,null,0,0]
[null,null,null,447,null,null,null,0.15,null,0,0]
[null,null,null,450,null,null,null,0.15,null,0,{"$f":"MAX(0,(I3465-J3465)*0.92)","v":0}]
[null,null,null,457,null,null,null,0.15,null,0,0]
[null,null,null,463,null,null,null,0.15,null,0,0]
[null,null,null,468,null,null,null,0.15,null,0,0]
[null,null,null,469,null,null,null,0.15,null,0,0]
[null,null,null,473,null,null,null,0.15,null,0,0]
[null,null,null,478,null,null,null,0.15,null,0,0]
[null,null,null,483,null,null,null,0.15,null,0,0]
[null,null,null,489,null,null,null,0.15,null,0,0]
[null,null,null,494,null,null,null,0.15,null,0,0]
[null,null,null,499,null,null,null,0.15,null,0,0]
[null,null,null,504,null,null,null,0.15,null,0,0]
[null,null,null,509,null,null,null,0.15,null,0,0]
[null,null,null,513,null,null,null,0.15,null,{"$f":"$I$12030*H3528","v":0},0]
[null,null,null,519,null,null,null,0.15,null,0,0]
[null,null,null,524,null,null,null,0.15,null,0,0]
[null,null,null,530,null,null,null,0.15,null,0,0]
[null,null,null,532,null,null,null,0.15,null,0,0]
[null,null,null,535,null,null,null,0.15,null,0,0]
[null,null,null,540,null,null,null,0.15,null,0,0]
[null,null,null,545,null,null,null,0.15,null,0,0]
[null,null,null,551,null,null,null,0.15,null,0,0]
[null,null,null,557,null,null,null,0.15,null,0,0]
[null,null,null,561,null,null,null,0.15,null,0,0]
[null,null,null,566,null,null,null,0.15,null,0,0]
[null,null,null,571,null,null,null,0.15,null,0,0]
[null,null,null,576,null,null,null,0.15,null,0,0]
[null,null,null,581,null,null,null,0.15,null,0,0]
[null,null,null,586,null,null,null,0.15,null,0,0]
[null,null,null,592,null,null,null,0.15,null,0,0]
[null,null,null,595,null,null,null,0.15,null,0,0]
[null,null,null,597,null,null,null,0.15,null,0,0]
[null,null,null,602,null,null,null,0.15,null,0,0]
[null,null,null,607,null,null,null,0.15,null,0,0]
[null,null,null,614,null,null,null,0.15,null,0,0]
[null,null,null,617,null,null,null,0.15,null,0,0]
[null,null,null,623,null,null,null,0.15,null,0,0]
[null,null,null,628,null,null,null,0.15,null,0,0]
[null,null,null,633,null,null,null,0.15,null,0,0]
[null,null,null,639,null,null,null,0.15,null,0,0]
[null,null,null,643,null,null,null,0.15,null,0,0]
[null,null,null,648,null,null,null,0.15,null,0,0]
[null,null,null,654,null,null,null,0.15,null,0,0]
[null,null,null,658,null,null,null,0.15,null,0,0]
[null,null,null,659,null,null,null,0.15,null,0,0]
[null,null,null,664,null,null,null,0.15,null,0,0]
[null,null,null,669,null,null,null,0.15,null,0,0]
[null,null,null,677,null,null,null,0.15,null,0,0]
[null,null,null,679,null,null,null,0.15,null,0,0]
[null,null,null,684,null,null,null,0.15,null,0,0]
[null,null,null,690,null,null,null,0.15,null,0,0]
[null,null,null,695,null,null,null,0.15,null,0,0]
[null,null,null,698,null,null,null,0.15,null,0,0]
[null,null,null,705,null,null,null,0.15,null,{"$f":"$I$12030*H3720","v":0},0]
[null,null,null,710,null,null,null,0.15,null,0,0]
[null,null,null,716,null,null,null,0.15,null,0,0]
[null,null,null,717,null,null,null,0.15,null,0,0]
[null,null,null,721,null,null,null,0.15,null,0,0]
[null,null,null,726,null,null,null,0.15,null,0,0]
[null,null,null,731,null,null,null,0.15,null,0,0]
[null,null,null,736,null,null,null,0.15,null,0,0]
[null,null,null,741,null,null,null,0.15,null,0,0]
[null,null,null,746,null,null,null,0.15,null,0,0]
[null,null,null,752,null,null,null,0.15,null,0,0]
[null,null,null,757,null,null,null,0.15,null,0,0]
[null,null,null,761,null,null,null,0.15,null,0,0]
[null,null,null,767,null,null,null,0.15,null,0,0]
[null,null,null,772,null,null,null,0.15,null,0,0]
[null,null,null,778,null,null,null,0.15,null,0,0]
[null,null,null,780,null,null,null,0.15,null,0,0]
[null,null,null,783,null,null,null,0.15,null,0,0]
[null,null,null,788,null,null,null,0.15,null,0,0]
[null,null,null,793,null,null,null,0.15,null,0,0]
[null,null,null,799,null,null,null,0.15,null,0,0]
[null,null,null,803,null,null,null,0.15,null,0,0]
[null,null,null,808,null,null,null,0.15,null,0,0]
[null,null,null,814,null,null,null,0.15,null,0,0]
[null,null,null,819,null,null,null,0.15,null,0,0]
[null,null,null,824,null,null,null,0.15,null,0,0]
[null,null,null,829,null,null,null,0.15,null,0,0]
[null,null,null,834,null,null,null,0.15,null,0,{"$f":"MAX(0,(I3849-J3849)*0.92)","v":0}]
[null,null,null,840,null,null,null,0.15,null,0,0]
[null,null,null,843,null,null,null,0.15,null,0,0]
[null,null,null,849,null,null,null,0.15,null,0,0]
[null,null,null,850,null,null,null,0.15,null,0,0]
[null,null,null,855,null,null,null,0.15,null,0,0]
[null,null,null,862,null,null,null,0.15,null,0,0]
[null,null,null,865,null,null,null,0.15,null,0,0]
[null,null,null,870,null,null,null,0.15,null,0,0]
[null,null,null,876,null,null,null,0.15,null,0,0]
[null,null,null,881,null,null,null,0.15,null,0,0]
[null,null,null,887,null,null,null,0.15,null,0,0]
[null,null,null,891,null,null,null,0.15,null,0,0]
[null,null,null,896,null,null,null,0.15,null,0,0]
[null,null,null,902,null,null,null,0.15,null,0,0]
[null,null,null,906,null,null,null,0.15,null,0,0]
[null,null,null,911,null,null,null,0.15,null,0,0]
[null,null,null,912,null,null,null,0.15,null,0,0]
[null,null,null,917,null,null,null,0.15,null,0,0]
[null,null,null,925,null,null,null,0.15,null,0,0]
[null,null,null,927,null,null,null,0.15,null,0,0]
[null,null,null,932,null,null,null,0.15,null,0,0]
[null,null,null,938,null,null,null,0.15,null,0,0]
[null,null,null,943,null,null,null,0.15,null,0,0]
[null,null,null,946,null,null,null,0.15,null,0,0]
[null,null,null,953,null,null,null,0.15,null,0,0]
[null,null,null,958,null,null,null,0.15,null,0,0]
[null,null,null,964,null,null,null,0.15,null,0,0]
[null,null,null,965,null,null,null,0.15,null,0,0]
[null,null,null,973,null,null,null,0.15,null,0,0]
[null,null,null,974,null,null,null,0.15,null,0,0]
[null,null,null,979,null,null,null,0.15,null,0,0]
[null,null,null,984,null,null,null,0.15,null,0,0]
[null,null,null,989,null,null,null,0.15,null,0,0]
[null,null,null,994,null,null,null,0.15,null,0,0]
[null,null,null,1000,null,null,null,0.15,null,0,{"$f":"MAX(0,(I4015-J4015)*0.92)","v":0}]
[null,null,null,4,null,null,null,0.15,null,0,0]
[null,null,null,8,null,null,null,0.15,null,0,0]
[null,null,null,14,null,null,null,0.15,null,0,0]
[null,null,null,19,null,null,null,0.15,null,0,0]
[null,null,null,25,null,null,null,0.15,null,0,0]
[null,null,null,27,null,null,null,0.15,null,0,0]
[null,null,null,34,null,null,null,0.15,null,0,0]
[null,null,null,35,null,null,null,0.15,null,0,0]
[null,null,null,40,null,null,null,0.15,null,0,0]
[null,null,null,46,null,null,null,0.15,null,0,0]
[null,null,null,50,null,null,null,0.15,null,0,0]
[null,null,null,55,null,null,null,0.15,null,0,0]
[null,null,null,61,null,null,null,0.15,null,0,0]
[null,null,null,66,null,null,null,0.15,null,0,{"$f":"MAX(0,(I4082-J4082)*0.84)","v":0}]
[null,null,null,71,null,null,null,0.15,null,0,0]
[null,null,null,76,null,null,null,0.15,null,0,0]
[null,null,null,81,null,null,null,0.15,null,0,0]
[null,null,null,87,null,null,null,0.15,null,0,0]
[null,null,null,90,null,null,null,0.15,null,0,0]
[null,null,null,96,null,null,null,0.15,null,0,0]
[null,null,null,97,null,null,null,0.15,null,0,0]
[null,null,null,102,null,null,null,0.15,null,0,0]
[null,null,null,109,null,null,null,0.15,null,0,0]
[null,null,null,112,null,null,null,0.15,null,0,0]
[null,null,null,117,null,null,null,0.15,null,0,0]
[null,null,null,123,null,null,null,0.15,null,0,0]
[null,null,null,128,null,null,null,0.15,null,0,0]
[null,null,null,134,null,null,null,0.15,null,0,0]
[null,null,null,138,null,null,null,0.15,null,0,0]
[null,null,null,143,null,null,null,0.15,null,0,0]
[null,null,null,149,null,null,null,0.15,null,0,0]
[null,null,null,153,null,null,null,0.15,null,0,0]
[null,null,null,158,null,null,null,0.15,null,0,0]
[null,null,null,159,null,null,null,0.15,null,0,0]
[null,null,null,164,null,null,null,0.15,null,0,0]
[null,null,null,172,null,null,null,0.15,null,0,0]
[null,null,null,174,null,null,null,0.15,null,0,0]
[null,null,null,179,null,null,null,0.15,null,0,0]
[null,null,null,185,null,null,null,0.15,null,0,0]
[null,null,null,190,null,null,null,0.15,null,0,0]
[null,null,null,193,null,null,null,0.15,null,{"$f":"$I$12030*H4209","v":0},0]
[null,null,null,200,null,null,null,0.15,null,0,0]
[null,null,null,205,null,null,null,0.15,null,0,0]
[null,null,null,210,null,null,null,0.15,null,0,0]
[null,null,null,212,null,null,null,0.15,null,0,0]
[null,null,null,220,null,null,null,0.15,null,0,0]
[null,null,null,221,null,null,null,0.15,null,0,0]
[null,null,null,226,null,null,null,0.15,null,0,0]
[null,null,null,231,null,null,null,0.15,null,0,0]
[null,null,null,236,null,null,null,0.15,null,0,0]
[null,null,null,241,null,null,null,0.15,null,0,0]
[null,null,null,247,null,null,null,0.15,null,0,0]
[null,null,null,252,null,null,null,0.15,null,0,0]
[null,null,null,256,null,null,null,0.15,null,0,0]
[null,null,null,262,null,null,null,0.15,null,0,0]
[null,null,null,267,null,null,null,0.15,null,0,0]
[null,null,null,272,null,null,null,0.15,null,0,0]
[null,null,null,275,null,null,null,0.15,null,0,0]
[null,null,null,282,null,null,null,0.15,null,0,0]
[null,null,null,283,null,null,null,0.15,null,0,0]
[null,null,null,288,null,null,null,0.15,null,0,0]
[null,null,null,294,null,null,null,0.15,null,0,0]
[null,null,null,298,null,null,null,0.15,null,0,0]
[null,null,null,303,null,null,null,0.15,null,0,0]
[null,null,null,309,null,null,null,0.15,null,0,0]
[null,null,null,314,null,null,null,0.15,null,0,0]
[null,null,null,319,null,null,null,0.15,null,0,0]
[null,null,null,324,null,null,null,0.15,null,0,0]
[null,null,null,329,null,null,null,0.15,null,0,0]
[null,null,null,334,null,null,null,0.15,null,0,0]
[null,null,null,338,null,null,null,0.15,null,0,0]
[null,null,null,344,null,null,null,0.15,null,0,0]
[null,null,null,345,null,null,null,0.15,null,0,0]
[null,null,null,350,null,null,null,0.15,null,0,0]
[null,null,null,357,null,null,null,0.15,null,0,0]
[null,null,null,360,null,null,null,0.15,null,0,0]
[null,null,null,365,null,null,null,0.15,null,0,0]
[null,null,null,370,null,null,null,0.15,null,0,0]
[null,null,null,376,null,null,null,0.15,null,0,0]
[null,null,null,382,null,null,null,0.15,null,0,0]
[null,null,null,386,null,null,null,0.15,null,0,{"$f":"MAX(0,(I4402-J4402)*0.84)","v":0}]
[null,null,null,391,null,null,null,0.15,null,0,0]
[null,null,null,396,null,null,null,0.15,null,0,0]
[null,null,null,401,null,null,null,0.15,null,0,0]
[null,null,null,406,null,null,null,0.15,null,0,0]
[null,null,null,407,null,null,null,0.15,null,0,0]
[null,null,null,412,null,null,null,0.15,null,0,0]
[null,null,null,420,null,null,null,0.15,null,0,0]
[null,null,null,422,null,null,null,0.15,null,0,0]
[null,null,null,427,null,null,null,0.15,null,0,0]
[null,null,null,432,null,null,null,0.15,null,0,0]
[null,null,null,438,null,null,null,0.15,null,0,0]
[null,null,null,441,null,null,null,0.15,null,0,0]
[null,null,null,448,null,null,null,0.15,null,0,0]
[null,null,null,453,null,null,null,0.15,null,0,0]
[null,null,null,458,null,null,null,0.15,null,0,0]
[null,null,null,460,null,null,null,0.15,null,0,0]
[null,null,null,468,null,null,null,0.15,null,0,0]
[null,null,null,469,null,null,null,0.15,null,0,0]
[null,null,null,474,null,null,null,0.15,null,0,0]
[null,null,null,479,null,null,null,0.15,null,0,0]
[null,null,null,484,null,null,null,0.15,null,0,0]
[null,null,null,489,null,null,null,0.15,null,0,0]
[null,null,null,494,null,null,null,0.15,null,0,0]
[null,null,null,500,null,null,null,0.15,null,0,0]
[null,null,null,504,null,null,null,0.15,null,0,0]
[null,null,null,510,null,null,null,0.15,null,0,0]
[null,null,null,515,null,null,null,0.15,null,0,0]
[null,null,null,520,null,null,null,0.15,null,0,0]
[null,null,null,523,null,null,null,0.15,null,0,0]
[null,null,null,530,null,null,null,0.15,null,0,0]
[null,null,null,535,null,null,null,0.15,null,0,0]
[null,null,null,536,null,null,null,0.15,null,0,0]
[null,null,null,542,null,null,null,0.15,null,0,0]
[null,null,null,546,null,null,null,0.15,null,0,0]
[null,null,null,551,null,null,null,0.15,null,0,0]
[null,null,null,556,null,null,null,0.15,null,0,0]
[null,null,null,562,null,null,null,0.15,null,0,0]
[null,null,null,567,null,null,null,0.15,null,0,0]
[null,null,null,572,null,null,null,0.15,null,0,0]
[null,null,null,577,null,null,null,0.15,null,{"$f":"$I$12030*H4593","v":0},0]
[null,null,null,582,null,null,null,0.15,null,0,0]
[null,null,null,586,null,null,null,0.15,null,0,0]
[null,null,null,592,null,null,null,0.15,null,0,0]
[null,null,null,597,null,null,null,0.15,null,0,0]
[null,null,null,598,null,null,null,0.15,null,0,0]
[null,null,null,605,null,null,null,0.15,null,0,0]
[null,null,null,608,null,null,null,0.15,null,0,0]
[null,null,null,613,null,null,null,0.15,null,0,0]
[null,null,null,618,null,null,null,0.15,null,0,0]
[null,null,null,624,null,null,null,0.15,null,0,0]
[null,null,null,630,null,null,null,0.15,null,0,0]
[null,null,null,633,null,null,null,0.15,null,0,0]
[null,null,null,639,null,null,null,0.15,null,0,0]
[null,null,null,644,null,null,null,0.15,null,0,0]
[null,null,null,649,null,null,null,0.15,null,0,0]
[null,null,null,654,null,null,null,0.15,null,0,0]
[null,null,null,659,null,null,null,0.15,null,0,0]
[null,null,null,660,null,null,null,0.15,null,0,0]
[null,null,null,668,null,null,null,0.15,null,0,0]
[null,null,null,670,null,null,null,0.15,null,0,0]
[null,null,null,675,null,null,null,0.15,null,0,0]
[null,null,null,680,null,null,null,0.15,null,0,0]
[null,null,null,686,null,null,null,0.15,null,0,0]
[null,null,null,689,null,null,null,0.15,null,0,0]
[null,null,null,695,null,null,null,0.15,null,0,0]
[null,null,null,701,null,null,null,0.15,null,0,0]
[null,null,null,706,null,null,null,0.15,null,0,{"$f":"MAX(0,(I4722-J4722)*0.84)","v":0}]
[null,null,null,708,null,null,null,0.15,null,0,0]
[null,null,null,716,null,null,null,0.15,null,0,0]
[null,null,null,721,null,null,null,0.15,null,0,0]
[null,null,null,722,null,null,null,0.15,null,0,0]
[null,null,null,727,null,null,null,0.15,null,0,0]
[null,null,null,732,null,null,null,0.15,null,0,0]
[null,null,null,737,null,null,null,0.15,null,0,0]
[null,null,null,742,null,null,null,0.15,null,0,0]
[null,null,null,748,null,null,null,0.15,null,0,0]
[null,null,null,752,null,null,null,0.15,null,0,0]
[null,null,null,757,null,null,null,0.15,null,0,0]
[null,null,null,763,null,null,null,0.15,null,0,0]
[null,null,null,768,null,null,null,0.15,null,0,0]
[null,null,null,771,null,null,null,0.15,null,0,0]
[null,null,null,778,null,null,null,0.15,null,0,0]
[null,null,null,783,null,null,null,0.15,null,0,0]
[null,null,null,784,null,null,null,0.15,null,0,0]
[null,null,null,790,null,null,null,0.15,null,0,0]
[null,null,null,793,null,null,null,0.15,null,0,0]
[null,null,null,799,null,null,null,0.15,null,0,0]
[null,null,null,804,null,null,null,0.15,null,0,0]
[null,null,null,810,null,null,null,0.15,null,0,0]
[null,null,null,815,null,null,null,0.15,null,0,0]
[null,null,null,819,null,null,null,0.15,null,0,0]
[null,null,null,825,null,null,null,0.15,null,0,0]
[null,null,null,830,null,null,null,0.15,null,0,0]
[null,null,null,834,null,null,null,0.15,null,0,{"$f":"MAX(0,(I4850-J4850)*0.84)","v":0}]
[null,null,null,840,null,null,null,0.15,null,0,0]
[null,null,null,845,null,null,null,0.15,null,0,0]
[null,null,null,846,null,null,null,0.15,null,0,0]
[null,null,null,853,null,null,null,0.15,null,0,0]
[null,null,null,855,null,null,null,0.15,null,0,0]
[null,null,null,861,null,null,null,0.15,null,0,0]
[null,null,null,866,null,null,null,0.15,null,0,0]
[null,null,null,872,null,null,null,0.15,null,0,0]
[null,null,null,878,null,null,null,0.15,null,0,0]
[null,null,null,881,null,null,null,0.15,null,0,0]
[null,null,null,887,null,null,null,0.15,null,0,0]
[null,null,null,892,null,null,null,0.15,null,0,0]
[null,null,null,897,null,null,null,0.15,null,{"$f":"$I$12030*H4913","v":0},0]
[null,null,null,902,null,null,null,0.15,null,0,0]
[null,null,null,907,null,null,null,0.15,null,0,0]
[null,null,null,908,null,null,null,0.15,null,0,0]
[null,null,null,916,null,null,null,0.15,null,0,0]
[null,null,null,917,null,null,null,0.15,null,0,0]
[null,null,null,923,null,null,null,0.15,null,0,0]
[null,null,null,928,null,null,null,0.15,null,0,0]
[null,null,null,934,null,null,null,0.15,null,0,0]
[null,null,null,937,null,null,null,0.15,null,0,0]
[null,null,null,943,null,null,null,0.15,null,0,0]
[null,null,null,949,null,null,null,0.15,null,0,0]
[null,null,null,954,null,null,null,0.15,null,0,0]
[null,null,null,956,null,null,null,0.15,null,0,0]
[null,null,null,964,null,null,null,0.15,null,0,0]
[null,null,null,969,null,null,null,0.15,null,0,0]
[null,null,null,970,null,null,null,0.15,null,0,0]
[null,null,null,975,null,null,null,0.15,null,0,0]
[null,null,null,979,null,null,null,0.15,null,0,0]
[null,null,null,985,null,null,null,0.15,null,0,0]
[null,null,null,990,null,null,null,0.15,null,0,0]
[null,null,null,996,null,null,null,0.15,null,0,0]
[null,null,null,1000,null,null,null,0.15,null,0,0]
[null,null,null,4,null,null,null,0.15,null,0,0]
[null,null,null,10,null,null,null,0.15,null,0,0]
[null,null,null,15,null,null,null,0.15,null,0,0]
[null,null,null,18,null,null,null,0.15,null,0,0]
[null,null,null,25,null,null,null,0.15,null,0,0]
[null,null,null,30,null,null,null,0.15,null,0,0]
[null,null,null,31,null,null,null,0.15,null,0,0]
[null,null,null,37,null,null,null,0.15,null,0,0]
[null,null,null,40,null,null,null,0.15,null,0,0]
[null,null,null,46,null,null,null,0.15,null,0,0]
[null,null,null,51,null,null,null,0.15,null,0,0]
[null,null,null,56,null,null,null,0.15,null,0,0]
[null,null,null,62,null,null,null,0.15,null,0,0]
[null,null,null,66,null,null,null,0.15,null,0,{"$f":"MAX(0,(I5083-J5083)*0.75)","v":0}]
[null,null,null,72,null,null,null,0.15,null,0,0]
[null,null,null,77,null,null,null,0.15,null,0,0]
[null,null,null,81,null,null,null,0.15,null,0,0]
[null,null,null,87,null,null,null,0.15,null,0,0]
[null,null,null,92,null,null,null,0.15,null,0,0]
[null,null,null,93,null,null,null,0.15,null,0,0]
[null,null,null,100,null,null,null,0.15,null,0,0]
[null,null,null,102,null,null,null,0.15,null,0,0]
[null,null,null,108,null,null,null,0.15,null,0,0]
[null,null,null,113,null,null,null,0.15,null,0,0]
[null,null,null,118,null,null,null,0.15,null,0,0]
[null,null,null,125,null,null,null,0.15,null,0,0]
[null,null,null,128,null,null,null,0.15,null,0,0]
[null,null,null,134,null,null,null,0.15,null,0,0]
[null,null,null,139,null,null,null,0.15,null,0,0]
[null,null,null,144,null,null,null,0.15,null,0,0]
[null,null,null,149,null,null,null,0.15,null,0,0]
[null,null,null,154,null,null,null,0.15,null,0,0]
[null,null,null,155,null,null,null,0.15,null,0,0]
[null,null,null,163,null,null,null,0.15,null,0,0]
[null,null,null,164,null,null,null,0.15,null,0,0]
[null,null,null,170,null,null,null,0.15,null,0,0]
[null,null,null,175,null,null,null,0.15,null,0,0]
[null,null,null,182,null,null,null,0.15,null,0,0]
[null,null,null,185,null,null,null,0.15,null,0,0]
[null,null,null,190,null,null,null,0.15,null,0,0]
[null,null,null,196,null,null,null,0.15,null,0,0]
[null,null,null,201,null,null,null,0.15,null,0,0]
[null,null,null,203,null,null,null,0.15,null,0,0]
[null,null,null,211,null,null,null,0.15,null,0,0]
[null,null,null,216,null,null,null,0.15,null,0,0]
[null,null,null,221,null,null,null,0.15,null,0,0]
[null,null,null,222,null,null,null,0.15,null,0,0]
[null,null,null,226,null,null,null,0.15,null,0,0]
[null,null,null,232,null,null,null,0.15,null,0,0]
[null,null,null,237,null,null,null,0.15,null,0,0]
[null,null,null,241,null,null,null,0.15,null,0,0]
[null,null,null,247,null,null,null,0.15,null,0,0]
[null,null,null,252,null,null,null,0.15,null,0,0]
[null,null,null,258,null,null,null,0.15,null,0,{"$f":"MAX(0,(I5275-J5275)*0.75)","v":0}]
[null,null,null,263,null,null,null,0.15,null,0,0]
[null,null,null,266,null,null,null,0.15,null,0,0]
[null,null,null,273,null,null,null,0.15,null,0,0]
[null,null,null,278,null,null,null,0.15,null,0,0]
[null,null,null,283,null,null,null,0.15,null,0,0]
[null,null,null,285,null,null,null,0.15,null,0,0]
[null,null,null,288,null,null,null,0.15,null,0,0]
[null,null,null,294,null,null,null,0.15,null,0,0]
[null,null,null,299,null,null,null,0.15,null,0,0]
[null,null,null,304,null,null,null,0.15,null,0,0]
[null,null,null,309,null,null,null,0.15,null,0,0]
[null,null,null,314,null,null,null,0.15,null,0,0]
[null,null,null,319,null,null,null,0.15,null,0,0]
[null,null,null,325,null,null,null,0.15,null,0,0]
[null,null,null,329,null,null,null,0.15,null,0,0]
[null,null,null,335,null,null,null,0.15,null,0,0]
[null,null,null,340,null,null,null,0.15,null,0,0]
[null,null,null,345,null,null,null,0.15,null,0,0]
[null,null,null,348,null,null,null,0.15,null,0,0]
[null,null,null,350,null,null,null,0.15,null,0,0]
[null,null,null,356,null,null,null,0.15,null,0,0]
[null,null,null,361,null,null,null,0.15,null,0,0]
[null,null,null,367,null,null,null,0.15,null,0,0]
[null,null,null,371,null,null,null,0.15,null,0,0]
[null,null,null,376,null,null,null,0.15,null,0,0]
[null,null,null,381,null,null,null,0.15,null,0,0]
[null,null,null,387,null,null,null,0.15,null,0,0]
[null,null,null,392,null,null,null,0.15,null,0,0]
[null,null,null,397,null,null,null,0.15,null,0,0]
[null,null,null,402,null,null,null,0.15,null,0,0]
[null,null,null,407,null,null,null,0.15,null,0,0]
[null,null,null,411,null,null,null,0.15,null,0,0]
[null,null,null,412,null,null,null,0.15,null,0,0]
[null,null,null,418,null,null,null,0.15,null,0,0]
[null,null,null,423,null,null,null,0.15,null,0,0]
[null,null,null,430,null,null,null,0.15,null,0,0]
[null,null,null,433,null,null,null,0.15,null,0,0]
[null,null,null,438,null,null,null,0.15,null,0,0]
[null,null,null,443,null,null,null,0.15,null,0,0]
[null,null,null,449,null,null,null,0.15,null,{"$f":"$I$12030*H5466","v":0},0]
[null,null,null,451,null,null,null,0.15,null,0,0]
[null,null,null,459,null,null,null,0.15,null,0,0]
[null,null,null,464,null,null,null,0.15,null,0,0]
[null,null,null,469,null,null,null,0.15,null,0,0]
[null,null,null,470,null,null,null,0.15,null,0,0]
[null,null,null,474,null,null,null,0.15,null,0,0]
[null,null,null,479,null,null,null,0.15,null,0,0]
[null,null,null,485,null,null,null,0.15,null,0,0]
[null,null,null,489,null,null,null,0.15,null,0,0]
[null,null,null,495,null,null,null,0.15,null,0,0]
[null,null,null,500,null,null,null,0.15,null,0,0]
[null,null,null,505,null,null,null,0.15,null,0,0]
[null,null,null,511,null,null,null,0.15,null,0,0]
[null,null,null,514,null,null,null,0.15,null,0,{"$f":"MAX(0,(I5531-J5531)*0.75)","v":0}]
[null,null,null,521,null,null,null,0.15,null,0,0]
[null,null,null,526,null,null,null,0.15,null,0,0]
[null,null,null,531,null,null,null,0.15,null,0,0]
[null,null,null,533,null,null,null,0.15,null,0,0]
[null,null,null,536,null,null,null,0.15,null,0,0]
[null,null,null,541,null,null,null,0.15,null,0,0]
[null,null,null,547,null,null,null,0.15,null,0,0]
[null,null,null,552,null,null,null,0.15,null,0,0]
[null,null,null,557,null,null,null,0.15,null,0,0]
[null,null,null,562,null,null,null,0.15,null,0,0]
[null,null,null,567,null,null,null,0.15,null,0,0]
[null,null,null,573,null,null,null,0.15,null,0,0]
[null,null,null,577,null,null,null,0.15,null,{"$f":"$I$12030*H5594","v":0},0]
[null,null,null,583,null,null,null,0.15,null,0,0]
[null,null,null,588,null,null,null,0.15,null,0,0]
[null,null,null,593,null,null,null,0.15,null,0,0]
[null,null,null,596,null,null,null,0.15,null,0,0]
[null,null,null,598,null,null,null,0.15,null,0,0]
[null,null,null,603,null,null,null,0.15,null,0,0]
[null,null,null,609,null,null,null,0.15,null,0,0]
[null,null,null,615,null,null,null,0.15,null,0,0]
[null,null,null,619,null,null,null,0.15,null,0,0]
[null,null,null,624,null,null,null,0.15,null,0,0]
[null,null,null,629,null,null,null,0.15,null,0,0]
[null,null,null,635,null,null,null,0.15,null,0,0]
[null,null,null,640,null,null,null,0.15,null,0,0]
[null,null,null,644,null,null,null,0.15,null,0,0]
[null,null,null,650,null,null,null,0.15,null,0,0]
[null,null,null,655,null,null,null,0.15,null,0,0]
[null,null,null,659,null,null,null,0.15,null,0,0]
[null,null,null,660,null,null,null,0.15,null,0,0]
[null,null,null,665,null,null,null,0.15,null,0,0]
[null,null,null,671,null,null,null,0.15,null,0,0]
[null,null,null,678,null,null,null,0.15,null,0,0]
[null,null,null,681,null,null,null,0.15,null,0,0]
[null,null,null,686,null,null,null,0.15,null,0,0]
[null,null,null,691,null,null,null,0.15,null,0,0]
[null,null,null,697,null,null,null,0.15,null,0,0]
[null,null,null,699,null,null,null,0.15,null,0,0]
[null,null,null,706,null,null,null,0.15,null,0,{"$f":"MAX(0,(I5723-J5723)*0.75)","v":0}]
[null,null,null,712,null,null,null,0.15,null,0,0]
[null,null,null,717,null,null,null,0.15,null,0,0]
[null,null,null,718,null,null,null,0.15,null,0,0]
[null,null,null,722,null,null,null,0.15,null,0,0]
[null,null,null,727,null,null,null,0.15,null,0,0]
[null,null,null,733,null,null,null,0.15,null,0,0]
[null,null,null,737,null,null,null,0.15,null,0,0]
[null,null,null,742,null,null,null,0.15,null,0,0]
[null,null,null,748,null,null,null,0.15,null,0,0]
[null,null,null,753,null,null,null,0.15,null,0,0]
[null,null,null,759,null,null,null,0.15,null,0,0]
[null,null,null,762,null,null,null,0.15,null,0,0]
[null,null,null,768,null,null,null,0.15,null,0,0]
[null,null,null,774,null,null,null,0.15,null,0,0]
[null,null,null,779,null,null,null,0.15,null,0,0]
[null,null,null,781,null,null,null,0.15,null,0,0]
[null,null,null,784,null,null,null,0.15,null,0,0]
[null,null,null,789,null,null,null,0.15,null,0,0]
[null,null,null,795,null,null,null,0.15,null,0,0]
[null,null,null,800,null,null,null,0.15,null,0,0]
[null,null,null,804,null,null,null,0.15,null,0,0]
[null,null,null,810,null,null,null,0.15,null,0,0]
[null,null,null,815,null,null,null,0.15,null,0,0]
[null,null,null,821,null,null,null,0.15,null,0,0]
[null,null,null,825,null,null,null,0.15,null,0,0]
[null,null,null,830,null,null,null,0.15,null,0,0]
[null,null,null,836,null,null,null,0.15,null,0,0]
[null,null,null,841,null,null,null,0.15,null,0,0]
[null,null,null,844,null,null,null,0.15,null,0,0]
[null,null,null,846,null,null,null,0.15,null,0,0]
[null,null,null,851,null,null,null,0.15,null,0,0]
[null,null,null,857,null,null,null,0.15,null,0,0]
[null,null,null,863,null,null,null,0.15,null,0,0]
[null,null,null,866,null,null,null,0.15,null,0,0]
[null,null,null,872,null,null,null,0.15,null,0,0]
[null,null,null,877,null,null,null,0.15,null,0,0]
[null,null,null,883,null,null,null,0.15,null,0,0]
[null,null,null,888,null,null,null,0.15,null,0,0]
[null,null,null,892,null,null,null,0.15,null,0,0]
[null,null,null,898,null,null,null,0.15,null,0,{"$f":"MAX(0,(I5915-J5915)*0.75)","v":0}]
[null,null,null,903,null,null,null,0.15,null,0,0]
[null,null,null,907,null,null,null,0.15,null,0,0]
[null,null,null,908,null,null,null,0.15,null,0,0]
[null,null,null,913,null,null,null,0.15,null,0,0]
[null,null,null,919,null,null,null,0.15,null,0,0]
[null,null,null,926,null,null,null,0.15,null,0,0]
[null,null,null,928,null,null,null,0.15,null,0,0]
[null,null,null,934,null,null,null,0.15,null,0,0]
[null,null,null,939,null,null,null,0.15,null,0,0]
[null,null,null,945,null,null,null,0.15,null,0,0]
[null,null,null,947,null,null,null,0.15,null,0,0]
[null,null,null,954,null,null,null,0.15,null,0,0]
[null,null,null,960,null,null,null,0.15,null,0,0]
[null,null,null,965,null,null,null,0.15,null,0,0]
[null,null,null,966,null,null,null,0.15,null,0,0]
[null,null,null,970,null,null,null,0.15,null,0,0]
[null,null,null,975,null,null,null,0.15,null,0,0]
[null,null,null,981,null,null,null,0.15,null,0,0]
[null,null,null,985,null,null,null,0.15,null,0,0]
[null,null,null,990,null,null,null,0.15,null,0,0]
[null,null,null,996,null,null,null,0.15,null,0,0]
[null,null,"(ง)","มิได้จดทะเบียนในตลาดหลักทรัพย์แห่งประเทศไทย ตลาดหลักทรัพย์ เอ็ม เอ ไอ หรือมิได้อยู่ในดัชนีราคาหลักทรัพย์ตามที่กำหนด และมีค่าความเสี่ยงด้านตลาด 25%"]
[null,null,null,5,null,null,null,0.05,null,0,0]
[null,null,null,9,null,null,null,0.05,null,0,0]
[null,null,null,15,null,null,null,0.05,null,0,0]
[null,null,null,21,null,null,null,0.05,null,0,0]
[null,null,null,26,null,null,null,0.05,null,0,0]
[null,null,null,28,null,null,null,0.05,null,0,0]
[null,null,null,31,null,null,null,0.05,null,0,0]
[null,null,null,36,null,null,null,0.05,null,0,0]
[null,null,null,42,null,null,null,0.05,null,0,0]
[null,null,null,47,null,null,null,0.05,null,0,0]
[null,null,null,51,null,null,null,0.05,null,0,0]
[null,null,null,57,null,null,null,0.05,null,0,0]
[null,null,null,62,null,null,null,0.05,null,0,0]
[null,null,null,67,null,null,null,0.05,null,0,0]
[null,null,null,72,null,null,null,0.05,null,0,0]
[null,null,null,77,null,null,null,0.05,null,0,0]
[null,null,null,83,null,null,null,0.05,null,0,0]
[null,null,null,88,null,null,null,0.05,null,0,0]
[null,null,null,91,null,null,null,0.05,null,0,0]
[null,null,null,93,null,null,null,0.05,null,0,0]
[null,null,null,98,null,null,null,0.05,null,0,0]
[null,null,null,104,null,null,null,0.05,null,0,0]
[null,null,null,110,null,null,null,0.05,null,0,0]
[null,null,null,113,null,null,null,0.05,null,0,0]
[null,null,null,119,null,null,null,0.05,null,0,0]
[null,null,null,124,null,null,null,0.05,null,0,0]
[null,null,null,129,null,null,null,0.05,null,{"$f":"$I$12030*H6147","v":0},0]
[null,null,null,135,null,null,null,0.05,null,0,0]
[null,null,null,139,null,null,null,0.05,null,0,0]
[null,null,null,145,null,null,null,0.05,null,0,0]
[null,null,null,150,null,null,null,0.05,null,0,0]
[null,null,null,154,null,null,null,0.05,null,0,0]
[null,null,null,155,null,null,null,0.05,null,0,0]
[null,null,null,160,null,null,null,0.05,null,0,0]
[null,null,null,165,null,null,null,0.05,null,0,0]
[null,null,null,173,null,null,null,0.05,null,0,0]
[null,null,null,175,null,null,null,0.05,null,0,0]
[null,null,null,181,null,null,null,0.05,null,0,0]
[null,null,null,186,null,null,null,0.05,null,0,0]
[null,null,null,191,null,null,null,0.05,null,0,0]
[null,null,null,194,null,null,null,0.05,null,0,{"$f":"MAX(0,(I6212-J6212)*0.75)","v":0}]
[null,null,null,201,null,null,null,0.05,null,0,0]
[null,null,null,207,null,null,null,0.05,null,0,0]
[null,null,null,212,null,null,null,0.05,null,0,0]
[null,null,null,213,null,null,null,0.05,null,0,0]
[null,null,null,217,null,null,null,0.05,null,0,0]
[null,null,null,222,null,null,null,0.05,null,0,0]
[null,null,null,227,null,null,null,0.05,null,0,0]
[null,null,null,232,null,null,null,0.05,null,0,0]
[null,null,null,237,null,null,null,0.05,null,0,0]
[null,null,null,243,null,null,null,0.05,null,0,0]
[null,null,null,248,null,null,null,0.05,null,0,0]
[null,null,null,253,null,null,null,0.05,null,0,0]
[null,null,null,257,null,null,null,0.05,null,{"$f":"$I$12030*H6275","v":0},0]
[null,null,null,263,null,null,null,0.05,null,0,0]
[null,null,null,269,null,null,null,0.05,null,0,0]
[null,null,null,274,null,null,null,0.05,null,0,0]
[null,null,null,276,null,null,null,0.05,null,0,0]
[null,null,null,279,null,null,null,0.05,null,0,0]
[null,null,null,284,null,null,null,0.05,null,0,0]
[null,null,null,289,null,null,null,0.05,null,0,0]
[null,null,null,295,null,null,null,0.05,null,0,0]
[null,null,null,299,null,null,null,0.05,null,0,0]
[null,null,null,305,null,null,null,0.05,null,0,0]
[null,null,null,310,null,null,null,0.05,null,0,0]
[null,null,null,315,null,null,null,0.05,null,0,0]
[null,null,null,320,null,null,null,0.05,null,0,0]
[null,null,null,325,null,null,null,0.05,null,0,0]
[null,null,null,330,null,null,null,0.05,null,0,0]
[null,null,null,336,null,null,null,0.05,null,0,0]
[null,null,null,339,null,null,null,0.05,null,0,0]
[null,null,null,341,null,null,null,0.05,null,0,0]
[null,null,null,346,null,null,null,0.05,null,0,0]
[null,null,null,351,null,null,null,0.05,null,0,0]
[null,null,null,358,null,null,null,0.05,null,0,0]
[null,null,null,361,null,null,null,0.05,null,0,0]
[null,null,null,367,null,null,null,0.05,null,0,0]
[null,null,null,372,null,null,null,0.05,null,0,0]
[null,null,null,377,null,null,null,0.05,null,0,0]
[null,null,null,383,null,null,null,0.05,null,0,0]
[null,null,null,387,null,null,null,0.05,null,0,0]
[null,null,null,392,null,null,null,0.05,null,0,0]
[null,null,null,398,null,null,null,0.05,null,0,0]
[null,null,null,402,null,null,null,0.05,null,0,0]
[null,null,null,403,null,null,null,0.05,null,0,0]
[null,null,null,408,null,null,null,0.05,null,0,0]
[null,null,null,413,null,null,null,0.05,null,0,0]
[null,null,null,421,null,null,null,0.05,null,0,0]
[null,null,null,423,null,null,null,0.05,null,0,0]
[null,null,null,428,null,null,null,0.05,null,0,0]
[null,null,null,434,null,null,null,0.05,null,0,0]
[null,null,null,439,null,null,null,0.05,null,0,0]
[null,null,null,442,null,null,null,0.05,null,0,0]
[null,null,null,449,null,null,null,0.05,null,{"$f":"$I$12030*H6467","v":0},0]
[null,null,null,454,null,null,null,0.05,null,0,0]
[null,null,null,460,null,null,null,0.05,null,0,0]
[null,null,null,461,null,null,null,0.05,null,0,0]
[null,null,null,465,null,null,null,0.05,null,0,0]
[null,null,null,470,null,null,null,0.05,null,0,0]
[null,null,null,475,null,null,null,0.05,null,0,0]
[null,null,null,480,null,null,null,0.05,null,0,0]
[null,null,null,485,null,null,null,0.05,null,0,0]
[null,null,null,490,null,null,null,0.05,null,0,0]
[null,null,null,496,null,null,null,0.05,null,0,0]
[null,null,null,501,null,null,null,0.05,null,0,0]
[null,null,null,505,null,null,null,0.05,null,0,0]
[null,null,null,511,null,null,null,0.05,null,0,0]
[null,null,null,516,null,null,null,0.05,null,0,0]
[null,null,null,522,null,null,null,0.05,null,0,0]
[null,null,null,524,null,null,null,0.05,null,0,0]
[null,null,null,527,null,null,null,0.05,null,0,0]
[null,null,null,532,null,null,null,0.05,null,0,0]
[null,null,null,537,null,null,null,0.05,null,0,0]
[null,null,null,543,null,null,null,0.05,null,0,0]
[null,null,null,547,null,null,null,0.05,null,0,0]
[null,null,null,552,null,null,null,0.05,null,0,0]
[null,null,null,558,null,null,null,0.05,null,0,0]
[null,null,null,563,null,null,null,0.05,null,0,0]
[null,null,null,568,null,null,null,0.05,null,0,0]
[null,null,null,573,null,null,null,0.05,null,0,0]
[null,null,null,578,null,null,null,0.05,null,0,{"$f":"MAX(0,(I6596-J6596)*0.75)","v":0}]
[null,null,null,584,null,null,null,0.05,null,0,0]
[null,null,null,587,null,null,null,0.05,null,0,0]
[null,null,null,593,null,null,null,0.05,null,0,0]
[null,null,null,594,null,null,null,0.05,null,0,0]
[null,null,null,599,null,null,null,0.05,null,0,0]
[null,null,null,606,null,null,null,0.05,null,0,0]
[null,null,null,609,null,null,null,0.05,null,0,0]
[null,null,null,614,null,null,null,0.05,null,0,0]
[null,null,null,620,null,null,null,0.05,null,0,0]
[null,null,null,625,null,null,null,0.05,null,0,0]
[null,null,null,631,null,null,null,0.05,null,0,0]
[null,null,null,635,null,null,null,0.05,null,0,0]
[null,null,null,640,null,null,null,0.05,null,0,0]
[null,null,null,646,null,null,null,0.05,null,0,0]
[null,null,null,650,null,null,null,0.05,null,0,0]
[null,null,null,655,null,null,null,0.05,null,0,0]
[null,null,null,656,null,null,null,0.05,null,0,0]
[null,null,null,661,null,null,null,0.05,null,0,0]
[null,null,null,669,null,null,null,0.05,null,0,0]
[null,null,null,671,null,null,null,0.05,null,0,0]
[null,null,null,676,null,null,null,0.05,null,0,0]
[null,null,null,682,null,null,null,0.05,null,0,0]
[null,null,null,687,null,null,null,0.05,null,0,0]
[null,null,null,690,null,null,null,0.05,null,0,0]
[null,null,null,697,null,null,null,0.05,null,0,0]
[null,null,null,702,null,null,null,0.05,null,0,0]
[null,null,null,708,null,null,null,0.05,null,0,0]
[null,null,null,709,null,null,null,0.05,null,0,0]
[null,null,null,717,null,null,null,0.05,null,0,0]
[null,null,null,718,null,null,null,0.05,null,0,0]
[null,null,null,723,null,null,null,0.05,null,0,0]
[null,null,null,728,null,null,null,0.05,null,0,0]
[null,null,null,733,null,null,null,0.05,null,0,0]
[null,null,null,738,null,null,null,0.05,null,0,0]
[null,null,null,744,null,null,null,0.05,null,0,0]
[null,null,null,749,null,null,null,0.05,null,0,0]
[null,null,null,753,null,null,null,0.05,null,0,0]
[null,null,null,759,null,null,null,0.05,null,0,0]
[null,null,null,764,null,null,null,0.05,null,0,0]
[null,null,null,770,null,null,null,0.05,null,0,{"$f":"MAX(0,(I6788-J6788)*0.75)","v":0}]
[null,null,null,772,null,null,null,0.05,null,0,0]
[null,null,null,779,null,null,null,0.05,null,0,0]
[null,null,null,780,null,null,null,0.05,null,0,0]
[null,null,null,785,null,null,null,0.05,null,0,0]
[null,null,null,791,null,null,null,0.05,null,0,0]
[null,null,null,795,null,null,null,0.05,null,0,0]
[null,null,null,800,null,null,null,0.05,null,0,0]
[null,null,null,806,null,null,null,0.05,null,0,0]
[null,null,null,810,null,null,null,0.05,null,0,0]
[null,null,null,815,null,null,null,0.05,null,0,0]
[null,null,null,821,null,null,null,0.05,null,0,0]
[null,null,null,826,null,null,null,0.05,null,0,0]
[null,null,null,832,null,null,null,0.05,null,0,0]
[null,null,null,835,null,null,null,0.05,null,0,0]
[null,null,null,841,null,null,null,0.05,null,0,0]
[null,null,null,842,null,null,null,0.05,null,0,0]
[null,null,null,847,null,null,null,0.05,null,0,0]
[null,null,null,854,null,null,null,0.05,null,0,0]
[null,null,null,857,null,null,null,0.05,null,0,0]
[null,null,null,862,null,null,null,0.05,null,0,0]
[null,null,null,868,null,null,null,0.05,null,0,0]
[null,null,null,873,null,null,null,0.05,null,0,0]
[null,null,null,877,null,null,null,0.05,null,0,0]
[null,null,null,883,null,null,null,0.05,null,0,0]
[null,null,null,888,null,null,null,0.05,null,0,0]
[null,null,null,894,null,null,null,0.05,null,0,0]
[null,null,null,898,null,null,null,0.05,null,0,{"$f":"MAX(0,(I6916-J6916)*0.75)","v":0}]
[null,null,null,903,null,null,null,0.05,null,0,0]
[null,null,null,904,null,null,null,0.05,null,0,0]
[null,null,null,909,null,null,null,0.05,null,0,0]
[null,null,null,917,null,null,null,0.05,null,0,0]
[null,null,null,919,null,null,null,0.05,null,0,0]
[null,null,null,924,null,null,null,0.05,null,0,0]
[null,null,null,930,null,null,null,0.05,null,0,0]
[null,null,null,936,null,null,null,0.05,null,0,0]
[null,null,null,939,null,null,null,0.05,null,0,0]
[null,null,null,945,null,null,null,0.05,null,0,0]
[null,null,null,950,null,null,null,0.05,null,0,0]
[null,null,null,956,null,null,null,0.05,null,0,0]
[null,null,null,957,null,null,null,0.05,null,0,0]
[null,null,null,965,null,null,null,0.05,null,0,0]
[null,null,null,966,null,null,null,0.05,null,0,0]
[null,null,null,971,null,null,null,0.05,null,0,0]
[null,null,null,976,null,null,null,0.05,null,0,0]
[null,null,null,981,null,null,null,0.05,null,0,0]
[null,null,null,986,null,null,null,0.05,null,0,0]
[null,null,null,992,null,null,null,0.05,null,0,0]
[null,null,null,995,null,null,null,0.05,null,0,0]
[null,null,"(จ)","มิได้จดทะเบียนในตลาดหลักทรัพย์แห่งประเทศไทย ตลาดหลักทรัพย์ เอ็ม เอ ไอ หรือมิได้อยู่ในดัชนีราคาหลักทรัพย์ตามที่กำหนด และมีค่าความเสี่ยงด้านตลาด 35%"]
[null,null,null,6,null,null,null,0.05,null,0,0]
[null,null,null,11,null,null,null,0.05,null,0,0]
[null,null,null,16,null,null,null,0.05,null,0,0]
[null,null,null,19,null,null,null,0.05,null,0,0]
[null,null,null,26,null,null,null,0.05,null,0,0]
[null,null,null,27,null,null,null,0.05,null,0,0]
[null,null,null,32,null,null,null,0.05,null,0,0]
[null,null,null,38,null,null,null,0.05,null,0,0]
[null,null,null,42,null,null,null,0.05,null,0,0]
[null,null,null,47,null,null,null,0.05,null,0,0]
[null,null,null,53,null,null,null,0.05,null,0,0]
[null,null,null,57,null,null,null,0.05,null,0,0]
[null,null,null,62,null,null,null,0.05,null,0,0]
[null,null,null,68,null,null,null,0.05,null,0,0]
[null,null,null,73,null,null,null,0.05,null,0,0]
[null,null,null,78,null,null,null,0.05,null,0,0]
[null,null,null,82,null,null,null,0.05,null,0,0]
[null,null,null,88,null,null,null,0.05,null,0,0]
[null,null,null,89,null,null,null,0.05,null,0,0]
[null,null,null,94,null,null,null,0.05,null,0,0]
[null,null,null,101,null,null,null,0.05,null,0,0]
[null,null,null,104,null,null,null,0.05,null,0,0]
[null,null,null,109,null,null,null,0.05,null,0,0]
[null,null,null,114,null,null,null,0.05,null,0,0]
[null,null,null,120,null,null,null,0.05,null,0,0]
[null,null,null,124,null,null,null,0.05,null,0,0]
[null,null,null,130,null,null,null,0.05,null,0,{"$f":"MAX(0,(I7149-J7149)*0.65)","v":0}]
[null,null,null,135,null,null,null,0.05,null,0,0]
[null,null,null,140,null,null,null,0.05,null,0,0]
[null,null,null,145,null,null,null,0.05,null,0,0]
[null,null,null,150,null,null,null,0.05,null,0,0]
[null,null,null,151,null,null,null,0.05,null,0,0]
[null,null,null,156,null,null,null,0.05,null,0,0]
[null,null,null,164,null,null,null,0.05,null,0,0]
[null,null,null,166,null,null,null,0.05,null,0,0]
[null,null,null,171,null,null,null,0.05,null,0,0]
[null,null,null,176,null,null,null,0.05,null,0,0]
[null,null,null,183,null,null,null,0.05,null,0,0]
[null,null,null,186,null,null,null,0.05,null,0,0]
[null,null,null,192,null,null,null,0.05,null,0,0]
[null,null,null,197,null,null,null,0.05,null,0,0]
[null,null,null,202,null,null,null,0.05,null,0,0]
[null,null,null,204,null,null,null,0.05,null,0,0]
[null,null,null,212,null,null,null,0.05,null,0,0]
[null,null,null,213,null,null,null,0.05,null,0,0]
[null,null,null,218,null,null,null,0.05,null,0,0]
[null,null,null,223,null,null,null,0.05,null,0,0]
[null,null,null,228,null,null,null,0.05,null,0,0]
[null,null,null,233,null,null,null,0.05,null,0,0]
[null,null,null,238,null,null,null,0.05,null,0,0]
[null,null,null,242,null,null,null,0.05,null,0,0]
[null,null,null,248,null,null,null,0.05,null,0,0]
[null,null,null,254,null,null,null,0.05,null,0,0]
[null,null,null,259,null,null,null,0.05,null,0,0]
[null,null,null,264,null,null,null,0.05,null,0,0]
[null,null,null,267,null,null,null,0.05,null,0,0]
[null,null,null,274,null,null,null,0.05,null,0,0]
[null,null,null,279,null,null,null,0.05,null,0,0]
[null,null,null,280,null,null,null,0.05,null,0,0]
[null,null,null,286,null,null,null,0.05,null,0,0]
[null,null,null,290,null,null,null,0.05,null,0,0]
[null,null,null,295,null,null,null,0.05,null,0,0]
[null,null,null,300,null,null,null,0.05,null,0,0]
[null,null,null,305,null,null,null,0.05,null,0,0]
[null,null,null,310,null,null,null,0.05,null,0,0]
[null,null,null,316,null,null,null,0.05,null,0,0]
[null,null,null,321,null,null,null,0.05,null,{"$f":"$I$12030*H7340","v":0},0]
[null,null,null,326,null,null,null,0.05,null,0,0]
[null,null,null,330,null,null,null,0.05,null,0,0]
[null,null,null,336,null,null,null,0.05,null,0,0]
[null,null,null,341,null,null,null,0.05,null,0,0]
[null,null,null,342,null,null,null,0.05,null,0,0]
[null,null,null,349,null,null,null,0.05,null,0,0]
[null,null,null,352,null,null,null,0.05,null,0,0]
[null,null,null,357,null,null,null,0.05,null,0,0]
[null,null,null,362,null,null,null,0.05,null,0,0]
[null,null,null,368,null,null,null,0.05,null,0,0]
[null,null,null,372,null,null,null,0.05,null,0,0]
[null,null,null,378,null,null,null,0.05,null,0,0]
[null,null,null,383,null,null,null,0.05,null,0,0]
[null,null,null,388,null,null,null,0.05,null,0,0]
[null,null,null,393,null,null,null,0.05,null,0,0]
[null,null,null,398,null,null,null,0.05,null,0,0]
[null,null,null,403,null,null,null,0.05,null,0,0]
[null,null,null,404,null,null,null,0.05,null,0,0]
[null,null,null,412,null,null,null,0.05,null,0,0]
[null,null,null,414,null,null,null,0.05,null,0,0]
[null,null,null,419,null,null,null,0.05,null,0,0]
[null,null,null,424,null,null,null,0.05,null,0,0]
[null,null,null,431,null,null,null,0.05,null,0,0]
[null,null,null,434,null,null,null,0.05,null,0,0]
[null,null,null,439,null,null,null,0.05,null,0,0]
[null,null,null,445,null,null,null,0.05,null,0,0]
[null,null,null,450,null,null,null,0.05,null,0,{"$f":"MAX(0,(I7469-J7469)*0.65)","v":0}]
[null,null,null,452,null,null,null,0.05,null,0,0]
[null,null,null,460,null,null,null,0.05,null,0,0]
[null,null,null,465,null,null,null,0.05,null,0,0]
[null,null,null,466,null,null,null,0.05,null,0,0]
[null,null,null,471,null,null,null,0.05,null,0,0]
[null,null,null,476,null,null,null,0.05,null,0,0]
[null,null,null,481,null,null,null,0.05,null,0,0]
[null,null,null,486,null,null,null,0.05,null,0,0]
[null,null,null,490,null,null,null,0.05,null,0,0]
[null,null,null,496,null,null,null,0.05,null,0,0]
[null,null,null,501,null,null,null,0.05,null,0,0]
[null,null,null,507,null,null,null,0.05,null,0,0]
[null,null,null,512,null,null,null,0.05,null,0,0]
[null,null,null,515,null,null,null,0.05,null,0,0]
[null,null,null,522,null,null,null,0.05,null,0,0]
[null,null,null,527,null,null,null,0.05,null,0,0]
[null,null,null,528,null,null,null,0.05,null,0,0]
[null,null,null,534,null,null,null,0.05,null,0,0]
[null,null,null,537,null,null,null,0.05,null,0,0]
[null,null,null,543,null,null,null,0.05,null,0,0]
[null,null,null,548,null,null,null,0.05,null,0,0]
[null,null,null,553,null,null,null,0.05,null,0,0]
[null,null,null,558,null,null,null,0.05,null,0,0]
[null,null,null,563,null,null,null,0.05,null,0,0]
[null,null,null,569,null,null,null,0.05,null,0,0]
[null,null,null,574,null,null,null,0.05,null,0,0]
[null,null,null,578,null,null,null,0.05,null,0,{"$f":"MAX(0,(I7597-J7597)*0.65)","v":0}]
[null,null,null,584,null,null,null,0.05,null,0,0]
[null,null,null,589,null,null,null,0.05,null,0,0]
[null,null,null,590,null,null,null,0.05,null,0,0]
[null,null,null,597,null,null,null,0.05,null,0,0]
[null,null,null,599,null,null,null,0.05,null,0,0]
[null,null,null,605,null,null,null,0.05,null,0,0]
[null,null,null,610,null,null,null,0.05,null,0,0]
[null,null,null,616,null,null,null,0.05,null,0,0]
[null,null,null,620,null,null,null,0.05,null,0,0]
[null,null,null,625,null,null,null,0.05,null,0,0]
[null,null,null,631,null,null,null,0.05,null,0,0]
[null,null,null,636,null,null,null,0.05,null,0,0]
[null,null,null,641,null,null,null,0.05,null,{"$f":"$I$12030*H7660","v":0},0]
[null,null,null,646,null,null,null,0.05,null,0,0]
[null,null,null,651,null,null,null,0.05,null,0,0]
[null,null,null,652,null,null,null,0.05,null,0,0]
[null,null,null,660,null,null,null,0.05,null,0,0]
[null,null,null,661,null,null,null,0.05,null,0,0]
[null,null,null,667,null,null,null,0.05,null,0,0]
[null,null,null,672,null,null,null,0.05,null,0,0]
[null,null,null,679,null,null,null,0.05,null,0,0]
[null,null,null,682,null,null,null,0.05,null,0,0]
[null,null,null,687,null,null,null,0.05,null,0,0]
[null,null,null,693,null,null,null,0.05,null,0,0]
[null,null,null,698,null,null,null,0.05,null,0,0]
[null,null,null,700,null,null,null,0.05,null,0,0]
[null,null,null,708,null,null,null,0.05,null,0,0]
[null,null,null,713,null,null,null,0.05,null,0,0]
[null,null,null,714,null,null,null,0.05,null,0,0]
[null,null,null,719,null,null,null,0.05,null,0,0]
[null,null,null,723,null,null,null,0.05,null,0,0]
[null,null,null,729,null,null,null,0.05,null,0,0]
[null,null,null,734,null,null,null,0.05,null,0,0]
[null,null,null,738,null,null,null,0.05,null,0,0]
[null,null,null,744,null,null,null,0.05,null,0,0]
[null,null,null,749,null,null,null,0.05,null,0,0]
[null,null,null,755,null,null,null,0.05,null,0,0]
[null,null,null,760,null,null,null,0.05,null,0,0]
[null,null,null,763,null,null,null,0.05,null,0,0]
[null,null,null,770,null,null,null,0.05,null,0,{"$f":"MAX(0,(I7789-J7789)*0.65)","v":0}]
[null,null,null,775,null,null,null,0.05,null,0,0]
[null,null,null,776,null,null,null,0.05,null,0,0]
[null,null,null,782,null,null,null,0.05,null,0,0]
[null,null,null,785,null,null,null,0.05,null,0,0]
[null,null,null,791,null,null,null,0.05,null,0,0]
[null,null,null,796,null,null,null,0.05,null,0,0]
[null,null,null,801,null,null,null,0.05,null,0,0]
[null,null,null,806,null,null,null,0.05,null,0,0]
[null,null,null,811,null,null,null,0.05,null,0,0]
[null,null,null,817,null,null,null,0.05,null,0,0]
[null,null,null,822,null,null,null,0.05,null,0,0]
[null,null,null,826,null,null,null,0.05,null,0,0]
[null,null,null,832,null,null,null,0.05,null,0,0]
[null,null,null,837,null,null,null,0.05,null,0,0]
[null,null,null,838,null,null,null,0.05,null,0,0]
[null,null,null,845,null,null,null,0.05,null,0,0]
[null,null,null,847,null,null,null,0.05,null,0,0]
[null,null,null,853,null,null,null,0.05,null,0,0]
[null,null,null,858,null,null,null,0.05,null,0,0]
[null,null,null,864,null,null,null,0.05,null,0,0]
[null,null,null,868,null,null,null,0.05,null,0,0]
[null,null,null,873,null,null,null,0.05,null,0,0]
[null,null,null,879,null,null,null,0.05,null,0,0]
[null,null,null,884,null,null,null,0.05,null,0,0]
[null,null,null,889,null,null,null,0.05,null,0,0]
[null,null,null,894,null,null,null,0.05,null,0,0]
[null,null,null,899,null,null,null,0.05,null,0,0]
[null,null,null,900,null,null,null,0.05,null,0,0]
[null,null,null,908,null,null,null,0.05,null,0,0]
[null,null,null,909,null,null,null,0.05,null,0,0]
[null,null,null,915,null,null,null,0.05,null,0,0]
[null,null,null,920,null,null,null,0.05,null,0,0]
[null,null,null,927,null,null,null,0.05,null,0,0]
[null,null,null,930,null,null,null,0.05,null,0,0]
[null,null,null,935,null,null,null,0.05,null,0,0]
[null,null,null,941,null,null,null,0.05,null,0,0]
[null,null,null,946,null,null,null,0.05,null,0,0]
[null,null,null,948,null,null,null,0.05,null,0,0]
[null,null,null,956,null,null,null,0.05,null,0,0]
[null,null,null,961,null,null,null,0.05,null,{"$f":"$I$12030*H7980","v":0},0]
[null,null,null,966,null,null,null,0.05,null,0,0]
[null,null,null,967,null,null,null,0.05,null,0,0]
[null,null,null,971,null,null,null,0.05,null,0,0]
[null,null,null,977,null,null,null,0.05,null,0,0]
[null,null,null,982,null,null,null,0.05,null,0,0]
[null,null,null,986,null,null,null,0.05,null,0,0]
[null,null,null,992,null,null,null,0.05,null,0,0]
[null,null,null,997,null,null,null,0.05,null,0,0]
[null,null,null,2,null,null,null,0.05,null,0,{"$f":"MAX(0,(I8022-J8022)*0.5)","v":0}]
[null,null,null,7,null,null,null,0.05,null,0,0]
[null,null,null,10,null,null,null,0.05,null,0,0]
[null,null,null,17,null,null,null,0.05,null,0,0]
[null,null,null,22,null,null,null,0.05,null,0,0]
[null,null,null,27,null,null,null,0.05,null,0,0]
[null,null,null,29,null,null,null,0.05,null,0,0]
[null,null,null,32,null,null,null,0.05,null,0,0]
[null,null,null,38,null,null,null,0.05,null,0,0]
[null,null,null,43,null,null,null,0.05,null,0,0]
[null,null,null,48,null,null,null,0.05,null,0,0]
[null,null,null,53,null,null,null,0.05,null,0,0]
[null,null,null,58,null,null,null,0.05,null,0,0]
[null,null,null,64,null,null,null,0.05,null,0,0]
[null,null,null,69,null,null,null,0.05,null,0,0]
[null,null,null,73,null,null,null,0.05,null,0,0]
[null,null,null,79,null,null,null,0.05,null,0,0]
[null,null,null,84,null,null,null,0.05,null,0,0]
[null,null,null,89,null,null,null,0.05,null,0,0]
[null,null,null,92,null,null,null,0.05,null,0,0]
[null,null,null,94,null,null,null,0.05,null,0,0]
[null,null,null,100,null,null,null,0.05,null,0,0]
[null,null,null,105,null,null,null,0.05,null,0,0]
[null,null,null,111,null,null,null,0.05,null,0,0]
[null,null,null,115,null,null,null,0.05,null,0,0]
[null,null,null,120,null,null,null,0.05,null,0,0]
[null,null,null,125,null,null,null,0.05,null,0,0]
[null,null,null,131,null,null,null,0.05,null,0,0]
[null,null,null,136,null,null,null,0.05,null,0,0]
[null,null,null,141,null,null,null,0.05,null,0,0]
[null,null,null,146,null,null,null,0.05,null,0,0]
[null,null,null,151,null,null,null,0.05,null,0,0]
[null,null,null,155,null,null,null,0.05,null,0,0]
[null,null,null,156,null,null,null,0.05,null,0,0]
[null,null,null,162,null,null,null,0.05,null,0,0]
[null,null,null,167,null,null,null,0.05,null,0,0]
[null,null,null,174,null,null,null,0.05,null,0,0]
[null,null,null,177,null,null,null,0.05,null,0,0]
[null,null,null,182,null,null,null,0.05,null,0,0]
[null,null,null,187,null,null,null,0.05,null,0,0]
[null,null,null,193,null,null,null,0.05,null,{"$f":"$I$12030*H8213","v":0},0]
[null,null,null,195,null,null,null,0.05,null,0,0]
[null,null,null,203,null,null,null,0.05,null,0,0]
[null,null,null,208,null,null,null,0.05,null,0,0]
[null,null,null,213,null,null,null,0.05,null,0,0]
[null,null,null,214,null,null,null,0.05,null,0,0]
[null,null,null,218,null,null,null,0.05,null,0,0]
[null,null,null,223,null,null,null,0.05,null,0,0]
[null,null,null,229,null,null,null,0.05,null,0,0]
[null,null,null,233,null,null,null,0.05,null,0,0]
[null,null,null,239,null,null,null,0.05,null,0,0]
[null,null,null,244,null,null,null,0.05,null,0,0]
[null,null,null,249,null,null,null,0.05,null,0,0]
[null,null,null,255,null,null,null,0.05,null,0,0]
[null,null,null,258,null,null,null,0.05,null,0,{"$f":"MAX(0,(I8278-J8278)*0.5)","v":0}]
[null,null,null,265,null,null,null,0.05,null,0,0]
[null,null,null,270,null,null,null,0.05,null,0,0]
[null,null,null,275,null,null,null,0.05,null,0,0]
[null,null,null,277,null,null,null,0.05,null,0,0]
[null,null,null,280,null,null,null,0.05,null,0,0]
[null,null,null,285,null,null,null,0.05,null,0,0]
[null,null,null,291,null,null,null,0.05,null,0,0]
[null,null,null,296,null,null,null,0.05,null,0,0]
[null,null,null,301,null,null,null,0.05,null,0,0]
[null,null,null,306,null,null,null,0.05,null,0,0]
[null,null,null,311,null,null,null,0.05,null,0,0]
[null,null,null,317,null,null,null,0.05,null,0,0]
[null,null,null,321,null,null,null,0.05,null,{"$f":"$I$12030*H8341","v":0},0]
[null,null,null,327,null,null,null,0.05,null,0,0]
[null,null,null,332,null,null,null,0.05,null,0,0]
[null,null,null,337,null,null,null,0.05,null,0,0]
[null,null,null,340,null,null,null,0.05,null,0,0]
[null,null,null,342,null,null,null,0.05,null,0,0]
[null,null,null,347,null,null,null,0.05,null,0,0]
[null,null,null,353,null,null,null,0.05,null,0,0]
[null,null,null,359,null,null,null,0.05,null,0,0]
[null,null,null,363,null,null,null,0.05,null,0,0]
[null,null,null,368,null,null,null,0.05,null,0,0]
[null,null,null,373,null,null,null,0.05,null,0,0]
[null,null,null,378,null,null,null,0.05,null,0,0]
[null,null,null,383,null,null,null,0.05,null,0,0]
[null,null,null,388,null,null,null,0.05,null,0,0]
[null,null,null,394,null,null,null,0.05,null,0,0]
[null,null,null,399,null,null,null,0.05,null,0,0]
[null,null,null,403,null,null,null,0.05,null,0,0]
[null,null,null,404,null,null,null,0.05,null,0,0]
[null,null,null,409,null,null,null,0.05,null,0,0]
[null,null,null,415,null,null,null,0.05,null,0,0]
[null,null,null,422,null,null,null,0.05,null,0,0]
[null,null,null,425,null,null,null,0.05,null,0,0]
[null,null,null,430,null,null,null,0.05,null,0,0]
[null,null,null,435,null,null,null,0.05,null,0,0]
[null,null,null,441,null,null,null,0.05,null,0,0]
[null,null,null,445,null,null,null,0.05,null,0,0]
[null,null,null,450,null,null,null,0.05,null,0,{"$f":"MAX(0,(I8470-J8470)*0.5)","v":0}]
[null,null,null,456,null,null,null,0.05,null,0,0]
[null,null,null,461,null,null,null,0.05,null,0,0]
[null,null,null,462,null,null,null,0.05,null,0,0]
[null,null,null,466,null,null,null,0.05,null,0,0]
[null,null,null,471,null,null,null,0.05,null,0,0]
[null,null,null,477,null,null,null,0.05,null,0,0]
[null,null,null,481,null,null,null,0.05,null,0,0]
[null,null,null,487,null,null,null,0.05,null,0,0]
[null,null,null,492,null,null,null,0.05,null,0,0]
[null,null,null,497,null,null,null,0.05,null,0,0]
[null,null,null,500,null,null,null,0.05,null,0,0]
[null,null,null,507,null,null,null,0.05,null,0,0]
[null,null,null,512,null,null,null,0.05,null,0,0]
[null,null,null,518,null,null,null,0.05,null,0,0]
[null,null,null,523,null,null,null,0.05,null,0,0]
[null,null,null,525,null,null,null,0.05,null,0,0]
[null,null,null,528,null,null,null,0.05,null,0,0]
[null,null,null,533,null,null,null,0.05,null,0,0]
[null,null,null,539,null,null,null,0.05,null,0,0]
[null,null,null,544,null,null,null,0.05,null,0,0]
[null,null,null,548,null,null,null,0.05,null,0,0]
[null,null,null,554,null,null,null,0.05,null,0,0]
[null,null,null,559,null,null,null,0.05,null,0,0]
[null,null,null,563,null,null,null,0.05,null,0,0]
[null,null,null,569,null,null,null,0.05,null,0,0]
[null,null,null,574,null,null,null,0.05,null,0,0]
[null,null,null,580,null,null,null,0.05,null,0,0]
[null,null,null,585,null,null,null,0.05,null,0,0]
[null,null,null,588,null,null,null,0.05,null,0,0]
[null,null,null,590,null,null,null,0.05,null,0,0]
[null,null,null,595,null,null,null,0.05,null,0,0]
[null,null,null,601,null,null,null,0.05,null,0,0]
[null,null,null,607,null,null,null,0.05,null,0,0]
[null,null,null,610,null,null,null,0.05,null,0,0]
[null,null,null,616,null,null,null,0.05,null,0,0]
[null,null,null,621,null,null,null,0.05,null,0,0]
[null,null,null,626,null,null,null,0.05,null,0,0]
[null,null,null,631,null,null,null,0.05,null,0,0]
[null,null,null,636,null,null,null,0.05,null,0,0]
[null,null,null,642,null,null,null,0.05,null,0,{"$f":"MAX(0,(I8662-J8662)*0.5)","v":0}]
[null,null,null,647,null,null,null,0.05,null,0,0]
[null,null,null,651,null,null,null,0.05,null,0,0]
[null,null,null,652,null,null,null,0.05,null,0,0]
[null,null,null,657,null,null,null,0.05,null,0,0]
[null,null,null,663,null,null,null,0.05,null,0,0]
[null,null,null,670,null,null,null,0.05,null,0,0]
[null,null,null,672,null,null,null,0.05,null,0,0]
[null,null,null,678,null,null,null,0.05,null,0,0]
[null,null,null,683,null,null,null,0.05,null,0,0]
[null,null,null,689,null,null,null,0.05,null,0,0]
[null,null,null,693,null,null,null,0.05,null,0,0]
[null,null,null,698,null,null,null,0.05,null,0,0]
[null,null,null,704,null,null,null,0.05,null,0,0]
[null,null,null,709,null,null,null,0.05,null,0,0]
[null,null,null,710,null,null,null,0.05,null,0,0]
[null,null,null,714,null,null,null,0.05,null,0,0]
[null,null,null,719,null,null,null,0.05,null,0,0]
[null,null,null,725,null,null,null,0.05,null,0,0]
[null,null,null,729,null,null,null,0.05,null,0,0]
[null,null,null,734,null,null,null,0.05,null,0,0]
[null,null,null,740,null,null,null,0.05,null,0,0]
[null,null,null,745,null,null,null,0.05,null,0,0]
[null,null,null,748,null,null,null,0.05,null,0,0]
[null,null,null,755,null,null,null,0.05,null,0,0]
[null,null,null,760,null,null,null,0.05,null,0,0]
[null,null,null,766,null,null,null,0.05,null,0,0]
[null,null,null,771,null,null,null,0.05,null,0,0]
[null,null,null,773,null,null,null,0.05,null,0,0]
[null,null,null,776,null,null,null,0.05,null,0,0]
[null,null,null,781,null,null,null,0.05,null,0,0]
[null,null,null,787,null,null,null,0.05,null,0,0]
[null,null,null,792,null,null,null,0.05,null,0,0]
[null,null,null,796,null,null,null,0.05,null,0,0]
[null,null,null,802,null,null,null,0.05,null,0,0]
[null,null,null,807,null,null,null,0.05,null,0,0]
[null,null,null,811,null,null,null,0.05,null,0,0]
[null,null,null,817,null,null,null,0.05,null,0,0]
[null,null,null,822,null,null,null,0.05,null,0,0]
[null,null,null,828,null,null,null,0.05,null,0,0]
[null,null,null,833,null,null,null,0.05,null,{"$f":"$I$12030*H8853","v":0},0]
[null,null,null,836,null,null,null,0.05,null,0,0]
[null,null,null,838,null,null,null,0.05,null,0,0]
[null,null,null,843,null,null,null,0.05,null,0,0]
[null,null,null,849,null,null,null,0.05,null,0,0]
[null,null,null,855,null,null,null,0.05,null,0,0]
[null,null,null,858,null,null,null,0.05,null,0,0]
[null,null,null,864,null,null,null,0.05,null,0,0]
[null,null,null,869,null,null,null,0.05,null,0,0]
[null,null,null,874,null,null,null,0.05,null,0,0]
[null,null,null,879,null,null,null,0.05,null,0,0]
[null,null,null,884,null,null,null,0.05,null,0,0]
[null,null,null,890,null,null,null,0.05,null,0,0]
[null,null,null,895,null,null,null,0.05,null,0,0]
[null,null,null,899,null,null,null,0.05,null,0,0]
[null,null,null,900,null,null,null,0.05,null,0,0]
[null,null,null,905,null,null,null,0.05,null,0,0]
[null,null,null,910,null,null,null,0.05,null,0,0]
[null,null,null,918,null,null,null,0.05,null,0,0]
[null,null,null,920,null,null,null,0.05,null,0,0]
[null,null,null,926,null,null,null,0.05,null,0,0]
[null,null,null,931,null,null,null,0.05,null,0,0]
[null,null,null,937,null,null,null,0.05,null,0,0]
[null,null,null,941,null,null,null,0.05,null,0,0]
[null,null,null,946,null,null,null,0.05,null,0,0]
[null,null,null,952,null,null,null,0.05,null,0,0]
[null,null,null,957,null,null,null,0.05,null,0,0]
[null,null,null,958,null,null,null,0.05,null,0,0]
[null,null,null,962,null,null,null,0.05,null,0,{"$f":"MAX(0,(I8982-J8982)*0.5)","v":0}]
[null,null,null,967,null,null,null,0.05,null,0,0]
[null,null,null,972,null,null,null,0.05,null,0,0]
[null,null,null,977,null,null,null,0.05,null,0,0]
[null,null,null,982,null,null,null,0.05,null,0,0]
[null,null,null,988,null,null,null,0.05,null,0,0]
[null,null,null,993,null,null,null,0.05,null,0,0]
[null,null,null,996,null,null,null,0.05,null,0,0]
[null,null,2,null,null,null,null,0.1,null,0,{"$f":"IF(I9023-J9023<0,0,I9023-J9023)","v":0}]
[null,null,7,null,null,null,null,0.1,null,0,0]
[null,null,13,null,null,null,null,0.1,null,0,0]
[null,null,18,null,null,null,null,0.1,null,0,0]
[null,null,20,null,null,null,null,0.1,null,0,0]
[null,null,23,null,null,null,null,0.1,null,0,0]
[null,null,28,null,null,null,null,0.1,null,0,0]
[null,null,33,null,null,null,null,0.1,null,0,0]
[null,null,39,null,null,null,null,0.1,null,0,0]
[null,null,43,null,null,null,null,0.1,null,0,0]
[null,null,49,null,null,null,null,0.1,null,0,0]
[null,null,54,null,null,null,null,0.1,null,0,0]
[null,null,58,null,null,null,null,0.1,null,0,0]
[null,null,64,null,null,null,null,0.1,null,0,0]
[null,null,69,null,null,null,null,0.1,null,0,0]
[null,null,74,null,null,null,null,0.1,null,0,0]
[null,null,80,null,null,null,null,0.1,null,0,0]
[null,null,83,null,null,null,null,0.1,null,0,0]
[null,null,85,null,null,null,null,0.1,null,0,0]
[null,null,90,null,null,null,null,0.1,null,0,0]
[null,null,95,null,null,null,null,0.1,null,0,0]
[null,null,102,null,null,null,null,0.1,null,0,{"$f":"IF(I9123-J9123<0,0,I9123-J9123)","v":0}]
[null,null,105,null,null,null,null,0.1,null,0,0]
[null,null,111,null,null,null,null,0.1,null,0,0]
[null,null,116,null,null,null,null,0.1,null,0,0]
[null,null,121,null,null,null,null,0.1,null,0,0]
[null,null,126,null,null,null,null,0.1,null,0,0]
[null,null,131,null,null,null,null,0.1,null,0,0]
[null,null,136,null,null,null,null,0.1,null,0,0]
[null,null,142,null,null,null,null,0.1,null,0,0]
[null,null,146,null,null,null,null,0.1,null,0,0]
[null,null,147,null,null,null,null,0.1,null,0,0]
[null,null,152,null,null,null,null,0.1,null,0,0]
[null,null,157,null,null,null,null,0.1,null,0,0]
[null,null,165,null,null,null,null,0.1,null,0,0]
[null,null,167,null,null,null,null,0.1,null,0,0]
[null,null,173,null,null,null,null,0.1,null,0,0]
[null,null,178,null,null,null,null,0.1,null,0,0]
[null,null,184,null,null,null,null,0.1,null,0,0]
[null,null,188,null,null,null,null,0.1,null,0,0]
[null,null,193,null,null,null,null,0.1,null,{"$f":"$I$12030*H9214","v":0},0]
[null,null,198,null,null,null,null,0.1,null,0,0]
[null,null,204,null,null,null,null,0.1,null,0,0]
[null,null,205,null,null,null,null,0.1,null,0,0]
[null,null,209,null,null,null,null,0.1,null,0,0]
[null,null,214,null,null,null,null,0.1,null,0,0]
[null,null,219,null,null,null,null,0.1,null,0,0]
[null,null,224,null,null,null,null,0.1,null,0,0]
[null,null,229,null,null,null,null,0.1,null,0,0]
[null,null,234,null,null,null,null,0.1,null,0,0]
[null,null,240,null,null,null,null,0.1,null,0,0]
[null,null,243,null,null,null,null,0.1,null,0,0]
[null,null,250,null,null,null,null,0.1,null,0,0]
[null,null,255,null,null,null,null,0.1,null,0,0]
[null,null,260,null,null,null,null,0.1,null,0,0]
[null,null,266,null,null,null,null,0.1,null,0,{"$f":"IF(I9287-J9287<0,0,I9287-J9287)","v":0}]
[null,null,268,null,null,null,null,0.1,null,0,0]
[null,null,271,null,null,null,null,0.1,null,0,0]
[null,null,276,null,null,null,null,0.1,null,0,0]
[null,null,281,null,null,null,null,0.1,null,0,0]
[null,null,287,null,null,null,null,0.1,null,0,0]
[null,null,291,null,null,null,null,0.1,null,0,0]
[null,null,296,null,null,null,null,0.1,null,0,0]
[null,null,302,null,null,null,null,0.1,null,0,{"$f":"IF(I9323-J9323<0,0,I9323-J9323)","v":0}]
[null,null,306,null,null,null,null,0.1,null,0,0]
[null,null,312,null,null,null,null,0.1,null,0,0]
[null,null,317,null,null,null,null,0.1,null,0,0]
[null,null,322,null,null,null,null,0.1,null,0,0]
[null,null,328,null,null,null,null,0.1,null,0,0]
[null,null,331,null,null,null,null,0.1,null,0,0]
[null,null,337,null,null,null,null,0.1,null,0,0]
[null,null,338,null,null,null,null,0.1,null,0,0]
[null,null,343,null,null,null,null,0.1,null,0,0]
[null,null,350,null,null,null,null,0.1,null,0,0]
[null,null,353,null,null,null,null,0.1,null,0,0]
[null,null,358,null,null,null,null,0.1,null,0,0]
[null,null,364,null,null,null,null,0.1,null,0,0]
[null,null,369,null,null,null,null,0.1,null,0,0]
[null,null,374,null,null,null,null,0.1,null,0,0]
[null,null,379,null,null,null,null,0.1,null,0,0]
[null,null,384,null,null,null,null,0.1,null,0,0]
[null,null,390,null,null,null,null,0.1,null,0,0]
[null,null,394,null,null,null,null,0.1,null,0,0]
[null,null,399,null,null,null,null,0.1,null,0,0]
[null,null,400,null,null,null,null,0.1,null,0,0]
[null,null,405,null,null,null,null,0.1,null,0,0]
[null,null,413,null,null,null,null,0.1,null,0,0]
[null,null,415,null,null,null,null,0.1,null,0,0]
[null,null,420,null,null,null,null,0.1,null,0,0]
[null,null,426,null,null,null,null,0.1,null,0,0]
[null,null,432,null,null,null,null,0.1,null,0,0]
[null,null,436,null,null,null,null,0.1,null,0,0]
[null,null,441,null,null,null,null,0.1,null,0,0]
[null,null,446,null,null,null,null,0.1,null,0,0]
[null,null,452,null,null,null,null,0.1,null,0,0]
[null,null,453,null,null,null,null,0.1,null,0,0]
[null,null,461,null,null,null,null,0.1,null,0,0]
[null,null,462,null,null,null,null,0.1,null,0,0]
[null,null,467,null,null,null,null,0.1,null,0,0]
[null,null,472,null,null,null,null,0.1,null,0,0]
[null,null,477,null,null,null,null,0.1,null,0,0]
[null,null,482,null,null,null,null,0.1,null,0,0]
[null,null,488,null,null,null,null,0.1,null,0,0]
[null,null,491,null,null,null,null,0.1,null,0,0]
[null,null,497,null,null,null,null,0.1,null,0,0]
[null,null,503,null,null,null,null,0.1,null,0,0]
[null,null,508,null,null,null,null,0.1,null,0,0]
[null,null,514,null,null,null,null,0.1,null,0,0]
[null,null,516,null,null,null,null,0.1,null,0,0]
[null,null,523,null,null,null,null,0.1,null,0,0]
[null,null,524,null,null,null,null,0.1,null,0,0]
[null,null,529,null,null,null,null,0.1,null,0,0]
[null,null,535,null,null,null,null,0.1,null,0,0]
[null,null,539,null,null,null,null,0.1,null,0,0]
[null,null,544,null,null,null,null,0.1,null,0,0]
[null,null,550,null,null,null,null,0.1,null,0,0]
[null,null,554,null,null,null,null,0.1,null,0,0]
[null,null,559,null,null,null,null,0.1,null,0,0]
[null,null,565,null,null,null,null,0.1,null,0,0]
[null,null,570,null,null,null,null,0.1,null,0,0]
[null,null,576,null,null,null,null,0.1,null,0,0]
[null,null,579,null,null,null,null,0.1,null,0,0]
[null,null,585,null,null,null,null,0.1,null,0,0]
[null,null,586,null,null,null,null,0.1,null,0,0]
[null,null,591,null,null,null,null,0.1,null,0,0]
[null,null,598,null,null,null,null,0.1,null,0,0]
[null,null,601,null,null,null,null,0.1,null,0,{"$f":"IF(I9622-J9622<0,0,I9622-J9622)","v":0}]
[null,null,606,null,null,null,null,0.1,null,0,0]
[null,null,612,null,null,null,null,0.1,null,0,0]
[null,null,617,null,null,null,null,0.1,null,0,0]
[null,null,621,null,null,null,null,0.1,null,0,0]
[null,null,627,null,null,null,null,0.1,null,0,0]
[null,null,632,null,null,null,null,0.1,null,0,0]
[null,null,638,null,null,null,null,0.1,null,0,0]
[null,null,642,null,null,null,null,0.1,null,0,0]
[null,null,647,null,null,null,null,0.1,null,0,0]
[null,null,648,null,null,null,null,0.1,null,0,0]
[null,null,653,null,null,null,null,0.1,null,0,0]
[null,null,661,null,null,null,null,0.1,null,0,0]
[null,null,663,null,null,null,null,0.1,null,0,0]
[null,null,668,null,null,null,null,0.1,null,0,0]
[null,null,674,null,null,null,null,0.1,null,0,0]
[null,null,680,null,null,null,null,0.1,null,0,0]
[null,null,683,null,null,null,null,0.1,null,0,0]
[null,null,689,null,null,null,null,0.1,null,0,0]
[null,null,694,null,null,null,null,0.1,null,0,0]
[null,null,700,null,null,null,null,0.1,null,0,0]
[null,null,701,null,null,null,null,0.1,null,0,{"$f":"IF(I9722-J9722<0,0,I9722-J9722)","v":0}]
[null,null,709,null,null,null,null,0.1,null,0,0]
[null,null,710,null,null,null,null,0.1,null,0,0]
[null,null,715,null,null,null,null,0.1,null,0,0]
[null,null,720,null,null,null,null,0.1,null,0,0]
[null,null,725,null,null,null,null,0.1,null,0,0]
[null,null,730,null,null,null,null,0.1,null,0,0]
[null,null,736,null,null,null,null,0.1,null,0,0]
[null,null,739,null,null,null,null,0.1,null,0,0]
[null,null,745,null,null,null,null,0.1,null,0,0]
[null,null,751,null,null,null,null,0.1,null,0,0]
[null,null,756,null,null,null,null,0.1,null,0,0]
[null,null,761,null,null,null,null,0.1,null,0,0]
[null,null,764,null,null,null,null,0.1,null,0,0]
[null,null,771,null,null,null,null,0.1,null,0,0]
[null,null,772,null,null,null,null,0.1,null,0,0]
[null,null,777,null,null,null,null,0.1,null,0,0]
[null,null,783,null,null,null,null,0.1,null,0,0]
[null,null,787,null,null,null,null,0.1,null,0,0]
[null,null,792,null,null,null,null,0.1,null,0,0]
[null,null,798,null,null,null,null,0.1,null,0,0]
[null,null,802,null,null,null,null,0.1,null,0,{"$f":"IF(I9823-J9823<0,0,I9823-J9823)","v":0}]
[null,null,807,null,null,null,null,0.1,null,0,0]
[null,null,813,null,null,null,null,0.1,null,0,0]
[null,null,818,null,null,null,null,0.1,null,0,0]
[null,null,823,null,null,null,null,0.1,null,0,0]
[null,null,827,null,null,null,null,0.1,null,0,0]
[null,null,833,null,null,null,null,0.1,null,{"$f":"$I$12030*H9854","v":0},0]
[null,null,834,null,null,null,null,0.1,null,0,0]
[null,null,839,null,null,null,null,0.1,null,0,0]
[null,null,846,null,null,null,null,0.1,null,0,0]
[null,null,849,null,null,null,null,0.1,null,0,0]
[null,null,854,null,null,null,null,0.1,null,0,0]
[null,null,860,null,null,null,null,0.1,null,0,0]
[null,null,865,null,null,null,null,0.1,null,0,0]
[null,null,869,null,null,null,null,0.1,null,0,0]
[null,null,875,null,null,null,null,0.1,null,0,0]
[null,null,880,null,null,null,null,0.1,null,0,0]
[null,null,885,null,null,null,null,0.1,null,0,0]
[null,null,890,null,null,null,null,0.1,null,0,0]
[null,null,895,null,null,null,null,0.1,null,0,0]
[null,null,896,null,null,null,null,0.1,null,0,0]
[null,null,901,null,null,null,null,0.1,null,0,{"$f":"IF(I9922-J9922<0,0,I9922-J9922)","v":0}]
[null,null,909,null,null,null,null,0.1,null,0,0]
[null,null,911,null,null,null,null,0.1,null,0,0]
[null,null,916,null,null,null,null,0.1,null,0,0]
[null,null,921,null,null,null,null,0.1,null,0,0]
[null,null,928,null,null,null,null,0.1,null,0,0]
[null,null,931,null,null,null,null,0.1,null,0,0]
[null,null,937,null,null,null,null,0.1,null,0,0]
[null,null,942,null,null,null,null,0.1,null,0,0]
[null,null,947,null,null,null,null,0.1,null,0,0]
[null,null,952,null,null,null,null,0.1,null,0,0]
[null,null,957,null,null,null,null,0.1,null,0,0]
[null,null,958,null,null,null,null,0.1,null,0,0]
[null,null,963,null,null,null,null,0.1,null,0,0]
[null,null,968,null,null,null,null,0.1,null,0,0]
[null,null,973,null,null,null,null,0.1,null,0,0]
[null,null,978,null,null,null,null,0.1,null,0,0]
[null,null,983,null,null,null,null,0.1,null,0,0]
[null,null,987,null,null,null,null,0.1,null,0,0]
[null,null,993,null,null,null,null,0.1,null,0,0]
[null,null,999,null,null,null,null,0.1,null,0,0]
[null,null,null,2,null,null,null,0.01,null,0,{"$f":"IF(I10025-J10025<0,0,I10025-J10025)","v":0}]
[null,null,null,4,null,null,null,0.01,null,0,0]
[null,null,null,12,null,null,null,0.01,null,0,0]
[null,null,null,17,null,null,null,0.01,null,0,0]
[null,null,null,22,null,null,null,0.01,null,0,0]
[null,null,null,23,null,null,null,0.01,null,0,0]
[null,null,null,29,null,null,null,0.01,null,0,0]
[null,null,null,33,null,null,null,0.01,null,0,0]
[null,null,null,38,null,null,null,0.01,null,0,0]
[null,null,null,43,null,null,null,0.01,null,0,0]
[null,null,null,48,null,null,null,0.01,null,0,0]
[null,null,null,53,null,null,null,0.01,null,0,0]
[null,null,null,59,null,null,null,0.01,null,0,0]
[null,null,null,64,null,null,null,0.01,null,0,0]
[null,null,null,67,null,null,null,0.01,null,0,0]
[null,null,null,74,null,null,null,0.01,null,0,0]
[null,null,null,79,null,null,null,0.01,null,0,0]
[null,null,null,84,null,null,null,0.01,null,0,0]
[null,null,null,85,null,null,null,0.01,null,0,0]
[null,null,null,92,null,null,null,0.01,null,0,0]
[null,null,null,95,null,null,null,0.01,null,0,0]
[null,null,null,100,null,null,null,0.01,null,0,{"$f":"MAX(0,(I10123-J10123)*0.8)","v":0}]
[null,null,null,105,null,null,null,0.01,null,0,0]
[null,null,null,111,null,null,null,0.01,null,0,0]
[null,null,null,115,null,null,null,0.01,null,0,0]
[null,null,null,121,null,null,null,0.01,null,0,0]
[null,null,null,126,null,null,null,0.01,null,0,0]
[null,null,null,130,null,null,null,0.01,null,0,0]
[null,null,null,136,null,null,null,0.01,null,0,0]
[null,null,null,141,null,null,null,0.01,null,0,0]
[null,null,null,146,null,null,null,0.01,null,0,0]
[null,null,null,147,null,null,null,0.01,null,0,0]
[null,null,null,155,null,null,null,0.01,null,0,0]
[null,null,null,157,null,null,null,0.01,null,0,0]
[null,null,null,162,null,null,null,0.01,null,0,0]
[null,null,null,167,null,null,null,0.01,null,0,0]
[null,null,null,174,null,null,null,0.01,null,0,0]
[null,null,null,177,null,null,null,0.01,null,0,0]
[null,null,null,182,null,null,null,0.01,null,0,0]
[null,null,null,188,null,null,null,0.01,null,0,0]
[null,null,null,193,null,null,null,0.01,null,{"$f":"$I$12030*H10216","v":0},0]
[null,null,null,198,null,null,null,0.01,null,0,0]
[null,null,null,203,null,null,null,0.01,null,0,0]
[null,null,null,208,null,null,null,0.01,null,0,0]
[null,null,null,209,null,null,null,0.01,null,0,0]
[null,null,null,214,null,null,null,0.01,null,0,0]
[null,null,null,219,null,null,null,0.01,null,0,0]
[null,null,null,224,null,null,null,0.01,null,0,0]
[null,null,null,229,null,null,null,0.01,null,0,0]
[null,null,null,233,null,null,null,0.01,null,0,0]
[null,null,null,239,null,null,null,0.01,null,0,0]
[null,null,null,244,null,null,null,0.01,null,0,0]
[null,null,null,250,null,null,null,0.01,null,0,0]
[null,null,null,252,null,null,null,0.01,null,0,0]
[null,null,null,260,null,null,null,0.01,null,0,0]
[null,null,null,265,null,null,null,0.01,null,0,0]
[null,null,null,270,null,null,null,0.01,null,0,0]
[null,null,null,271,null,null,null,0.01,null,0,0]
[null,null,null,277,null,null,null,0.01,null,0,0]
[null,null,null,281,null,null,null,0.01,null,0,0]
[null,null,null,286,null,null,null,0.01,null,0,0]
[null,null,null,291,null,null,null,0.01,null,0,0]
[null,null,null,296,null,null,null,0.01,null,0,0]
[null,null,null,301,null,null,null,0.01,null,0,0]
[null,null,null,306,null,null,null,0.01,null,0,0]
[null,null,null,312,null,null,null,0.01,null,0,0]
[null,null,null,315,null,null,null,0.01,null,0,0]
[null,null,null,322,null,null,null,0.01,null,0,0]
[null,null,null,327,null,null,null,0.01,null,0,0]
[null,null,null,332,null,null,null,0.01,null,0,0]
[null,null,null,333,null,null,null,0.01,null,0,0]
[null,null,null,340,null,null,null,0.01,null,0,0]
[null,null,null,342,null,null,null,0.01,null,0,0]
[null,null,null,348,null,null,null,0.01,null,0,0]
[null,null,null,353,null,null,null,0.01,null,0,0]
[null,null,null,359,null,null,null,0.01,null,0,0]
[null,null,null,363,null,null,null,0.01,null,0,0]
[null,null,null,368,null,null,null,0.01,null,0,0]
[null,null,null,374,null,null,null,0.01,null,0,0]
[null,null,null,378,null,null,null,0.01,null,0,0]
[null,null,null,384,null,null,null,0.01,null,0,0]
[null,null,null,389,null,null,null,0.01,null,0,0]
[null,null,null,394,null,null,null,0.01,null,0,0]
[null,null,null,395,null,null,null,0.01,null,0,0]
[null,null,null,403,null,null,null,0.01,null,0,0]
[null,null,null,404,null,null,null,0.01,null,0,0]
[null,null,null,410,null,null,null,0.01,null,0,0]
[null,null,null,415,null,null,null,0.01,null,0,0]
[null,null,null,422,null,null,null,0.01,null,0,0]
[null,null,null,425,null,null,null,0.01,null,0,0]
[null,null,null,430,null,null,null,0.01,null,0,0]
[null,null,null,436,null,null,null,0.01,null,0,0]
[null,null,null,441,null,null,null,0.01,null,0,0]
[null,null,null,445,null,null,null,0.01,null,0,0]
[null,null,null,451,null,null,null,0.01,null,0,0]
[null,null,null,456,null,null,null,0.01,null,0,0]
[null,null,null,457,null,null,null,0.01,null,0,0]
[null,null,null,462,null,null,null,0.01,null,0,0]
[null,null,null,466,null,null,null,0.01,null,0,0]
[null,null,null,472,null,null,null,0.01,null,0,0]
[null,null,null,477,null,null,null,0.01,null,0,0]
[null,null,null,481,null,null,null,0.01,null,0,0]
[null,null,null,487,null,null,null,0.01,null,0,0]
[null,null,null,492,null,null,null,0.01,null,0,0]
[null,null,null,498,null,null,null,0.01,null,0,0]
[null,null,null,500,null,null,null,0.01,null,0,0]
[null,null,null,507,null,null,null,0.01,null,0,0]
[null,null,null,513,null,null,null,0.01,null,{"$f":"$I$12030*H10536","v":0},0]
[null,null,null,518,null,null,null,0.01,null,0,0]
[null,null,null,519,null,null,null,0.01,null,0,0]
[null,null,null,525,null,null,null,0.01,null,0,0]
[null,null,null,528,null,null,null,0.01,null,0,0]
[null,null,null,534,null,null,null,0.01,null,0,0]
[null,null,null,539,null,null,null,0.01,null,0,0]
[null,null,null,544,null,null,null,0.01,null,0,0]
[null,null,null,549,null,null,null,0.01,null,0,0]
[null,null,null,554,null,null,null,0.01,null,0,0]
[null,null,null,560,null,null,null,0.01,null,0,0]
[null,null,null,563,null,null,null,0.01,null,0,0]
[null,null,null,569,null,null,null,0.01,null,0,0]
[null,null,null,575,null,null,null,0.01,null,0,0]
[null,null,null,580,null,null,null,0.01,null,0,0]
[null,null,null,581,null,null,null,0.01,null,0,0]
[null,null,null,588,null,null,null,0.01,null,0,0]
[null,null,null,590,null,null,null,0.01,null,0,0]
[null,null,null,596,null,null,null,0.01,null,0,0]
[null,null,null,601,null,null,null,0.01,null,0,0]
[null,null,null,607,null,null,null,0.01,null,0,0]
[null,null,null,611,null,null,null,0.01,null,0,0]
[null,null,null,616,null,null,null,0.01,null,0,0]
[null,null,null,622,null,null,null,0.01,null,0,0]
[null,null,null,626,null,null,null,0.01,null,0,0]
[null,null,null,631,null,null,null,0.01,null,0,0]
[null,null,null,637,null,null,null,0.01,null,0,0]
[null,null,null,642,null,null,null,0.01,null,0,0]
[null,null,null,643,null,null,null,0.01,null,0,0]
[null,null,null,651,null,null,null,0.01,null,0,0]
[null,null,null,652,null,null,null,0.01,null,0,0]
[null,null,null,658,null,null,null,0.01,null,0,0]
[null,null,null,663,null,null,null,0.01,null,0,0]
[null,null,null,670,null,null,null,0.01,null,0,0]
[null,null,null,673,null,null,null,0.01,null,0,0]
[null,null,null,678,null,null,null,0.01,null,0,0]
[null,null,null,684,null,null,null,0.01,null,0,0]
[null,null,null,689,null,null,null,0.01,null,0,0]
[null,null,null,693,null,null,null,0.01,null,0,0]
[null,null,null,699,null,null,null,0.01,null,0,0]
[null,null,null,704,null,null,null,0.01,null,0,0]
[null,null,null,709,null,null,null,0.01,null,0,0]
[null,null,null,710,null,null,null,0.01,null,0,0]
[null,null,null,714,null,null,null,0.01,null,0,0]
[null,null,null,720,null,null,null,0.01,null,0,0]
[null,null,null,725,null,null,null,0.01,null,0,0]
[null,null,null,729,null,null,null,0.01,null,0,0]
[null,null,null,735,null,null,null,0.01,null,0,0]
[null,null,null,740,null,null,null,0.01,null,0,0]
[null,null,null,746,null,null,null,0.01,null,0,0]
[null,null,null,748,null,null,null,0.01,null,0,0]
[null,null,null,755,null,null,null,0.01,null,0,0]
[null,null,null,761,null,null,null,0.01,null,0,0]
[null,null,null,766,null,null,null,0.01,null,0,0]
[null,null,null,771,null,null,null,0.01,null,0,0]
[null,null,null,773,null,null,null,0.01,null,0,0]
[null,null,null,776,null,null,null,0.01,null,0,0]
[null,null,null,782,null,null,null,0.01,null,0,0]
[null,null,null,787,null,null,null,0.01,null,0,0]
[null,null,null,792,null,null,null,0.01,null,0,0]
[null,null,null,797,null,null,null,0.01,null,0,0]
[null,null,null,802,null,null,null,0.01,null,0,0]
[null,null,null,808,null,null,null,0.01,null,0,{"$f":"IF(I10831-J10831<0,0,I10831-J10831)","v":0}]
[null,null,null,811,null,null,null,0.01,null,0,0]
[null,null,null,817,null,null,null,0.01,null,0,0]
[null,null,null,823,null,null,null,0.01,null,0,0]
[null,null,null,828,null,null,null,0.01,null,0,0]
[null,null,null,833,null,null,null,0.01,null,{"$f":"$I$12030*H10856","v":0},0]
[null,null,null,836,null,null,null,0.01,null,0,0]
[null,null,null,838,null,null,null,0.01,null,0,0]
[null,null,null,844,null,null,null,0.01,null,0,0]
[null,null,null,849,null,null,null,0.01,null,0,0]
[null,null,null,855,null,null,null,0.01,null,0,0]
[null,null,null,859,null,null,null,0.01,null,0,0]
[null,null,null,864,null,null,null,0.01,null,0,0]
[null,null,null,869,null,null,null,0.01,null,0,0]
[null,null,null,874,null,null,null,0.01,null,0,0]
[null,null,null,879,null,null,null,0.01,null,0,0]
[null,null,null,885,null,null,null,0.01,null,0,0]
[null,null,null,890,null,null,null,0.01,null,0,0]
[null,null,null,895,null,null,null,0.01,null,0,0]
[null,null,null,899,null,null,null,0.01,null,0,0]
[null,null,null,900,null,null,null,0.01,null,0,0]
[null,null,null,906,null,null,null,0.01,null,0,0]
[null,null,null,911,null,null,null,0.01,null,0,0]
[null,null,null,918,null,null,null,0.01,null,0,0]
[null,null,null,921,null,null,null,0.01,null,0,0]
[null,null,null,926,null,null,null,0.01,null,0,0]
[null,null,null,931,null,null,null,0.01,null,0,0]
[null,null,null,937,null,null,null,0.01,null,0,0]
[null,null,null,941,null,null,null,0.01,null,0,0]
[null,null,null,947,null,null,null,0.01,null,0,0]
[null,null,null,952,null,null,null,0.01,null,0,0]
[null,null,null,957,null,null,null,0.01,null,0,0]
[null,null,null,958,null,null,null,0.01,null,0,0]
[null,null,null,962,null,null,null,0.01,null,0,0]
[null,null,null,968,null,null,null,0.01,null,0,0]
[null,null,null,973,null,null,null,0.01,null,0,0]
[null,null,null,977,null,null,null,0.01,null,0,0]
[null,null,null,983,null,null,null,0.01,null,0,0]
[null,null,null,988,null,null,null,0.01,null,0,0]
[null,null,null,993,null,null,null,0.01,null,0,0]
[null,null,null,996,null,null,null,0.01,null,0,0]
[null,null,"(ก)","ลูกหนี้แต่ละราย"]
[null,null,null,6,null,null,null,0.01,null,0,0]
[null,null,null,11,null,null,null,0.01,null,0,0]
[null,null,null,16,null,null,null,0.01,null,0,0]
[null,null,null,18,null,null,null,0.01,null,0,0]
[null,null,null,21,null,null,null,0.01,null,0,0]
[null,null,null,26,null,null,null,0.01,null,0,0]
[null,null,null,32,null,null,null,0.01,null,0,0]
[null,null,null,37,null,null,null,0.01,null,0,0]
[null,null,null,42,null,null,null,0.01,null,0,0]
[null,null,null,47,null,null,null,0.01,null,0,0]
[null,null,null,52,null,null,null,0.01,null,0,0]
[null,null,null,56,null,null,null,0.01,null,0,0]
[null,null,null,62,null,null,null,0.01,null,0,0]
[null,null,null,68,null,null,null,0.01,null,0,0]
[null,null,null,73,null,null,null,0.01,null,0,0]
[null,null,null,78,null,null,null,0.01,null,0,0]
[null,null,null,81,null,null,null,0.01,null,0,0]
[null,null,null,83,null,null,null,0.01,null,0,0]
[null,null,null,88,null,null,null,0.01,null,0,0]
[null,null,null,94,null,null,null,0.01,null,0,0]
[null,null,null,100,null,null,null,0.01,null,0,{"$f":"MAX(0,(I11126-J11126)*0.8)","v":0}]
[null,null,null,104,null,null,null,0.01,null,0,0]
[null,null,null,109,null,null,null,0.01,null,0,0]
[null,null,null,114,null,null,null,0.01,null,0,0]
[null,null,null,119,null,null,null,0.01,null,0,0]
[null,null,null,124,null,null,null,0.01,null,0,0]
[null,null,null,129,null,null,null,0.01,null,{"$f":"$I$12030*H11155","v":0},0]
[null,null,null,135,null,null,null,0.01,null,0,0]
[null,null,null,140,null,null,null,0.01,null,0,0]
[null,null,null,144,null,null,null,0.01,null,0,0]
[null,null,null,145,null,null,null,0.01,null,0,0]
[null,null,null,150,null,null,null,0.01,null,0,0]
[null,null,null,156,null,null,null,0.01,null,0,0]
[null,null,null,163,null,null,null,0.01,null,0,0]
[null,null,null,166,null,null,null,0.01,null,0,0]
[null,null,null,171,null,null,null,0.01,null,0,0]
[null,null,null,176,null,null,null,0.01,null,0,0]
[null,null,null,182,null,null,null,0.01,null,0,0]
[null,null,null,186,null,null,null,0.01,null,0,0]
[null,null,null,191,null,null,null,0.01,null,0,0]
[null,null,null,197,null,null,null,0.01,null,0,0]
[null,null,null,202,null,null,null,0.01,null,0,0]
[null,null,null,203,null,null,null,0.01,null,0,0]
[null,null,null,207,null,null,null,0.01,null,0,0]
[null,null,null,212,null,null,null,0.01,null,0,0]
[null,null,null,218,null,null,null,0.01,null,0,0]
[null,null,null,222,null,null,null,0.01,null,0,0]
[null,null,null,228,null,null,null,0.01,null,0,0]
[null,null,null,233,null,null,null,0.01,null,0,0]
[null,null,null,238,null,null,null,0.01,null,0,0]
[null,null,null,241,null,null,null,0.01,null,0,0]
[null,null,null,248,null,null,null,0.01,null,0,0]
[null,null,null,253,null,null,null,0.01,null,0,0]
[null,null,null,259,null,null,null,0.01,null,0,{"$f":"MAX(0,(I11285-J11285)*0.84)","v":0}]
[null,null,null,264,null,null,null,0.01,null,0,0]
[null,null,null,266,null,null,null,0.01,null,0,0]
[null,null,null,269,null,null,null,0.01,null,0,0]
[null,null,null,274,null,null,null,0.01,null,0,0]
[null,null,null,280,null,null,null,0.01,null,0,0]
[null,null,null,285,null,null,null,0.01,null,0,0]
[null,null,null,289,null,null,null,0.01,null,0,0]
[null,null,null,295,null,null,null,0.01,null,0,0]
[null,null,null,300,null,null,null,0.01,null,0,0]
[null,null,null,304,null,null,null,0.01,null,0,0]
[null,null,null,310,null,null,null,0.01,null,0,0]
[null,null,null,315,null,null,null,0.01,null,0,0]
[null,null,null,321,null,null,null,0.01,null,{"$f":"$I$12030*H11347","v":0},0]
[null,null,null,326,null,null,null,0.01,null,0,0]
[null,null,null,329,null,null,null,0.01,null,0,0]
[null,null,null,331,null,null,null,0.01,null,0,0]
[null,null,null,336,null,null,null,0.01,null,0,0]
[null,null,null,342,null,null,null,0.01,null,0,0]
[null,null,null,348,null,null,null,0.01,null,0,0]
[null,null,null,351,null,null,null,0.01,null,0,0]
[null,null,null,357,null,null,null,0.01,null,0,0]
[null,null,null,362,null,null,null,0.01,null,0,0]
[null,null,null,367,null,null,null,0.01,null,0,0]
[null,null,null,372,null,null,null,0.01,null,0,0]
[null,null,null,377,null,null,null,0.01,null,0,0]
[null,null,null,383,null,null,null,0.01,null,0,0]
[null,null,null,388,null,null,null,0.01,null,0,0]
[null,null,null,392,null,null,null,0.01,null,0,0]
[null,null,null,393,null,null,null,0.01,null,0,0]
[null,null,null,398,null,null,null,0.01,null,0,0]
[null,null,null,404,null,null,null,0.01,null,0,0]
[null,null,null,411,null,null,null,0.01,null,0,0]
[null,null,null,413,null,null,null,0.01,null,0,0]
[null,null,null,419,null,null,null,0.01,null,0,0]
[null,null,null,424,null,null,null,0.01,null,0,0]
[null,null,null,430,null,null,null,0.01,null,0,0]
[null,null,null,434,null,null,null,0.01,null,0,0]
[null,null,null,439,null,null,null,0.01,null,0,0]
[null,null,null,445,null,null,null,0.01,null,0,0]
[null,null,null,450,null,null,null,0.01,null,0,0]
[null,null,null,451,null,null,null,0.01,null,0,0]
[null,null,null,455,null,null,null,0.01,null,0,0]
[null,null,null,460,null,null,null,0.01,null,0,0]
[null,null,null,466,null,null,null,0.01,null,0,0]
[null,null,null,470,null,null,null,0.01,null,0,0]
[null,null,null,475,null,null,null,0.01,null,0,0]
[null,null,null,481,null,null,null,0.01,null,0,0]
[null,null,null,486,null,null,null,0.01,null,0,0]
[null,null,null,489,null,null,null,0.01,null,0,0]
[null,null,null,496,null,null,null,0.01,null,0,0]
[null,null,null,501,null,null,null,0.01,null,0,0]
[null,null,null,507,null,null,null,0.01,null,0,0]
[null,null,null,512,null,null,null,0.01,null,0,0]
[null,null,null,513,null,null,null,0.01,null,{"$f":"$I$12030*H11539","v":0},0]
[null,null,null,514,null,null,null,0.01,null,0,0]
[null,null,null,515,null,null,null,0.01,null,0,0]
[null,null,null,516,null,null,null,0.01,null,0,0]
[null,null,null,517,null,null,null,0.01,null,0,0]
[null,null,null,518,null,null,null,0.01,null,0,0]
[null,null,null,519,null,null,null,0.01,null,0,0]
[null,null,null,520,null,null,null,0.01,null,0,0]
[null,null,null,521,null,null,null,0.01,null,0,0]
[null,null,null,522,null,null,null,0.01,null,0,0]
[null,null,null,523,null,null,null,0.01,null,0,0]
[null,null,null,524,null,null,null,0.01,null,0,0]
[null,null,null,525,null,null,null,0.01,null,0,0]
[null,null,null,526,null,null,null,0.01,null,0,0]
[null,null,null,527,null,null,null,0.01,null,0,0]
[null,null,null,528,null,null,null,0.01,null,0,0]
[null,null,null,529,null,null,null,0.01,null,0,0]
[null,null,null,530,null,null,null,0.01,null,0,0]
[null,null,null,531,null,null,null,0.01,null,0,0]
[null,null,null,532,null,null,null,0.01,null,0,0]
[null,null,null,533,null,null,null,0.01,null,0,0]
[null,null,null,534,null,null,null,0.01,null,0,0]
[null,null,null,535,null,null,null,0.01,null,0,0]
[null,null,null,536,null,null,null,0.01,null,0,0]
[null,null,null,537,null,null,null,0.01,null,0,0]
[null,null,null,538,null,null,null,0.01,null,0,0]
[null,null,null,539,null,null,null,0.01,null,0,0]
[null,null,null,540,null,null,null,0.01,null,0,0]
[null,null,null,541,null,null,null,0.01,null,0,0]
[null,null,null,542,null,null,null,0.01,null,0,0]
[null,null,null,543,null,null,null,0.01,null,0,0]
[null,null,null,544,null,null,null,0.01,null,0,0]
[null,null,null,545,null,null,null,0.01,null,0,0]
[null,null,null,546,null,null,null,0.01,null,0,0]
[null,null,null,547,null,null,null,0.01,null,0,0]
[null,null,null,548,null,null,null,0.01,null,0,0]
[null,null,null,549,null,null,null,0.01,null,0,0]
[null,null,null,550,null,null,null,0.01,null,0,{"$f":"IF(I11576-J11576<0,0,I11576-J11576)","v":0}]
[null,null,null,551,null,null,null,0.01,null,0,0]
[null,null,null,552,null,null,null,0.01,null,0,0]
[null,null,null,553,null,null,null,0.01,null,0,0]
[null,null,null,554,null,null,null,0.01,null,0,0]
[null,null,null,555,null,null,null,0.01,null,0,0]
[null,null,null,556,null,null,null,0.01,null,0,0]
[null,null,null,557,null,null,null,0.01,null,0,0]
[null,null,null,558,null,null,null,0.01,null,0,0]
[null,null,null,559,null,null,null,0.01,null,0,0]
[null,null,null,560,null,null,null,0.01,null,0,0]
[null,null,null,561,null,null,null,0.01,null,0,0]
[null,null,null,562,null,null,null,0.01,null,0,0]
[null,null,null,563,null,null,null,0.01,null,0,0]
[null,null,null,564,null,null,null,0.01,null,0,0]
[null,null,null,565,null,null,null,0.01,null,0,0]
[null,null,null,566,null,null,null,0.01,null,0,0]
[null,null,null,567,null,null,null,0.01,null,0,0]
[null,null,null,568,null,null,null,0.01,null,0,0]
[null,null,null,569,null,null,null,0.01,null,0,0]
[null,null,null,570,null,null,null,0.01,null,0,0]
[null,null,null,571,null,null,null,0.01,null,0,0]
[null,null,null,572,null,null,null,0.01,null,0,0]
[null,null,null,573,null,null,null,0.01,null,0,0]
[null,null,null,574,null,null,null,0.01,null,0,0]
[null,null,null,575,null,null,null,0.01,null,0,0]
[null,null,null,576,null,null,null,0.01,null,0,0]
[null,null,null,577,null,null,null,0.01,null,{"$f":"$I$12030*H11603","v":0},0]
[null,null,null,578,null,null,null,0.01,null,0,0]
[null,null,null,579,null,null,null,0.01,null,0,0]
[null,null,null,580,null,null,null,0.01,null,0,0]
[null,null,null,581,null,null,null,0.01,null,0,0]
[null,null,null,582,null,null,null,0.01,null,0,0]
[null,null,null,583,null,null,null,0.01,null,0,0]
[null,null,null,584,null,null,null,0.01,null,0,0]
[null,null,null,585,null,null,null,0.01,null,0,0]
[null,null,null,586,null,null,null,0.01,null,0,0]
[null,null,null,587,null,null,null,0.01,null,0,0]
[null,null,null,588,null,null,null,0.01,null,0,0]
[null,null,null,589,null,null,null,0.01,null,0,0]
[null,null,null,590,null,null,null,0.01,null,0,0]
[null,null,null,591,null,null,null,0.01,null,0,0]
[null,null,null,592,null,null,null,0.01,null,0,0]
[null,null,null,593,null,null,null,0.01,null,0,0]
[null,null,null,594,null,null,null,0.01,null,0,0]
[null,null,null,595,null,null,null,0.01,null,0,0]
[null,null,null,596,null,null,null,0.01,null,0,0]
[null,null,null,597,null,null,null,0.01,null,0,0]
[null,null,null,598,null,null,null,0.01,null,0,0]
[null,null,null,599,null,null,null,0.01,null,0,0]
[null,null,null,600,null,null,null,0.01,null,0,0]
[null,null,null,601,null,null,null,0.01,null,0,0]
[null,null,null,602,null,null,null,0.01,null,0,0]
[null,null,null,603,null,null,null,0.01,null,0,0]
[null,null,null,604,null,null,null,0.01,null,0,0]
[null,null,null,605,null,null,null,0.01,null,0,0]
[null,null,null,606,null,null,null,0.01,null,0,0]
[null,null,null,607,null,null,null,0.01,null,0,0]
[null,null,null,608,null,null,null,0.01,null,0,0]
[null,null,null,609,null,null,null,0.01,null,0,0]
[null,null,null,610,null,null,null,0.01,null,0,0]
[null,null,null,611,null,null,null,0.01,null,0,0]
[null,null,null,612,null,null,null,0.01,null,0,0]
[null,null,null,613,null,null,null,0.01,null,0,0]
[null,null,null,614,null,null,null,0.01,null,0,{"$f":"IF(I11640-J11640<0,0,I11640-J11640)","v":0}]
[null,null,null,615,null,null,null,0.01,null,0,0]
[null,null,null,616,null,null,null,0.01,null,0,0]
[null,null,null,617,null,null,null,0.01,null,0,0]
[null,null,null,618,null,null,null,0.01,null,0,0]
[null,null,null,619,null,null,null,0.01,null,0,0]
[null,null,null,620,null,null,null,0.01,null,0,0]
[null,null,null,621,null,null,null,0.01,null,0,0]
[null,null,null,622,null,null,null,0.01,null,0,0]
[null,null,null,623,null,null,null,0.01,null,0,0]
[null,null,null,624,null,null,null,0.01,null,0,0]
[null,null,null,625,null,null,null,0.01,null,0,0]
[null,null,null,626,null,null,null,0.01,null,0,0]
[null,null,null,627,null,null,null,0.01,null,0,0]
[null,null,null,628,null,null,null,0.01,null,0,0]
[null,null,null,629,null,null,null,0.01,null,0,0]
[null,null,null,630,null,null,null,0.01,null,0,0]
[null,null,null,631,null,null,null,0.01,null,0,0]
[null,null,null,632,null,null,null,0.01,null,0,0]
[null,null,null,633,null,null,null,0.01,null,0,0]
[null,null,null,634,null,null,null,0.01,null,0,0]
[null,null,null,635,null,null,null,0.01,null,0,0]
[null,null,null,636,null,null,null,0.01,null,0,0]
[null,null,null,637,null,null,null,0.01,null,0,0]
[null,null,null,638,null,null,null,0.01,null,0,0]
[null,null,null,639,null,null,null,0.01,null,0,0]
[null,null,null,640,null,null,null,0.01,null,0,0]
[null,null,null,641,null,null,null,0.01,null,{"$f":"$I$12030*H11667","v":0},0]
[null,null,null,642,null,null,null,0.01,null,0,0]
[null,null,null,643,null,null,null,0.01,null,0,0]
[null,null,null,644,null,null,null,0.01,null,0,0]
[null,null,null,645,null,null,null,0.01,null,0,0]
[null,null,null,646,null,null,null,0.01,null,0,0]
[null,null,null,647,null,null,null,0.01,null,0,0]
[null,null,null,648,null,null,null,0.01,null,0,0]
[null,null,null,649,null,null,null,0.01,null,0,0]
[null,null,null,650,null,null,null,0.01,null,0,0]
[null,null,null,651,null,null,null,0.01,null,0,0]
[null,null,null,652,null,null,null,0.01,null,0,0]
[null,null,null,653,null,null,null,0.01,null,0,0]
[null,null,null,654,null,null,null,0.01,null,0,0]
[null,null,null,655,null,null,null,0.01,null,0,0]
[null,null,null,656,null,null,null,0.01,null,0,0]
[null,null,null,657,null,null,null,0.01,null,0,0]
[null,null,null,658,null,null,null,0.01,null,0,0]
[null,null,null,659,null,null,null,0.01,null,0,0]
[null,null,null,660,null,null,null,0.01,null,0,0]
[null,null,null,661,null,null,null,0.01,null,0,0]
[null,null,null,662,null,null,null,0.01,null,0,0]
[null,null,null,663,null,null,null,0.01,null,0,0]
[null,null,null,664,null,null,null,0.01,null,0,0]
[null,null,null,665,null,null,null,0.01,null,0,0]
[null,null,null,666,null,null,null,0.01,null,0,0]
[null,null,null,667,null,null,null,0.01,null,0,0]
[null,null,null,668,null,null,null,0.01,null,0,0]
[null,null,null,669,null,null,null,0.01,null,0,0]
[null,null,null,670,null,null,null,0.01,null,0,0]
[null,null,null,671,null,null,null,0.01,null,0,0]
[null,null,null,672,null,null,null,0.01,null,0,0]
[null,null,null,673,null,null,null,0.01,null,0,0]
[null,null,null,674,null,null,null,0.01,null,0,0]
[null,null,null,675,null,null,null,0.01,null,0,0]
[null,null,null,676,null,null,null,0.01,null,0,0]
[null,null,null,677,null,null,null,0.01,null,0,0]
[null,null,null,678,null,null,null,0.01,null,0,0]
[null,null,null,679,null,null,null,0.01,null,0,0]
[null,null,null,680,null,null,null,0.01,null,0,{"$f":"IF(I11706-J11706<0,0,I11706-J11706)","v":0}]
[null,null,null,681,null,null,null,0.01,null,0,0]
[null,null,null,682,null,null,null,0.01,null,0,0]
[null,null,null,683,null,null,null,0.01,null,0,0]
[null,null,null,684,null,null,null,0.01,null,0,0]
[null,null,null,685,null,null,null,0.01,null,0,0]
[null,null,null,686,null,null,null,0.01,null,0,0]
[null,null,null,687,null,null,null,0.01,null,0,0]
[null,null,null,688,null,null,null,0.01,null,0,0]
[null,null,null,689,null,null,null,0.01,null,0,0]
[null,null,null,690,null,null,null,0.01,null,0,0]
[null,null,null,691,null,null,null,0.01,null,0,0]
[null,null,null,692,null,null,null,0.01,null,0,0]
[null,null,null,693,null,null,null,0.01,null,0,0]
[null,null,null,694,null,null,null,0.01,null,0,0]
[null,null,null,695,null,null,null,0.01,null,0,0]
[null,null,null,696,null,null,null,0.01,null,0,0]
[null,null,null,697,null,null,null,0.01,null,0,0]
[null,null,null,698,null,null,null,0.01,null,0,0]
[null,null,null,699,null,null,null,0.01,null,0,0]
[null,null,null,700,null,null,null,0.01,null,0,0]
[null,null,null,701,null,null,null,0.01,null,0,0]
[null,null,null,702,null,null,null,0.01,null,0,0]
[null,null,null,703,null,null,null,0.01,null,0,0]
[null,null,null,704,null,null,null,0.01,null,0,0]
[null,null,null,705,null,null,null,0.01,null,{"$f":"$I$12030*H11731","v":0},0]
[null,null,null,706,null,null,null,0.01,null,0,0]
[null,null,null,707,null,null,null,0.01,null,0,0]
[null,null,null,708,null,null,null,0.01,null,0,0]
[null,null,null,709,null,null,null,0.01,null,0,0]
[null,null,null,710,null,null,null,0.01,null,0,0]
[null,null,null,711,null,null,null,0.01,null,0,0]
[null,null,null,712,null,null,null,0.01,null,0,0]
[null,null,null,713,null,null,null,0.01,null,0,0]
[null,null,null,714,null,null,null,0.01,null,0,0]
[null,null,null,715,null,null,null,0.01,null,0,0]
[null,null,null,716,null,null,null,0.01,null,0,0]
[null,null,null,717,null,null,null,0.01,null,0,0]
[null,null,null,718,null,null,null,0.01,null,0,0]
[null,null,null,719,null,null,null,0.01,null,0,0]
[null,null,null,720,null,null,null,0.01,null,0,0]
[null,null,null,721,null,null,null,0.01,null,0,0]
[null,null,null,722,null,null,null,0.01,null,0,0]
[null,null,null,723,null,null,null,0.01,null,0,0]
[null,null,null,724,null,null,null,0.01,null,0,0]
[null,null,null,725,null,null,null,0.01,null,0,0]
[null,null,null,726,null,null,null,0.01,null,0,0]
[null,null,null,727,null,null,null,0.01,null,0,0]
[null,null,null,728,null,null,null,0.01,null,0,0]
[null,null,null,729,null,null,null,0.01,null,0,0]
[null,null,null,730,null,null,null,0.01,null,0,0]
[null,null,null,731,null,null,null,0.01,null,0,0]
[null,null,null,732,null,null,null,0.01,null,0,0]
[null,null,null,733,null,null,null,0.01,null,0,0]
[null,null,null,734,null,null,null,0.01,null,0,0]
[null,null,null,735,null,null,null,0.01,null,0,0]
[null,null,null,736,null,null,null,0.01,null,0,0]
[null,null,null,737,null,null,null,0.01,null,0,0]
[null,null,null,738,null,null,null,0.01,null,0,0]
[null,null,null,739,null,null,null,0.01,null,0,0]
[null,null,null,740,null,null,null,0.01,null,0,0]
[null,null,null,741,null,null,null,0.01,null,0,0]
[null,null,null,742,null,null,null,0.01,null,0,0]
[null,null,null,743,null,null,null,0.01,null,0,0]
[null,null,null,744,null,null,null,0.01,null,0,{"$f":"IF(I11770-J11770<0,0,I11770-J11770)","v":0}]
[null,null,null,745,null,null,null,0.01,null,0,0]
[null,null,null,746,null,null,null,0.01,null,0,0]
[null,null,null,747,null,null,null,0.01,null,0,0]
[null,null,null,748,null,null,null,0.01,null,0,0]
[null,null,null,749,null,null,null,0.01,null,0,0]
[null,null,null,750,null,null,null,0.01,null,0,0]
[null,null,null,751,null,null,null,0.01,null,0,0]
[null,null,null,752,null,null,null,0.01,null,0,0]
[null,null,null,753,null,null,null,0.01,null,0,0]
[null,null,null,754,null,null,null,0.01,null,0,0]
[null,null,null,755,null,null,null,0.01,null,0,0]
[null,null,null,756,null,null,null,0.01,null,0,0]
[null,null,null,757,null,null,null,0.01,null,0,0]
[null,null,null,758,null,null,null,0.01,null,0,0]
[null,null,null,759,null,null,null,0.01,null,0,0]
[null,null,null,760,null,null,null,0.01,null,0,0]
[null,null,null,761,null,null,null,0.01,null,0,0]
[null,null,null,762,null,null,null,0.01,null,0,0]
[null,null,null,763,null,null,null,0.01,null,0,0]
[null,null,null,764,null,null,null,0.01,null,0,0]
[null,null,null,765,null,null,null,0.01,null,0,0]
[null,null,null,766,null,null,null,0.01,null,0,0]
[null,null,null,767,null,null,null,0.01,null,0,0]
[null,null,null,768,null,null,null,0.01,null,0,0]
[null,null,null,769,null,null,null,0.01,null,{"$f":"$I$12030*H11795","v":0},0]
[null,null,null,770,null,null,null,0.01,null,0,0]
[null,null,null,771,null,null,null,0.01,null,0,0]
[null,null,null,772,null,null,null,0.01,null,0,0]
[null,null,null,773,null,null,null,0.01,null,0,0]
[null,null,null,774,null,null,null,0.01,null,0,0]
[null,null,null,775,null,null,null,0.01,null,0,0]
[null,null,null,776,null,null,null,0.01,null,0,0]
[null,null,null,777,null,null,null,0.01,null,0,0]
[null,null,null,778,null,null,null,0.01,null,0,0]
[null,null,null,779,null,null,null,0.01,null,0,0]
[null,null,null,780,null,null,null,0.01,null,0,0]
[null,null,null,781,null,null,null,0.01,null,0,0]
[null,null,null,782,null,null,null,0.01,null,0,0]
[null,null,null,783,null,null,null,0.01,null,0,0]
[null,null,null,784,null,null,null,0.01,null,0,0]
[null,null,null,785,null,null,null,0.01,null,0,0]
[null,null,null,786,null,null,null,0.01,null,0,0]
[null,null,null,787,null,null,null,0.01,null,0,0]
[null,null,null,788,null,null,null,0.01,null,0,0]
[null,null,null,789,null,null,null,0.01,null,0,0]
[null,null,null,790,null,null,null,0.01,null,0,0]
[null,null,null,791,null,null,null,0.01,null,0,0]
[null,null,null,792,null,null,null,0.01,null,0,0]
[null,null,null,793,null,null,null,0.01,null,0,0]
[null,null,null,794,null,null,null,0.01,null,0,0]
[null,null,null,795,null,null,null,0.01,null,0,0]
[null,null,null,796,null,null,null,0.01,null,0,0]
[null,null,null,797,null,null,null,0.01,null,0,0]
[null,null,null,798,null,null,null,0.01,null,0,0]
[null,null,null,799,null,null,null,0.01,null,0,0]
[null,null,null,800,null,null,null,0.01,null,0,0]
[null,null,null,801,null,null,null,0.01,null,0,0]
[null,null,null,802,null,null,null,0.01,null,0,0]
[null,null,null,803,null,null,null,0.01,null,0,0]
[null,null,null,804,null,null,null,0.01,null,0,0]
[null,null,null,805,null,null,null,0.01,null,0,0]
[null,null,null,806,null,null,null,0.01,null,0,0]
[null,null,null,807,null,null,null,0.01,null,0,0]
[null,null,null,808,null,null,null,0.01,null,0,{"$f":"IF(I11834-J11834<0,0,I11834-J11834)","v":0}]
[null,null,null,809,null,null,null,0.01,null,0,0]
[null,null,null,810,null,null,null,0.01,null,0,0]
[null,null,null,811,null,null,null,0.01,null,0,0]
[null,null,null,812,null,null,null,0.01,null,0,0]
[null,null,null,813,null,null,null,0.01,null,0,0]
[null,null,null,814,null,null,null,0.01,null,0,0]
[null,null,null,815,null,null,null,0.01,null,0,0]
[null,null,null,816,null,null,null,0.01,null,0,0]
[null,null,null,817,null,null,null,0.01,null,0,0]
[null,null,null,818,null,null,null,0.01,null,0,0]
[null,null,null,819,null,null,null,0.01,null,0,0]
[null,null,null,820,null,null,null,0.01,null,0,0]
[null,null,null,821,null,null,null,0.01,null,0,0]
[null,null,null,822,null,null,null,0.01,null,0,0]
[null,null,null,823,null,null,null,0.01,null,0,0]
[null,null,null,824,null,null,null,0.01,null,0,0]
[null,null,null,825,null,null,null,0.01,null,0,0]
[null,null,null,826,null,null,null,0.01,null,0,0]
[null,null,null,827,null,null,null,0.01,null,0,0]
[null,null,null,828,null,null,null,0.01,null,0,0]
[null,null,null,829,null,null,null,0.01,null,0,0]
[null,null,null,830,null,null,null,0.01,null,0,0]
[null,null,null,831,null,null,null,0.01,null,0,0]
[null,null,null,832,null,null,null,0.01,null,0,0]
[null,null,null,833,null,null,null,0.01,null,{"$f":"$I$12030*H11859","v":0},0]
[null,null,null,834,null,null,null,0.01,null,0,0]
[null,null,null,835,null,null,null,0.01,null,0,0]
[null,null,null,836,null,null,null,0.01,null,0,0]
[null,null,null,837,null,null,null,0.01,null,0,0]
[null,null,null,838,null,null,null,0.01,null,0,0]
[null,null,null,839,null,null,null,0.01,null,0,0]
[null,null,null,840,null,null,null,0.01,null,0,0]
[null,null,null,841,null,null,null,0.01,null,0,0]
[null,null,null,842,null,null,null,0.01,null,0,0]
[null,null,null,843,null,null,null,0.01,null,0,0]
[null,null,null,844,null,null,null,0.01,null,0,0]
[null,null,null,845,null,null,null,0.01,null,0,0]
[null,null,null,846,null,null,null,0.01,null,0,0]
[null,null,null,847,null,null,null,0.01,null,0,0]
[null,null,null,848,null,null,null,0.01,null,0,0]
[null,null,null,849,null,null,null,0.01,null,0,0]
[null,null,null,850,null,null,null,0.01,null,0,0]
[null,null,null,851,null,null,null,0.01,null,0,0]
[null,null,null,852,null,null,null,0.01,null,0,0]
[null,null,null,853,null,null,null,0.01,null,0,0]
[null,null,null,854,null,null,null,0.01,null,0,0]
[null,null,null,855,null,null,null,0.01,null,0,0]
[null,null,null,856,null,null,null,0.01,null,0,0]
[null,null,null,857,null,null,null,0.01,null,0,0]
[null,null,null,858,null,null,null,0.01,null,0,0]
[null,null,null,859,null,null,null,0.01,null,0,0]
[null,null,null,860,null,null,null,0.01,null,0,0]
[null,null,null,861,null,null,null,0.01,null,0,0]
[null,null,null,862,null,null,null,0.01,null,0,0]
[null,null,null,863,null,null,null,0.01,null,0,0]
[null,null,null,864,null,null,null,0.01,null,0,0]
[null,null,null,865,null,null,null,0.01,null,0,0]
[null,null,null,866,null,null,null,0.01,null,0,0]
[null,null,null,867,null,null,null,0.01,null,0,0]
[null,null,null,868,null,null,null,0.01,null,0,0]
[null,null,null,869,null,null,null,0.01,null,0,0]
[null,null,null,870,null,null,null,0.01,null,0,0]
[null,null,null,871,null,null,null,0.01,null,0,0]
[null,null,null,872,null,null,null,0.01,null,0,{"$f":"IF(I11898-J11898<0,0,I11898-J11898)","v":0}]
[null,null,null,873,null,null,null,0.01,null,0,0]
[null,null,null,874,null,null,null,0.01,null,0,0]
[null,null,null,875,null,null,null,0.01,null,0,0]
[null,null,null,876,null,null,null,0.01,null,0,0]
[null,null,null,877,null,null,null,0.01,null,0,0]
[null,null,null,878,null,null,null,0.01,null,0,0]
[null,null,null,879,null,null,null,0.01,null,0,0]
[null,null,null,880,null,null,null,0.01,null,0,0]
[null,null,null,881,null,null,null,0.01,null,0,0]
[null,null,null,882,null,null,null,0.01,null,0,0]
[null,null,null,883,null,null,null,0.01,null,0,0]
[null,null,null,884,null,null,null,0.01,null,0,0]
[null,null,null,885,null,null,null,0.01,null,0,0]
[null,null,null,886,null,null,null,0.01,null,0,0]
[null,null,null,887,null,null,null,0.01,null,0,0]
[null,null,null,888,null,null,null,0.01,null,0,0]
[null,null,null,889,null,null,null,0.01,null,0,0]
[null,null,null,890,null,null,null,0.01,null,0,0]
[null,null,null,891,null,null,null,0.01,null,0,0]
[null,null,null,892,null,null,null,0.01,null,0,0]
[null,null,null,893,null,null,null,0.01,null,0,0]
[null,null,null,894,null,null,null,0.01,null,0,0]
[null,null,null,895,null,null,null,0.01,null,0,0]
[null,null,null,896,null,null,null,0.01,null,0,0]
[null,null,null,897,null,null,null,0.01,null,{"$f":"$I$12030*H11923","v":0},0]
[null,null,null,898,null,null,null,0.01,null,0,0]
[null,null,null,899,null,null,null,0.01,null,0,0]
[null,null,null,900,null,null,null,0.01,null,0,0]
[null,null,null,901,null,null,null,0.01,null,0,0]
[null,null,null,902,null,null,null,0.01,null,0,0]
[null,null,null,903,null,null,null,0.01,null,0,0]
[null,null,null,904,null,null,null,0.01,null,0,0]
[null,null,null,905,null,null,null,0.01,null,0,0]
[null,null,null,906,null,null,null,0.01,null,0,0]
[null,null,null,907,null,null,null,0.01,null,0,0]
[null,null,null,908,null,null,null,0.01,null,0,0]
[null,null,null,909,null,null,null,0.01,null,0,0]
[null,null,null,910,null,null,null,0.01,null,0,0]
[null,null,null,911,null,null,null,0.01,null,0,0]
[null,null,null,912,null,null,null,0.01,null,0,0]
[null,null,null,913,null,null,null,0.01,null,0,0]
[null,null,null,914,null,null,null,0.01,null,0,0]
[null,null,null,915,null,null,null,0.01,null,0,0]
[null,null,null,916,null,null,null,0.01,null,0,0]
[null,null,null,917,null,null,null,0.01,null,0,0]
[null,null,null,918,null,null,null,0.01,null,0,0]
[null,null,null,919,null,null,null,0.01,null,0,0]
[null,null,null,920,null,null,null,0.01,null,0,0]
[null,null,null,921,null,null,null,0.01,null,0,0]
[null,null,null,922,null,null,null,0.01,null,0,0]
[null,null,null,923,null,null,null,0.01,null,0,0]
[null,null,null,924,null,null,null,0.01,null,0,0]
[null,null,null,925,null,null,null,0.01,null,0,0]
[null,null,null,926,null,null,null,0.01,null,0,0]
[null,null,null,927,null,null,null,0.01,null,0,0]
[null,null,null,928,null,null,null,0.01,null,0,0]
[null,null,null,929,null,null,null,0.01,null,0,0]
[null,null,null,930,null,null,null,0.01,null,0,0]
[null,null,null,931,null,null,null,0.01,null,0,0]
[null,null,null,932,null,null,null,0.01,null,0,0]
[null,null,null,933,null,null,null,0.01,null,0,0]
[null,null,null,934,null,null,null,0.01,null,0,0]
[null,null,null,935,null,null,null,0.01,null,0,0]
[null,null,null,936,null,null,null,0.01,null,0,{"$f":"IF(I11962-J11962<0,0,I11962-J11962)","v":0}]
[null,null,null,937,null,null,null,0.01,null,0,0]
[null,null,null,938,null,null,null,0.01,null,0,0]
[null,null,null,939,null,null,null,0.01,null,0,0]
[null,null,null,940,null,null,null,0.01,null,0,0]
[null,null,null,941,null,null,null,0.01,null,0,0]
[null,null,null,942,null,null,null,0.01,null,0,0]
[null,null,null,943,null,null,null,0.01,null,0,0]
[null,null,null,944,null,null,null,0.01,null,0,0]
[null,null,null,945,null,null,null,0.01,null,0,0]
[null,null,null,946,null,null,null,0.01,null,0,0]
[null,null,null,947,null,null,null,0.01,null,0,0]
[null,null,null,948,null,null,null,0.01,null,0,0]
[null,null,null,949,null,null,null,0.01,null,0,0]
[null,null,null,950,null,null,null,0.01,null,0,0]
[null,null,null,951,null,null,null,0.01,null,0,0]
[null,null,null,952,null,null,null,0.01,null,0,0]
[null,null,null,953,null,null,null,0.01,null,0,0]
[null,null,null,954,null,null,null,0.01,null,0,0]
[null,null,null,955,null,null,null,0.01,null,0,0]
[null,null,null,956,null,null,null,0.01,null,0,0]
[null,null,null,957,null,null,null,0.01,null,0,0]
[null,null,null,958,null,null,null,0.01,null,0,0]
[null,null,null,959,null,null,null,0.01,null,0,0]
[null,null,null,960,null,null,null,0.01,null,0,0]
[null,null,null,961,null,null,null,0.01,null,{"$f":"$I$12030*H11987","v":0},0]
[null,null,null,962,null,null,null,0.01,null,0,0]
[null,null,null,963,null,null,null,0.01,null,0,0]
[null,null,null,964,null,null,null,0.01,null,0,0]
[null,null,null,965,null,null,null,0.01,null,0,0]
[null,null,null,966,null,null,null,0.01,null,0,0]
[null,null,null,967,null,null,null,0.01,null,0,0]
[null,null,null,968,null,null,null,0.01,null,0,0]
[null,null,null,969,null,null,null,0.01,null,0,0]
[null,null,null,970,null,null,null,0.01,null,0,0]
[null,null,null,971,null,null,null,0.01,null,0,0]
[null,null,null,972,null,null,null,0.01,null,0,0]
[null,null,null,973,null,null,null,0.01,null,0,0]
[null,null,null,974,null,null,null,0.01,null,0,0]
[null,null,null,975,null,null,null,0.01,null,0,0]
[null,null,null,976,null,null,null,0.01,null,0,0]
[null,null,null,977,null,null,null,0.01,null,0,0]
[null,null,null,978,null,null,null,0.01,null,0,0]
[null,null,null,979,null,null,null,0.01,null,0,0]
[null,null,null,980,null,null,null,0.01,null,0,0]
[null,null,null,981,null,null,null,0.01,null,0,0]
[null,null,null,982,null,null,null,0.01,null,0,0]
[null,null,null,983,null,null,null,0.01,null,0,0]
[null,null,null,984,null,null,null,0.01,null,0,0]
[null,null,null,985,null,null,null,0.01,null,0,0]
[null,null,null,986,null,null,null,0.01,null,0,0]
[null,null,null,987,null,null,null,0.01,null,0,0]
[null,null,null,988,null,null,null,0.01,null,0,0]
[null,null,null,989,null,null,null,0.01,null,0,0]
[null,null,null,990,null,null,null,0.01,null,0,0]
[null,null,null,991,null,null,null,0.01,null,0,0]
[null,null,null,992,null,null,null,0.01,null,0,0]
[null,null,null,993,null,null,null,0.01,null,0,0]
[null,null,null,994,null,null,null,0.01,null,0,0]
[null,null,null,995,null,null,null,0.01,null,0,0]
[null,null,null,996,null,null,null,0.01,null,0,0]
[null,null,null,997,null,null,null,0.01,null,0,0]
[null,null,null,998,null,null,null,0.01,null,0,0]
[null,null,null,999,null,null,null,0.01,null,0,0]
[null,null,null,1000,null,null,null,0.01,null,0,{"$f":"IF(I12026-J12026<0,0,I12026-J12026)","v":0}]
[null,null,"(ข)","รวมลูกหนี้ทุกราย",null,null,null,2.5000000000000001E-2,{"$f":"SUM(I11027:I12026)","v":0},0,{"$f":"IF(I12027-J12027<0,0,MAX((I12027-J12027)-SUM(K11027:K12026),0))","v":0}]
[null,6,"อสังหาริมทรัพย์และทรัพย์สินดำเนินงาน",null,null,null,null,0.15,null,0,{"$f":"IF(I12028-J12028<0,0,I12028-J12028)","v":0}]
[null,7,"สินทรัพย์ลงทุนที่เป็นสกุลเงินตราต่างประเทศ (รวมทุกสกุลเงิน)",null,null,null,null,0.2,null,0,{"$f":"IF(I12029-J12029<0,0,I12029-J12029)","v":0}]
[null,8,"สินทรัพย์รวม (มูลค่าตามประกาศ คปภ. ว่าด้วยการประเมินราคาทรัพย์สินและหนี้สินของบริษัทประกันชีวิต)",null,null,null,null,null,{"$f":"'แบบฟอร์มที่ 3 - 3.1'!H126","v":0},"รวม",{"$f":"SUM($K$12:$K$12029)","v":0}]
[null,9,"การประกันภัยต่อ"]
[null,null,"(ก)","เงินกองทุนสำหรับความเสียงด้านการกระจุกตัวจากการเอาประกันภัยต่อกับผู้รับประกันภัยต่อในประเทศ",null,null,null,null,null,null,{"$f":"'แบบฟอร์มที่ 8'!$ALU$23","v":0}]
[null,null,"(ข)","เงินกองทุนสำหรับความเสี่ยงด้านการกระจุกตัวจากการเอาประกันภัยต่อกับผู้รับประกันภัยต่อต่างประเทศ",null,null,null,null,null,null,{"$f":"'แบบฟอร์มที่ 8'!$ALU$42","v":0}]
[null,10,"รวมเงินกองทุนสำหรับความเสี่ยงด้านการกระจุกตัวจากการประกันภัยต่อ",null,null,null,null,null,null,null,{"$f":"SUM($K$12032:$K$12033)","v":0}]
[null,11,"รวมเงินกองทุนสำหรับความเสี่ยงด้านการกระจุกตัว",null,null,null,null,null,null,null,{"$f":"$K$12030+$K$12034","v":0}]
[]
[]
[null,null,null,"  "]

{"sheet":"แบบฟอร์มที่ 10","index":22,"n_rows":8,"n_cols":9,"rows_kept":8,"cut":false,"hidden":false,"merged":[[2,3,2,6],[3,3,3,6],[6,2,6,5],[7,2,7,5]]}
["แบบฟอร์มที่ 10 การคำนวณเงินกองทุนสำหรับความเสี่ยงด้านปฏิบัติการ"]
[]
[null,null,"บริษัท",{"$f":"รายชื่อแบบฟอร์ม!C3","v":0}]
[null,null,"ณ วันที่",{"$f":"รายชื่อแบบฟอร์ม!C4","v":"00:00:00"}]
[]
[null,"ตารางที่ 10.1 เงินกองทุนสำหรับความเสี่ยงด้านปฏิบัติการ"]
[null,"ลำดับที่","รายการ",null,null,null,"ความเสี่ยงภัยทั้งหมด","ค่าความเสี่ยง","เงินกองทุนตามระดับความเสี่ยง"]
[null,1,"เบี้ยประกันภัยรับรวมก่อนการประกันภัยต่อ (Gross written premium)",null,null,null,null,0.01,{"$f":"$G8*$H8","v":0}]

{"sheet":"แบบฟอร์มที่ 11","index":23,"n_rows":12,"n_cols":6,"rows_kept":12,"cut":false,"hidden":false,"merged":[[6,1,7,2],[2,3,2,6],[3,3,3,6]]}
["แบบฟอร์มที่ 11 การกระจายความเสี่ยงระหว่างความเสี่ยงด้านประกันภัยและความเสี่ยงด้านสินทรัพย์"]
[]
[null,null,"บริษัท",{"$f":"รายชื่อแบบฟอร์ม!C3","v":0}]
[null,null,"ณ วันที่",{"$f":"รายชื่อแบบฟอร์ม!C4","v":"00:00:00"}]
[]
[null,"ตารางที่ 11.1 การกระจายความเสี่ยงระหว่างความเสี่ยงด้านประกันภัยและความเสี่ยงด้านสินทรัพย์ "]
[null,"เงินกองทุนตามระดับความเสี่ยง",null,"เงินกองทุนสำหรับความเสี่ยงด้านประกันภัย","เงินกองทุนสำหรับความเสี่ยงด้านสินทรัพย์"]
[null,null,null,{"$f":"'แบบฟอร์มที่ 1'!$G$15","v":0},{"$f":"'แบบฟอร์มที่ 1'!$G$16+'แบบฟอร์มที่ 1'!$G$17","v":0}]
[null,"เงินกองทุนสำหรับความเสี่ยงด้านประกันภัย",{"$f":"'แบบฟอร์มที่ 1'!$G$15","v":0},1,0.25]
[null,"เงินกองทุนสำหรับความเสี่ยงด้านสินทรัพย์",{"$f":"'แบบฟอร์มที่ 1'!$G$16+'แบบฟอร์มที่ 1'!$G$17","v":0},0.25,1]
[null,"รวม",{"$f":"SUM($C$9:$C$10)","v":0},{"$f":"(D8*C9*D9)+(D8*C10*D10)","v":0},{"$f":"(E8*C9*E9)+(E8*C10*E10)","v":0},{"$f":"SUM($D$11:$E$11)","v":0}]
[null,null,null,null,"SQRT",{"$f":"SQRT($F$11)","v":0}]

{"sheet":"แบบฟอร์มที่ 12","index":24,"n_rows":40,"n_cols":5,"rows_kept":40,"cut":false,"hidden":false,"merged":[[31,3,31,6],[34,3,34,6],[35,3,35,6],[37,3,37,6],[2,3,2,6],[3,3,3,6],[28,3,28,6],[29,3,29,6],[30,3,30,6],[38,3,38,6],[39,3,39,6],[32,3,32,6],[33,3,33,6],[36,3,36,6]]}
["แบบฟอร์มที่ 12 รายละเอียดของรายการหักจากเงินกองทุน"]
[]
[null,null,"บริษัท",{"$f":"รายชื่อแบบฟอร์ม!C3","v":0}]
[null,null,"ณ วันที่",{"$f":"รายชื่อแบบฟอร์ม!C4","v":"00:00:00"}]
[]
[null,"ลำดับที่","ประเภทของรายการหัก","รายการ","มูลค่า\nตามประกาศ คปภ. ว่าด้วยการประเมินราคาทรัพย์สินและหนี้สินของบริษัทประกันชีวิต\n"]
[null,1]
[null,2]
[null,3]
[null,4]
[null,5]
[null,6]
[null,7]
[null,8]
[null,9]
[null,10]
[null,11]
[null,12]
[null,13]
[null,14]
[null,15]
[null,16]
[null,17]
[null,18]
[null,19]
[null,20]
[]
[]
[null,null,"ประเภทของรายการหัก","ชื่อรายการตามประกาศ คปภ. ว่าด้วยเงินกองทุนตามระดับความเสี่ยง"]
[null,null,"หุ้นทุนซื้อคืน","เงินที่บริษัทได้จ่ายไปเพื่อการซื้อหุ้นคืนตามกฎหมายว่าด้วยบริษัทมหาชนจำกัด"]
[null,null,"ค่าความนิยม","ค่าความนิยมที่นับเป็นสินทรัพย์ที่ปรากฏอยู่ในงบการเงิน"]
[null,null,"สินทรัพย์ไม่มีตัวตน","สินทรัพย์ไม่มีตัวตน (ยกเว้น โปรแกรมคอมพิวเตอร์ที่บริษัทมีกรรมสิทธิ์)"]
[null,null,"สินทรัพย์ที่ติดภาระผูกพัน","สินทรัพย์ที่ติดภาระผูกพัน (assets pledged by an insurer)"]
[null,null,"เงินลงทุนในบริษัทย่อย/ร่วม","มูลค่าของตราสารทุนที่ลงทุนในบริษัทย่อย และบริษัทร่วม"]
[null,null,"เงินลงทุนในบริษัทประกันภัย","มูลค่าตราสารทุน หรือเงินลงทุนในตราสารทางการเงินที่นับเป็นเงินกองทุนของบริษัทที่ได้รับใบอนุญาตให้ประกอบธุรกิจประกันชีวิตตามกฎหมายว่าด้วยการประกันชีวิต หรือบริษัทที่ได้รับใบอนุญาตให้ประกอบธุรกิจประกันวินาศภัยตามกฎหมายว่าด้วยการประกันวินาศภัย"]
[null,null,"การถือตราสารทุนไขว้กัน","มูลค่าของตราสารทุนที่ถือไขว้กันระหว่างบริษัทประกันชีวิตกับบริษัทอื่น โดยมีวัตถุประสงค์เพื่อการเพิ่มทุนของบริษัทประกันชีวิต"]
[null,null,"สินทรัพย์ผิดกฎหมาย","สินทรัพย์ที่ได้มาหรือมีอยู่โดยฝ่าฝืนบทบัญญัติของกฎหมาย เว้นแต่อสังหาริมทรัพย์ที่หักค่าเผื่อการด้อยค่าแล้ว"]
[null,null,"หุ้นบุริมสิทธิซื้อคืน ชั้นที่1","เงินที่บริษัทได้จ่ายไปเพื่อการซื้อคืนหุ้นบุริมสิทธิที่ไม่สามารถไถ่ถอนได้ ชนิดไม่สะสมเงินปันผล"]
[null,null,"หุ้นบุริมสิทธิซื้อคืน ชั้นที่2","เงินที่บริษัทได้จ่ายไปเพื่อการซื้อคืนหุ้นบุริมสิทธิที่ไม่สามารถไถ่ถอนได้ ชนิดสะสมเงินปันผล"]
[null,null,"ตราสารทางการเงินซื้อคืน","เงินที่บริษัทได้จ่ายไปเพื่อการซื้อคืนตราสารทางการเงินที่นับเป็นเงินกองทุน"]

{"sheet":"แบบฟอร์มที่ 13","index":25,"n_rows":40,"n_cols":7,"rows_kept":40,"cut":false,"hidden":false,"merged":[[9,2,9,5],[2,3,2,6],[3,3,3,6],[6,2,6,5],[7,2,7,5],[8,2,8,5],[13,2,13,5],[10,2,10,5],[11,2,11,5],[12,2,12,5],[14,2,14,5],[38,2,38,3],[25,2,25,5],[14,1,24,1],[29,2,29,3],[30,2,30,3],[31,2,31,3],[32,2,32,3],[38,4,38,6],[26,1,26,6],[39,4,39,6],[39,2,39,3],[29,4,29,6],[34,4,34,6],[33,4,33,6],[32,4,32,6],[31,4,31,6],[30,4,30,6],[35,4,35,6],[36,4,36,6],[37,4,37,6],[33,2,33,3],[34,2,34,3],[35,2,35,3],[36,2,36,3],[37,2,37,3]]}
["แบบฟอร์มที่ 13 การคำนวณเงินกองทุนสำหรับความเสี่ยงด้านการเวนคืนกรมธรรม์"]
[]
[null,null,"บริษัท",{"$f":"รายชื่อแบบฟอร์ม!C3","v":0}]
[null,null,"ณ วันที่",{"$f":"รายชื่อแบบฟอร์ม!C4","v":"00:00:00"}]
[]
[null,"ตารางที่ 13.1 เงินกองทุนสำหรับความเสี่ยงด้านการเวนคืนกรมธรรม์"]
[null,"ลำดับที่","รายการ",null,null,null,"บาท"]
[null,1,"มูลค่าเวนคืนเงินสดก่อนการหักยอดค้างชำระของเงินให้กู้ยืมโดยมีกรมธรรม์ประกันภัยเป็นประกัน",null,null,null,{"$f":"'แบบฟอร์มที่ 4 - 4.1, 4.2'!G14","v":0}]
[null,2,"มูลค่ายอดค้างชำระของเงินให้กู้ยืมโดยมีกรมธรรม์ประกันภัยเป็นประกัน",null,null,null,0]
[null,3,"มูลค่าเวนคืนเงินสดหลังการหักยอดค้างชำระของเงินให้กู้ยืมโดยมีกรมธรรม์ประกันภัยเป็นประกัน",null,null,null,{"$f":"G8-G9","v":0}]
[null,4,"มูลค่าสำรองประกันภัยหลังการประกันภัยต่อ (policy liability) ",null,null,null,0]
[null,5,"ผลรวมของเงินกองทุนสำหรับความเสี่ยงอื่นทั้ง 5 ด้าน (other risks) ",null,null,null,{"$f":"('แบบฟอร์มที่ 1'!G18+'แบบฟอร์มที่ 1'!G19+'แบบฟอร์มที่ 1'!G21)","v":0}]
[null,6,"เงินกองทุนสำหรับความเสี่ยงจากการเวนคืนกรมธรรม์ประกันภัยก่อนการคำนึงถึงผลกระทบจากการทำประกันภัยต่อที่ให้ความคุ้มครองการขาดอายุของกรมธรรม์ประกันภัยเป็นจำนวนมาก",null,null,null,{"$f":"50%*MAX(0,G10-(G11+G12))","v":0}]
[null,7,"บริษัทมีการทำประกันภัยต่อที่ให้ความคุ้มครองการขาดอายุของกรมธรรม์ประกันภัยเป็นจำนวนมากหรือไม่",null,null,null,"ไม่มี"]
[null,8,"ผลกระทบจากการทำประกันภัยต่อที่ให้ความคุ้มครองการขาดอายุของกรมธรรม์ประกันภัยเป็นจำนวนมากต่อเงินกองทุนภายใต้สถานการณ์ ดังนี้"]
[null,null,"(ก)","สถานการณ์ที่ 1","อัตราการขาดอายุเท่ากับ",null,0]
[null,null,"(ข)","สถานการณ์ที่ 2","อัตราการขาดอายุเท่ากับ",null,0]
[null,null,"(ค)","สถานการณ์ที่ 3","อัตราการขาดอายุเท่ากับ",null,0]
[null,null,"(ง)","สถานการณ์ที่ 4","อัตราการขาดอายุเท่ากับ",null,0]
[null,null,"(จ)","สถานการณ์ที่ 5","อัตราการขาดอายุเท่ากับ",null,0]
[null,null,"(ฉ)","สถานการณ์ที่ 6","อัตราการขาดอายุเท่ากับ",null,0]
[null,null,"(ช)","สถานการณ์ที่ 7","อัตราการขาดอายุเท่ากับ",null,0]
[null,null,"(ซ)","สถานการณ์ที่ 8","อัตราการขาดอายุเท่ากับ",null,0]
[null,null,"(ฌ)","สถานการณ์ที่ 9","อัตราการขาดอายุเท่ากับ",null,0]
[null,null,"(ญ)","สถานการณ์ที่ 10","อัตราการขาดอายุเท่ากับ",null,0]
[null,9,"เงินกองทุนสำหรับความเสี่ยงจากการเวนคืนกรมธรรม์ประกันภัย",null,null,null,{"$f":"IF(G14=\"มี\",MAX(0,$G$16:$G$25),$G$13)","v":0}]
[null,"หมายเหตุ\n1) รายการลำดับที่ 8 คอลัมน์ (F) ให้กรอกข้อมูลอัตราการขาดอายุ (lapse rate) ที่ใช้ในการทดสอบ โดยจะต้องไม่สูงกว่า 50%  และ \n2) รายการลำดับที่ 8 คอลัมน์ (G) ให้กรอกข้อมูลผลกระทบการทำประกันภัยต่อที่ให้ความคุ้มครองการขาดอายุของกรมธรรม์ประกันภัยเป็นจำนวนมากต่อเงินกองทุนภายใต้สถานการณ์นั้น ๆ"]
[]
[null,"ตารางที่ 13.2 รายละเอียดสัญญาประกันภัยต่อที่ให้ความคุ้มครองการขาดอายุของกรมธรรม์ประกันภัยเป็นจำนวนมาก"]
[null,"ลำดับที่","บริษัทรับประกันภัยต่อ",null,"รายละเอียดของสัญญาโดยสังเขป"]
[null,1]
[null,2]
[null,3]
[null,4]
[null,5]
[null,6]
[null,7]
[null,8]
[null,9]
[null,10]